{"text_format":"1","workbook":"xlsx","n_sheets":6,"sheets":["USER GUIDE + REMARKS","Stock Venice_20170630","Details sales deliv. to excl.","Details purch. deliv. to excl.","Stock doc (for cut and paste)","Inventory notes"],"not_rendered":{"charts":0,"images":2,"macros":1,"external_links":0,"defined_names":4,"comments":0,"pivot_tables":0},"unopened":[],"bounds":{"document_bytes":16777216,"sheet_cells":100000,"rows_first":2000,"rows_last":500,"rows_between":2000,"halvings":0,"cell_chars":16384,"cell_head_chars":4096},"cells_cut":0,"cells_raw":0,"read":"whole","date_system":"1900"}

{"sheet":"USER GUIDE + REMARKS","index":0,"n_rows":23,"n_cols":12,"rows_kept":23,"cut":false,"hidden":false,"merged":[]}
["How to use ?"]
[1,"align sales prices and purchase values in VENICE "]
[null,null,"open articles database"]
[null,null,"select article on the left, to edit fields (via CTRL+W)"]
[null,null,"click \"tools\""]
[null,null,"click \"adapt sales values\""]
[2,"Copy paste VENICE articles data in sheet \"Stock VENICE 20xxxxxxx\" / Cell A4"]
[null,null,"Number (1)","Description language context","Reference supplier","Supplier Number","Firm name","Purchase value-VAT","Purchase units in stock"]
[3,"Copy paste VENICE data (consultation-ventes / consultation-achats) in sheets \"details sales deliveries to exclude\" / \"details purchase deliveries to exclude\""]
[null,"!!! Only paste relevant data that is posterior to the stock adjustment date !"]
[4,"Fill in manually each quantity in stock in \"Qty Count\"\" column H of sheet \"Stock Venice_20xxxxxx\" during inventory"]
[5,"Click Macro button (\"Macro Stock doc) in sheet \"Stock VENICE 20xxxxxxx\" to prepare the stock doc sheet"]
[6,"Copy paste residual values in VENICE stock-document, dated on the stock adjustment date (e.g : end of each quarter)"]
[]
["Tips and remarks for the final \"stock doc\""]
[]
[1,"Avoid negative stock quantities in sheet \"stock estimation 20xxxxxx\""]
[2,"Remove all \"Yxxxx\" articles from the \"sales deliveries to exclude\" page",null,null,null,null,null,null,null,null,null,"Filter to be setup for Benoit in Venice to populate red sheets"]
[3,"Remove all \"Yxxxx\" articles from the \"purchase deliveries to exclude\" page",null,null,null,null,null,null,null,null,null,"Filter to be setup for Benoit in Venice to populate red sheets"]
[4,"Make sure there is no \"Yxxxx\" articles in  \"Stock Venice_20xxxxxx\""]
[5,"Pay attention to licenses bought from 3rd parties (Counterpath/Digium/other)"]
[6,"Look out for major adjustments"]
[7,"Make sure all adapted articles are defined with article parameter \" stock management - By this article - 1\""]

{"sheet":"Stock Venice_20170630","index":1,"n_rows":1961,"n_cols":18,"rows_kept":1961,"cut":false,"hidden":false,"merged":[[0,0,1,5]]}
["Imported from Venice",null,null,null,null,null,"QTY Venice","Qty Count","Qty difference","Value Venice","Value Count","Value difference","Check","Qty sales deliv. To exclude","Qty purchase deliv. to exclude","Qty difference at closing","Qty at closing","Value at closing"]
[null,null,null,null,null,null,{"$f":"SUM(G4:G1953)","v":8682},9009,327,421136.80999999965,422143.29999999964,1006.4899999999998,null,{"$f":"SUM(N4:N1953)","v":0},{"$f":"SUM(O4:O1953)","v":0},{"$f":"SUM(P4:P1953)","v":327},{"$f":"SUM(Q4:Q1953)","v":9009},{"$f":"SUM(R4:R1953)","v":422143.29999999964}]
["Number (1)","Description language context","Reference supplier","Supplier number","Firm name","Purchase value-VAT","Purchase units in stock"]
[195,"P-ATA hard disks - 7200 RPM - 160 GB","P-ATA H.D. - 7200 RPM - 160GB",463,"TTEC",75,0,null,{"$f":"H4-G4","v":0},{"$f":"G4*F4","v":0},{"$f":"H4*F4","v":0},{"$f":"I4*F4","v":0},{"$f":"IF(ABS(L4)>500,\"check\",\"\")","v":""},{"$f":"+SUMIF('Details sales deliv. to excl.'!F:F,A4,'Details sales deliv. to excl.'!H:H)","v":0},{"$f":"-SUMIF('Details purch. deliv. to excl.'!F:F,A4,'Details purch. deliv. to excl.'!H:H)","v":0},{"$f":"I4+N4+O4","v":0},{"$f":"G4+P4","v":0},{"$f":"Q4*F4","v":0}]
["AC1000","SIPURA 2002 - 2FXS",null,503,"ELINK GMBH",58,0,null,0,0,0,0,{"$f":"IF(ABS(L5)>500,\"check\",\"\")","v":""},{"$f":"+SUMIF('Details sales deliv. to excl.'!F:F,A5,'Details sales deliv. to excl.'!H:H)","v":0},{"$f":"-SUMIF('Details purch. deliv. to excl.'!F:F,A5,'Details purch. deliv. to excl.'!H:H)","v":0},0,0,0]
["AC1001","CISCO SPA2102","SPA-2102",503,"ELINK GMBH",41.53,0,null,0,0,0,0,"",{"$f":"+SUMIF('Details sales deliv. to excl.'!F:F,A6,'Details sales deliv. to excl.'!H:H)","v":0},{"$f":"-SUMIF('Details purch. deliv. to excl.'!F:F,A6,'Details purch. deliv. to excl.'!H:H)","v":0},0,0,0]
["AC1002","CISCO SPA112","CISCO SPA112",472,"WESTCON GROUP EUROPEAN OPERATIONS LTD - BELGIUM BRANCH",41.34,56,56,0,2315.04,2315.04,0,null,0,{"$f":"-SUMIF('Details purch. deliv. to excl.'!F:F,A7,'Details purch. deliv. to excl.'!H:H)","v":0},0,56,2315.04]
["AC1003","SIPURA 2100 - 2FXS","SPA-2100",503,"ELINK GMBH",40,0,null,0,0,0,0,"",{"$f":"+SUMIF('Details sales deliv. to excl.'!F:F,A8,'Details sales deliv. to excl.'!H:H)","v":0},{"$f":"-SUMIF('Details purch. deliv. to excl.'!F:F,A8,'Details purch. deliv. to excl.'!H:H)","v":0},0,0,0]
["AC1005","SIPURA 2FXS - PAP2T-EU","PAP2T-EU",503,"ELINK GMBH",50,1,1,0,50,50,0,null,{"$f":"+SUMIF('Details sales deliv. to excl.'!F:F,A9,'Details sales deliv. to excl.'!H:H)","v":0},{"$f":"-SUMIF('Details purch. deliv. to excl.'!F:F,A9,'Details purch. deliv. to excl.'!H:H)","v":0},0,1,50]
["AC1008","CISCO SPA8000","SPA-8000-G5",472,"WESTCON GROUP EUROPEAN OPERATIONS LTD - BELGIUM BRANCH",193,10,10,0,1930,1930,0,null,{"$f":"+SUMIF('Details sales deliv. to excl.'!F:F,A10,'Details sales deliv. to excl.'!H:H)","v":0},{"$f":"-SUMIF('Details purch. deliv. to excl.'!F:F,A10,'Details purch. deliv. to excl.'!H:H)","v":0},0,10,1930]
["AC1010","CISCO SPA3102  1FXS-1FXO","SPA 3102",472,"WESTCON GROUP EUROPEAN OPERATIONS LTD - BELGIUM BRANCH",48.4,2,2,0,96.8,96.8,0,null,{"$f":"+SUMIF('Details sales deliv. to excl.'!F:F,A11,'Details sales deliv. to excl.'!H:H)","v":0},{"$f":"-SUMIF('Details purch. deliv. to excl.'!F:F,A11,'Details purch. deliv. to excl.'!H:H)","v":0},0,2,96.8]
["AC1020","IP ANALOG CONVERTOR FOR DECT - 1FXS","GRANDSTREAM HT286",503,"ELINK GMBH",44,0,null,0,0,0,0,"",{"$f":"+SUMIF('Details sales deliv. to excl.'!F:F,A12,'Details sales deliv. to excl.'!H:H)","v":0},{"$f":"-SUMIF('Details purch. deliv. to excl.'!F:F,A12,'Details purch. deliv. to excl.'!H:H)","v":0},0,0,0]
["AC1030","CHANNEL BANK CB24MOD","CB24-MOD",529,"MAPLE LEAF TECHNOLOGIES",603,0,null,0,0,0,0,"",{"$f":"+SUMIF('Details sales deliv. to excl.'!F:F,A13,'Details sales deliv. to excl.'!H:H)","v":0},{"$f":"-SUMIF('Details purch. deliv. to excl.'!F:F,A13,'Details purch. deliv. to excl.'!H:H)","v":0},0,0,0]
["AC1035","CHANNEL BANK 24 ports FXS","CB24-FXS-220V",529,"MAPLE LEAF TECHNOLOGIES",1170.42,0,null,0,0,0,0,"",{"$f":"+SUMIF('Details sales deliv. to excl.'!F:F,A14,'Details sales deliv. to excl.'!H:H)","v":0},{"$f":"-SUMIF('Details purch. deliv. to excl.'!F:F,A14,'Details purch. deliv. to excl.'!H:H)","v":0},0,0,0]
["AC1037","CHANNEL BANK 24 ports FXO","CB24-FX0-UNIV - 220V",731,"RHINOEQUIPMENT",1274,0,null,0,0,0,0,"",{"$f":"+SUMIF('Details sales deliv. to excl.'!F:F,A15,'Details sales deliv. to excl.'!H:H)","v":0},{"$f":"-SUMIF('Details purch. deliv. to excl.'!F:F,A15,'Details purch. deliv. to excl.'!H:H)","v":0},0,0,0]
["AC1040","CHANNEL BANK - Power supply 220V AC","Power supply 220 V AC",529,"MAPLE LEAF TECHNOLOGIES",0,0,null,0,0,0,0,"",{"$f":"+SUMIF('Details sales deliv. to excl.'!F:F,A16,'Details sales deliv. to excl.'!H:H)","v":0},{"$f":"-SUMIF('Details purch. deliv. to excl.'!F:F,A16,'Details purch. deliv. to excl.'!H:H)","v":0},0,0,0]
["AC1050","CHANNEL BANK - 4 FXS Analog card","MOD-4FXS",529,"MAPLE LEAF TECHNOLOGIES",113.05,0,null,0,0,0,0,"",{"$f":"+SUMIF('Details sales deliv. to excl.'!F:F,A17,'Details sales deliv. to excl.'!H:H)","v":0},{"$f":"-SUMIF('Details purch. deliv. to excl.'!F:F,A17,'Details purch. deliv. to excl.'!H:H)","v":0},0,0,0]
["AC1060","CHANNEL BANK - 25 RJ11 ports patch panel","STBOB25",529,"MAPLE LEAF TECHNOLOGIES",108.63,5,5,0,543.15,543.15,0,null,{"$f":"+SUMIF('Details sales deliv. to excl.'!F:F,A18,'Details sales deliv. to excl.'!H:H)","v":0},{"$f":"-SUMIF('Details purch. deliv. to excl.'!F:F,A18,'Details purch. deliv. to excl.'!H:H)","v":0},0,5,543.15]
["BOXL3","CARDBOARD BOX LARGE 68*44*30","DIN A4 68*44*30 DOUBLE CANN",10622,"NEW BOX",2.36,150,150,0,354,354,0,null,{"$f":"+SUMIF('Details sales deliv. to excl.'!F:F,A19,'Details sales deliv. to excl.'!H:H)","v":0},{"$f":"-SUMIF('Details purch. deliv. to excl.'!F:F,A19,'Details purch. deliv. to excl.'!H:H)","v":0},0,150,354]
["BOXM2","CARDBOARD BOX MEDIUM45*30*32","DIN A4 45*30*32 DOUBLE CANN",10622,"NEW BOX",1.1399999999999999,250,250,0,285,285,0,null,{"$f":"+SUMIF('Details sales deliv. to excl.'!F:F,A20,'Details sales deliv. to excl.'!H:H)","v":0},{"$f":"-SUMIF('Details purch. deliv. to excl.'!F:F,A20,'Details purch. deliv. to excl.'!H:H)","v":0},0,250,285]
["BOXS1","CARDBOARD BOX SMALL 31*22*14","DIN A4 310*220*140 SIMPLE CANN",10622,"NEW BOX",0.37,300,300,0,111,111,0,null,{"$f":"+SUMIF('Details sales deliv. to excl.'!F:F,A21,'Details sales deliv. to excl.'!H:H)","v":0},{"$f":"-SUMIF('Details purch. deliv. to excl.'!F:F,A21,'Details purch. deliv. to excl.'!H:H)","v":0},0,300,111]
["CB1000","POLYCOM IP 4000 Conf. Phone","2200-06640-122",802,"AIMSOPTRONICS",577.08000000000004,0,null,0,0,0,0,"",{"$f":"+SUMIF('Details sales deliv. to excl.'!F:F,A22,'Details sales deliv. to excl.'!H:H)","v":0},{"$f":"-SUMIF('Details purch. deliv. to excl.'!F:F,A22,'Details purch. deliv. to excl.'!H:H)","v":0},0,0,0]
["CB1010","POLYCOM MICROPHONE SET (2) FOR IP4000","POL-2200-07155-002",469,"GO TELECOM NL",174.3,0,null,0,0,0,0,"",{"$f":"+SUMIF('Details sales deliv. to excl.'!F:F,A23,'Details sales deliv. to excl.'!H:H)","v":0},{"$f":"-SUMIF('Details purch. deliv. to excl.'!F:F,A23,'Details purch. deliv. to excl.'!H:H)","v":0},0,0,0]
["CB1015","POLYCOM IP 5000 - PoE","2200-30900-025",472,"WESTCON GROUP EUROPEAN OPERATIONS LTD - BELGIUM BRANCH",197.55,1,1,0,197.55,197.55,0,null,{"$f":"+SUMIF('Details sales deliv. to excl.'!F:F,A24,'Details sales deliv. to excl.'!H:H)","v":0},{"$f":"-SUMIF('Details purch. deliv. to excl.'!F:F,A24,'Details purch. deliv. to excl.'!H:H)","v":0},0,1,197.55]
["CB1100","POLYCOM IP6000 w/ Pwr Supply","2200-15660-122",472,"WESTCON GROUP EUROPEAN OPERATIONS LTD - BELGIUM BRANCH",342.9,0,null,0,0,0,0,"",{"$f":"+SUMIF('Details sales deliv. to excl.'!F:F,A25,'Details sales deliv. to excl.'!H:H)","v":0},{"$f":"-SUMIF('Details purch. deliv. to excl.'!F:F,A25,'Details purch. deliv. to excl.'!H:H)","v":0},0,0,0]
["CB1102","POLYCOM IP 6000 - PoE","2200-15600-001",472,"WESTCON GROUP EUROPEAN OPERATIONS LTD - BELGIUM BRANCH",323.36,5,5,0,1616.8000000000002,1616.8000000000002,0,null,{"$f":"+SUMIF('Details sales deliv. to excl.'!F:F,A26,'Details sales deliv. to excl.'!H:H)","v":0},{"$f":"-SUMIF('Details purch. deliv. to excl.'!F:F,A26,'Details purch. deliv. to excl.'!H:H)","v":0},0,5,1616.8000000000002]
["CB1105","POLYCOM IP 6000 Pwr Supply","2200-42740-122",472,"WESTCON GROUP EUROPEAN OPERATIONS LTD - BELGIUM BRANCH",59.86,3,4,1,179.57999999999998,239.44,59.86,null,{"$f":"+SUMIF('Details sales deliv. to excl.'!F:F,A27,'Details sales deliv. to excl.'!H:H)","v":0},{"$f":"-SUMIF('Details purch. deliv. to excl.'!F:F,A27,'Details purch. deliv. to excl.'!H:H)","v":0},1,4,239.44]
["CB1106","POLYCOM IP 6000 Pwr Supply - UK plug","2200-42740-015",472,"WESTCON GROUP EUROPEAN OPERATIONS LTD - BELGIUM BRANCH",59.86,0,null,0,0,0,0,"",{"$f":"+SUMIF('Details sales deliv. to excl.'!F:F,A28,'Details sales deliv. to excl.'!H:H)","v":0},{"$f":"-SUMIF('Details purch. deliv. to excl.'!F:F,A28,'Details purch. deliv. to excl.'!H:H)","v":0},0,0,0]
["CB1110","POLYCOM Microphone set (2) for IP6000","2215-07155-001",472,"WESTCON GROUP EUROPEAN OPERATIONS LTD - BELGIUM BRANCH",180.4,0,null,0,0,0,0,"",{"$f":"+SUMIF('Details sales deliv. to excl.'!F:F,A29,'Details sales deliv. to excl.'!H:H)","v":0},{"$f":"-SUMIF('Details purch. deliv. to excl.'!F:F,A29,'Details purch. deliv. to excl.'!H:H)","v":0},0,0,0]
["CB1200","POLYCOM IP7000 - PoE","2200-40000-001",472,"WESTCON GROUP EUROPEAN OPERATIONS LTD - BELGIUM BRANCH",456.32,1,1,0,456.32,456.32,0,null,{"$f":"+SUMIF('Details sales deliv. to excl.'!F:F,A30,'Details sales deliv. to excl.'!H:H)","v":0},{"$f":"-SUMIF('Details purch. deliv. to excl.'!F:F,A30,'Details purch. deliv. to excl.'!H:H)","v":0},0,1,456.32]
["CB1205","POLYCOM IP 7000 w/ Pwr Supply","2230-40300-122",470,"IMAGO GROUP BENELUX",536.5,0,null,0,0,0,0,"",{"$f":"+SUMIF('Details sales deliv. to excl.'!F:F,A31,'Details sales deliv. to excl.'!H:H)","v":0},{"$f":"-SUMIF('Details purch. deliv. to excl.'!F:F,A31,'Details purch. deliv. to excl.'!H:H)","v":0},0,0,0]
["CB1207","POLYCOM PoE for IP7000","2230-40110-122",472,"WESTCON GROUP EUROPEAN OPERATIONS LTD - BELGIUM BRANCH",0,4,4,0,0,0,0,null,{"$f":"+SUMIF('Details sales deliv. to excl.'!F:F,A32,'Details sales deliv. to excl.'!H:H)","v":0},{"$f":"-SUMIF('Details purch. deliv. to excl.'!F:F,A32,'Details purch. deliv. to excl.'!H:H)","v":0},0,4,0]
["CB1210","POLYCOM Microphone set (2) for IP7000","2200-40040-001",472,"WESTCON GROUP EUROPEAN OPERATIONS LTD - BELGIUM BRANCH",180.4,2,2,0,360.8,360.8,0,null,{"$f":"+SUMIF('Details sales deliv. to excl.'!F:F,A33,'Details sales deliv. to excl.'!H:H)","v":0},{"$f":"-SUMIF('Details purch. deliv. to excl.'!F:F,A33,'Details purch. deliv. to excl.'!H:H)","v":0},0,2,360.8]
["CB1212","POLYCOM Expansion microphone cables (2) 2.1m for IP7000","2200-40017-001",472,"WESTCON GROUP EUROPEAN OPERATIONS LTD - BELGIUM BRANCH",17.22,0,null,0,0,0,0,"",{"$f":"+SUMIF('Details sales deliv. to excl.'!F:F,A34,'Details sales deliv. to excl.'!H:H)","v":0},{"$f":"-SUMIF('Details purch. deliv. to excl.'!F:F,A34,'Details purch. deliv. to excl.'!H:H)","v":0},0,0,0]
["CB1220","POLYCOM IP7000 kit multiunit","2230-40500-122",472,"WESTCON GROUP EUROPEAN OPERATIONS LTD - BELGIUM BRANCH",716.9,0,null,0,0,0,0,"",{"$f":"+SUMIF('Details sales deliv. to excl.'!F:F,A35,'Details sales deliv. to excl.'!H:H)","v":0},{"$f":"-SUMIF('Details purch. deliv. to excl.'!F:F,A35,'Details purch. deliv. to excl.'!H:H)","v":0},0,0,0]
["CB1300","POLYCOM SoundStation2W (Expandable) 1.9 GHz DECT Wireless","2200-07800-122",472,"WESTCON GROUP EUROPEAN OPERATIONS LTD - BELGIUM BRANCH",366.4,0,null,0,0,0,0,"",{"$f":"+SUMIF('Details sales deliv. to excl.'!F:F,A36,'Details sales deliv. to excl.'!H:H)","v":0},{"$f":"-SUMIF('Details purch. deliv. to excl.'!F:F,A36,'Details purch. deliv. to excl.'!H:H)","v":0},0,0,0]
["CB1400","POLYCOM VVX1500","2200-18061-025",472,"WESTCON GROUP EUROPEAN OPERATIONS LTD - BELGIUM BRANCH",343.2,3,3,0,1029.5999999999999,1029.5999999999999,0,null,{"$f":"+SUMIF('Details sales deliv. to excl.'!F:F,A37,'Details sales deliv. to excl.'!H:H)","v":0},{"$f":"-SUMIF('Details purch. deliv. to excl.'!F:F,A37,'Details purch. deliv. to excl.'!H:H)","v":0},0,3,1029.5999999999999]
["CB1405","Pwr Supply POLYCOM VVX1500","2200-17671-122",472,"WESTCON GROUP EUROPEAN OPERATIONS LTD - BELGIUM BRANCH",20.5,3,3,0,61.5,61.5,0,null,{"$f":"+SUMIF('Details sales deliv. to excl.'!F:F,A38,'Details sales deliv. to excl.'!H:H)","v":0},{"$f":"-SUMIF('Details purch. deliv. to excl.'!F:F,A38,'Details purch. deliv. to excl.'!H:H)","v":0},0,3,61.5]
["CB1410","POLYCOM VVX1500 w/ Pwr Supply",null,470,"IMAGO GROUP BENELUX",363.7,0,null,0,0,0,0,"",{"$f":"+SUMIF('Details sales deliv. to excl.'!F:F,A39,'Details sales deliv. to excl.'!H:H)","v":0},{"$f":"-SUMIF('Details purch. deliv. to excl.'!F:F,A39,'Details purch. deliv. to excl.'!H:H)","v":0},0,0,0]
["CB1451","POLYCOM VVX101 PoE","2200-40250-025",472,"WESTCON GROUP EUROPEAN OPERATIONS LTD - BELGIUM BRANCH",39.6,19,20,1,752.4,792,39.6,null,{"$f":"+SUMIF('Details sales deliv. to excl.'!F:F,A40,'Details sales deliv. to excl.'!H:H)","v":0},{"$f":"-SUMIF('Details purch. deliv. to excl.'!F:F,A40,'Details purch. deliv. to excl.'!H:H)","v":0},1,20,792]
["CB1461","POLYCOM VVX201 PoE","2200-40450-025",472,"WESTCON GROUP EUROPEAN OPERATIONS LTD - BELGIUM BRANCH",50.4,114,114,0,5745.5999999999995,5745.5999999999995,0,null,{"$f":"+SUMIF('Details sales deliv. to excl.'!F:F,A41,'Details sales deliv. to excl.'!H:H)","v":0},{"$f":"-SUMIF('Details purch. deliv. to excl.'!F:F,A41,'Details purch. deliv. to excl.'!H:H)","v":0},0,114,5745.5999999999995]
["CB1462","POLYCOM VVX301 PoE","2200-48300-025",472,"WESTCON GROUP EUROPEAN OPERATIONS LTD - BELGIUM BRANCH",65.2,89,88,-1,5802.8,5737.6,-65.2,null,{"$f":"+SUMIF('Details sales deliv. to excl.'!F:F,A42,'Details sales deliv. to excl.'!H:H)","v":0},{"$f":"-SUMIF('Details purch. deliv. to excl.'!F:F,A42,'Details purch. deliv. to excl.'!H:H)","v":0},-1,88,5737.6]
["CB1463","POLYCOM VVX401 PoE","2200-48400-025",472,"WESTCON GROUP EUROPEAN OPERATIONS LTD - BELGIUM BRANCH",94,90,95,5,8460,8930,470,null,{"$f":"+SUMIF('Details sales deliv. to excl.'!F:F,A43,'Details sales deliv. to excl.'!H:H)","v":0},{"$f":"-SUMIF('Details purch. deliv. to excl.'!F:F,A43,'Details purch. deliv. to excl.'!H:H)","v":0},5,95,8930]
["CB1500","POLYCOM VVX500 PoE","2200-44500-025",472,"WESTCON GROUP EUROPEAN OPERATIONS LTD - BELGIUM BRANCH",138,145,145,0,20010,20010,0,null,{"$f":"+SUMIF('Details sales deliv. to excl.'!F:F,A44,'Details sales deliv. to excl.'!H:H)","v":0},{"$f":"-SUMIF('Details purch. deliv. to excl.'!F:F,A44,'Details purch. deliv. to excl.'!H:H)","v":0},0,145,20010]
["CB1501","POLYCOM VVX500 PoE refurbished",null,472,"WESTCON GROUP EUROPEAN OPERATIONS LTD - BELGIUM BRANCH",3.5,17,17,0,59.5,59.5,0,null,{"$f":"+SUMIF('Details sales deliv. to excl.'!F:F,A45,'Details sales deliv. to excl.'!H:H)","v":0},{"$f":"-SUMIF('Details purch. deliv. to excl.'!F:F,A45,'Details purch. deliv. to excl.'!H:H)","v":0},0,17,59.5]
["CB1502","POLYCOM VVX300 PoE","2200-46135-025",472,"WESTCON GROUP EUROPEAN OPERATIONS LTD - BELGIUM BRANCH",65.2,239,238,-1,15582.800000000001,15517.6,-65.2,null,{"$f":"+SUMIF('Details sales deliv. to excl.'!F:F,A46,'Details sales deliv. to excl.'!H:H)","v":0},{"$f":"-SUMIF('Details purch. deliv. to excl.'!F:F,A46,'Details purch. deliv. to excl.'!H:H)","v":0},-1,238,15517.6]
["CB1503","POLYCOM VVX501 PoE","2200-48500-025",472,"WESTCON GROUP EUROPEAN OPERATIONS LTD - BELGIUM BRANCH",138,22,30,8,3036,4140,1104,null,{"$f":"+SUMIF('Details sales deliv. to excl.'!F:F,A47,'Details sales deliv. to excl.'!H:H)","v":0},{"$f":"-SUMIF('Details purch. deliv. to excl.'!F:F,A47,'Details purch. deliv. to excl.'!H:H)","v":0},8,30,4140]
["CB1504","POLYCOM VVX310 PoE","2200-46161-025",472,"WESTCON GROUP EUROPEAN OPERATIONS LTD - BELGIUM BRANCH",79.599999999999994,203,203,0,16158.8,16158.8,0,null,{"$f":"+SUMIF('Details sales deliv. to excl.'!F:F,A48,'Details sales deliv. to excl.'!H:H)","v":0},{"$f":"-SUMIF('Details purch. deliv. to excl.'!F:F,A48,'Details purch. deliv. to excl.'!H:H)","v":0},0,203,16158.8]
["CB1505","POLYCOM VVX311 PoE","2200-48350-025",472,"WESTCON GROUP EUROPEAN OPERATIONS LTD - BELGIUM BRANCH",79.599999999999994,167,167,0,13293.199999999999,13293.199999999999,0,null,{"$f":"+SUMIF('Details sales deliv. to excl.'!F:F,A49,'Details sales deliv. to excl.'!H:H)","v":0},{"$f":"-SUMIF('Details purch. deliv. to excl.'!F:F,A49,'Details purch. deliv. to excl.'!H:H)","v":0},0,167,13293.199999999999]
["CB1506","POLYCOM VVX400 PoE","2200-46157-025",472,"WESTCON GROUP EUROPEAN OPERATIONS LTD - BELGIUM BRANCH",94,85,84,-1,7990,7896,-94,null,{"$f":"+SUMIF('Details sales deliv. to excl.'!F:F,A50,'Details sales deliv. to excl.'!H:H)","v":0},{"$f":"-SUMIF('Details purch. deliv. to excl.'!F:F,A50,'Details purch. deliv. to excl.'!H:H)","v":0},-1,84,7896]
["CB1507","POLYCOM VVX601 PoE","2200-48600-025",472,"WESTCON GROUP EUROPEAN OPERATIONS LTD - BELGIUM BRANCH",174,7,7,0,1218,1218,0,null,{"$f":"+SUMIF('Details sales deliv. to excl.'!F:F,A51,'Details sales deliv. to excl.'!H:H)","v":0},{"$f":"-SUMIF('Details purch. deliv. to excl.'!F:F,A51,'Details purch. deliv. to excl.'!H:H)","v":0},0,7,1218]
["CB1508","POLYCOM VVX410 PoE","2200-46162-025",472,"WESTCON GROUP EUROPEAN OPERATIONS LTD - BELGIUM BRANCH",108.8,112,111,-1,12185.6,12076.8,-108.8,null,{"$f":"+SUMIF('Details sales deliv. to excl.'!F:F,A52,'Details sales deliv. to excl.'!H:H)","v":0},{"$f":"-SUMIF('Details purch. deliv. to excl.'!F:F,A52,'Details purch. deliv. to excl.'!H:H)","v":0},-1,111,12076.8]
["CB1509","POLYCOM VVX411 PoE","2200-48450-025",472,"WESTCON GROUP EUROPEAN OPERATIONS LTD - BELGIUM BRANCH",108.8,69,70,1,7507.2,7616,108.8,null,{"$f":"+SUMIF('Details sales deliv. to excl.'!F:F,A53,'Details sales deliv. to excl.'!H:H)","v":0},{"$f":"-SUMIF('Details purch. deliv. to excl.'!F:F,A53,'Details purch. deliv. to excl.'!H:H)","v":0},1,70,7616]
["CB1510","POLYCOM VVX600 PoE","2200-44600-025",472,"WESTCON GROUP EUROPEAN OPERATIONS LTD - BELGIUM BRANCH",174,4,4,0,696,696,0,null,{"$f":"+SUMIF('Details sales deliv. to excl.'!F:F,A54,'Details sales deliv. to excl.'!H:H)","v":0},{"$f":"-SUMIF('Details purch. deliv. to excl.'!F:F,A54,'Details purch. deliv. to excl.'!H:H)","v":0},0,4,696]
["CB1550","POLYCOM VVX USB plug in camera (VVX500/600)","2200-46200-025",472,"WESTCON GROUP EUROPEAN OPERATIONS LTD - BELGIUM BRANCH",76.05,6,6,0,456.29999999999995,456.29999999999995,0,null,{"$f":"+SUMIF('Details sales deliv. to excl.'!F:F,A55,'Details sales deliv. to excl.'!H:H)","v":0},{"$f":"-SUMIF('Details purch. deliv. to excl.'!F:F,A55,'Details purch. deliv. to excl.'!H:H)","v":0},0,6,456.29999999999995]
["CB1660","POLYCOM Expansion Module for VVX (paper display)","2200-46300-025",472,"WESTCON GROUP EUROPEAN OPERATIONS LTD - BELGIUM BRANCH",61.75,5,5,0,308.75,308.75,0,null,{"$f":"+SUMIF('Details sales deliv. to excl.'!F:F,A56,'Details sales deliv. to excl.'!H:H)","v":0},{"$f":"-SUMIF('Details purch. deliv. to excl.'!F:F,A56,'Details purch. deliv. to excl.'!H:H)","v":0},0,5,308.75]
["CB1665","POLYCOM Expansion Module for VVX (color)","2200-46350-025",472,"WESTCON GROUP EUROPEAN OPERATIONS LTD - BELGIUM BRANCH",133.25,10,10,0,1332.5,1332.5,0,null,{"$f":"+SUMIF('Details sales deliv. to excl.'!F:F,A57,'Details sales deliv. to excl.'!H:H)","v":0},{"$f":"-SUMIF('Details purch. deliv. to excl.'!F:F,A57,'Details purch. deliv. to excl.'!H:H)","v":0},0,10,1332.5]
["CB1667","handset and cord for VVX 300, 310, 400, 410, 500, 600, 1500 (5 units)","2200-17680-001",472,"WESTCON GROUP EUROPEAN OPERATIONS LTD - BELGIUM BRANCH",67.239999999999995,4,4,0,268.95999999999998,268.95999999999998,0,null,{"$f":"+SUMIF('Details sales deliv. to excl.'!F:F,A58,'Details sales deliv. to excl.'!H:H)","v":0},{"$f":"-SUMIF('Details purch. deliv. to excl.'!F:F,A58,'Details purch. deliv. to excl.'!H:H)","v":0},0,4,268.95999999999998]
["CB1668","handset and cord for VVX 101 (5 units)","2200-17681-001",472,"WESTCON GROUP EUROPEAN OPERATIONS LTD - BELGIUM BRANCH",56.58,5,5,0,282.89999999999998,282.89999999999998,0,null,{"$f":"+SUMIF('Details sales deliv. to excl.'!F:F,A59,'Details sales deliv. to excl.'!H:H)","v":0},{"$f":"-SUMIF('Details purch. deliv. to excl.'!F:F,A59,'Details purch. deliv. to excl.'!H:H)","v":0},0,5,282.89999999999998]
["CB1669","handset and cord for VVX 201 (5 units)","2200-17682-001",472,"WESTCON GROUP EUROPEAN OPERATIONS LTD - BELGIUM BRANCH",56.58,5,5,0,282.89999999999998,282.89999999999998,0,null,{"$f":"+SUMIF('Details sales deliv. to excl.'!F:F,A60,'Details sales deliv. to excl.'!H:H)","v":0},{"$f":"-SUMIF('Details purch. deliv. to excl.'!F:F,A60,'Details purch. deliv. to excl.'!H:H)","v":0},0,5,282.89999999999998]
["CB1670","handset and cord for IP335, IP 450, IP 550, IP 560, IP 650 and IP 670 (5 units)","2200-17444-001",472,"WESTCON GROUP EUROPEAN OPERATIONS LTD - BELGIUM BRANCH",45.1,4,4,0,180.4,180.4,0,null,{"$f":"+SUMIF('Details sales deliv. to excl.'!F:F,A61,'Details sales deliv. to excl.'!H:H)","v":0},{"$f":"-SUMIF('Details purch. deliv. to excl.'!F:F,A61,'Details purch. deliv. to excl.'!H:H)","v":0},0,4,180.4]
["CB1671","handset and cord for IP320, IP321, IP330, and IP331 (5 units)","2200-17448-001",472,"WESTCON GROUP EUROPEAN OPERATIONS LTD - BELGIUM BRANCH",22.94,1,1,0,22.94,22.94,0,null,{"$f":"+SUMIF('Details sales deliv. to excl.'!F:F,A62,'Details sales deliv. to excl.'!H:H)","v":0},{"$f":"-SUMIF('Details purch. deliv. to excl.'!F:F,A62,'Details purch. deliv. to excl.'!H:H)","v":0},0,1,22.94]
["CP1001","TOPIC Senior IP Telephone","TOPIC Senior IP",10171,"AUDILITY EUROPE",51.4,4,4,0,205.6,205.6,0,null,{"$f":"+SUMIF('Details sales deliv. to excl.'!F:F,A63,'Details sales deliv. to excl.'!H:H)","v":0},{"$f":"-SUMIF('Details purch. deliv. to excl.'!F:F,A63,'Details purch. deliv. to excl.'!H:H)","v":0},0,4,205.6]
["CS1000","Conference System 1","Offer DDT06-155  - 16/8/2006",487,"INLOC INTERNATIONAL SA",11669,0,null,0,0,0,0,"",{"$f":"+SUMIF('Details sales deliv. to excl.'!F:F,A64,'Details sales deliv. to excl.'!H:H)","v":0},{"$f":"-SUMIF('Details purch. deliv. to excl.'!F:F,A64,'Details purch. deliv. to excl.'!H:H)","v":0},0,0,0]
["CS1010","RealPresence Group 500-720p","7200-64510-101",472,"WESTCON GROUP EUROPEAN OPERATIONS LTD - BELGIUM BRANCH",2890.5,0,null,0,0,0,0,"",{"$f":"+SUMIF('Details sales deliv. to excl.'!F:F,A65,'Details sales deliv. to excl.'!H:H)","v":0},{"$f":"-SUMIF('Details purch. deliv. to excl.'!F:F,A65,'Details purch. deliv. to excl.'!H:H)","v":0},0,0,0]
["CS1012","RealPresence Group 700-720p","7200-64270-101",472,"WESTCON GROUP EUROPEAN OPERATIONS LTD - BELGIUM BRANCH",0,0,null,0,0,0,0,"",{"$f":"+SUMIF('Details sales deliv. to excl.'!F:F,A66,'Details sales deliv. to excl.'!H:H)","v":0},{"$f":"-SUMIF('Details purch. deliv. to excl.'!F:F,A66,'Details purch. deliv. to excl.'!H:H)","v":0},0,0,0]
["CS1014","RealPresence Debut - 1080p: all-in-one HD codec with built-in mechanical pan/til","7230-69725-101",472,"WESTCON GROUP EUROPEAN OPERATIONS LTD - BELGIUM BRANCH",1489.94,0,null,0,0,0,0,"",{"$f":"+SUMIF('Details sales deliv. to excl.'!F:F,A67,'Details sales deliv. to excl.'!H:H)","v":0},{"$f":"-SUMIF('Details purch. deliv. to excl.'!F:F,A67,'Details purch. deliv. to excl.'!H:H)","v":0},0,0,0]
["CS1015","Polycom Real Pr. Trio 8800 + Logitech c930e","7200-25500-019",472,"WESTCON GROUP EUROPEAN OPERATIONS LTD - BELGIUM BRANCH",1194.5999999999999,0,null,{"$f":"H68-G68","v":0},{"$f":"G68*F68","v":0},{"$f":"H68*F68","v":0},{"$f":"I68*F68","v":0},"",{"$f":"+SUMIF('Details sales deliv. to excl.'!F:F,A68,'Details sales deliv. to excl.'!H:H)","v":0},{"$f":"-SUMIF('Details purch. deliv. to excl.'!F:F,A68,'Details purch. deliv. to excl.'!H:H)","v":0},{"$f":"I68+N68+O68","v":0},{"$f":"G68+P68","v":0},{"$f":"Q68*F68","v":0}]
["CS1016","Polycom Trio 8800 PW kit 100-240V mid-span injecto","7200-23490-101",472,"WESTCON GROUP EUROPEAN OPERATIONS LTD - BELGIUM BRANCH",103.32,0,null,0,0,0,0,{"$f":"IF(ABS(L69)>500,\"check\",\"\")","v":""},{"$f":"+SUMIF('Details sales deliv. to excl.'!F:F,A69,'Details sales deliv. to excl.'!H:H)","v":0},{"$f":"-SUMIF('Details purch. deliv. to excl.'!F:F,A69,'Details purch. deliv. to excl.'!H:H)","v":0},0,0,0]
["CS1501","ALGO 1185 - Loud Ringer","Algo 1185",1491,"PROVU COMMUNICATIONS",115,0,null,0,0,0,0,"",{"$f":"+SUMIF('Details sales deliv. to excl.'!F:F,A70,'Details sales deliv. to excl.'!H:H)","v":0},{"$f":"-SUMIF('Details purch. deliv. to excl.'!F:F,A70,'Details purch. deliv. to excl.'!H:H)","v":0},0,0,0]
["CS1502","ALGO 1186 - Horn Speaker","Algo 1186",1491,"PROVU COMMUNICATIONS",59.16,13,13,0,769.07999999999993,769.07999999999993,0,null,{"$f":"+SUMIF('Details sales deliv. to excl.'!F:F,A71,'Details sales deliv. to excl.'!H:H)","v":0},{"$f":"-SUMIF('Details purch. deliv. to excl.'!F:F,A71,'Details purch. deliv. to excl.'!H:H)","v":0},0,13,769.07999999999993]
["CS2000","ALGO 8180 - Loud ringer & Voice pager","Algo 8180",1491,"PROVU COMMUNICATIONS",224.24,1,1,0,224.24,224.24,0,null,{"$f":"+SUMIF('Details sales deliv. to excl.'!F:F,A72,'Details sales deliv. to excl.'!H:H)","v":0},{"$f":"-SUMIF('Details purch. deliv. to excl.'!F:F,A72,'Details purch. deliv. to excl.'!H:H)","v":0},0,1,224.24]
["CS2001","ALGO -1127PRI - Red LED alerter","Algo-1127PRI",1491,"PROVU COMMUNICATIONS",118.2,0,null,0,0,0,0,"",{"$f":"+SUMIF('Details sales deliv. to excl.'!F:F,A73,'Details sales deliv. to excl.'!H:H)","v":0},{"$f":"-SUMIF('Details purch. deliv. to excl.'!F:F,A73,'Details purch. deliv. to excl.'!H:H)","v":0},0,0,0]
["CT1051","Ubiquiti UniFi UVP-PRO Wireless VoIP/SIP - PoE","1034010 (UVP-PRO)",10265,"SENETIC FRANCE",196.02,0,null,0,0,0,0,"",{"$f":"+SUMIF('Details sales deliv. to excl.'!F:F,A74,'Details sales deliv. to excl.'!H:H)","v":0},{"$f":"-SUMIF('Details purch. deliv. to excl.'!F:F,A74,'Details purch. deliv. to excl.'!H:H)","v":0},0,0,0]
["F10001","Pure Mobile - Project Activation",null,10183,"FUZER SA",0,0,null,0,0,0,0,"",{"$f":"+SUMIF('Details sales deliv. to excl.'!F:F,A75,'Details sales deliv. to excl.'!H:H)","v":0},{"$f":"-SUMIF('Details purch. deliv. to excl.'!F:F,A75,'Details purch. deliv. to excl.'!H:H)","v":0},0,0,0]
["F1003","Fuzer Connect - standalone",null,465,"ESCAUX",0,0,null,0,0,0,0,"",{"$f":"+SUMIF('Details sales deliv. to excl.'!F:F,A76,'Details sales deliv. to excl.'!H:H)","v":0},{"$f":"-SUMIF('Details purch. deliv. to excl.'!F:F,A76,'Details purch. deliv. to excl.'!H:H)","v":0},0,0,0]
["F1005","Pure Mobile user",null,465,"ESCAUX",0,0,null,0,0,0,0,"",{"$f":"+SUMIF('Details sales deliv. to excl.'!F:F,A77,'Details sales deliv. to excl.'!H:H)","v":0},{"$f":"-SUMIF('Details purch. deliv. to excl.'!F:F,A77,'Details purch. deliv. to excl.'!H:H)","v":0},0,0,0]
["F1006","Pure Mobile Elite user",null,465,"ESCAUX",0,0,null,0,0,0,0,"",{"$f":"+SUMIF('Details sales deliv. to excl.'!F:F,A78,'Details sales deliv. to excl.'!H:H)","v":0},{"$f":"-SUMIF('Details purch. deliv. to excl.'!F:F,A78,'Details purch. deliv. to excl.'!H:H)","v":0},0,0,0]
["F1007","Pure Cloud",null,465,"ESCAUX",0,0,null,0,0,0,0,"",{"$f":"+SUMIF('Details sales deliv. to excl.'!F:F,A79,'Details sales deliv. to excl.'!H:H)","v":0},{"$f":"-SUMIF('Details purch. deliv. to excl.'!F:F,A79,'Details purch. deliv. to excl.'!H:H)","v":0},0,0,0]
["F10070","Pure Cloud Fix user",null,465,"ESCAUX",0,0,null,0,0,0,0,"",{"$f":"+SUMIF('Details sales deliv. to excl.'!F:F,A80,'Details sales deliv. to excl.'!H:H)","v":0},{"$f":"-SUMIF('Details purch. deliv. to excl.'!F:F,A80,'Details purch. deliv. to excl.'!H:H)","v":0},0,0,0]
["F10071","Pure Cloud Fix Elite user",null,465,"ESCAUX",0,0,null,0,0,0,0,"",{"$f":"+SUMIF('Details sales deliv. to excl.'!F:F,A81,'Details sales deliv. to excl.'!H:H)","v":0},{"$f":"-SUMIF('Details purch. deliv. to excl.'!F:F,A81,'Details purch. deliv. to excl.'!H:H)","v":0},0,0,0]
["F10072","Pure Cloud Fix Mobile user",null,465,"ESCAUX",1.33,0,null,0,0,0,0,"",{"$f":"+SUMIF('Details sales deliv. to excl.'!F:F,A82,'Details sales deliv. to excl.'!H:H)","v":0},{"$f":"-SUMIF('Details purch. deliv. to excl.'!F:F,A82,'Details purch. deliv. to excl.'!H:H)","v":0},0,0,0]
["F10073","Pure Cloud Fix Mobile Elite user",null,465,"ESCAUX",1.33,0,null,0,0,0,0,"",{"$f":"+SUMIF('Details sales deliv. to excl.'!F:F,A83,'Details sales deliv. to excl.'!H:H)","v":0},{"$f":"-SUMIF('Details purch. deliv. to excl.'!F:F,A83,'Details purch. deliv. to excl.'!H:H)","v":0},0,0,0]
["F10079","Pure Cloud - Project Activation",null,10183,"FUZER SA",0,0,null,0,0,0,0,"",{"$f":"+SUMIF('Details sales deliv. to excl.'!F:F,A84,'Details sales deliv. to excl.'!H:H)","v":0},{"$f":"-SUMIF('Details purch. deliv. to excl.'!F:F,A84,'Details purch. deliv. to excl.'!H:H)","v":0},0,0,0]
["F100791","Pure Cloud - project activation additional site",null,465,"ESCAUX",0,0,null,0,0,0,0,"",{"$f":"+SUMIF('Details sales deliv. to excl.'!F:F,A85,'Details sales deliv. to excl.'!H:H)","v":0},{"$f":"-SUMIF('Details purch. deliv. to excl.'!F:F,A85,'Details purch. deliv. to excl.'!H:H)","v":0},0,0,0]
["F1008","Enterprise Connect",null,465,"ESCAUX",0,0,null,0,0,0,0,"",{"$f":"+SUMIF('Details sales deliv. to excl.'!F:F,A86,'Details sales deliv. to excl.'!H:H)","v":0},{"$f":"-SUMIF('Details purch. deliv. to excl.'!F:F,A86,'Details purch. deliv. to excl.'!H:H)","v":0},0,0,0]
["F10081","Enterprise Connect User",null,465,"ESCAUX",0,0,null,0,0,0,0,"",{"$f":"+SUMIF('Details sales deliv. to excl.'!F:F,A87,'Details sales deliv. to excl.'!H:H)","v":0},{"$f":"-SUMIF('Details purch. deliv. to excl.'!F:F,A87,'Details purch. deliv. to excl.'!H:H)","v":0},0,0,0]
["F10082","DECT replacement profile",null,465,"ESCAUX",1.33,0,null,0,0,0,0,"",{"$f":"+SUMIF('Details sales deliv. to excl.'!F:F,A88,'Details sales deliv. to excl.'!H:H)","v":0},{"$f":"-SUMIF('Details purch. deliv. to excl.'!F:F,A88,'Details purch. deliv. to excl.'!H:H)","v":0},0,0,0]
["F10083","Enterprise Connect - project activation",null,465,"ESCAUX",0,0,null,0,0,0,0,"",{"$f":"+SUMIF('Details sales deliv. to excl.'!F:F,A89,'Details sales deliv. to excl.'!H:H)","v":0},{"$f":"-SUMIF('Details purch. deliv. to excl.'!F:F,A89,'Details purch. deliv. to excl.'!H:H)","v":0},0,0,0]
["F1009","Fuzer UC on premises",null,465,"ESCAUX",0,0,null,0,0,0,0,"",{"$f":"+SUMIF('Details sales deliv. to excl.'!F:F,A90,'Details sales deliv. to excl.'!H:H)","v":0},{"$f":"-SUMIF('Details purch. deliv. to excl.'!F:F,A90,'Details purch. deliv. to excl.'!H:H)","v":0},0,0,0]
["F1010","Basic National Voice Container (in min)",null,465,"ESCAUX",0,0,null,0,0,0,0,"",{"$f":"+SUMIF('Details sales deliv. to excl.'!F:F,A91,'Details sales deliv. to excl.'!H:H)","v":0},{"$f":"-SUMIF('Details purch. deliv. to excl.'!F:F,A91,'Details purch. deliv. to excl.'!H:H)","v":0},0,0,0]
["F1012","Additional National Voice Container (in min)",null,465,"ESCAUX",0,0,null,0,0,0,0,"",{"$f":"+SUMIF('Details sales deliv. to excl.'!F:F,A92,'Details sales deliv. to excl.'!H:H)","v":0},{"$f":"-SUMIF('Details purch. deliv. to excl.'!F:F,A92,'Details purch. deliv. to excl.'!H:H)","v":0},0,0,0]
["F1014","Basic National SMS",null,465,"ESCAUX",0,0,null,0,0,0,0,"",{"$f":"+SUMIF('Details sales deliv. to excl.'!F:F,A93,'Details sales deliv. to excl.'!H:H)","v":0},{"$f":"-SUMIF('Details purch. deliv. to excl.'!F:F,A93,'Details purch. deliv. to excl.'!H:H)","v":0},0,0,0]
["F1016","Additional National SMS",null,465,"ESCAUX",0,0,null,0,0,0,0,"",{"$f":"+SUMIF('Details sales deliv. to excl.'!F:F,A94,'Details sales deliv. to excl.'!H:H)","v":0},{"$f":"-SUMIF('Details purch. deliv. to excl.'!F:F,A94,'Details purch. deliv. to excl.'!H:H)","v":0},0,0,0]
["F1018","Basic National Data (in MB)",null,465,"ESCAUX",0,0,null,0,0,0,0,"",{"$f":"+SUMIF('Details sales deliv. to excl.'!F:F,A95,'Details sales deliv. to excl.'!H:H)","v":0},{"$f":"-SUMIF('Details purch. deliv. to excl.'!F:F,A95,'Details purch. deliv. to excl.'!H:H)","v":0},0,0,0]
["F1019","Additional National Data Container (in MB)",null,465,"ESCAUX",0,0,null,0,0,0,0,"",{"$f":"+SUMIF('Details sales deliv. to excl.'!F:F,A96,'Details sales deliv. to excl.'!H:H)","v":0},{"$f":"-SUMIF('Details purch. deliv. to excl.'!F:F,A96,'Details purch. deliv. to excl.'!H:H)","v":0},0,0,0]
["F1022","Pure Mobile deactivation",null,465,"ESCAUX",0,0,null,0,0,0,0,"",{"$f":"+SUMIF('Details sales deliv. to excl.'!F:F,A97,'Details sales deliv. to excl.'!H:H)","v":0},{"$f":"-SUMIF('Details purch. deliv. to excl.'!F:F,A97,'Details purch. deliv. to excl.'!H:H)","v":0},0,0,0]
["F1030","International Voice Container - industrialized (in min)",null,465,"ESCAUX",0,0,null,0,0,0,0,"",{"$f":"+SUMIF('Details sales deliv. to excl.'!F:F,A98,'Details sales deliv. to excl.'!H:H)","v":0},{"$f":"-SUMIF('Details purch. deliv. to excl.'!F:F,A98,'Details purch. deliv. to excl.'!H:H)","v":0},0,0,0]
["F1032","International Voice Container - industrialized extended (in min)",null,465,"ESCAUX",0,0,null,0,0,0,0,"",{"$f":"+SUMIF('Details sales deliv. to excl.'!F:F,A99,'Details sales deliv. to excl.'!H:H)","v":0},{"$f":"-SUMIF('Details purch. deliv. to excl.'!F:F,A99,'Details purch. deliv. to excl.'!H:H)","v":0},0,0,0]
["F1034","International Voice Container - World 1 (in min)",null,465,"ESCAUX",0,0,null,0,0,0,0,"",{"$f":"+SUMIF('Details sales deliv. to excl.'!F:F,A100,'Details sales deliv. to excl.'!H:H)","v":0},{"$f":"-SUMIF('Details purch. deliv. to excl.'!F:F,A100,'Details purch. deliv. to excl.'!H:H)","v":0},0,0,0]
["F1036","International Voice Container - World 2 (in min)",null,465,"ESCAUX",0,0,null,0,0,0,0,"",{"$f":"+SUMIF('Details sales deliv. to excl.'!F:F,A101,'Details sales deliv. to excl.'!H:H)","v":0},{"$f":"-SUMIF('Details purch. deliv. to excl.'!F:F,A101,'Details purch. deliv. to excl.'!H:H)","v":0},0,0,0]
["F1038","International Voice Container - World 3 (in min)",null,465,"ESCAUX",0,0,null,0,0,0,0,"",{"$f":"+SUMIF('Details sales deliv. to excl.'!F:F,A102,'Details sales deliv. to excl.'!H:H)","v":0},{"$f":"-SUMIF('Details purch. deliv. to excl.'!F:F,A102,'Details purch. deliv. to excl.'!H:H)","v":0},0,0,0]
["F1040","Roaming Data Container - EU (in MB)",null,465,"ESCAUX",0,0,null,0,0,0,0,"",{"$f":"+SUMIF('Details sales deliv. to excl.'!F:F,A103,'Details sales deliv. to excl.'!H:H)","v":0},{"$f":"-SUMIF('Details purch. deliv. to excl.'!F:F,A103,'Details purch. deliv. to excl.'!H:H)","v":0},0,0,0]
["F1042","Roaming Data Container - NON EU preferred networks (in MB)",null,465,"ESCAUX",0,0,null,0,0,0,0,"",{"$f":"+SUMIF('Details sales deliv. to excl.'!F:F,A104,'Details sales deliv. to excl.'!H:H)","v":0},{"$f":"-SUMIF('Details purch. deliv. to excl.'!F:F,A104,'Details purch. deliv. to excl.'!H:H)","v":0},0,0,0]
["F1044","Roaming Data Container - RoW (in MB)",null,465,"ESCAUX",0,0,null,0,0,0,0,"",{"$f":"+SUMIF('Details sales deliv. to excl.'!F:F,A105,'Details sales deliv. to excl.'!H:H)","v":0},{"$f":"-SUMIF('Details purch. deliv. to excl.'!F:F,A105,'Details purch. deliv. to excl.'!H:H)","v":0},0,0,0]
["F1046","Roaming Voice Container EU to EU (in min)",null,465,"ESCAUX",0,0,null,0,0,0,0,"",{"$f":"+SUMIF('Details sales deliv. to excl.'!F:F,A106,'Details sales deliv. to excl.'!H:H)","v":0},{"$f":"-SUMIF('Details purch. deliv. to excl.'!F:F,A106,'Details purch. deliv. to excl.'!H:H)","v":0},0,0,0]
["F1048","Roaming Voice Container EU to NON EU preferred networks (in min)",null,465,"ESCAUX",0,0,null,0,0,0,0,"",{"$f":"+SUMIF('Details sales deliv. to excl.'!F:F,A107,'Details sales deliv. to excl.'!H:H)","v":0},{"$f":"-SUMIF('Details purch. deliv. to excl.'!F:F,A107,'Details purch. deliv. to excl.'!H:H)","v":0},0,0,0]
["F1050","Roaming Voice Container EU RoW (in min)",null,465,"ESCAUX",0,0,null,0,0,0,0,"",{"$f":"+SUMIF('Details sales deliv. to excl.'!F:F,A108,'Details sales deliv. to excl.'!H:H)","v":0},{"$f":"-SUMIF('Details purch. deliv. to excl.'!F:F,A108,'Details purch. deliv. to excl.'!H:H)","v":0},0,0,0]
["F1052","Roaming Voice Container NON EU preferred networks to EU (in min)",null,465,"ESCAUX",0,0,null,0,0,0,0,"",{"$f":"+SUMIF('Details sales deliv. to excl.'!F:F,A109,'Details sales deliv. to excl.'!H:H)","v":0},{"$f":"-SUMIF('Details purch. deliv. to excl.'!F:F,A109,'Details purch. deliv. to excl.'!H:H)","v":0},0,0,0]
["F1054","Roaming Voice Container NON EU preferred nw to NON EU preferred nw (in min)",null,465,"ESCAUX",0,0,null,0,0,0,0,"",{"$f":"+SUMIF('Details sales deliv. to excl.'!F:F,A110,'Details sales deliv. to excl.'!H:H)","v":0},{"$f":"-SUMIF('Details purch. deliv. to excl.'!F:F,A110,'Details purch. deliv. to excl.'!H:H)","v":0},0,0,0]
["F1056","Roaming Voice Container NON EU preferred networks to RoW (in min)",null,465,"ESCAUX",0,0,null,0,0,0,0,"",{"$f":"+SUMIF('Details sales deliv. to excl.'!F:F,A111,'Details sales deliv. to excl.'!H:H)","v":0},{"$f":"-SUMIF('Details purch. deliv. to excl.'!F:F,A111,'Details purch. deliv. to excl.'!H:H)","v":0},0,0,0]
["F1058","Roaming Voice Container RoW to EU (in min)",null,465,"ESCAUX",0,0,null,0,0,0,0,"",{"$f":"+SUMIF('Details sales deliv. to excl.'!F:F,A112,'Details sales deliv. to excl.'!H:H)","v":0},{"$f":"-SUMIF('Details purch. deliv. to excl.'!F:F,A112,'Details purch. deliv. to excl.'!H:H)","v":0},0,0,0]
["F1060","Roaming Voice Container RoW to NON EU preferred networks (in min)",null,465,"ESCAUX",0,0,null,0,0,0,0,"",{"$f":"+SUMIF('Details sales deliv. to excl.'!F:F,A113,'Details sales deliv. to excl.'!H:H)","v":0},{"$f":"-SUMIF('Details purch. deliv. to excl.'!F:F,A113,'Details purch. deliv. to excl.'!H:H)","v":0},0,0,0]
["F1062","Roaming Voice Container RoW to RoW (in min)",null,465,"ESCAUX",0,0,null,0,0,0,0,"",{"$f":"+SUMIF('Details sales deliv. to excl.'!F:F,A114,'Details sales deliv. to excl.'!H:H)","v":0},{"$f":"-SUMIF('Details purch. deliv. to excl.'!F:F,A114,'Details purch. deliv. to excl.'!H:H)","v":0},0,0,0]
["F1064","Roaming Voice Container in EU (in min)",null,465,"ESCAUX",0,0,null,0,0,0,0,"",{"$f":"+SUMIF('Details sales deliv. to excl.'!F:F,A115,'Details sales deliv. to excl.'!H:H)","v":0},{"$f":"-SUMIF('Details purch. deliv. to excl.'!F:F,A115,'Details purch. deliv. to excl.'!H:H)","v":0},0,0,0]
["F1066","Roaming Voice Container in NON EU preferred networks (in min)",null,465,"ESCAUX",0,0,null,0,0,0,0,"",{"$f":"+SUMIF('Details sales deliv. to excl.'!F:F,A116,'Details sales deliv. to excl.'!H:H)","v":0},{"$f":"-SUMIF('Details purch. deliv. to excl.'!F:F,A116,'Details purch. deliv. to excl.'!H:H)","v":0},0,0,0]
["F1068","Roaming Voice Container in RoW (in min)",null,465,"ESCAUX",0,0,null,0,0,0,0,"",{"$f":"+SUMIF('Details sales deliv. to excl.'!F:F,A117,'Details sales deliv. to excl.'!H:H)","v":0},{"$f":"-SUMIF('Details purch. deliv. to excl.'!F:F,A117,'Details purch. deliv. to excl.'!H:H)","v":0},0,0,0]
["F1070","International SMS",null,465,"ESCAUX",0,0,null,0,0,0,0,"",{"$f":"+SUMIF('Details sales deliv. to excl.'!F:F,A118,'Details sales deliv. to excl.'!H:H)","v":0},{"$f":"-SUMIF('Details purch. deliv. to excl.'!F:F,A118,'Details purch. deliv. to excl.'!H:H)","v":0},0,0,0]
["F11001","Upgrade Pure Cloud to Pure Cloud Mobile User",null,10183,"FUZER SA",0,0,null,0,0,0,0,"",{"$f":"+SUMIF('Details sales deliv. to excl.'!F:F,A119,'Details sales deliv. to excl.'!H:H)","v":0},{"$f":"-SUMIF('Details purch. deliv. to excl.'!F:F,A119,'Details purch. deliv. to excl.'!H:H)","v":0},0,0,0]
["F11003","Upgrade Pure Cloud Elite to Pure Cloud Mobile Elite user",null,465,"ESCAUX",0,0,null,0,0,0,0,"",{"$f":"+SUMIF('Details sales deliv. to excl.'!F:F,A120,'Details sales deliv. to excl.'!H:H)","v":0},{"$f":"-SUMIF('Details purch. deliv. to excl.'!F:F,A120,'Details purch. deliv. to excl.'!H:H)","v":0},0,0,0]
["F11005","Downgrade Pure Cloud Mobile to Pure Cloud user",null,465,"ESCAUX",0,0,null,0,0,0,0,"",{"$f":"+SUMIF('Details sales deliv. to excl.'!F:F,A121,'Details sales deliv. to excl.'!H:H)","v":0},{"$f":"-SUMIF('Details purch. deliv. to excl.'!F:F,A121,'Details purch. deliv. to excl.'!H:H)","v":0},0,0,0]
["F11007","Downgrade Pure Cloud Mobile Elite to Pure Cloud Mobile user",null,465,"ESCAUX",0,0,null,0,0,0,0,"",{"$f":"+SUMIF('Details sales deliv. to excl.'!F:F,A122,'Details sales deliv. to excl.'!H:H)","v":0},{"$f":"-SUMIF('Details purch. deliv. to excl.'!F:F,A122,'Details purch. deliv. to excl.'!H:H)","v":0},0,0,0]
["F20001","Configuration IP phone over public Internet",null,465,"ESCAUX",0,0,null,0,0,0,0,"",{"$f":"+SUMIF('Details sales deliv. to excl.'!F:F,A123,'Details sales deliv. to excl.'!H:H)","v":0},{"$f":"-SUMIF('Details purch. deliv. to excl.'!F:F,A123,'Details purch. deliv. to excl.'!H:H)","v":0},0,0,0]
["F20002","Configuration IP phone over IP/VPN",null,465,"ESCAUX",0,0,null,0,0,0,0,"",{"$f":"+SUMIF('Details sales deliv. to excl.'!F:F,A124,'Details sales deliv. to excl.'!H:H)","v":0},{"$f":"-SUMIF('Details purch. deliv. to excl.'!F:F,A124,'Details purch. deliv. to excl.'!H:H)","v":0},0,0,0]
["F2001","Supported IP phone (pre-purchased) for Pure Cloud over public Internet",null,465,"ESCAUX",0,0,null,0,0,0,0,"",{"$f":"+SUMIF('Details sales deliv. to excl.'!F:F,A125,'Details sales deliv. to excl.'!H:H)","v":0},{"$f":"-SUMIF('Details purch. deliv. to excl.'!F:F,A125,'Details purch. deliv. to excl.'!H:H)","v":0},0,0,0]
["F2003","Supported IP phone (pre-purchased) for Pure Cloud over IP/VPN",null,465,"ESCAUX",0,0,null,0,0,0,0,"",{"$f":"+SUMIF('Details sales deliv. to excl.'!F:F,A126,'Details sales deliv. to excl.'!H:H)","v":0},{"$f":"-SUMIF('Details purch. deliv. to excl.'!F:F,A126,'Details purch. deliv. to excl.'!H:H)","v":0},0,0,0]
["F2007","Supported IP phone for Pure Cloud (IP331 from Fuzer) over Public Internet",null,465,"ESCAUX",46,0,null,0,0,0,0,"",{"$f":"+SUMIF('Details sales deliv. to excl.'!F:F,A127,'Details sales deliv. to excl.'!H:H)","v":0},{"$f":"-SUMIF('Details purch. deliv. to excl.'!F:F,A127,'Details purch. deliv. to excl.'!H:H)","v":0},0,0,0]
["F2009","Supported IP phone for Pure Cloud (VVX101 from Fuzer) over public Internet",null,465,"ESCAUX",39.6,0,null,0,0,0,0,"",{"$f":"+SUMIF('Details sales deliv. to excl.'!F:F,A128,'Details sales deliv. to excl.'!H:H)","v":0},{"$f":"-SUMIF('Details purch. deliv. to excl.'!F:F,A128,'Details purch. deliv. to excl.'!H:H)","v":0},0,0,0]
["F2011","Supported IP phone for Pure Cloud (VVX201 from Fuzer) over public Internet",null,465,"ESCAUX",50.4,0,null,0,0,0,0,"",{"$f":"+SUMIF('Details sales deliv. to excl.'!F:F,A129,'Details sales deliv. to excl.'!H:H)","v":0},{"$f":"-SUMIF('Details purch. deliv. to excl.'!F:F,A129,'Details purch. deliv. to excl.'!H:H)","v":0},0,0,0]
["F2012","Supported IP phone for Pure Cloud (VVX301 from Fuzer) over public Internet",null,465,"ESCAUX",65.2,0,null,0,0,0,0,"",{"$f":"+SUMIF('Details sales deliv. to excl.'!F:F,A130,'Details sales deliv. to excl.'!H:H)","v":0},{"$f":"-SUMIF('Details purch. deliv. to excl.'!F:F,A130,'Details purch. deliv. to excl.'!H:H)","v":0},0,0,0]
["F2013","Supported IP phone for Pure Cloud (VVX311 from Fuzer) over public Internet",null,465,"ESCAUX",79.599999999999994,0,null,0,0,0,0,"",{"$f":"+SUMIF('Details sales deliv. to excl.'!F:F,A131,'Details sales deliv. to excl.'!H:H)","v":0},{"$f":"-SUMIF('Details purch. deliv. to excl.'!F:F,A131,'Details purch. deliv. to excl.'!H:H)","v":0},0,0,0]
["F2015","Supported IP phone for Pure Cloud (VVX401 from Fuzer) over public Internet",null,465,"ESCAUX",94,0,null,{"$f":"H132-G132","v":0},{"$f":"G132*F132","v":0},{"$f":"H132*F132","v":0},{"$f":"I132*F132","v":0},"",{"$f":"+SUMIF('Details sales deliv. to excl.'!F:F,A132,'Details sales deliv. to excl.'!H:H)","v":0},{"$f":"-SUMIF('Details purch. deliv. to excl.'!F:F,A132,'Details purch. deliv. to excl.'!H:H)","v":0},{"$f":"I132+N132+O132","v":0},{"$f":"G132+P132","v":0},{"$f":"Q132*F132","v":0}]
["F2017","Supported IP phone for Pure Cloud (VVX411 from Fuzer) over public Internet",null,465,"ESCAUX",108.8,0,null,0,0,0,0,{"$f":"IF(ABS(L133)>500,\"check\",\"\")","v":""},{"$f":"+SUMIF('Details sales deliv. to excl.'!F:F,A133,'Details sales deliv. to excl.'!H:H)","v":0},{"$f":"-SUMIF('Details purch. deliv. to excl.'!F:F,A133,'Details purch. deliv. to excl.'!H:H)","v":0},0,0,0]
["F2019","Supported IP phone for Pure Cloud (VVX500 from Fuzer) over public Internet",null,465,"ESCAUX",138,0,null,0,0,0,0,"",{"$f":"+SUMIF('Details sales deliv. to excl.'!F:F,A134,'Details sales deliv. to excl.'!H:H)","v":0},{"$f":"-SUMIF('Details purch. deliv. to excl.'!F:F,A134,'Details purch. deliv. to excl.'!H:H)","v":0},0,0,0]
["F2021","Supported IP phone for Pure Cloud (VVX600 from Fuzer) over public Internet",null,465,"ESCAUX",174,0,null,0,0,0,0,"",{"$f":"+SUMIF('Details sales deliv. to excl.'!F:F,A135,'Details sales deliv. to excl.'!H:H)","v":0},{"$f":"-SUMIF('Details purch. deliv. to excl.'!F:F,A135,'Details purch. deliv. to excl.'!H:H)","v":0},0,0,0]
["F2022","Supported IP phone for Pure Cloud (IP331 from Fuzer) over IP/VPN",null,465,"ESCAUX",46,0,null,0,0,0,0,"",{"$f":"+SUMIF('Details sales deliv. to excl.'!F:F,A136,'Details sales deliv. to excl.'!H:H)","v":0},{"$f":"-SUMIF('Details purch. deliv. to excl.'!F:F,A136,'Details purch. deliv. to excl.'!H:H)","v":0},0,0,0]
["F2023","Supported IP phone for Pure Cloud (VVX311 from Fuzer) over IP/VPN",null,465,"ESCAUX",79.599999999999994,0,null,0,0,0,0,"",{"$f":"+SUMIF('Details sales deliv. to excl.'!F:F,A137,'Details sales deliv. to excl.'!H:H)","v":0},{"$f":"-SUMIF('Details purch. deliv. to excl.'!F:F,A137,'Details purch. deliv. to excl.'!H:H)","v":0},0,0,0]
["F2025","Supported IP phone for Pure Cloud (VVX401 from Fuzer) over IP/VPN",null,465,"ESCAUX",94,0,null,0,0,0,0,"",{"$f":"+SUMIF('Details sales deliv. to excl.'!F:F,A138,'Details sales deliv. to excl.'!H:H)","v":0},{"$f":"-SUMIF('Details purch. deliv. to excl.'!F:F,A138,'Details purch. deliv. to excl.'!H:H)","v":0},0,0,0]
["F2027","Supported IP phone for Pure Cloud (VVX411 from Fuzer) over IP/VPN",null,465,"ESCAUX",108.8,0,null,0,0,0,0,"",{"$f":"+SUMIF('Details sales deliv. to excl.'!F:F,A139,'Details sales deliv. to excl.'!H:H)","v":0},{"$f":"-SUMIF('Details purch. deliv. to excl.'!F:F,A139,'Details purch. deliv. to excl.'!H:H)","v":0},0,0,0]
["F2029","Supported IP phone for Pure Cloud (VVX500 from Fuzer) over IP/VPN",null,465,"ESCAUX",138,0,null,0,0,0,0,"",{"$f":"+SUMIF('Details sales deliv. to excl.'!F:F,A140,'Details sales deliv. to excl.'!H:H)","v":0},{"$f":"-SUMIF('Details purch. deliv. to excl.'!F:F,A140,'Details purch. deliv. to excl.'!H:H)","v":0},0,0,0]
["F2031","Supported IP phone for Pure Cloud (VVX600 from Fuzer) over IP/VPN",null,465,"ESCAUX",174,0,null,0,0,0,0,"",{"$f":"+SUMIF('Details sales deliv. to excl.'!F:F,A141,'Details sales deliv. to excl.'!H:H)","v":0},{"$f":"-SUMIF('Details purch. deliv. to excl.'!F:F,A141,'Details purch. deliv. to excl.'!H:H)","v":0},0,0,0]
["F2033","Supported IP phone for Pure Cloud (VVX101 from Fuzer) over IP/VPN",null,465,"ESCAUX",39.6,0,null,0,0,0,0,"",{"$f":"+SUMIF('Details sales deliv. to excl.'!F:F,A142,'Details sales deliv. to excl.'!H:H)","v":0},{"$f":"-SUMIF('Details purch. deliv. to excl.'!F:F,A142,'Details purch. deliv. to excl.'!H:H)","v":0},0,0,0]
["F2035","Supported IP phone for Pure Cloud (VVX201 from Fuzer) over IP/VPN",null,465,"ESCAUX",50.4,0,null,0,0,0,0,"",{"$f":"+SUMIF('Details sales deliv. to excl.'!F:F,A143,'Details sales deliv. to excl.'!H:H)","v":0},{"$f":"-SUMIF('Details purch. deliv. to excl.'!F:F,A143,'Details purch. deliv. to excl.'!H:H)","v":0},0,0,0]
["F2037","Supported IP phone for Pure Cloud (VVX301 from Fuzer) over IP/VPN",null,465,"ESCAUX",65.2,0,null,0,0,0,0,"",{"$f":"+SUMIF('Details sales deliv. to excl.'!F:F,A144,'Details sales deliv. to excl.'!H:H)","v":0},{"$f":"-SUMIF('Details purch. deliv. to excl.'!F:F,A144,'Details purch. deliv. to excl.'!H:H)","v":0},0,0,0]
["F2051","Supported IP phone for Pure Cloud (IP7000 from Fuzer) over public Internet",null,465,"ESCAUX",456.32,0,null,0,0,0,0,"",{"$f":"+SUMIF('Details sales deliv. to excl.'!F:F,A145,'Details sales deliv. to excl.'!H:H)","v":0},{"$f":"-SUMIF('Details purch. deliv. to excl.'!F:F,A145,'Details purch. deliv. to excl.'!H:H)","v":0},0,0,0]
["F2053","Supported IP phone for Pure Cloud (IP7000 from Fuzer) over IP/VPN",null,465,"ESCAUX",456.32,0,null,0,0,0,0,"",{"$f":"+SUMIF('Details sales deliv. to excl.'!F:F,A146,'Details sales deliv. to excl.'!H:H)","v":0},{"$f":"-SUMIF('Details purch. deliv. to excl.'!F:F,A146,'Details purch. deliv. to excl.'!H:H)","v":0},0,0,0]
["F2055","Supported IP phone for Pure Cloud (IP6000 from Fuzer) over IP/VPN",null,465,"ESCAUX",323.36,0,null,0,0,0,0,"",{"$f":"+SUMIF('Details sales deliv. to excl.'!F:F,A147,'Details sales deliv. to excl.'!H:H)","v":0},{"$f":"-SUMIF('Details purch. deliv. to excl.'!F:F,A147,'Details purch. deliv. to excl.'!H:H)","v":0},0,0,0]
["F2057","Supported IP6000 (from Fuzer) over public internet",null,465,"ESCAUX",323.36,0,null,0,0,0,0,"",{"$f":"+SUMIF('Details sales deliv. to excl.'!F:F,A148,'Details sales deliv. to excl.'!H:H)","v":0},{"$f":"-SUMIF('Details purch. deliv. to excl.'!F:F,A148,'Details purch. deliv. to excl.'!H:H)","v":0},0,0,0]
["F2061","Supported IP650 phone for Pure Cloud over IP/VPN for net.Console",null,465,"ESCAUX",128,0,null,0,0,0,0,"",{"$f":"+SUMIF('Details sales deliv. to excl.'!F:F,A149,'Details sales deliv. to excl.'!H:H)","v":0},{"$f":"-SUMIF('Details purch. deliv. to excl.'!F:F,A149,'Details purch. deliv. to excl.'!H:H)","v":0},0,0,0]
["F2071","Supported IP Convertor for Pure Cloud (ATA112 from Fuzer) over public Internet",null,465,"ESCAUX",41.34,0,null,0,0,0,0,"",{"$f":"+SUMIF('Details sales deliv. to excl.'!F:F,A150,'Details sales deliv. to excl.'!H:H)","v":0},{"$f":"-SUMIF('Details purch. deliv. to excl.'!F:F,A150,'Details purch. deliv. to excl.'!H:H)","v":0},0,0,0]
["F2073","Supported IP Convertor for Pure Cloud (ATA112 from Fuzer) over IP/VPN",null,465,"ESCAUX",41.34,0,null,0,0,0,0,"",{"$f":"+SUMIF('Details sales deliv. to excl.'!F:F,A151,'Details sales deliv. to excl.'!H:H)","v":0},{"$f":"-SUMIF('Details purch. deliv. to excl.'!F:F,A151,'Details purch. deliv. to excl.'!H:H)","v":0},0,0,0]
["F2075","Supported IP Convertor for Pure Cloud (ATA8000 from Fuzer) over public Internet",null,465,"ESCAUX",193,0,null,0,0,0,0,"",{"$f":"+SUMIF('Details sales deliv. to excl.'!F:F,A152,'Details sales deliv. to excl.'!H:H)","v":0},{"$f":"-SUMIF('Details purch. deliv. to excl.'!F:F,A152,'Details purch. deliv. to excl.'!H:H)","v":0},0,0,0]
["F2077","Supported IP Convertor for Pure Cloud (ATA8000 from Fuzer) over IP/VPN",null,465,"ESCAUX",193,0,null,0,0,0,0,"",{"$f":"+SUMIF('Details sales deliv. to excl.'!F:F,A153,'Details sales deliv. to excl.'!H:H)","v":0},{"$f":"-SUMIF('Details purch. deliv. to excl.'!F:F,A153,'Details purch. deliv. to excl.'!H:H)","v":0},0,0,0]
["F2081","Supported SNOM M9 for Pure Cloud over IP/VPN",null,465,"ESCAUX",132.44999999999999,0,null,0,0,0,0,"",{"$f":"+SUMIF('Details sales deliv. to excl.'!F:F,A154,'Details sales deliv. to excl.'!H:H)","v":0},{"$f":"-SUMIF('Details purch. deliv. to excl.'!F:F,A154,'Details purch. deliv. to excl.'!H:H)","v":0},0,0,0]
["F2083","Supported GIGASET R650H Dect for Pure Cloud over IP/VPN",null,465,"ESCAUX",60.5,0,null,0,0,0,0,"",{"$f":"+SUMIF('Details sales deliv. to excl.'!F:F,A155,'Details sales deliv. to excl.'!H:H)","v":0},{"$f":"-SUMIF('Details purch. deliv. to excl.'!F:F,A155,'Details purch. deliv. to excl.'!H:H)","v":0},0,0,0]
["F2085","Supported GIGASET N510 Base Station for 6 phones for Pure Cloud over IP/VPN",null,465,"ESCAUX",67,0,null,0,0,0,0,"",{"$f":"+SUMIF('Details sales deliv. to excl.'!F:F,A156,'Details sales deliv. to excl.'!H:H)","v":0},{"$f":"-SUMIF('Details purch. deliv. to excl.'!F:F,A156,'Details purch. deliv. to excl.'!H:H)","v":0},0,0,0]
["F2091","Supported Doorphone HELIOS IP Force 1 button over IP/VPN",null,465,"ESCAUX",603.44000000000005,0,null,0,0,0,0,"",{"$f":"+SUMIF('Details sales deliv. to excl.'!F:F,A157,'Details sales deliv. to excl.'!H:H)","v":0},{"$f":"-SUMIF('Details purch. deliv. to excl.'!F:F,A157,'Details purch. deliv. to excl.'!H:H)","v":0},0,0,0]
["F2092","Supported Doorphone HELIOS IP Force 4 buttons over IP/VPN",null,465,"ESCAUX",611.04,0,null,0,0,0,0,"",{"$f":"+SUMIF('Details sales deliv. to excl.'!F:F,A158,'Details sales deliv. to excl.'!H:H)","v":0},{"$f":"-SUMIF('Details purch. deliv. to excl.'!F:F,A158,'Details purch. deliv. to excl.'!H:H)","v":0},0,0,0]
["F2093","Supported Doorphone HELIOS IP Force 1 button with camera over IP/VPN",null,465,"ESCAUX",733.4,0,null,0,0,0,0,"",{"$f":"+SUMIF('Details sales deliv. to excl.'!F:F,A159,'Details sales deliv. to excl.'!H:H)","v":0},{"$f":"-SUMIF('Details purch. deliv. to excl.'!F:F,A159,'Details purch. deliv. to excl.'!H:H)","v":0},0,0,0]
["F2094","Supported Doorphone HELIOS IP Force 4 buttons with camera over IP/VPN",null,465,"ESCAUX",736.44,0,null,0,0,0,0,"",{"$f":"+SUMIF('Details sales deliv. to excl.'!F:F,A160,'Details sales deliv. to excl.'!H:H)","v":0},{"$f":"-SUMIF('Details purch. deliv. to excl.'!F:F,A160,'Details purch. deliv. to excl.'!H:H)","v":0},0,0,0]
["F2096","Supported ALGO 1186 - Horn Speaker - over IP/VPN",null,465,"ESCAUX",59.16,0,null,0,0,0,0,"",{"$f":"+SUMIF('Details sales deliv. to excl.'!F:F,A161,'Details sales deliv. to excl.'!H:H)","v":0},{"$f":"-SUMIF('Details purch. deliv. to excl.'!F:F,A161,'Details purch. deliv. to excl.'!H:H)","v":0},0,0,0]
["F2098","Supported ALGO 8180 - Loud Ringer & Voice Pager - over IP/VPN",null,465,"ESCAUX",224.24,0,null,0,0,0,0,"",{"$f":"+SUMIF('Details sales deliv. to excl.'!F:F,A162,'Details sales deliv. to excl.'!H:H)","v":0},{"$f":"-SUMIF('Details purch. deliv. to excl.'!F:F,A162,'Details purch. deliv. to excl.'!H:H)","v":0},0,0,0]
["F2101","Customized Link for Connect Me",null,465,"ESCAUX",0,0,null,0,0,0,0,"",{"$f":"+SUMIF('Details sales deliv. to excl.'!F:F,A163,'Details sales deliv. to excl.'!H:H)","v":0},{"$f":"-SUMIF('Details purch. deliv. to excl.'!F:F,A163,'Details purch. deliv. to excl.'!H:H)","v":0},0,0,0]
["F2103","Pure Cloud Rebate Special Deal",null,465,"ESCAUX",0,0,null,0,0,0,0,"",{"$f":"+SUMIF('Details sales deliv. to excl.'!F:F,A164,'Details sales deliv. to excl.'!H:H)","v":0},{"$f":"-SUMIF('Details purch. deliv. to excl.'!F:F,A164,'Details purch. deliv. to excl.'!H:H)","v":0},0,0,0]
["F2107","API access over IP/VPN",null,465,"ESCAUX",0,0,null,0,0,0,0,"",{"$f":"+SUMIF('Details sales deliv. to excl.'!F:F,A165,'Details sales deliv. to excl.'!H:H)","v":0},{"$f":"-SUMIF('Details purch. deliv. to excl.'!F:F,A165,'Details purch. deliv. to excl.'!H:H)","v":0},0,0,0]
["F2109","net.Console activation over IP/VPN",null,465,"ESCAUX",0,0,null,0,0,0,0,"",{"$f":"+SUMIF('Details sales deliv. to excl.'!F:F,A166,'Details sales deliv. to excl.'!H:H)","v":0},{"$f":"-SUMIF('Details purch. deliv. to excl.'!F:F,A166,'Details purch. deliv. to excl.'!H:H)","v":0},0,0,0]
["F2110","net.Console user over IP/VPN",null,465,"ESCAUX",0,0,null,0,0,0,0,"",{"$f":"+SUMIF('Details sales deliv. to excl.'!F:F,A167,'Details sales deliv. to excl.'!H:H)","v":0},{"$f":"-SUMIF('Details purch. deliv. to excl.'!F:F,A167,'Details purch. deliv. to excl.'!H:H)","v":0},0,0,0]
["F2111","Pure Cloud A La Carte Activation (New Installation)",null,465,"ESCAUX",0,0,null,0,0,0,0,"",{"$f":"+SUMIF('Details sales deliv. to excl.'!F:F,A168,'Details sales deliv. to excl.'!H:H)","v":0},{"$f":"-SUMIF('Details purch. deliv. to excl.'!F:F,A168,'Details purch. deliv. to excl.'!H:H)","v":0},0,0,0]
["F2121","SMP Administration Access",null,465,"ESCAUX",0,0,null,0,0,0,0,"",{"$f":"+SUMIF('Details sales deliv. to excl.'!F:F,A169,'Details sales deliv. to excl.'!H:H)","v":0},{"$f":"-SUMIF('Details purch. deliv. to excl.'!F:F,A169,'Details purch. deliv. to excl.'!H:H)","v":0},0,0,0]
["F2123","Music On Hold Definition",null,10183,"FUZER SA",0,0,null,0,0,0,0,"",{"$f":"+SUMIF('Details sales deliv. to excl.'!F:F,A170,'Details sales deliv. to excl.'!H:H)","v":0},{"$f":"-SUMIF('Details purch. deliv. to excl.'!F:F,A170,'Details purch. deliv. to excl.'!H:H)","v":0},0,0,0]
["F2125","Customized Call Flow (per working hour)",null,465,"ESCAUX",0,0,null,0,0,0,0,"",{"$f":"+SUMIF('Details sales deliv. to excl.'!F:F,A171,'Details sales deliv. to excl.'!H:H)","v":0},{"$f":"-SUMIF('Details purch. deliv. to excl.'!F:F,A171,'Details purch. deliv. to excl.'!H:H)","v":0},0,0,0]
["F2127","Connect Me Applications",null,465,"ESCAUX",0,0,null,0,0,0,0,"",{"$f":"+SUMIF('Details sales deliv. to excl.'!F:F,A172,'Details sales deliv. to excl.'!H:H)","v":0},{"$f":"-SUMIF('Details purch. deliv. to excl.'!F:F,A172,'Details purch. deliv. to excl.'!H:H)","v":0},0,0,0]
["F2129","From Pure Cloud to Pure Cloud A la Carte migration",null,465,"ESCAUX",0,0,null,0,0,0,0,"",{"$f":"+SUMIF('Details sales deliv. to excl.'!F:F,A173,'Details sales deliv. to excl.'!H:H)","v":0},{"$f":"-SUMIF('Details purch. deliv. to excl.'!F:F,A173,'Details purch. deliv. to excl.'!H:H)","v":0},0,0,0]
["F2131","Other Requests",null,465,"ESCAUX",0,0,null,0,0,0,0,"",{"$f":"+SUMIF('Details sales deliv. to excl.'!F:F,A174,'Details sales deliv. to excl.'!H:H)","v":0},{"$f":"-SUMIF('Details purch. deliv. to excl.'!F:F,A174,'Details purch. deliv. to excl.'!H:H)","v":0},0,0,0]
["F2133","Exchange Calendar Integration",null,465,"ESCAUX",0,0,null,0,0,0,0,"",{"$f":"+SUMIF('Details sales deliv. to excl.'!F:F,A175,'Details sales deliv. to excl.'!H:H)","v":0},{"$f":"-SUMIF('Details purch. deliv. to excl.'!F:F,A175,'Details purch. deliv. to excl.'!H:H)","v":0},0,0,0]
["F2134","Efficy CRM Integration",null,465,"ESCAUX",0,0,null,0,0,0,0,"",{"$f":"+SUMIF('Details sales deliv. to excl.'!F:F,A176,'Details sales deliv. to excl.'!H:H)","v":0},{"$f":"-SUMIF('Details purch. deliv. to excl.'!F:F,A176,'Details purch. deliv. to excl.'!H:H)","v":0},0,0,0]
["F2135","Reporting on Queues",null,465,"ESCAUX",0,0,null,0,0,0,0,"",{"$f":"+SUMIF('Details sales deliv. to excl.'!F:F,A177,'Details sales deliv. to excl.'!H:H)","v":0},{"$f":"-SUMIF('Details purch. deliv. to excl.'!F:F,A177,'Details purch. deliv. to excl.'!H:H)","v":0},0,0,0]
["F2137","Generic SIP Phones Resource activation",null,465,"ESCAUX",0,0,null,0,0,0,0,"",{"$f":"+SUMIF('Details sales deliv. to excl.'!F:F,A178,'Details sales deliv. to excl.'!H:H)","v":0},{"$f":"-SUMIF('Details purch. deliv. to excl.'!F:F,A178,'Details purch. deliv. to excl.'!H:H)","v":0},0,0,0]
["F2201","Free Fleet Activation",null,465,"ESCAUX",0,0,null,0,0,0,0,"",{"$f":"+SUMIF('Details sales deliv. to excl.'!F:F,A179,'Details sales deliv. to excl.'!H:H)","v":0},{"$f":"-SUMIF('Details purch. deliv. to excl.'!F:F,A179,'Details purch. deliv. to excl.'!H:H)","v":0},0,0,0]
["F3007","Pure Cloud - Extension Number for a shared device",null,465,"ESCAUX",0,0,null,0,0,0,0,"",{"$f":"+SUMIF('Details sales deliv. to excl.'!F:F,A180,'Details sales deliv. to excl.'!H:H)","v":0},{"$f":"-SUMIF('Details purch. deliv. to excl.'!F:F,A180,'Details purch. deliv. to excl.'!H:H)","v":0},0,0,0]
["F3011","new DDI for Belgium",null,465,"ESCAUX",0,0,null,0,0,0,0,"",{"$f":"+SUMIF('Details sales deliv. to excl.'!F:F,A181,'Details sales deliv. to excl.'!H:H)","v":0},{"$f":"-SUMIF('Details purch. deliv. to excl.'!F:F,A181,'Details purch. deliv. to excl.'!H:H)","v":0},0,0,0]
["F3013","new DDI for France",null,465,"ESCAUX",0,0,null,0,0,0,0,"",{"$f":"+SUMIF('Details sales deliv. to excl.'!F:F,A182,'Details sales deliv. to excl.'!H:H)","v":0},{"$f":"-SUMIF('Details purch. deliv. to excl.'!F:F,A182,'Details purch. deliv. to excl.'!H:H)","v":0},0,0,0]
["F3015","new DDI for the Netherlands",null,465,"ESCAUX",0,0,null,0,0,0,0,"",{"$f":"+SUMIF('Details sales deliv. to excl.'!F:F,A183,'Details sales deliv. to excl.'!H:H)","v":0},{"$f":"-SUMIF('Details purch. deliv. to excl.'!F:F,A183,'Details purch. deliv. to excl.'!H:H)","v":0},0,0,0]
["F3017","new DDI for Italy",null,465,"ESCAUX",0,0,null,0,0,0,0,"",{"$f":"+SUMIF('Details sales deliv. to excl.'!F:F,A184,'Details sales deliv. to excl.'!H:H)","v":0},{"$f":"-SUMIF('Details purch. deliv. to excl.'!F:F,A184,'Details purch. deliv. to excl.'!H:H)","v":0},0,0,0]
["F3019","new DDI for Spain",null,465,"ESCAUX",0,0,null,0,0,0,0,"",{"$f":"+SUMIF('Details sales deliv. to excl.'!F:F,A185,'Details sales deliv. to excl.'!H:H)","v":0},{"$f":"-SUMIF('Details purch. deliv. to excl.'!F:F,A185,'Details purch. deliv. to excl.'!H:H)","v":0},0,0,0]
["F3021","new DDI for Germany",null,465,"ESCAUX",0,0,null,0,0,0,0,"",{"$f":"+SUMIF('Details sales deliv. to excl.'!F:F,A186,'Details sales deliv. to excl.'!H:H)","v":0},{"$f":"-SUMIF('Details purch. deliv. to excl.'!F:F,A186,'Details purch. deliv. to excl.'!H:H)","v":0},0,0,0]
["F3023","new DDI for Austria",null,465,"ESCAUX",0,0,null,0,0,0,0,"",{"$f":"+SUMIF('Details sales deliv. to excl.'!F:F,A187,'Details sales deliv. to excl.'!H:H)","v":0},{"$f":"-SUMIF('Details purch. deliv. to excl.'!F:F,A187,'Details purch. deliv. to excl.'!H:H)","v":0},0,0,0]
["F3025","new DDI for UK",null,465,"ESCAUX",0,0,null,0,0,0,0,"",{"$f":"+SUMIF('Details sales deliv. to excl.'!F:F,A188,'Details sales deliv. to excl.'!H:H)","v":0},{"$f":"-SUMIF('Details purch. deliv. to excl.'!F:F,A188,'Details purch. deliv. to excl.'!H:H)","v":0},0,0,0]
["F3027","new DDI for Sweden",null,465,"ESCAUX",0,0,null,0,0,0,0,"",{"$f":"+SUMIF('Details sales deliv. to excl.'!F:F,A189,'Details sales deliv. to excl.'!H:H)","v":0},{"$f":"-SUMIF('Details purch. deliv. to excl.'!F:F,A189,'Details purch. deliv. to excl.'!H:H)","v":0},0,0,0]
["F3029","new DDI for Denmark",null,465,"ESCAUX",0,0,null,0,0,0,0,"",{"$f":"+SUMIF('Details sales deliv. to excl.'!F:F,A190,'Details sales deliv. to excl.'!H:H)","v":0},{"$f":"-SUMIF('Details purch. deliv. to excl.'!F:F,A190,'Details purch. deliv. to excl.'!H:H)","v":0},0,0,0]
["F3030","new DDI for Switzerland",null,465,"ESCAUX",0,0,null,0,0,0,0,"",{"$f":"+SUMIF('Details sales deliv. to excl.'!F:F,A191,'Details sales deliv. to excl.'!H:H)","v":0},{"$f":"-SUMIF('Details purch. deliv. to excl.'!F:F,A191,'Details purch. deliv. to excl.'!H:H)","v":0},0,0,0]
["F3111","porting of 1 existing DDI in Belgium",null,460,"COLT TECHNOLOGY SERVICES N.V.",0,0,null,0,0,0,0,"",{"$f":"+SUMIF('Details sales deliv. to excl.'!F:F,A192,'Details sales deliv. to excl.'!H:H)","v":0},{"$f":"-SUMIF('Details purch. deliv. to excl.'!F:F,A192,'Details purch. deliv. to excl.'!H:H)","v":0},0,0,0]
["F3113","porting of 1 existing DDI in France",null,460,"COLT TECHNOLOGY SERVICES N.V.",0,0,null,0,0,0,0,"",{"$f":"+SUMIF('Details sales deliv. to excl.'!F:F,A193,'Details sales deliv. to excl.'!H:H)","v":0},{"$f":"-SUMIF('Details purch. deliv. to excl.'!F:F,A193,'Details purch. deliv. to excl.'!H:H)","v":0},0,0,0]
["F3115","porting of 1 existing DDI in the Netherlands",null,460,"COLT TECHNOLOGY SERVICES N.V.",0,0,null,0,0,0,0,"",{"$f":"+SUMIF('Details sales deliv. to excl.'!F:F,A194,'Details sales deliv. to excl.'!H:H)","v":0},{"$f":"-SUMIF('Details purch. deliv. to excl.'!F:F,A194,'Details purch. deliv. to excl.'!H:H)","v":0},0,0,0]
["F3119","porting of 1 existing DDI in Spain",null,460,"COLT TECHNOLOGY SERVICES N.V.",0,0,null,0,0,0,0,"",{"$f":"+SUMIF('Details sales deliv. to excl.'!F:F,A195,'Details sales deliv. to excl.'!H:H)","v":0},{"$f":"-SUMIF('Details purch. deliv. to excl.'!F:F,A195,'Details purch. deliv. to excl.'!H:H)","v":0},0,0,0]
["F3121","porting of 1 existing DDI in Germany",null,460,"COLT TECHNOLOGY SERVICES N.V.",0,0,null,{"$f":"H196-G196","v":0},{"$f":"G196*F196","v":0},{"$f":"H196*F196","v":0},{"$f":"I196*F196","v":0},"",{"$f":"+SUMIF('Details sales deliv. to excl.'!F:F,A196,'Details sales deliv. to excl.'!H:H)","v":0},{"$f":"-SUMIF('Details purch. deliv. to excl.'!F:F,A196,'Details purch. deliv. to excl.'!H:H)","v":0},{"$f":"I196+N196+O196","v":0},{"$f":"G196+P196","v":0},{"$f":"Q196*F196","v":0}]
["F3123","porting of 1 existing DDI in Austria",null,460,"COLT TECHNOLOGY SERVICES N.V.",0,0,null,0,0,0,0,{"$f":"IF(ABS(L197)>500,\"check\",\"\")","v":""},{"$f":"+SUMIF('Details sales deliv. to excl.'!F:F,A197,'Details sales deliv. to excl.'!H:H)","v":0},{"$f":"-SUMIF('Details purch. deliv. to excl.'!F:F,A197,'Details purch. deliv. to excl.'!H:H)","v":0},0,0,0]
["F3125","porting of 1 existing DDI in UK",null,460,"COLT TECHNOLOGY SERVICES N.V.",0,0,null,0,0,0,0,"",{"$f":"+SUMIF('Details sales deliv. to excl.'!F:F,A198,'Details sales deliv. to excl.'!H:H)","v":0},{"$f":"-SUMIF('Details purch. deliv. to excl.'!F:F,A198,'Details purch. deliv. to excl.'!H:H)","v":0},0,0,0]
["F3127","porting of 1 existing DDI in Sweden",null,460,"COLT TECHNOLOGY SERVICES N.V.",0,0,null,0,0,0,0,"",{"$f":"+SUMIF('Details sales deliv. to excl.'!F:F,A199,'Details sales deliv. to excl.'!H:H)","v":0},{"$f":"-SUMIF('Details purch. deliv. to excl.'!F:F,A199,'Details purch. deliv. to excl.'!H:H)","v":0},0,0,0]
["F3129","porting of 1 existing DDI in Denmark",null,460,"COLT TECHNOLOGY SERVICES N.V.",0,0,null,0,0,0,0,"",{"$f":"+SUMIF('Details sales deliv. to excl.'!F:F,A200,'Details sales deliv. to excl.'!H:H)","v":0},{"$f":"-SUMIF('Details purch. deliv. to excl.'!F:F,A200,'Details purch. deliv. to excl.'!H:H)","v":0},0,0,0]
["F3130","porting of 1 existing DDI in Switzerland",null,460,"COLT TECHNOLOGY SERVICES N.V.",0,0,null,0,0,0,0,"",{"$f":"+SUMIF('Details sales deliv. to excl.'!F:F,A201,'Details sales deliv. to excl.'!H:H)","v":0},{"$f":"-SUMIF('Details purch. deliv. to excl.'!F:F,A201,'Details purch. deliv. to excl.'!H:H)","v":0},0,0,0]
["F3201","Pure Cloud - Extra channel purchase",null,460,"COLT TECHNOLOGY SERVICES N.V.",0,0,null,0,0,0,0,"",{"$f":"+SUMIF('Details sales deliv. to excl.'!F:F,A202,'Details sales deliv. to excl.'!H:H)","v":0},{"$f":"-SUMIF('Details purch. deliv. to excl.'!F:F,A202,'Details purch. deliv. to excl.'!H:H)","v":0},0,0,0]
["F4001","Hybrid Cloud - Project Activation",null,465,"ESCAUX",0,0,null,0,0,0,0,"",{"$f":"+SUMIF('Details sales deliv. to excl.'!F:F,A203,'Details sales deliv. to excl.'!H:H)","v":0},{"$f":"-SUMIF('Details purch. deliv. to excl.'!F:F,A203,'Details purch. deliv. to excl.'!H:H)","v":0},0,0,0]
["F4003","Hybrid Cloud - Project Activation with Fix & Mobile integration",null,465,"ESCAUX",0,0,null,0,0,0,0,"",{"$f":"+SUMIF('Details sales deliv. to excl.'!F:F,A204,'Details sales deliv. to excl.'!H:H)","v":0},{"$f":"-SUMIF('Details purch. deliv. to excl.'!F:F,A204,'Details purch. deliv. to excl.'!H:H)","v":0},0,0,0]
["F4005","Hybrid Cloud - project activation on Internet",null,465,"ESCAUX",0,0,null,0,0,0,0,"",{"$f":"+SUMIF('Details sales deliv. to excl.'!F:F,A205,'Details sales deliv. to excl.'!H:H)","v":0},{"$f":"-SUMIF('Details purch. deliv. to excl.'!F:F,A205,'Details purch. deliv. to excl.'!H:H)","v":0},0,0,0]
["F4011","Hybrid Cloud - Fix user",null,465,"ESCAUX",0,0,null,0,0,0,0,"",{"$f":"+SUMIF('Details sales deliv. to excl.'!F:F,A206,'Details sales deliv. to excl.'!H:H)","v":0},{"$f":"-SUMIF('Details purch. deliv. to excl.'!F:F,A206,'Details purch. deliv. to excl.'!H:H)","v":0},0,0,0]
["F4013","Hybrid Cloud - Fix Mobile user",null,465,"ESCAUX",0,0,null,0,0,0,0,"",{"$f":"+SUMIF('Details sales deliv. to excl.'!F:F,A207,'Details sales deliv. to excl.'!H:H)","v":0},{"$f":"-SUMIF('Details purch. deliv. to excl.'!F:F,A207,'Details purch. deliv. to excl.'!H:H)","v":0},0,0,0]
["F4111","Hybrid Cloud - Fusion & Connect Me up to 150 users",null,465,"ESCAUX",0,0,null,0,0,0,0,"",{"$f":"+SUMIF('Details sales deliv. to excl.'!F:F,A208,'Details sales deliv. to excl.'!H:H)","v":0},{"$f":"-SUMIF('Details purch. deliv. to excl.'!F:F,A208,'Details purch. deliv. to excl.'!H:H)","v":0},0,0,0]
["F4112","Hybrid Cloud - GCM up to 150 users",null,465,"ESCAUX",0,0,null,0,0,0,0,"",{"$f":"+SUMIF('Details sales deliv. to excl.'!F:F,A209,'Details sales deliv. to excl.'!H:H)","v":0},{"$f":"-SUMIF('Details purch. deliv. to excl.'!F:F,A209,'Details purch. deliv. to excl.'!H:H)","v":0},0,0,0]
["F4113","Hybrid Cloud - APN up to 150 users",null,465,"ESCAUX",0,0,null,0,0,0,0,"",{"$f":"+SUMIF('Details sales deliv. to excl.'!F:F,A210,'Details sales deliv. to excl.'!H:H)","v":0},{"$f":"-SUMIF('Details purch. deliv. to excl.'!F:F,A210,'Details purch. deliv. to excl.'!H:H)","v":0},0,0,0]
["F4121","Hybrid Cloud - Fusion & Connect Me up to 250 users",null,465,"ESCAUX",0,0,null,0,0,0,0,"",{"$f":"+SUMIF('Details sales deliv. to excl.'!F:F,A211,'Details sales deliv. to excl.'!H:H)","v":0},{"$f":"-SUMIF('Details purch. deliv. to excl.'!F:F,A211,'Details purch. deliv. to excl.'!H:H)","v":0},0,0,0]
["F4122","Hybrid Cloud - GCM up to 250 users",null,465,"ESCAUX",0,0,null,0,0,0,0,"",{"$f":"+SUMIF('Details sales deliv. to excl.'!F:F,A212,'Details sales deliv. to excl.'!H:H)","v":0},{"$f":"-SUMIF('Details purch. deliv. to excl.'!F:F,A212,'Details purch. deliv. to excl.'!H:H)","v":0},0,0,0]
["F4123","Hybrid Cloud - APN up to 250 users",null,465,"ESCAUX",0,0,null,0,0,0,0,"",{"$f":"+SUMIF('Details sales deliv. to excl.'!F:F,A213,'Details sales deliv. to excl.'!H:H)","v":0},{"$f":"-SUMIF('Details purch. deliv. to excl.'!F:F,A213,'Details purch. deliv. to excl.'!H:H)","v":0},0,0,0]
["F4201","Hybrid Cloud - Extra channel purchase",null,460,"COLT TECHNOLOGY SERVICES N.V.",0,0,null,0,0,0,0,"",{"$f":"+SUMIF('Details sales deliv. to excl.'!F:F,A214,'Details sales deliv. to excl.'!H:H)","v":0},{"$f":"-SUMIF('Details purch. deliv. to excl.'!F:F,A214,'Details purch. deliv. to excl.'!H:H)","v":0},0,0,0]
["F4310","Hybrid Cloud - Other Operator connectivity (1 x PRA)",null,465,"ESCAUX",0,0,null,0,0,0,0,"",{"$f":"+SUMIF('Details sales deliv. to excl.'!F:F,A215,'Details sales deliv. to excl.'!H:H)","v":0},{"$f":"-SUMIF('Details purch. deliv. to excl.'!F:F,A215,'Details purch. deliv. to excl.'!H:H)","v":0},0,0,0]
["F4312","Hybrid Cloud - Other Operator connectivity (4 x BA)",null,465,"ESCAUX",0,0,null,0,0,0,0,"",{"$f":"+SUMIF('Details sales deliv. to excl.'!F:F,A216,'Details sales deliv. to excl.'!H:H)","v":0},{"$f":"-SUMIF('Details purch. deliv. to excl.'!F:F,A216,'Details purch. deliv. to excl.'!H:H)","v":0},0,0,0]
["F4321","Hybrid Cloud - Extension Number for a special device",null,465,"ESCAUX",0,0,null,0,0,0,0,"",{"$f":"+SUMIF('Details sales deliv. to excl.'!F:F,A217,'Details sales deliv. to excl.'!H:H)","v":0},{"$f":"-SUMIF('Details purch. deliv. to excl.'!F:F,A217,'Details purch. deliv. to excl.'!H:H)","v":0},0,0,0]
["F4611","Hybrid Cloud - Fixed Number Hosting - 40 channels - over DSL",null,0,null,0,0,null,0,0,0,0,"",{"$f":"+SUMIF('Details sales deliv. to excl.'!F:F,A218,'Details sales deliv. to excl.'!H:H)","v":0},{"$f":"-SUMIF('Details purch. deliv. to excl.'!F:F,A218,'Details purch. deliv. to excl.'!H:H)","v":0},0,0,0]
["F4613","Hybrid Cloud - Fixed Number Hosting - 40 channels - over Fiber",null,0,null,0,0,null,0,0,0,0,"",{"$f":"+SUMIF('Details sales deliv. to excl.'!F:F,A219,'Details sales deliv. to excl.'!H:H)","v":0},{"$f":"-SUMIF('Details purch. deliv. to excl.'!F:F,A219,'Details purch. deliv. to excl.'!H:H)","v":0},0,0,0]
["F4616","Hybrid Cloud - Fixed Number Hosting - 40 channels - over OLO",null,0,null,0,0,null,0,0,0,0,"",{"$f":"+SUMIF('Details sales deliv. to excl.'!F:F,A220,'Details sales deliv. to excl.'!H:H)","v":0},{"$f":"-SUMIF('Details purch. deliv. to excl.'!F:F,A220,'Details purch. deliv. to excl.'!H:H)","v":0},0,0,0]
["F4621","Hybrid Cloud - Fixed Number Hosting - 80 channels - over DSL",null,0,null,0,0,null,0,0,0,0,"",{"$f":"+SUMIF('Details sales deliv. to excl.'!F:F,A221,'Details sales deliv. to excl.'!H:H)","v":0},{"$f":"-SUMIF('Details purch. deliv. to excl.'!F:F,A221,'Details purch. deliv. to excl.'!H:H)","v":0},0,0,0]
["F4623","Hybrid Cloud - Fixed Number Hosting - 80 channels - over Fiber",null,0,null,0,0,null,0,0,0,0,"",{"$f":"+SUMIF('Details sales deliv. to excl.'!F:F,A222,'Details sales deliv. to excl.'!H:H)","v":0},{"$f":"-SUMIF('Details purch. deliv. to excl.'!F:F,A222,'Details purch. deliv. to excl.'!H:H)","v":0},0,0,0]
["F4626","Hybrid Cloud - Fixed Number Hosting - 80 channels - over OLO",null,0,null,0,0,null,0,0,0,0,"",{"$f":"+SUMIF('Details sales deliv. to excl.'!F:F,A223,'Details sales deliv. to excl.'!H:H)","v":0},{"$f":"-SUMIF('Details purch. deliv. to excl.'!F:F,A223,'Details purch. deliv. to excl.'!H:H)","v":0},0,0,0]
["F7001","Active-Active redundancy option",null,465,"ESCAUX",1659.08,0,null,0,0,0,0,"",{"$f":"+SUMIF('Details sales deliv. to excl.'!F:F,A224,'Details sales deliv. to excl.'!H:H)","v":0},{"$f":"-SUMIF('Details purch. deliv. to excl.'!F:F,A224,'Details purch. deliv. to excl.'!H:H)","v":0},0,0,0]
["F7003","Active-Standby redundancy option",null,465,"ESCAUX",1659.08,0,null,0,0,0,0,"",{"$f":"+SUMIF('Details sales deliv. to excl.'!F:F,A225,'Details sales deliv. to excl.'!H:H)","v":0},{"$f":"-SUMIF('Details purch. deliv. to excl.'!F:F,A225,'Details purch. deliv. to excl.'!H:H)","v":0},0,0,0]
["F9001","Fuzer Mobile SIM card",null,876,"TELENET GROUP BVBA",1.33,2878,2878,0,3827.7400000000002,3827.7400000000002,0,null,{"$f":"+SUMIF('Details sales deliv. to excl.'!F:F,A226,'Details sales deliv. to excl.'!H:H)","v":0},{"$f":"-SUMIF('Details purch. deliv. to excl.'!F:F,A226,'Details purch. deliv. to excl.'!H:H)","v":0},0,2878,3827.7400000000002]
["F9002","Fuzer Mobile Data SIM card - 0MB",null,876,"TELENET GROUP BVBA",1.33,0,null,0,0,0,0,"",{"$f":"+SUMIF('Details sales deliv. to excl.'!F:F,A227,'Details sales deliv. to excl.'!H:H)","v":0},{"$f":"-SUMIF('Details purch. deliv. to excl.'!F:F,A227,'Details purch. deliv. to excl.'!H:H)","v":0},0,0,0]
["F9003","Fuzer Mobile Data SIM card - 5GB",null,876,"TELENET GROUP BVBA",1.33,0,null,0,0,0,0,"",{"$f":"+SUMIF('Details sales deliv. to excl.'!F:F,A228,'Details sales deliv. to excl.'!H:H)","v":0},{"$f":"-SUMIF('Details purch. deliv. to excl.'!F:F,A228,'Details purch. deliv. to excl.'!H:H)","v":0},0,0,0]
["F9004","Fuzer Mobile Data SIM card - 1GB",null,876,"TELENET GROUP BVBA",1.33,0,null,0,0,0,0,"",{"$f":"+SUMIF('Details sales deliv. to excl.'!F:F,A229,'Details sales deliv. to excl.'!H:H)","v":0},{"$f":"-SUMIF('Details purch. deliv. to excl.'!F:F,A229,'Details purch. deliv. to excl.'!H:H)","v":0},0,0,0]
["F9005","Fuzer Mobile Data SIM card - 10GB",null,876,"TELENET GROUP BVBA",1.33,0,null,0,0,0,0,"",{"$f":"+SUMIF('Details sales deliv. to excl.'!F:F,A230,'Details sales deliv. to excl.'!H:H)","v":0},{"$f":"-SUMIF('Details purch. deliv. to excl.'!F:F,A230,'Details purch. deliv. to excl.'!H:H)","v":0},0,0,0]
["F9031","Fuzer Mobile M2M SIM card - 250Mb",null,876,"TELENET GROUP BVBA",1.33,0,null,0,0,0,0,"",{"$f":"+SUMIF('Details sales deliv. to excl.'!F:F,A231,'Details sales deliv. to excl.'!H:H)","v":0},{"$f":"-SUMIF('Details purch. deliv. to excl.'!F:F,A231,'Details purch. deliv. to excl.'!H:H)","v":0},0,0,0]
["F9033","Fuzer Mobile M2M SIM card - 0Mb",null,876,"TELENET GROUP BVBA",1.33,0,null,0,0,0,0,"",{"$f":"+SUMIF('Details sales deliv. to excl.'!F:F,A232,'Details sales deliv. to excl.'!H:H)","v":0},{"$f":"-SUMIF('Details purch. deliv. to excl.'!F:F,A232,'Details purch. deliv. to excl.'!H:H)","v":0},0,0,0]
["F9101","Fuzer Mobile Lost & Stolen SIM card",null,876,"TELENET GROUP BVBA",6.33,421,421,0,2664.93,2664.93,0,null,{"$f":"+SUMIF('Details sales deliv. to excl.'!F:F,A233,'Details sales deliv. to excl.'!H:H)","v":0},{"$f":"-SUMIF('Details purch. deliv. to excl.'!F:F,A233,'Details purch. deliv. to excl.'!H:H)","v":0},0,421,2664.93]
["F9103","Additional SIM card",null,876,"TELENET GROUP BVBA",1.33,0,null,0,0,0,0,"",{"$f":"+SUMIF('Details sales deliv. to excl.'!F:F,A234,'Details sales deliv. to excl.'!H:H)","v":0},{"$f":"-SUMIF('Details purch. deliv. to excl.'!F:F,A234,'Details purch. deliv. to excl.'!H:H)","v":0},0,0,0]
["HD1000","GN NETCOM 9120 DECT MIDI","9120-48-01",1105,"ATIS",185.38,0,null,0,0,0,0,"",{"$f":"+SUMIF('Details sales deliv. to excl.'!F:F,A235,'Details sales deliv. to excl.'!H:H)","v":0},{"$f":"-SUMIF('Details purch. deliv. to excl.'!F:F,A235,'Details purch. deliv. to excl.'!H:H)","v":0},0,0,0]
["HD1001","GN Netcom 9120 DECT MONO","9120-28-01",1105,"ATIS",203.98,0,null,0,0,0,0,"",{"$f":"+SUMIF('Details sales deliv. to excl.'!F:F,A236,'Details sales deliv. to excl.'!H:H)","v":0},{"$f":"-SUMIF('Details purch. deliv. to excl.'!F:F,A236,'Details purch. deliv. to excl.'!H:H)","v":0},0,0,0]
["HD1005","GN Netcom 9120 DECT DUO","9129-808-101",1105,"ATIS",216.38,4,3,-1,865.52,649.14,-216.38,null,{"$f":"+SUMIF('Details sales deliv. to excl.'!F:F,A237,'Details sales deliv. to excl.'!H:H)","v":0},{"$f":"-SUMIF('Details purch. deliv. to excl.'!F:F,A237,'Details purch. deliv. to excl.'!H:H)","v":0},-1,3,649.14]
["HD1010","GN Netcom 9120 Hook switch","1100-00-00",522,"MAITEL",29.4,0,null,0,0,0,0,"",{"$f":"+SUMIF('Details sales deliv. to excl.'!F:F,A238,'Details sales deliv. to excl.'!H:H)","v":0},{"$f":"-SUMIF('Details purch. deliv. to excl.'!F:F,A238,'Details purch. deliv. to excl.'!H:H)","v":0},0,0,0]
["HD1014","JABRA PRO 920 Duo","920-29-508-101",472,"WESTCON GROUP EUROPEAN OPERATIONS LTD - BELGIUM BRANCH",143.4,30,30,0,4302,4302,0,null,{"$f":"+SUMIF('Details sales deliv. to excl.'!F:F,A239,'Details sales deliv. to excl.'!H:H)","v":0},{"$f":"-SUMIF('Details purch. deliv. to excl.'!F:F,A239,'Details purch. deliv. to excl.'!H:H)","v":0},0,30,4302]
["HD1015","JABRA PRO 920","920-25-508-101",1105,"ATIS",123.38,9,11,2,1110.42,1357.1799999999998,246.76,null,{"$f":"+SUMIF('Details sales deliv. to excl.'!F:F,A240,'Details sales deliv. to excl.'!H:H)","v":0},{"$f":"-SUMIF('Details purch. deliv. to excl.'!F:F,A240,'Details purch. deliv. to excl.'!H:H)","v":0},2,11,1357.1799999999998]
["HD1016","JABRA PRO 920 with cables for IP650","920-25-508-101",472,"WESTCON GROUP EUROPEAN OPERATIONS LTD - BELGIUM BRANCH",147.56,0,null,0,0,0,0,"",{"$f":"+SUMIF('Details sales deliv. to excl.'!F:F,A241,'Details sales deliv. to excl.'!H:H)","v":0},{"$f":"-SUMIF('Details purch. deliv. to excl.'!F:F,A241,'Details purch. deliv. to excl.'!H:H)","v":0},0,0,0]
["HD1020","GN Netcom 2100 USB","21991-89",522,"MAITEL",60,0,null,0,0,0,0,"",{"$f":"+SUMIF('Details sales deliv. to excl.'!F:F,A242,'Details sales deliv. to excl.'!H:H)","v":0},{"$f":"-SUMIF('Details purch. deliv. to excl.'!F:F,A242,'Details purch. deliv. to excl.'!H:H)","v":0},0,0,0]
["HD1030","GN Netcom 9330 DECT USB","9337-509-401",1105,"ATIS",154.38,1,1,0,154.38,154.38,0,null,{"$f":"+SUMIF('Details sales deliv. to excl.'!F:F,A243,'Details sales deliv. to excl.'!H:H)","v":0},{"$f":"-SUMIF('Details purch. deliv. to excl.'!F:F,A243,'Details purch. deliv. to excl.'!H:H)","v":0},0,1,154.38]
["HD1032","GN 9350 Dect EMEA","9356-607-401",1105,"ATIS",216.38,1,1,0,216.38,216.38,0,null,{"$f":"+SUMIF('Details sales deliv. to excl.'!F:F,A244,'Details sales deliv. to excl.'!H:H)","v":0},{"$f":"-SUMIF('Details purch. deliv. to excl.'!F:F,A244,'Details purch. deliv. to excl.'!H:H)","v":0},0,1,216.38]
["HD1035","GN 9356","9356-607-401",1105,"ATIS",228.78,0,null,0,0,0,0,"",{"$f":"+SUMIF('Details sales deliv. to excl.'!F:F,A245,'Details sales deliv. to excl.'!H:H)","v":0},{"$f":"-SUMIF('Details purch. deliv. to excl.'!F:F,A245,'Details purch. deliv. to excl.'!H:H)","v":0},0,0,0]
["HD1040","GN2100 Flex Duo + Qjack 2.5","2129-82-04 + 88001-99",522,"MAITEL",130.82,0,null,0,0,0,0,"",{"$f":"+SUMIF('Details sales deliv. to excl.'!F:F,A246,'Details sales deliv. to excl.'!H:H)","v":0},{"$f":"-SUMIF('Details purch. deliv. to excl.'!F:F,A246,'Details purch. deliv. to excl.'!H:H)","v":0},0,0,0]
["HD1041","GN Netcom 2100 + Jack","2129-82-04 + 8800-00-46",1105,"ATIS",211,0,null,0,0,0,0,"",{"$f":"+SUMIF('Details sales deliv. to excl.'!F:F,A247,'Details sales deliv. to excl.'!H:H)","v":0},{"$f":"-SUMIF('Details purch. deliv. to excl.'!F:F,A247,'Details purch. deliv. to excl.'!H:H)","v":0},0,0,0]
["HD1042","GN2100 FLEX MONO","2126-82-04",1105,"ATIS",110.36,6,6,0,662.16,662.16,0,null,{"$f":"+SUMIF('Details sales deliv. to excl.'!F:F,A248,'Details sales deliv. to excl.'!H:H)","v":0},{"$f":"-SUMIF('Details purch. deliv. to excl.'!F:F,A248,'Details purch. deliv. to excl.'!H:H)","v":0},0,6,662.16]
["HD1043","GN2100 DUO FLEX NC","2129-82-04",1105,"ATIS",115.94,4,5,1,463.76,579.70000000000005,115.94,null,{"$f":"+SUMIF('Details sales deliv. to excl.'!F:F,A249,'Details sales deliv. to excl.'!H:H)","v":0},{"$f":"-SUMIF('Details purch. deliv. to excl.'!F:F,A249,'Details purch. deliv. to excl.'!H:H)","v":0},1,5,579.70000000000005]
["HD1045","JABRA headset amplifier CISCO GN8000","8000-04",1105,"ATIS",66.34,0,null,0,0,0,0,"",{"$f":"+SUMIF('Details sales deliv. to excl.'!F:F,A250,'Details sales deliv. to excl.'!H:H)","v":0},{"$f":"-SUMIF('Details purch. deliv. to excl.'!F:F,A250,'Details purch. deliv. to excl.'!H:H)","v":0},0,0,0]
["HD1047","JABRA cable QD-RJ9 CISCO","8800-01-37",472,"WESTCON GROUP EUROPEAN OPERATIONS LTD - BELGIUM BRANCH",12.6,0,null,0,0,0,0,"",{"$f":"+SUMIF('Details sales deliv. to excl.'!F:F,A251,'Details sales deliv. to excl.'!H:H)","v":0},{"$f":"-SUMIF('Details purch. deliv. to excl.'!F:F,A251,'Details purch. deliv. to excl.'!H:H)","v":0},0,0,0]
["HD1050","GN Netcom 4110microjack(DECT.WIFI.Phones)","4110-04",522,"MAITEL",32.020000000000003,0,null,0,0,0,0,"",{"$f":"+SUMIF('Details sales deliv. to excl.'!F:F,A252,'Details sales deliv. to excl.'!H:H)","v":0},{"$f":"-SUMIF('Details purch. deliv. to excl.'!F:F,A252,'Details purch. deliv. to excl.'!H:H)","v":0},0,0,0]
["HD1051","JABRA QD to 2.5 mm Adapter Coiled","8800-01-46",472,"WESTCON GROUP EUROPEAN OPERATIONS LTD - BELGIUM BRANCH",14.4,0,null,0,0,0,0,"",{"$f":"+SUMIF('Details sales deliv. to excl.'!F:F,A253,'Details sales deliv. to excl.'!H:H)","v":0},{"$f":"-SUMIF('Details purch. deliv. to excl.'!F:F,A253,'Details purch. deliv. to excl.'!H:H)","v":0},0,0,0]
["HD1053","JABRA DHSG kit for AASTRA","D0062-011-34-00",1105,"ATIS",19,0,null,0,0,0,0,"",{"$f":"+SUMIF('Details sales deliv. to excl.'!F:F,A254,'Details sales deliv. to excl.'!H:H)","v":0},{"$f":"-SUMIF('Details purch. deliv. to excl.'!F:F,A254,'Details purch. deliv. to excl.'!H:H)","v":0},0,0,0]
["HD1054","JABRA DHSG cord","14201-10",472,"WESTCON GROUP EUROPEAN OPERATIONS LTD - BELGIUM BRANCH",20.149999999999999,0,null,0,0,0,0,"",{"$f":"+SUMIF('Details sales deliv. to excl.'!F:F,A255,'Details sales deliv. to excl.'!H:H)","v":0},{"$f":"-SUMIF('Details purch. deliv. to excl.'!F:F,A255,'Details purch. deliv. to excl.'!H:H)","v":0},0,0,0]
["HD1055","JABRA RJ9 to 2.5mm jack cable","8800-00-75",472,"WESTCON GROUP EUROPEAN OPERATIONS LTD - BELGIUM BRANCH",9.3000000000000007,6,6,0,55.800000000000004,55.800000000000004,0,null,{"$f":"+SUMIF('Details sales deliv. to excl.'!F:F,A256,'Details sales deliv. to excl.'!H:H)","v":0},{"$f":"-SUMIF('Details purch. deliv. to excl.'!F:F,A256,'Details purch. deliv. to excl.'!H:H)","v":0},0,6,55.800000000000004]
["HD1056","JABRA cable QD-RJ9","88001-99",1105,"ATIS",14.88,12,12,0,178.56,178.56,0,null,{"$f":"+SUMIF('Details sales deliv. to excl.'!F:F,A257,'Details sales deliv. to excl.'!H:H)","v":0},{"$f":"-SUMIF('Details purch. deliv. to excl.'!F:F,A257,'Details purch. deliv. to excl.'!H:H)","v":0},0,12,178.56]
["HD1057","JABRA 2.5mm jack to QD cable","8800-00-46",1105,"ATIS",13.02,30,30,0,390.59999999999997,390.59999999999997,0,null,{"$f":"+SUMIF('Details sales deliv. to excl.'!F:F,A258,'Details sales deliv. to excl.'!H:H)","v":0},{"$f":"-SUMIF('Details purch. deliv. to excl.'!F:F,A258,'Details purch. deliv. to excl.'!H:H)","v":0},0,30,390.59999999999997]
["HD1058","JABRA EHS cable for POLYCOM","14201-17",1105,"ATIS",24.18,47,49,2,1136.46,1184.82,48.36,null,{"$f":"+SUMIF('Details sales deliv. to excl.'!F:F,A259,'Details sales deliv. to excl.'!H:H)","v":0},{"$f":"-SUMIF('Details purch. deliv. to excl.'!F:F,A259,'Details purch. deliv. to excl.'!H:H)","v":0},2,49,1184.82]
["HD1059","SNOM EHS cable for SNOM",2362,472,"WESTCON GROUP EUROPEAN OPERATIONS LTD - BELGIUM BRANCH",43.75,1,1,{"$f":"H260-G260","v":0},{"$f":"G260*F260","v":43.75},{"$f":"H260*F260","v":43.75},{"$f":"I260*F260","v":0},null,{"$f":"+SUMIF('Details sales deliv. to excl.'!F:F,A260,'Details sales deliv. to excl.'!H:H)","v":0},{"$f":"-SUMIF('Details purch. deliv. to excl.'!F:F,A260,'Details purch. deliv. to excl.'!H:H)","v":0},{"$f":"I260+N260+O260","v":0},{"$f":"G260+P260","v":1},{"$f":"Q260*F260","v":43.75}]
["HD1060","GN2000 Flex Duo + Qjack 2.5","2009-820-104",1105,"ATIS",86.18,0,null,0,0,0,0,{"$f":"IF(ABS(L261)>500,\"check\",\"\")","v":""},{"$f":"+SUMIF('Details sales deliv. to excl.'!F:F,A261,'Details sales deliv. to excl.'!H:H)","v":0},{"$f":"-SUMIF('Details purch. deliv. to excl.'!F:F,A261,'Details purch. deliv. to excl.'!H:H)","v":0},0,0,0]
["HD1061","JABRA EHS cable for AASTRA","14201-10",1105,"ATIS",15,0,null,0,0,0,0,"",{"$f":"+SUMIF('Details sales deliv. to excl.'!F:F,A262,'Details sales deliv. to excl.'!H:H)","v":0},{"$f":"-SUMIF('Details purch. deliv. to excl.'!F:F,A262,'Details purch. deliv. to excl.'!H:H)","v":0},0,0,0]
["HD1062","JABRA EHS cable for CISCO","14201-16",1105,"ATIS",24.18,0,null,0,0,0,0,"",{"$f":"+SUMIF('Details sales deliv. to excl.'!F:F,A263,'Details sales deliv. to excl.'!H:H)","v":0},{"$f":"-SUMIF('Details purch. deliv. to excl.'!F:F,A263,'Details purch. deliv. to excl.'!H:H)","v":0},0,0,0]
["HD1070","GN BT5020+Cord RJO Jack2.4",null,522,"MAITEL",122.54,0,null,0,0,0,0,"",{"$f":"+SUMIF('Details sales deliv. to excl.'!F:F,A264,'Details sales deliv. to excl.'!H:H)","v":0},{"$f":"-SUMIF('Details purch. deliv. to excl.'!F:F,A264,'Details purch. deliv. to excl.'!H:H)","v":0},0,0,0]
["HD1080","JABRA Biz 2400 Mono","2406-320-104",1105,"ATIS",104.78,0,null,0,0,0,0,"",{"$f":"+SUMIF('Details sales deliv. to excl.'!F:F,A265,'Details sales deliv. to excl.'!H:H)","v":0},{"$f":"-SUMIF('Details purch. deliv. to excl.'!F:F,A265,'Details purch. deliv. to excl.'!H:H)","v":0},0,0,0]
["HD1085","JABRA Biz 2400 Duo","2409-700-104",1105,"ATIS",135.78,1,1,0,135.78,135.78,0,null,{"$f":"+SUMIF('Details sales deliv. to excl.'!F:F,A266,'Details sales deliv. to excl.'!H:H)","v":0},{"$f":"-SUMIF('Details purch. deliv. to excl.'!F:F,A266,'Details purch. deliv. to excl.'!H:H)","v":0},0,1,135.78]
["HD1090","JABRA Biz 1900 Mono","1983-820-104",472,"WESTCON GROUP EUROPEAN OPERATIONS LTD - BELGIUM BRANCH",29.4,14,14,0,411.59999999999997,411.59999999999997,0,null,{"$f":"+SUMIF('Details sales deliv. to excl.'!F:F,A267,'Details sales deliv. to excl.'!H:H)","v":0},{"$f":"-SUMIF('Details purch. deliv. to excl.'!F:F,A267,'Details purch. deliv. to excl.'!H:H)","v":0},0,14,411.59999999999997]
["HD1091","JABRA Biz 1500 Mono","1513-0154",472,"WESTCON GROUP EUROPEAN OPERATIONS LTD - BELGIUM BRANCH",29.4,15,15,0,441,441,0,null,{"$f":"+SUMIF('Details sales deliv. to excl.'!F:F,A268,'Details sales deliv. to excl.'!H:H)","v":0},{"$f":"-SUMIF('Details purch. deliv. to excl.'!F:F,A268,'Details purch. deliv. to excl.'!H:H)","v":0},0,15,441]
["HD1092","JABRA Biz 1900 Mono with cables for IP650","1983-820-104",472,"WESTCON GROUP EUROPEAN OPERATIONS LTD - BELGIUM BRANCH",44.28,0,null,0,0,0,0,"",{"$f":"+SUMIF('Details sales deliv. to excl.'!F:F,A269,'Details sales deliv. to excl.'!H:H)","v":0},{"$f":"-SUMIF('Details purch. deliv. to excl.'!F:F,A269,'Details purch. deliv. to excl.'!H:H)","v":0},0,0,0]
["HD1095","JABRA Biz 1900 Duo","1989-820-104",472,"WESTCON GROUP EUROPEAN OPERATIONS LTD - BELGIUM BRANCH",41.4,12,12,0,496.79999999999995,496.79999999999995,0,null,{"$f":"+SUMIF('Details sales deliv. to excl.'!F:F,A270,'Details sales deliv. to excl.'!H:H)","v":0},{"$f":"-SUMIF('Details purch. deliv. to excl.'!F:F,A270,'Details purch. deliv. to excl.'!H:H)","v":0},0,12,496.79999999999995]
["HD1096","JABRA Biz 1500 Duo","1519-0154",472,"WESTCON GROUP EUROPEAN OPERATIONS LTD - BELGIUM BRANCH",41.4,11,11,0,455.4,455.4,0,null,{"$f":"+SUMIF('Details sales deliv. to excl.'!F:F,A271,'Details sales deliv. to excl.'!H:H)","v":0},{"$f":"-SUMIF('Details purch. deliv. to excl.'!F:F,A271,'Details purch. deliv. to excl.'!H:H)","v":0},0,11,455.4]
["HD1097","JABRA Biz 1900 Duo with cables for IP650","1989-820-104",472,"WESTCON GROUP EUROPEAN OPERATIONS LTD - BELGIUM BRANCH",56.28,0,null,0,0,0,0,"",{"$f":"+SUMIF('Details sales deliv. to excl.'!F:F,A272,'Details sales deliv. to excl.'!H:H)","v":0},{"$f":"-SUMIF('Details purch. deliv. to excl.'!F:F,A272,'Details purch. deliv. to excl.'!H:H)","v":0},0,0,0]
["HD1098","JABRA Biz 1900 Duo USB","1989-829-107",472,"WESTCON GROUP EUROPEAN OPERATIONS LTD - BELGIUM BRANCH",53.4,0,null,0,0,0,0,"",{"$f":"+SUMIF('Details sales deliv. to excl.'!F:F,A273,'Details sales deliv. to excl.'!H:H)","v":0},{"$f":"-SUMIF('Details purch. deliv. to excl.'!F:F,A273,'Details purch. deliv. to excl.'!H:H)","v":0},0,0,0]
["HD1100","PLANTRONICS DSP-100 USB",null,469,"GO TELECOM NL",58,0,null,0,0,0,0,"",{"$f":"+SUMIF('Details sales deliv. to excl.'!F:F,A274,'Details sales deliv. to excl.'!H:H)","v":0},{"$f":"-SUMIF('Details purch. deliv. to excl.'!F:F,A274,'Details purch. deliv. to excl.'!H:H)","v":0},0,0,0]
["HD1110","PLANTRONICS Headset CS60 USB","CS60 USB",469,"GO TELECOM NL",156,0,null,0,0,0,0,"",{"$f":"+SUMIF('Details sales deliv. to excl.'!F:F,A275,'Details sales deliv. to excl.'!H:H)","v":0},{"$f":"-SUMIF('Details purch. deliv. to excl.'!F:F,A275,'Details purch. deliv. to excl.'!H:H)","v":0},0,0,0]
["HD1120","PLANTRONICS Headset CS60","PLX-36995-02",857,"GO TELECOM BVBA",174.6,3,3,0,523.79999999999995,523.79999999999995,0,null,{"$f":"+SUMIF('Details sales deliv. to excl.'!F:F,A276,'Details sales deliv. to excl.'!H:H)","v":0},{"$f":"-SUMIF('Details purch. deliv. to excl.'!F:F,A276,'Details purch. deliv. to excl.'!H:H)","v":0},0,3,523.79999999999995]
["HD1122","PLANTRONICS cable1 for Headset CS60","PLX-38438-01",472,"WESTCON GROUP EUROPEAN OPERATIONS LTD - BELGIUM BRANCH",24.8,6,6,0,148.80000000000001,148.80000000000001,0,null,{"$f":"+SUMIF('Details sales deliv. to excl.'!F:F,A277,'Details sales deliv. to excl.'!H:H)","v":0},{"$f":"-SUMIF('Details purch. deliv. to excl.'!F:F,A277,'Details purch. deliv. to excl.'!H:H)","v":0},0,6,148.80000000000001]
["HD1123","PLANTRONICS RJ9 to 2.5mm Jack cable","PLX-78333-01",472,"WESTCON GROUP EUROPEAN OPERATIONS LTD - BELGIUM BRANCH",8.39,19,19,0,159.41000000000003,159.41000000000003,0,null,{"$f":"+SUMIF('Details sales deliv. to excl.'!F:F,A278,'Details sales deliv. to excl.'!H:H)","v":0},{"$f":"-SUMIF('Details purch. deliv. to excl.'!F:F,A278,'Details purch. deliv. to excl.'!H:H)","v":0},0,19,159.41000000000003]
["HD1125","PLANTRONICS Headset CS60 APP-5","PLX-38438-01",469,"GO TELECOM NL",22,0,null,0,0,0,0,"",{"$f":"+SUMIF('Details sales deliv. to excl.'!F:F,A279,'Details sales deliv. to excl.'!H:H)","v":0},{"$f":"-SUMIF('Details purch. deliv. to excl.'!F:F,A279,'Details purch. deliv. to excl.'!H:H)","v":0},0,0,0]
["HD1126","PLANTRONICS cable for Supraplus SL H361","PLX-38099-01",472,"WESTCON GROUP EUROPEAN OPERATIONS LTD - BELGIUM BRANCH",8.94,0,null,0,0,0,0,"",{"$f":"+SUMIF('Details sales deliv. to excl.'!F:F,A280,'Details sales deliv. to excl.'!H:H)","v":0},{"$f":"-SUMIF('Details purch. deliv. to excl.'!F:F,A280,'Details purch. deliv. to excl.'!H:H)","v":0},0,0,0]
["HD1128","PLANTRONICS Blackwire C320","85619-02",472,"WESTCON GROUP EUROPEAN OPERATIONS LTD - BELGIUM BRANCH",30,5,5,0,150,150,0,null,{"$f":"+SUMIF('Details sales deliv. to excl.'!F:F,A281,'Details sales deliv. to excl.'!H:H)","v":0},{"$f":"-SUMIF('Details purch. deliv. to excl.'!F:F,A281,'Details purch. deliv. to excl.'!H:H)","v":0},0,5,150]
["HD1130","PLANTRONICS Blackwire C610","Blackwire C610",472,"WESTCON GROUP EUROPEAN OPERATIONS LTD - BELGIUM BRANCH",55.18,0,null,0,0,0,0,"",{"$f":"+SUMIF('Details sales deliv. to excl.'!F:F,A282,'Details sales deliv. to excl.'!H:H)","v":0},{"$f":"-SUMIF('Details purch. deliv. to excl.'!F:F,A282,'Details purch. deliv. to excl.'!H:H)","v":0},0,0,0]
["HD1133","PLANTRONICS Calisto 620 EU/UK","86700-02",472,"WESTCON GROUP EUROPEAN OPERATIONS LTD - BELGIUM BRANCH",67.08,0,null,0,0,0,0,"",{"$f":"+SUMIF('Details sales deliv. to excl.'!F:F,A283,'Details sales deliv. to excl.'!H:H)","v":0},{"$f":"-SUMIF('Details purch. deliv. to excl.'!F:F,A283,'Details purch. deliv. to excl.'!H:H)","v":0},0,0,0]
["HD1134","PLANTRONICS Blackwire C520 (binaural)","88861-01",472,"WESTCON GROUP EUROPEAN OPERATIONS LTD - BELGIUM BRANCH",59.99,3,3,0,179.97,179.97,0,null,{"$f":"+SUMIF('Details sales deliv. to excl.'!F:F,A284,'Details sales deliv. to excl.'!H:H)","v":0},{"$f":"-SUMIF('Details purch. deliv. to excl.'!F:F,A284,'Details purch. deliv. to excl.'!H:H)","v":0},0,3,179.97]
["HD1135","PLANTRONICS CS510A (monoaural)","84691-02",472,"WESTCON GROUP EUROPEAN OPERATIONS LTD - BELGIUM BRANCH",179.4,2,2,0,358.8,358.8,0,null,{"$f":"+SUMIF('Details sales deliv. to excl.'!F:F,A285,'Details sales deliv. to excl.'!H:H)","v":0},{"$f":"-SUMIF('Details purch. deliv. to excl.'!F:F,A285,'Details purch. deliv. to excl.'!H:H)","v":0},0,2,358.8]
["HD1136","PLANTRONICS CS540A CONVERTIBLE DECT EU","84693-02",472,"WESTCON GROUP EUROPEAN OPERATIONS LTD - BELGIUM BRANCH",149.4,7,7,0,1045.8,1045.8,0,null,{"$f":"+SUMIF('Details sales deliv. to excl.'!F:F,A286,'Details sales deliv. to excl.'!H:H)","v":0},{"$f":"-SUMIF('Details purch. deliv. to excl.'!F:F,A286,'Details purch. deliv. to excl.'!H:H)","v":0},0,7,1045.8]
["HD1137","PLANTRONICS CS520A (binaural)","84692-02",472,"WESTCON GROUP EUROPEAN OPERATIONS LTD - BELGIUM BRANCH",197.4,10,10,0,1974,1974,0,null,{"$f":"+SUMIF('Details sales deliv. to excl.'!F:F,A287,'Details sales deliv. to excl.'!H:H)","v":0},{"$f":"-SUMIF('Details purch. deliv. to excl.'!F:F,A287,'Details purch. deliv. to excl.'!H:H)","v":0},0,10,1974]
["HD1138","PLANTRONICS Blackwire C720","87506-12",472,"WESTCON GROUP EUROPEAN OPERATIONS LTD - BELGIUM BRANCH",89.4,0,null,0,0,0,0,"",{"$f":"+SUMIF('Details sales deliv. to excl.'!F:F,A288,'Details sales deliv. to excl.'!H:H)","v":0},{"$f":"-SUMIF('Details purch. deliv. to excl.'!F:F,A288,'Details purch. deliv. to excl.'!H:H)","v":0},0,0,0]
["HD1140","PLANTRONICS .Audio 400 USB","DSP-400",469,"GO TELECOM NL",41.3,0,null,0,0,0,0,"",{"$f":"+SUMIF('Details sales deliv. to excl.'!F:F,A289,'Details sales deliv. to excl.'!H:H)","v":0},{"$f":"-SUMIF('Details purch. deliv. to excl.'!F:F,A289,'Details purch. deliv. to excl.'!H:H)","v":0},0,0,0]
["HD1141","PLANTRONICS H251N Headset (monoaural)","36832-41",472,"WESTCON GROUP EUROPEAN OPERATIONS LTD - BELGIUM BRANCH",74.59,18,17,-1,1342.6200000000001,1268.03,-74.59,null,{"$f":"+SUMIF('Details sales deliv. to excl.'!F:F,A290,'Details sales deliv. to excl.'!H:H)","v":0},{"$f":"-SUMIF('Details purch. deliv. to excl.'!F:F,A290,'Details purch. deliv. to excl.'!H:H)","v":0},-1,17,1268.03]
["HD1144","PLANTRONICS H261Headset (binaural)","36834-41",472,"WESTCON GROUP EUROPEAN OPERATIONS LTD - BELGIUM BRANCH",91.03,2,2,0,182.06,182.06,0,null,{"$f":"+SUMIF('Details sales deliv. to excl.'!F:F,A291,'Details sales deliv. to excl.'!H:H)","v":0},{"$f":"-SUMIF('Details purch. deliv. to excl.'!F:F,A291,'Details purch. deliv. to excl.'!H:H)","v":0},0,2,182.06]
["HD1145","PLANTRONICS Cable QD-2.5 mm","64279-02",472,"WESTCON GROUP EUROPEAN OPERATIONS LTD - BELGIUM BRANCH",11.39,96,95,-1,1093.44,1082.05,-11.39,null,{"$f":"+SUMIF('Details sales deliv. to excl.'!F:F,A292,'Details sales deliv. to excl.'!H:H)","v":0},{"$f":"-SUMIF('Details purch. deliv. to excl.'!F:F,A292,'Details purch. deliv. to excl.'!H:H)","v":0},-1,95,1082.05]
["HD1146","PLANTRONICS Voyager bluetooth Mono for IP phone","PLX- 72272-45",472,"WESTCON GROUP EUROPEAN OPERATIONS LTD - BELGIUM BRANCH",79.98,0,null,0,0,0,0,"",{"$f":"+SUMIF('Details sales deliv. to excl.'!F:F,A293,'Details sales deliv. to excl.'!H:H)","v":0},{"$f":"-SUMIF('Details purch. deliv. to excl.'!F:F,A293,'Details purch. deliv. to excl.'!H:H)","v":0},0,0,0]
["HD1147","PLANTRONICS H261N/A Dual Headset [use HD1144]","36834-41",472,"WESTCON GROUP EUROPEAN OPERATIONS LTD - BELGIUM BRANCH",91.03,0,null,0,0,0,0,"",{"$f":"+SUMIF('Details sales deliv. to excl.'!F:F,A294,'Details sales deliv. to excl.'!H:H)","v":0},{"$f":"-SUMIF('Details purch. deliv. to excl.'!F:F,A294,'Details purch. deliv. to excl.'!H:H)","v":0},0,0,0]
["HD1148","PLANTRONICS Voyager bluetooth Mono for softphone","PLX-72270-145",469,"GO TELECOM NL",63,0,null,0,0,0,0,"",{"$f":"+SUMIF('Details sales deliv. to excl.'!F:F,A295,'Details sales deliv. to excl.'!H:H)","v":0},{"$f":"-SUMIF('Details purch. deliv. to excl.'!F:F,A295,'Details purch. deliv. to excl.'!H:H)","v":0},0,0,0]
["HD1149","PLANTRONICS cable QD for H251N","PLX-43038-01",472,"WESTCON GROUP EUROPEAN OPERATIONS LTD - BELGIUM BRANCH",12.4,0,null,0,0,0,0,"",{"$f":"+SUMIF('Details sales deliv. to excl.'!F:F,A296,'Details sales deliv. to excl.'!H:H)","v":0},{"$f":"-SUMIF('Details purch. deliv. to excl.'!F:F,A296,'Details purch. deliv. to excl.'!H:H)","v":0},0,0,0]
["HD1150","SNOM headset Mono","HS-MM2",503,"ELINK GMBH",31.87,5,5,0,159.35,159.35,0,null,{"$f":"+SUMIF('Details sales deliv. to excl.'!F:F,A297,'Details sales deliv. to excl.'!H:H)","v":0},{"$f":"-SUMIF('Details purch. deliv. to excl.'!F:F,A297,'Details purch. deliv. to excl.'!H:H)","v":0},0,5,159.35]
["HD1160","SNOM EHS cable","WIRELESS-HEADSET-ADAPTER",503,"ELINK GMBH",40.58,4,4,0,162.32,162.32,0,null,{"$f":"+SUMIF('Details sales deliv. to excl.'!F:F,A298,'Details sales deliv. to excl.'!H:H)","v":0},{"$f":"-SUMIF('Details purch. deliv. to excl.'!F:F,A298,'Details purch. deliv. to excl.'!H:H)","v":0},0,4,162.32]
["HD1170","PLANTRONICS Cable QD-2.5 mm (for IP331 + H251N/261N) [use HD1145]","PLX-64279-02",472,"WESTCON GROUP EUROPEAN OPERATIONS LTD - BELGIUM BRANCH",12,12,12,0,144,144,0,null,{"$f":"+SUMIF('Details sales deliv. to excl.'!F:F,A299,'Details sales deliv. to excl.'!H:H)","v":0},{"$f":"-SUMIF('Details purch. deliv. to excl.'!F:F,A299,'Details purch. deliv. to excl.'!H:H)","v":0},0,12,144]
["HD1173","PLANTRONICS Cable U10P Polaris - RJ9 to QD","27190-01",472,"WESTCON GROUP EUROPEAN OPERATIONS LTD - BELGIUM BRANCH",8.65,4,4,0,34.6,34.6,0,null,{"$f":"+SUMIF('Details sales deliv. to excl.'!F:F,A300,'Details sales deliv. to excl.'!H:H)","v":0},{"$f":"-SUMIF('Details purch. deliv. to excl.'!F:F,A300,'Details purch. deliv. to excl.'!H:H)","v":0},0,4,34.6]
["HD1176","PLANTRONICS Cable APP-50  (for Polycom Soundpoint/VVX)","PLX-38439-01",472,"WESTCON GROUP EUROPEAN OPERATIONS LTD - BELGIUM BRANCH",24,1,1,0,24,24,0,null,{"$f":"+SUMIF('Details sales deliv. to excl.'!F:F,A301,'Details sales deliv. to excl.'!H:H)","v":0},{"$f":"-SUMIF('Details purch. deliv. to excl.'!F:F,A301,'Details purch. deliv. to excl.'!H:H)","v":0},0,1,24]
["HD1177","PLANTRONICS Extension Cable APP-51  (for Polycom Soundpoint/VVX)","PLX-85638-01",472,"WESTCON GROUP EUROPEAN OPERATIONS LTD - BELGIUM BRANCH",5.99,18,18,0,107.82000000000001,107.82000000000001,0,null,{"$f":"+SUMIF('Details sales deliv. to excl.'!F:F,A302,'Details sales deliv. to excl.'!H:H)","v":0},{"$f":"-SUMIF('Details purch. deliv. to excl.'!F:F,A302,'Details purch. deliv. to excl.'!H:H)","v":0},0,18,107.82000000000001]
["HD1178","PLANTRONICS Cable APP-51  (for Polycom Soundpoint/VVX)","PLX-38439-11",472,"WESTCON GROUP EUROPEAN OPERATIONS LTD - BELGIUM BRANCH",24,11,11,0,264,264,0,null,{"$f":"+SUMIF('Details sales deliv. to excl.'!F:F,A303,'Details sales deliv. to excl.'!H:H)","v":0},{"$f":"-SUMIF('Details purch. deliv. to excl.'!F:F,A303,'Details purch. deliv. to excl.'!H:H)","v":0},0,11,264]
["HD1179","PLANTRONICS cable RJ-2.5 mm + Connection block (for IP331+CS540)","PLX-78333-01 + Block",1462,"EXERTIS GO CONNECT",0,20,20,0,0,0,0,null,{"$f":"+SUMIF('Details sales deliv. to excl.'!F:F,A304,'Details sales deliv. to excl.'!H:H)","v":0},{"$f":"-SUMIF('Details purch. deliv. to excl.'!F:F,A304,'Details purch. deliv. to excl.'!H:H)","v":0},0,20,0]
["HD1180","5 POLYCOM Headset interface adapters - 2.5mm to RJ-9","2200-11095-002",472,"WESTCON GROUP EUROPEAN OPERATIONS LTD - BELGIUM BRANCH",47.56,6,6,0,285.36,285.36,0,null,{"$f":"+SUMIF('Details sales deliv. to excl.'!F:F,A305,'Details sales deliv. to excl.'!H:H)","v":0},{"$f":"-SUMIF('Details purch. deliv. to excl.'!F:F,A305,'Details purch. deliv. to excl.'!H:H)","v":0},0,6,285.36]
["HD1181","PLANTRONICS Vista Amplifier","33413-11",472,"WESTCON GROUP EUROPEAN OPERATIONS LTD - BELGIUM BRANCH",84.84,2,2,0,169.68,169.68,0,null,{"$f":"+SUMIF('Details sales deliv. to excl.'!F:F,A306,'Details sales deliv. to excl.'!H:H)","v":0},{"$f":"-SUMIF('Details purch. deliv. to excl.'!F:F,A306,'Details purch. deliv. to excl.'!H:H)","v":0},0,2,169.68]
["HD1183","PLANTRONICS Savi W410-M","84007-02",472,"WESTCON GROUP EUROPEAN OPERATIONS LTD - BELGIUM BRANCH",149.4,5,5,0,747,747,0,null,{"$f":"+SUMIF('Details sales deliv. to excl.'!F:F,A307,'Details sales deliv. to excl.'!H:H)","v":0},{"$f":"-SUMIF('Details purch. deliv. to excl.'!F:F,A307,'Details purch. deliv. to excl.'!H:H)","v":0},0,5,747]
["HD1185","PLANTRONICS Voyager Pro UC v2","38885-02",472,"WESTCON GROUP EUROPEAN OPERATIONS LTD - BELGIUM BRANCH",92.38,2,2,0,184.76,184.76,0,null,{"$f":"+SUMIF('Details sales deliv. to excl.'!F:F,A308,'Details sales deliv. to excl.'!H:H)","v":0},{"$f":"-SUMIF('Details purch. deliv. to excl.'!F:F,A308,'Details purch. deliv. to excl.'!H:H)","v":0},0,2,184.76]
["HD1186","PLANTRONICS Voyager Legend UC B235","87670-02",472,"WESTCON GROUP EUROPEAN OPERATIONS LTD - BELGIUM BRANCH",89.4,1,1,0,89.4,89.4,0,null,{"$f":"+SUMIF('Details sales deliv. to excl.'!F:F,A309,'Details sales deliv. to excl.'!H:H)","v":0},{"$f":"-SUMIF('Details purch. deliv. to excl.'!F:F,A309,'Details purch. deliv. to excl.'!H:H)","v":0},0,1,89.4]
["HD1187","PLANTRONICS Savi 440 (wireless)","83372-02",472,"WESTCON GROUP EUROPEAN OPERATIONS LTD - BELGIUM BRANCH",154.38,0,null,0,0,0,0,"",{"$f":"+SUMIF('Details sales deliv. to excl.'!F:F,A310,'Details sales deliv. to excl.'!H:H)","v":0},{"$f":"-SUMIF('Details purch. deliv. to excl.'!F:F,A310,'Details purch. deliv. to excl.'!H:H)","v":0},0,0,0]
["HD1201","PLANTRONICS DA45","77559-42",472,"WESTCON GROUP EUROPEAN OPERATIONS LTD - BELGIUM BRANCH",41.4,1,1,0,41.4,41.4,0,null,{"$f":"+SUMIF('Details sales deliv. to excl.'!F:F,A311,'Details sales deliv. to excl.'!H:H)","v":0},{"$f":"-SUMIF('Details purch. deliv. to excl.'!F:F,A311,'Details purch. deliv. to excl.'!H:H)","v":0},0,1,41.4]
["HD1301","SENNHEISER SC260 USB (binaural)",504404,472,"WESTCON GROUP EUROPEAN OPERATIONS LTD - BELGIUM BRANCH",72,37,37,0,2664,2664,0,null,{"$f":"+SUMIF('Details sales deliv. to excl.'!F:F,A312,'Details sales deliv. to excl.'!H:H)","v":0},{"$f":"-SUMIF('Details purch. deliv. to excl.'!F:F,A312,'Details purch. deliv. to excl.'!H:H)","v":0},0,37,2664]
["HD1302","SENNHEISER SC230 USB (monaural)",504403,472,"WESTCON GROUP EUROPEAN OPERATIONS LTD - BELGIUM BRANCH",57,1,1,0,57,57,0,null,{"$f":"+SUMIF('Details sales deliv. to excl.'!F:F,A313,'Details sales deliv. to excl.'!H:H)","v":0},{"$f":"-SUMIF('Details purch. deliv. to excl.'!F:F,A313,'Details purch. deliv. to excl.'!H:H)","v":0},0,1,57]
["HD1303","SENNHEISER CC550 (binaural with extra large ear caps)",5361,472,"WESTCON GROUP EUROPEAN OPERATIONS LTD - BELGIUM BRANCH",108,1,1,0,108,108,0,null,{"$f":"+SUMIF('Details sales deliv. to excl.'!F:F,A314,'Details sales deliv. to excl.'!H:H)","v":0},{"$f":"-SUMIF('Details purch. deliv. to excl.'!F:F,A314,'Details purch. deliv. to excl.'!H:H)","v":0},0,1,108]
["HD2050","JABRA DIAL 550 USB","7550-09",472,"WESTCON GROUP EUROPEAN OPERATIONS LTD - BELGIUM BRANCH",45,0,null,0,0,0,0,"",{"$f":"+SUMIF('Details sales deliv. to excl.'!F:F,A315,'Details sales deliv. to excl.'!H:H)","v":0},{"$f":"-SUMIF('Details purch. deliv. to excl.'!F:F,A315,'Details purch. deliv. to excl.'!H:H)","v":0},0,0,0]
["HD2051","JABRA - UC Voice™  550 Mono","5593-829-209",472,"WESTCON GROUP EUROPEAN OPERATIONS LTD - BELGIUM BRANCH",33,5,5,0,165,165,0,null,{"$f":"+SUMIF('Details sales deliv. to excl.'!F:F,A316,'Details sales deliv. to excl.'!H:H)","v":0},{"$f":"-SUMIF('Details purch. deliv. to excl.'!F:F,A316,'Details purch. deliv. to excl.'!H:H)","v":0},0,5,165]
["HD2052","JABRA - UC Voice™  550 Duo","5599-829-209",472,"WESTCON GROUP EUROPEAN OPERATIONS LTD - BELGIUM BRANCH",35.4,5,5,0,177,177,0,null,{"$f":"+SUMIF('Details sales deliv. to excl.'!F:F,A317,'Details sales deliv. to excl.'!H:H)","v":0},{"$f":"-SUMIF('Details purch. deliv. to excl.'!F:F,A317,'Details purch. deliv. to excl.'!H:H)","v":0},0,5,177]
["IA1001","INSTALL. - PICKUP EQUIPMENT",null,527,"CONTINEO",89,0,null,0,0,0,0,"",{"$f":"+SUMIF('Details sales deliv. to excl.'!F:F,A318,'Details sales deliv. to excl.'!H:H)","v":0},{"$f":"-SUMIF('Details purch. deliv. to excl.'!F:F,A318,'Details purch. deliv. to excl.'!H:H)","v":0},0,0,0]
["IB1001","INSTALL. - TRAVELING ZONE 1 (Brussels + Vlaanderen",null,527,"CONTINEO",59,0,null,0,0,0,0,"",{"$f":"+SUMIF('Details sales deliv. to excl.'!F:F,A319,'Details sales deliv. to excl.'!H:H)","v":0},{"$f":"-SUMIF('Details purch. deliv. to excl.'!F:F,A319,'Details purch. deliv. to excl.'!H:H)","v":0},0,0,0]
["IB1002","INSTALL. - TRAVELING ZONE 2 (Wallonie)",null,527,"CONTINEO",79,0,null,0,0,0,0,"",{"$f":"+SUMIF('Details sales deliv. to excl.'!F:F,A320,'Details sales deliv. to excl.'!H:H)","v":0},{"$f":"-SUMIF('Details purch. deliv. to excl.'!F:F,A320,'Details purch. deliv. to excl.'!H:H)","v":0},0,0,0]
["IC1001","INSTALL. - SOP SERVER",null,527,"CONTINEO",35,0,null,0,0,0,0,"",{"$f":"+SUMIF('Details sales deliv. to excl.'!F:F,A321,'Details sales deliv. to excl.'!H:H)","v":0},{"$f":"-SUMIF('Details purch. deliv. to excl.'!F:F,A321,'Details purch. deliv. to excl.'!H:H)","v":0},0,0,0]
["IC1010","INSTALL. - POST INSTALL. TESTS",null,527,"CONTINEO",49,0,null,0,0,0,0,"",{"$f":"+SUMIF('Details sales deliv. to excl.'!F:F,A322,'Details sales deliv. to excl.'!H:H)","v":0},{"$f":"-SUMIF('Details purch. deliv. to excl.'!F:F,A322,'Details purch. deliv. to excl.'!H:H)","v":0},0,0,0]
["IC2001","INSTALL. - IP PHONE",null,527,"CONTINEO",7.25,0,null,0,0,0,0,"",{"$f":"+SUMIF('Details sales deliv. to excl.'!F:F,A323,'Details sales deliv. to excl.'!H:H)","v":0},{"$f":"-SUMIF('Details purch. deliv. to excl.'!F:F,A323,'Details purch. deliv. to excl.'!H:H)","v":0},0,0,0]
["IC2010","INSTALL. - ANALOG CONVERTOR",null,527,"CONTINEO",17.5,0,null,{"$f":"H324-G324","v":0},{"$f":"G324*F324","v":0},{"$f":"H324*F324","v":0},{"$f":"I324*F324","v":0},"",{"$f":"+SUMIF('Details sales deliv. to excl.'!F:F,A324,'Details sales deliv. to excl.'!H:H)","v":0},{"$f":"-SUMIF('Details purch. deliv. to excl.'!F:F,A324,'Details purch. deliv. to excl.'!H:H)","v":0},{"$f":"I324+N324+O324","v":0},{"$f":"G324+P324","v":0},{"$f":"Q324*F324","v":0}]
["LA1000","CISCO SFP Interconnectcable, 50cm","CAB-SFP-50CM",472,"WESTCON GROUP EUROPEAN OPERATIONS LTD - BELGIUM BRANCH",140,0,null,0,0,0,0,{"$f":"IF(ABS(L325)>500,\"check\",\"\")","v":""},{"$f":"+SUMIF('Details sales deliv. to excl.'!F:F,A325,'Details sales deliv. to excl.'!H:H)","v":0},{"$f":"-SUMIF('Details purch. deliv. to excl.'!F:F,A325,'Details purch. deliv. to excl.'!H:H)","v":0},0,0,0]
["LA1010","CISCO GLC-T connector","GLC-T",472,"WESTCON GROUP EUROPEAN OPERATIONS LTD - BELGIUM BRANCH",185.66,0,null,0,0,0,0,"",{"$f":"+SUMIF('Details sales deliv. to excl.'!F:F,A326,'Details sales deliv. to excl.'!H:H)","v":0},{"$f":"-SUMIF('Details purch. deliv. to excl.'!F:F,A326,'Details purch. deliv. to excl.'!H:H)","v":0},0,0,0]
["LA1020","Patch cord UTP Cat. 5E - 5 Meters","GGMCAT5E5M",473,"REXEL",3.38,0,null,0,0,0,0,"",{"$f":"+SUMIF('Details sales deliv. to excl.'!F:F,A327,'Details sales deliv. to excl.'!H:H)","v":0},{"$f":"-SUMIF('Details purch. deliv. to excl.'!F:F,A327,'Details purch. deliv. to excl.'!H:H)","v":0},0,0,0]
["LA1030","Patch cord UTP Cat. 5E - 3 Meters","GGMCAT5E3M",473,"REXEL",2.11,0,null,0,0,0,0,"",{"$f":"+SUMIF('Details sales deliv. to excl.'!F:F,A328,'Details sales deliv. to excl.'!H:H)","v":0},{"$f":"-SUMIF('Details purch. deliv. to excl.'!F:F,A328,'Details purch. deliv. to excl.'!H:H)","v":0},0,0,0]
["LA1035","Patch cord UTP Cat. 5E - 1 Meter",null,527,"CONTINEO",0.9,0,null,0,0,0,0,"",{"$f":"+SUMIF('Details sales deliv. to excl.'!F:F,A329,'Details sales deliv. to excl.'!H:H)","v":0},{"$f":"-SUMIF('Details purch. deliv. to excl.'!F:F,A329,'Details purch. deliv. to excl.'!H:H)","v":0},0,0,0]
["LA1037","Patch cord UTP Cat. 5E - 2 Meters",null,527,"CONTINEO",1.1499999999999999,0,null,0,0,0,0,"",{"$f":"+SUMIF('Details sales deliv. to excl.'!F:F,A330,'Details sales deliv. to excl.'!H:H)","v":0},{"$f":"-SUMIF('Details purch. deliv. to excl.'!F:F,A330,'Details purch. deliv. to excl.'!H:H)","v":0},0,0,0]
["LA1040","PRI Crossed cable (2m)","Crossed E1 cable - 5 meters",527,"CONTINEO",16.53,0,null,0,0,0,0,"",{"$f":"+SUMIF('Details sales deliv. to excl.'!F:F,A331,'Details sales deliv. to excl.'!H:H)","v":0},{"$f":"-SUMIF('Details purch. deliv. to excl.'!F:F,A331,'Details purch. deliv. to excl.'!H:H)","v":0},0,0,0]
["LA1041","BRI Crossed cable (3m)","Crossed BRI cable - 5 m",527,"CONTINEO",25,0,null,0,0,0,0,"",{"$f":"+SUMIF('Details sales deliv. to excl.'!F:F,A332,'Details sales deliv. to excl.'!H:H)","v":0},{"$f":"-SUMIF('Details purch. deliv. to excl.'!F:F,A332,'Details purch. deliv. to excl.'!H:H)","v":0},0,0,0]
["LA1045","Cables to go RJ11 Straight Modular Cable 3m grey",2391625,464,"TECHDATA",1.6,150,150,0,240,240,0,null,{"$f":"+SUMIF('Details sales deliv. to excl.'!F:F,A333,'Details sales deliv. to excl.'!H:H)","v":0},{"$f":"-SUMIF('Details purch. deliv. to excl.'!F:F,A333,'Details purch. deliv. to excl.'!H:H)","v":0},0,150,240]
["LA1050","Molex Y splitter cable","offer1769231/CB-YPOWER",1093,"TTEC COMPUTERS B.V.",1.5,89,89,0,133.5,133.5,0,null,{"$f":"+SUMIF('Details sales deliv. to excl.'!F:F,A334,'Details sales deliv. to excl.'!H:H)","v":0},{"$f":"-SUMIF('Details purch. deliv. to excl.'!F:F,A334,'Details purch. deliv. to excl.'!H:H)","v":0},0,89,133.5]
["LA1055","INLINE Molex 3.5\" female to 5.25\" male, 6cm","26622A",10007,"INTOS ELECTRONIC AG",1.78,55,56,1,97.9,99.68,1.78,null,{"$f":"+SUMIF('Details sales deliv. to excl.'!F:F,A335,'Details sales deliv. to excl.'!H:H)","v":0},{"$f":"-SUMIF('Details purch. deliv. to excl.'!F:F,A335,'Details purch. deliv. to excl.'!H:H)","v":0},1,56,99.68]
["LA1056","INLINE Molex Y-cable 3.5\" 1x5.25\" to 2x5.25\" angled, 0.2m","29659W",10007,"INTOS ELECTRONIC AG",2.38,108,107,-1,257.03999999999996,254.66,-2.38,null,{"$f":"+SUMIF('Details sales deliv. to excl.'!F:F,A336,'Details sales deliv. to excl.'!H:H)","v":0},{"$f":"-SUMIF('Details purch. deliv. to excl.'!F:F,A336,'Details purch. deliv. to excl.'!H:H)","v":0},-1,107,254.66]
["LA1057","INLINE Molex Y-cable 1x5.25\" to 2x5.25\", 0.2m",29659,10007,"INTOS ELECTRONIC AG",0.93,38,38,0,35.340000000000003,35.340000000000003,0,null,{"$f":"+SUMIF('Details sales deliv. to excl.'!F:F,A337,'Details sales deliv. to excl.'!H:H)","v":0},{"$f":"-SUMIF('Details purch. deliv. to excl.'!F:F,A337,'Details purch. deliv. to excl.'!H:H)","v":0},0,38,35.340000000000003]
["LA1059","Single Mode Fiber Cable with LC/PC connector","cable",464,"TECHDATA",0,0,null,0,0,0,0,"",{"$f":"+SUMIF('Details sales deliv. to excl.'!F:F,A338,'Details sales deliv. to excl.'!H:H)","v":0},{"$f":"-SUMIF('Details purch. deliv. to excl.'!F:F,A338,'Details purch. deliv. to excl.'!H:H)","v":0},0,0,0]
["LA1060","BitFenix Molex - 45cm","ZUAD-253",1389,"CASEKING GMBH",2.6,47,47,0,122.2,122.2,0,null,{"$f":"+SUMIF('Details sales deliv. to excl.'!F:F,A339,'Details sales deliv. to excl.'!H:H)","v":0},{"$f":"-SUMIF('Details purch. deliv. to excl.'!F:F,A339,'Details purch. deliv. to excl.'!H:H)","v":0},0,47,122.2]
["LA1080","Combo cables for interface cards in HP DL servers",0,501,"ESCAUX NV",4.16,0,null,0,0,0,0,"",{"$f":"+SUMIF('Details sales deliv. to excl.'!F:F,A340,'Details sales deliv. to excl.'!H:H)","v":0},{"$f":"-SUMIF('Details purch. deliv. to excl.'!F:F,A340,'Details purch. deliv. to excl.'!H:H)","v":0},0,0,0]
["LP1000","PowerDsine 6 ports","PD-6506/AC/M",472,"WESTCON GROUP EUROPEAN OPERATIONS LTD - BELGIUM BRANCH",372.44,0,null,0,0,0,0,"",{"$f":"+SUMIF('Details sales deliv. to excl.'!F:F,A341,'Details sales deliv. to excl.'!H:H)","v":0},{"$f":"-SUMIF('Details purch. deliv. to excl.'!F:F,A341,'Details purch. deliv. to excl.'!H:H)","v":0},0,0,0]
["LP1001","PowerDsine 12 ports","PD-6512/AC/M",472,"WESTCON GROUP EUROPEAN OPERATIONS LTD - BELGIUM BRANCH",487.92,0,null,0,0,0,0,"",{"$f":"+SUMIF('Details sales deliv. to excl.'!F:F,A342,'Details sales deliv. to excl.'!H:H)","v":0},{"$f":"-SUMIF('Details purch. deliv. to excl.'!F:F,A342,'Details purch. deliv. to excl.'!H:H)","v":0},0,0,0]
["LP1002","PowerDsine 24 ports","PD-6524/AC/M",472,"WESTCON GROUP EUROPEAN OPERATIONS LTD - BELGIUM BRANCH",692.33,0,null,0,0,0,0,"",{"$f":"+SUMIF('Details sales deliv. to excl.'!F:F,A343,'Details sales deliv. to excl.'!H:H)","v":0},{"$f":"-SUMIF('Details purch. deliv. to excl.'!F:F,A343,'Details purch. deliv. to excl.'!H:H)","v":0},0,0,0]
["LP1003","PowerDsine 48 ports","PD-6548/AC/M",472,"WESTCON GROUP EUROPEAN OPERATIONS LTD - BELGIUM BRANCH",834.65,0,null,0,0,0,0,"",{"$f":"+SUMIF('Details sales deliv. to excl.'!F:F,A344,'Details sales deliv. to excl.'!H:H)","v":0},{"$f":"-SUMIF('Details purch. deliv. to excl.'!F:F,A344,'Details purch. deliv. to excl.'!H:H)","v":0},0,0,0]
["LS1000","CISCO 3560 GIGA 24 ports NO PoE","WS-C3560G-24TS-S",472,"WESTCON GROUP EUROPEAN OPERATIONS LTD - BELGIUM BRANCH",2400,0,null,0,0,0,0,"",{"$f":"+SUMIF('Details sales deliv. to excl.'!F:F,A345,'Details sales deliv. to excl.'!H:H)","v":0},{"$f":"-SUMIF('Details purch. deliv. to excl.'!F:F,A345,'Details purch. deliv. to excl.'!H:H)","v":0},0,0,0]
["LS1005","CISCO 3560 GIGA 24 ports with PoE","WS-C3560G-24PS-S (Giga+PoE)",472,"WESTCON GROUP EUROPEAN OPERATIONS LTD - BELGIUM BRANCH",2424.9499999999998,0,null,0,0,0,0,"",{"$f":"+SUMIF('Details sales deliv. to excl.'!F:F,A346,'Details sales deliv. to excl.'!H:H)","v":0},{"$f":"-SUMIF('Details purch. deliv. to excl.'!F:F,A346,'Details purch. deliv. to excl.'!H:H)","v":0},0,0,0]
["LS1010","CISCO 3560 24 ports PWR","WS-C3560-24PS-S",472,"WESTCON GROUP EUROPEAN OPERATIONS LTD - BELGIUM BRANCH",1771.82,0,null,0,0,0,0,"",{"$f":"+SUMIF('Details sales deliv. to excl.'!F:F,A347,'Details sales deliv. to excl.'!H:H)","v":0},{"$f":"-SUMIF('Details purch. deliv. to excl.'!F:F,A347,'Details purch. deliv. to excl.'!H:H)","v":0},0,0,0]
["LS1020","CISCO 3560 48 ports PWR","WS-C3560-48PS-S",688,"COMPUTERLAND",2712,0,null,0,0,0,0,"",{"$f":"+SUMIF('Details sales deliv. to excl.'!F:F,A348,'Details sales deliv. to excl.'!H:H)","v":0},{"$f":"-SUMIF('Details purch. deliv. to excl.'!F:F,A348,'Details purch. deliv. to excl.'!H:H)","v":0},0,0,0]
["LS1050","HP Procurve 2610 24 ports PWR","J9299A#ABB",688,"COMPUTERLAND",1100.04,0,null,0,0,0,0,"",{"$f":"+SUMIF('Details sales deliv. to excl.'!F:F,A349,'Details sales deliv. to excl.'!H:H)","v":0},{"$f":"-SUMIF('Details purch. deliv. to excl.'!F:F,A349,'Details purch. deliv. to excl.'!H:H)","v":0},0,0,0]
["LS1055","HP Procurve 2610 48 ports PWR","J9089A#ABB",688,"COMPUTERLAND",1389,0,null,0,0,0,0,"",{"$f":"+SUMIF('Details sales deliv. to excl.'!F:F,A350,'Details sales deliv. to excl.'!H:H)","v":0},{"$f":"-SUMIF('Details purch. deliv. to excl.'!F:F,A350,'Details purch. deliv. to excl.'!H:H)","v":0},0,0,0]
["LS1059","Single mode fiber cable with LC-PC connectors (3m)","CAB-MMF-LC-PC-3M",1344,"ALTURNA NETWORKS BV",55,0,null,0,0,0,0,"",{"$f":"+SUMIF('Details sales deliv. to excl.'!F:F,A351,'Details sales deliv. to excl.'!H:H)","v":0},{"$f":"-SUMIF('Details purch. deliv. to excl.'!F:F,A351,'Details purch. deliv. to excl.'!H:H)","v":0},0,0,0]
["LS1060","EX-SFP-1GE-LX+-SO","EX-SFP-1GE-LX+-SO",1344,"ALTURNA NETWORKS BV",21,15,15,0,315,315,0,null,{"$f":"+SUMIF('Details sales deliv. to excl.'!F:F,A352,'Details sales deliv. to excl.'!H:H)","v":0},{"$f":"-SUMIF('Details purch. deliv. to excl.'!F:F,A352,'Details purch. deliv. to excl.'!H:H)","v":0},0,15,315]
["LS1080","Switch Netgear Prosafe 16ports","Switch Netgear",509,"ICS",189,0,null,0,0,0,0,"",{"$f":"+SUMIF('Details sales deliv. to excl.'!F:F,A353,'Details sales deliv. to excl.'!H:H)","v":0},{"$f":"-SUMIF('Details purch. deliv. to excl.'!F:F,A353,'Details purch. deliv. to excl.'!H:H)","v":0},0,0,0]
["LS1085","Cisco SG200-08P8-ports gigabit-switch","CISCO SG200-08P",509,"ICS",197,0,null,0,0,0,0,"",{"$f":"+SUMIF('Details sales deliv. to excl.'!F:F,A354,'Details sales deliv. to excl.'!H:H)","v":0},{"$f":"-SUMIF('Details purch. deliv. to excl.'!F:F,A354,'Details purch. deliv. to excl.'!H:H)","v":0},0,0,0]
["LS1088","JUNIPER EX2200-24T-4G","JN-EX2200-24T-4G",1527,"TIGRON",667.27,3,3,0,2001.81,2001.81,0,null,{"$f":"+SUMIF('Details sales deliv. to excl.'!F:F,A355,'Details sales deliv. to excl.'!H:H)","v":0},{"$f":"-SUMIF('Details purch. deliv. to excl.'!F:F,A355,'Details purch. deliv. to excl.'!H:H)","v":0},0,3,2001.81]
["LS1090","JUNIPER EX2200-48T-4G","EX2200-48T-4G",509,"ICS",1195.78,0,null,0,0,0,0,"",{"$f":"+SUMIF('Details sales deliv. to excl.'!F:F,A356,'Details sales deliv. to excl.'!H:H)","v":0},{"$f":"-SUMIF('Details purch. deliv. to excl.'!F:F,A356,'Details purch. deliv. to excl.'!H:H)","v":0},0,0,0]
["LS1100","3COM 24 ports","3COM Superstack 3 Switch 4226T",464,"TECHDATA",261,0,null,0,0,0,0,"",{"$f":"+SUMIF('Details sales deliv. to excl.'!F:F,A357,'Details sales deliv. to excl.'!H:H)","v":0},{"$f":"-SUMIF('Details purch. deliv. to excl.'!F:F,A357,'Details purch. deliv. to excl.'!H:H)","v":0},0,0,0]
["LS1110","3COM 24 ports PWR 802.3af","SuperStack 3 Switch 4400 PWR",464,"TECHDATA",1307,0,null,0,0,0,0,"",{"$f":"+SUMIF('Details sales deliv. to excl.'!F:F,A358,'Details sales deliv. to excl.'!H:H)","v":0},{"$f":"-SUMIF('Details purch. deliv. to excl.'!F:F,A358,'Details purch. deliv. to excl.'!H:H)","v":0},0,0,0]
["LU1000","UPS POWERWARE PW5115 - 750 VA","12 minutes d´autonomie à 340 W",527,"CONTINEO",145,0,null,0,0,0,0,"",{"$f":"+SUMIF('Details sales deliv. to excl.'!F:F,A359,'Details sales deliv. to excl.'!H:H)","v":0},{"$f":"-SUMIF('Details purch. deliv. to excl.'!F:F,A359,'Details purch. deliv. to excl.'!H:H)","v":0},0,0,0]
["MG1010","IP-GSM gateway 2 External Channels","402 SIP",720,"GATEWAY",640,6,6,0,3840,3840,0,null,{"$f":"+SUMIF('Details sales deliv. to excl.'!F:F,A360,'Details sales deliv. to excl.'!H:H)","v":0},{"$f":"-SUMIF('Details purch. deliv. to excl.'!F:F,A360,'Details purch. deliv. to excl.'!H:H)","v":0},0,6,3840]
["MG1012","IP-GSM gateway 2 External Channels (402L)","402L SIP",720,"GATEWAY",640,0,null,0,0,0,0,"",{"$f":"+SUMIF('Details sales deliv. to excl.'!F:F,A361,'Details sales deliv. to excl.'!H:H)","v":0},{"$f":"-SUMIF('Details purch. deliv. to excl.'!F:F,A361,'Details purch. deliv. to excl.'!H:H)","v":0},0,0,0]
["MG1020","IP-GSM gateway 4 External Channels","404 SIP",720,"GATEWAY",890,1,1,0,890,890,0,null,{"$f":"+SUMIF('Details sales deliv. to excl.'!F:F,A362,'Details sales deliv. to excl.'!H:H)","v":0},{"$f":"-SUMIF('Details purch. deliv. to excl.'!F:F,A362,'Details purch. deliv. to excl.'!H:H)","v":0},0,1,890]
["MG1022","IP-GSM gateway 4 External Channels (404L)","404L SIP",462,"MUSITEL",890,0,null,0,0,0,0,"",{"$f":"+SUMIF('Details sales deliv. to excl.'!F:F,A363,'Details sales deliv. to excl.'!H:H)","v":0},{"$f":"-SUMIF('Details purch. deliv. to excl.'!F:F,A363,'Details purch. deliv. to excl.'!H:H)","v":0},0,0,0]
["MG1040","MUSITEL ISDN-GSM gateway 1 channels","Musitel ISDN 81",462,"MUSITEL",0,0,null,0,0,0,0,"",{"$f":"+SUMIF('Details sales deliv. to excl.'!F:F,A364,'Details sales deliv. to excl.'!H:H)","v":0},{"$f":"-SUMIF('Details purch. deliv. to excl.'!F:F,A364,'Details purch. deliv. to excl.'!H:H)","v":0},0,0,0]
["MG1050","MUSITEL ISDN-GSM gateway 2 channels","Musitel ISDN 82",462,"MUSITEL",750,0,null,0,0,0,0,"",{"$f":"+SUMIF('Details sales deliv. to excl.'!F:F,A365,'Details sales deliv. to excl.'!H:H)","v":0},{"$f":"-SUMIF('Details purch. deliv. to excl.'!F:F,A365,'Details purch. deliv. to excl.'!H:H)","v":0},0,0,0]
["MG1100","Siemens Tc35i Terminal (gsm-modem)","P0022112",1014,"REDCORP",207.36,0,null,0,0,0,0,"",{"$f":"+SUMIF('Details sales deliv. to excl.'!F:F,A366,'Details sales deliv. to excl.'!H:H)","v":0},{"$f":"-SUMIF('Details purch. deliv. to excl.'!F:F,A366,'Details purch. deliv. to excl.'!H:H)","v":0},0,0,0]
["MG1102","Siemens Tc52i Terminal (gsm-modem)","P0022112",1014,"REDCORP",207.36,4,4,0,829.44,829.44,0,null,{"$f":"+SUMIF('Details sales deliv. to excl.'!F:F,A367,'Details sales deliv. to excl.'!H:H)","v":0},{"$f":"-SUMIF('Details purch. deliv. to excl.'!F:F,A367,'Details purch. deliv. to excl.'!H:H)","v":0},0,4,829.44]
["MG1105","SIEMENS MC55i  (gsm modem)",null,1014,"REDCORP",207.36,0,null,0,0,0,0,"",{"$f":"+SUMIF('Details sales deliv. to excl.'!F:F,A368,'Details sales deliv. to excl.'!H:H)","v":0},{"$f":"-SUMIF('Details purch. deliv. to excl.'!F:F,A368,'Details purch. deliv. to excl.'!H:H)","v":0},0,0,0]
["MG1200","SMS Gateway bundle",null,1014,"REDCORP",695.48,0,null,0,0,0,0,"",{"$f":"+SUMIF('Details sales deliv. to excl.'!F:F,A369,'Details sales deliv. to excl.'!H:H)","v":0},{"$f":"-SUMIF('Details purch. deliv. to excl.'!F:F,A369,'Details purch. deliv. to excl.'!H:H)","v":0},0,0,0]
["ND1001","net.Desktop X100 - License",null,465,"ESCAUX",0,0,null,0,0,0,0,"",{"$f":"+SUMIF('Details sales deliv. to excl.'!F:F,A370,'Details sales deliv. to excl.'!H:H)","v":0},{"$f":"-SUMIF('Details purch. deliv. to excl.'!F:F,A370,'Details purch. deliv. to excl.'!H:H)","v":0},0,0,0]
["ND1010","net.Desktop X300 - License",null,465,"ESCAUX",0,0,null,0,0,0,0,"",{"$f":"+SUMIF('Details sales deliv. to excl.'!F:F,A371,'Details sales deliv. to excl.'!H:H)","v":0},{"$f":"-SUMIF('Details purch. deliv. to excl.'!F:F,A371,'Details purch. deliv. to excl.'!H:H)","v":0},0,0,0]
["ND1020","net.Desktop X500 - License",null,465,"ESCAUX",0,0,null,0,0,0,0,"",{"$f":"+SUMIF('Details sales deliv. to excl.'!F:F,A372,'Details sales deliv. to excl.'!H:H)","v":0},{"$f":"-SUMIF('Details purch. deliv. to excl.'!F:F,A372,'Details purch. deliv. to excl.'!H:H)","v":0},0,0,0]
["ND1100","net.Console X900",null,465,"ESCAUX",0,0,null,0,0,0,0,"",{"$f":"+SUMIF('Details sales deliv. to excl.'!F:F,A373,'Details sales deliv. to excl.'!H:H)","v":0},{"$f":"-SUMIF('Details purch. deliv. to excl.'!F:F,A373,'Details purch. deliv. to excl.'!H:H)","v":0},0,0,0]
["ND11000","SMP Activation key 1000",null,465,"ESCAUX",0,0,null,0,0,0,0,"",{"$f":"+SUMIF('Details sales deliv. to excl.'!F:F,A374,'Details sales deliv. to excl.'!H:H)","v":0},{"$f":"-SUMIF('Details purch. deliv. to excl.'!F:F,A374,'Details purch. deliv. to excl.'!H:H)","v":0},0,0,0]
["ND110000","SMP Activation key 10000",null,465,"ESCAUX",0,0,null,0,0,0,0,"",{"$f":"+SUMIF('Details sales deliv. to excl.'!F:F,A375,'Details sales deliv. to excl.'!H:H)","v":0},{"$f":"-SUMIF('Details purch. deliv. to excl.'!F:F,A375,'Details purch. deliv. to excl.'!H:H)","v":0},0,0,0]
["ND1110","net.Console X700",null,465,"ESCAUX",0,0,null,0,0,0,0,"",{"$f":"+SUMIF('Details sales deliv. to excl.'!F:F,A376,'Details sales deliv. to excl.'!H:H)","v":0},{"$f":"-SUMIF('Details purch. deliv. to excl.'!F:F,A376,'Details purch. deliv. to excl.'!H:H)","v":0},0,0,0]
["ND11200","SMP Activation key 1200",null,465,"ESCAUX",0,0,null,0,0,0,0,"",{"$f":"+SUMIF('Details sales deliv. to excl.'!F:F,A377,'Details sales deliv. to excl.'!H:H)","v":0},{"$f":"-SUMIF('Details purch. deliv. to excl.'!F:F,A377,'Details purch. deliv. to excl.'!H:H)","v":0},0,0,0]
["ND115000","SMP Activation key 15000",null,465,"ESCAUX",0,0,null,0,0,0,0,"",{"$f":"+SUMIF('Details sales deliv. to excl.'!F:F,A378,'Details sales deliv. to excl.'!H:H)","v":0},{"$f":"-SUMIF('Details purch. deliv. to excl.'!F:F,A378,'Details purch. deliv. to excl.'!H:H)","v":0},0,0,0]
["ND1200","SMP Activation key 10",null,465,"ESCAUX",0,0,null,0,0,0,0,"",{"$f":"+SUMIF('Details sales deliv. to excl.'!F:F,A379,'Details sales deliv. to excl.'!H:H)","v":0},{"$f":"-SUMIF('Details purch. deliv. to excl.'!F:F,A379,'Details purch. deliv. to excl.'!H:H)","v":0},0,0,0]
["ND12000","SMP Activation key 2000",null,465,"ESCAUX",0,0,null,0,0,0,0,"",{"$f":"+SUMIF('Details sales deliv. to excl.'!F:F,A380,'Details sales deliv. to excl.'!H:H)","v":0},{"$f":"-SUMIF('Details purch. deliv. to excl.'!F:F,A380,'Details purch. deliv. to excl.'!H:H)","v":0},0,0,0]
["ND1220","SMP Activation key 20",null,465,"ESCAUX",0,0,null,0,0,0,0,"",{"$f":"+SUMIF('Details sales deliv. to excl.'!F:F,A381,'Details sales deliv. to excl.'!H:H)","v":0},{"$f":"-SUMIF('Details purch. deliv. to excl.'!F:F,A381,'Details purch. deliv. to excl.'!H:H)","v":0},0,0,0]
["ND1230","SMP Activation key 30",null,465,"ESCAUX",0,0,null,0,0,0,0,"",{"$f":"+SUMIF('Details sales deliv. to excl.'!F:F,A382,'Details sales deliv. to excl.'!H:H)","v":0},{"$f":"-SUMIF('Details purch. deliv. to excl.'!F:F,A382,'Details purch. deliv. to excl.'!H:H)","v":0},0,0,0]
["ND1240","SMP Activation key 40",null,465,"ESCAUX",0,0,null,0,0,0,0,"",{"$f":"+SUMIF('Details sales deliv. to excl.'!F:F,A383,'Details sales deliv. to excl.'!H:H)","v":0},{"$f":"-SUMIF('Details purch. deliv. to excl.'!F:F,A383,'Details purch. deliv. to excl.'!H:H)","v":0},0,0,0]
["ND1250","SMP Activation key 50",null,465,"ESCAUX",0,0,null,0,0,0,0,"",{"$f":"+SUMIF('Details sales deliv. to excl.'!F:F,A384,'Details sales deliv. to excl.'!H:H)","v":0},{"$f":"-SUMIF('Details purch. deliv. to excl.'!F:F,A384,'Details purch. deliv. to excl.'!H:H)","v":0},0,0,0]
["ND1275","SMP Activation key 75",null,465,"ESCAUX",0,0,null,0,0,0,0,"",{"$f":"+SUMIF('Details sales deliv. to excl.'!F:F,A385,'Details sales deliv. to excl.'!H:H)","v":0},{"$f":"-SUMIF('Details purch. deliv. to excl.'!F:F,A385,'Details purch. deliv. to excl.'!H:H)","v":0},0,0,0]
["ND1300","SMP Activation key 100",null,465,"ESCAUX",0,0,null,0,0,0,0,"",{"$f":"+SUMIF('Details sales deliv. to excl.'!F:F,A386,'Details sales deliv. to excl.'!H:H)","v":0},{"$f":"-SUMIF('Details purch. deliv. to excl.'!F:F,A386,'Details purch. deliv. to excl.'!H:H)","v":0},0,0,0]
["ND13000","SMP Activation key 3000",null,465,"ESCAUX",0,0,null,0,0,0,0,"",{"$f":"+SUMIF('Details sales deliv. to excl.'!F:F,A387,'Details sales deliv. to excl.'!H:H)","v":0},{"$f":"-SUMIF('Details purch. deliv. to excl.'!F:F,A387,'Details purch. deliv. to excl.'!H:H)","v":0},0,0,0]
["ND1350","SMP Activation key 150",null,465,"ESCAUX",0,0,null,{"$f":"H388-G388","v":0},{"$f":"G388*F388","v":0},{"$f":"H388*F388","v":0},{"$f":"I388*F388","v":0},"",{"$f":"+SUMIF('Details sales deliv. to excl.'!F:F,A388,'Details sales deliv. to excl.'!H:H)","v":0},{"$f":"-SUMIF('Details purch. deliv. to excl.'!F:F,A388,'Details purch. deliv. to excl.'!H:H)","v":0},{"$f":"I388+N388+O388","v":0},{"$f":"G388+P388","v":0},{"$f":"Q388*F388","v":0}]
["ND1400","SMP Activation key 200",null,465,"ESCAUX",0,0,null,0,0,0,0,{"$f":"IF(ABS(L389)>500,\"check\",\"\")","v":""},{"$f":"+SUMIF('Details sales deliv. to excl.'!F:F,A389,'Details sales deliv. to excl.'!H:H)","v":0},{"$f":"-SUMIF('Details purch. deliv. to excl.'!F:F,A389,'Details purch. deliv. to excl.'!H:H)","v":0},0,0,0]
["ND14000","SMP Activation key 4000",null,465,"ESCAUX",0,0,null,0,0,0,0,"",{"$f":"+SUMIF('Details sales deliv. to excl.'!F:F,A390,'Details sales deliv. to excl.'!H:H)","v":0},{"$f":"-SUMIF('Details purch. deliv. to excl.'!F:F,A390,'Details purch. deliv. to excl.'!H:H)","v":0},0,0,0]
["ND1450","SMP Activation key 250",null,465,"ESCAUX",0,0,null,0,0,0,0,"",{"$f":"+SUMIF('Details sales deliv. to excl.'!F:F,A391,'Details sales deliv. to excl.'!H:H)","v":0},{"$f":"-SUMIF('Details purch. deliv. to excl.'!F:F,A391,'Details purch. deliv. to excl.'!H:H)","v":0},0,0,0]
["ND15000","SMP Activation key 5000",null,465,"ESCAUX",0,0,null,0,0,0,0,"",{"$f":"+SUMIF('Details sales deliv. to excl.'!F:F,A392,'Details sales deliv. to excl.'!H:H)","v":0},{"$f":"-SUMIF('Details purch. deliv. to excl.'!F:F,A392,'Details purch. deliv. to excl.'!H:H)","v":0},0,0,0]
["ND1700","SMP Activation key 500",null,465,"ESCAUX",0,0,null,0,0,0,0,"",{"$f":"+SUMIF('Details sales deliv. to excl.'!F:F,A393,'Details sales deliv. to excl.'!H:H)","v":0},{"$f":"-SUMIF('Details purch. deliv. to excl.'!F:F,A393,'Details purch. deliv. to excl.'!H:H)","v":0},0,0,0]
["ND1950","SMP Activation key 750",null,465,"ESCAUX",0,0,null,0,0,0,0,"",{"$f":"+SUMIF('Details sales deliv. to excl.'!F:F,A394,'Details sales deliv. to excl.'!H:H)","v":0},{"$f":"-SUMIF('Details purch. deliv. to excl.'!F:F,A394,'Details purch. deliv. to excl.'!H:H)","v":0},0,0,0]
["ND2000","ADVANCED REPORTING",null,465,"ESCAUX",0,0,null,0,0,0,0,"",{"$f":"+SUMIF('Details sales deliv. to excl.'!F:F,A395,'Details sales deliv. to excl.'!H:H)","v":0},{"$f":"-SUMIF('Details purch. deliv. to excl.'!F:F,A395,'Details purch. deliv. to excl.'!H:H)","v":0},0,0,0]
["ND3000","Fax Server Channel",null,465,"ESCAUX",0,0,null,0,0,0,0,"",{"$f":"+SUMIF('Details sales deliv. to excl.'!F:F,A396,'Details sales deliv. to excl.'!H:H)","v":0},{"$f":"-SUMIF('Details purch. deliv. to excl.'!F:F,A396,'Details purch. deliv. to excl.'!H:H)","v":0},0,0,0]
["ND4000","Professional Module/project",null,465,"ESCAUX",0,0,null,0,0,0,0,"",{"$f":"+SUMIF('Details sales deliv. to excl.'!F:F,A397,'Details sales deliv. to excl.'!H:H)","v":0},{"$f":"-SUMIF('Details purch. deliv. to excl.'!F:F,A397,'Details purch. deliv. to excl.'!H:H)","v":0},0,0,0]
["ND4001","Enterprise Module/project",null,465,"ESCAUX",0,0,null,0,0,0,0,"",{"$f":"+SUMIF('Details sales deliv. to excl.'!F:F,A398,'Details sales deliv. to excl.'!H:H)","v":0},{"$f":"-SUMIF('Details purch. deliv. to excl.'!F:F,A398,'Details purch. deliv. to excl.'!H:H)","v":0},0,0,0]
["ND4002","Corporatel Module/project",null,465,"ESCAUX",0,0,null,0,0,0,0,"",{"$f":"+SUMIF('Details sales deliv. to excl.'!F:F,A399,'Details sales deliv. to excl.'!H:H)","v":0},{"$f":"-SUMIF('Details purch. deliv. to excl.'!F:F,A399,'Details purch. deliv. to excl.'!H:H)","v":0},0,0,0]
["ND4003","Exernatl API Module/project",null,465,"ESCAUX",0,0,null,0,0,0,0,"",{"$f":"+SUMIF('Details sales deliv. to excl.'!F:F,A400,'Details sales deliv. to excl.'!H:H)","v":0},{"$f":"-SUMIF('Details purch. deliv. to excl.'!F:F,A400,'Details purch. deliv. to excl.'!H:H)","v":0},0,0,0]
["ND4004","G729 Module/project",null,465,"ESCAUX",0,0,null,0,0,0,0,"",{"$f":"+SUMIF('Details sales deliv. to excl.'!F:F,A401,'Details sales deliv. to excl.'!H:H)","v":0},{"$f":"-SUMIF('Details purch. deliv. to excl.'!F:F,A401,'Details purch. deliv. to excl.'!H:H)","v":0},0,0,0]
["ND4005","Syslog Module/project",null,465,"ESCAUX",0,0,null,0,0,0,0,"",{"$f":"+SUMIF('Details sales deliv. to excl.'!F:F,A402,'Details sales deliv. to excl.'!H:H)","v":0},{"$f":"-SUMIF('Details purch. deliv. to excl.'!F:F,A402,'Details purch. deliv. to excl.'!H:H)","v":0},0,0,0]
["ND4006","T38 Fax Channel License",null,465,"ESCAUX",0,0,null,0,0,0,0,"",{"$f":"+SUMIF('Details sales deliv. to excl.'!F:F,A403,'Details sales deliv. to excl.'!H:H)","v":0},{"$f":"-SUMIF('Details purch. deliv. to excl.'!F:F,A403,'Details purch. deliv. to excl.'!H:H)","v":0},0,0,0]
["ND4007","QoS Analyser Module/project",null,465,"ESCAUX",0,0,null,0,0,0,0,"",{"$f":"+SUMIF('Details sales deliv. to excl.'!F:F,A404,'Details sales deliv. to excl.'!H:H)","v":0},{"$f":"-SUMIF('Details purch. deliv. to excl.'!F:F,A404,'Details purch. deliv. to excl.'!H:H)","v":0},0,0,0]
["ND4008","Recording & Archiving Module/project",null,465,"ESCAUX",0,0,null,0,0,0,0,"",{"$f":"+SUMIF('Details sales deliv. to excl.'!F:F,A405,'Details sales deliv. to excl.'!H:H)","v":0},{"$f":"-SUMIF('Details purch. deliv. to excl.'!F:F,A405,'Details purch. deliv. to excl.'!H:H)","v":0},0,0,0]
["ND4009","MS Exchange Module/project",null,465,"ESCAUX",0,0,null,0,0,0,0,"",{"$f":"+SUMIF('Details sales deliv. to excl.'!F:F,A406,'Details sales deliv. to excl.'!H:H)","v":0},{"$f":"-SUMIF('Details purch. deliv. to excl.'!F:F,A406,'Details purch. deliv. to excl.'!H:H)","v":0},0,0,0]
["ND4010","Sugar CRM Module/project",null,465,"ESCAUX",0,0,null,0,0,0,0,"",{"$f":"+SUMIF('Details sales deliv. to excl.'!F:F,A407,'Details sales deliv. to excl.'!H:H)","v":0},{"$f":"-SUMIF('Details purch. deliv. to excl.'!F:F,A407,'Details purch. deliv. to excl.'!H:H)","v":0},0,0,0]
["ND4011","Groupwise Module/project",null,465,"ESCAUX",0,0,null,0,0,0,0,"",{"$f":"+SUMIF('Details sales deliv. to excl.'!F:F,A408,'Details sales deliv. to excl.'!H:H)","v":0},{"$f":"-SUMIF('Details purch. deliv. to excl.'!F:F,A408,'Details purch. deliv. to excl.'!H:H)","v":0},0,0,0]
["ND4012","Lotus Notes Module/project",null,465,"ESCAUX",0,0,null,0,0,0,0,"",{"$f":"+SUMIF('Details sales deliv. to excl.'!F:F,A409,'Details sales deliv. to excl.'!H:H)","v":0},{"$f":"-SUMIF('Details purch. deliv. to excl.'!F:F,A409,'Details purch. deliv. to excl.'!H:H)","v":0},0,0,0]
["ND4020","net.Console X700 Module/project",null,465,"ESCAUX",0,0,null,0,0,0,0,"",{"$f":"+SUMIF('Details sales deliv. to excl.'!F:F,A410,'Details sales deliv. to excl.'!H:H)","v":0},{"$f":"-SUMIF('Details purch. deliv. to excl.'!F:F,A410,'Details purch. deliv. to excl.'!H:H)","v":0},0,0,0]
["ND4021","net.Console X900 Module/project",null,465,"ESCAUX",0,0,null,0,0,0,0,"",{"$f":"+SUMIF('Details sales deliv. to excl.'!F:F,A411,'Details sales deliv. to excl.'!H:H)","v":0},{"$f":"-SUMIF('Details purch. deliv. to excl.'!F:F,A411,'Details purch. deliv. to excl.'!H:H)","v":0},0,0,0]
["ND4025","net.Desktop X100 Module/project",null,465,"ESCAUX",0,0,null,0,0,0,0,"",{"$f":"+SUMIF('Details sales deliv. to excl.'!F:F,A412,'Details sales deliv. to excl.'!H:H)","v":0},{"$f":"-SUMIF('Details purch. deliv. to excl.'!F:F,A412,'Details purch. deliv. to excl.'!H:H)","v":0},0,0,0]
["ND4026","net.Desktop X300 Module/project",null,465,"ESCAUX",0,0,null,0,0,0,0,"",{"$f":"+SUMIF('Details sales deliv. to excl.'!F:F,A413,'Details sales deliv. to excl.'!H:H)","v":0},{"$f":"-SUMIF('Details purch. deliv. to excl.'!F:F,A413,'Details purch. deliv. to excl.'!H:H)","v":0},0,0,0]
["ND4027","net.Desktop X500 Module/project",null,465,"ESCAUX",0,0,null,0,0,0,0,"",{"$f":"+SUMIF('Details sales deliv. to excl.'!F:F,A414,'Details sales deliv. to excl.'!H:H)","v":0},{"$f":"-SUMIF('Details purch. deliv. to excl.'!F:F,A414,'Details purch. deliv. to excl.'!H:H)","v":0},0,0,0]
["ND4030","net.Supervisor Module/project",null,465,"ESCAUX",0,0,null,0,0,0,0,"",{"$f":"+SUMIF('Details sales deliv. to excl.'!F:F,A415,'Details sales deliv. to excl.'!H:H)","v":0},{"$f":"-SUMIF('Details purch. deliv. to excl.'!F:F,A415,'Details purch. deliv. to excl.'!H:H)","v":0},0,0,0]
["ND4035","Virtual Fax Module/project",null,465,"ESCAUX",0,0,null,0,0,0,0,"",{"$f":"+SUMIF('Details sales deliv. to excl.'!F:F,A416,'Details sales deliv. to excl.'!H:H)","v":0},{"$f":"-SUMIF('Details purch. deliv. to excl.'!F:F,A416,'Details purch. deliv. to excl.'!H:H)","v":0},0,0,0]
["ND4040","Application Management Console Module/project",null,465,"ESCAUX",0,0,null,0,0,0,0,"",{"$f":"+SUMIF('Details sales deliv. to excl.'!F:F,A417,'Details sales deliv. to excl.'!H:H)","v":0},{"$f":"-SUMIF('Details purch. deliv. to excl.'!F:F,A417,'Details purch. deliv. to excl.'!H:H)","v":0},0,0,0]
["ND4045","Advanced Reporting Module/project",null,465,"ESCAUX",0,0,null,0,0,0,0,"",{"$f":"+SUMIF('Details sales deliv. to excl.'!F:F,A418,'Details sales deliv. to excl.'!H:H)","v":0},{"$f":"-SUMIF('Details purch. deliv. to excl.'!F:F,A418,'Details purch. deliv. to excl.'!H:H)","v":0},0,0,0]
["ND5000","Professional Edition Appliance License",null,465,"ESCAUX",0,0,null,0,0,0,0,"",{"$f":"+SUMIF('Details sales deliv. to excl.'!F:F,A419,'Details sales deliv. to excl.'!H:H)","v":0},{"$f":"-SUMIF('Details purch. deliv. to excl.'!F:F,A419,'Details purch. deliv. to excl.'!H:H)","v":0},0,0,0]
["ND5001","Enterprise Edition Appliance License",null,465,"ESCAUX",0,0,null,0,0,0,0,"",{"$f":"+SUMIF('Details sales deliv. to excl.'!F:F,A420,'Details sales deliv. to excl.'!H:H)","v":0},{"$f":"-SUMIF('Details purch. deliv. to excl.'!F:F,A420,'Details purch. deliv. to excl.'!H:H)","v":0},0,0,0]
["ND5002","Corporate Edition Appliance License",null,465,"ESCAUX",0,0,null,0,0,0,0,"",{"$f":"+SUMIF('Details sales deliv. to excl.'!F:F,A421,'Details sales deliv. to excl.'!H:H)","v":0},{"$f":"-SUMIF('Details purch. deliv. to excl.'!F:F,A421,'Details purch. deliv. to excl.'!H:H)","v":0},0,0,0]
["ND5010","External API Appliance License",null,465,"ESCAUX",0,0,null,0,0,0,0,"",{"$f":"+SUMIF('Details sales deliv. to excl.'!F:F,A422,'Details sales deliv. to excl.'!H:H)","v":0},{"$f":"-SUMIF('Details purch. deliv. to excl.'!F:F,A422,'Details purch. deliv. to excl.'!H:H)","v":0},0,0,0]
["ND5012","Syslog Appliance License",null,465,"ESCAUX",0,0,null,0,0,0,0,"",{"$f":"+SUMIF('Details sales deliv. to excl.'!F:F,A423,'Details sales deliv. to excl.'!H:H)","v":0},{"$f":"-SUMIF('Details purch. deliv. to excl.'!F:F,A423,'Details purch. deliv. to excl.'!H:H)","v":0},0,0,0]
["ND5015","QoS Analyser Appliance License",null,465,"ESCAUX",0,0,null,0,0,0,0,"",{"$f":"+SUMIF('Details sales deliv. to excl.'!F:F,A424,'Details sales deliv. to excl.'!H:H)","v":0},{"$f":"-SUMIF('Details purch. deliv. to excl.'!F:F,A424,'Details purch. deliv. to excl.'!H:H)","v":0},0,0,0]
["ND6000","net.Phone license for 10 resources",null,465,"ESCAUX",0,0,null,0,0,0,0,"",{"$f":"+SUMIF('Details sales deliv. to excl.'!F:F,A425,'Details sales deliv. to excl.'!H:H)","v":0},{"$f":"-SUMIF('Details purch. deliv. to excl.'!F:F,A425,'Details purch. deliv. to excl.'!H:H)","v":0},0,0,0]
["ND6001","net.Phone license for 20 resources",null,465,"ESCAUX",0,0,null,0,0,0,0,"",{"$f":"+SUMIF('Details sales deliv. to excl.'!F:F,A426,'Details sales deliv. to excl.'!H:H)","v":0},{"$f":"-SUMIF('Details purch. deliv. to excl.'!F:F,A426,'Details purch. deliv. to excl.'!H:H)","v":0},0,0,0]
["ND6003","net.Phone license for 30 resources",null,465,"ESCAUX",0,0,null,0,0,0,0,"",{"$f":"+SUMIF('Details sales deliv. to excl.'!F:F,A427,'Details sales deliv. to excl.'!H:H)","v":0},{"$f":"-SUMIF('Details purch. deliv. to excl.'!F:F,A427,'Details purch. deliv. to excl.'!H:H)","v":0},0,0,0]
["ND6004","net.Phone license for 40 resources",null,465,"ESCAUX",0,0,null,0,0,0,0,"",{"$f":"+SUMIF('Details sales deliv. to excl.'!F:F,A428,'Details sales deliv. to excl.'!H:H)","v":0},{"$f":"-SUMIF('Details purch. deliv. to excl.'!F:F,A428,'Details purch. deliv. to excl.'!H:H)","v":0},0,0,0]
["ND6005","net.Phone license for 50 resources",null,465,"ESCAUX",0,0,null,0,0,0,0,"",{"$f":"+SUMIF('Details sales deliv. to excl.'!F:F,A429,'Details sales deliv. to excl.'!H:H)","v":0},{"$f":"-SUMIF('Details purch. deliv. to excl.'!F:F,A429,'Details purch. deliv. to excl.'!H:H)","v":0},0,0,0]
["ND6006","net.Phone license for 60 resources",null,465,"ESCAUX",0,0,null,0,0,0,0,"",{"$f":"+SUMIF('Details sales deliv. to excl.'!F:F,A430,'Details sales deliv. to excl.'!H:H)","v":0},{"$f":"-SUMIF('Details purch. deliv. to excl.'!F:F,A430,'Details purch. deliv. to excl.'!H:H)","v":0},0,0,0]
["ND6008","net.Phone license for 80 resources",null,465,"ESCAUX",0,0,null,0,0,0,0,"",{"$f":"+SUMIF('Details sales deliv. to excl.'!F:F,A431,'Details sales deliv. to excl.'!H:H)","v":0},{"$f":"-SUMIF('Details purch. deliv. to excl.'!F:F,A431,'Details purch. deliv. to excl.'!H:H)","v":0},0,0,0]
["ND6010","net.Phone license for 100 resources",null,465,"ESCAUX",0,0,null,0,0,0,0,"",{"$f":"+SUMIF('Details sales deliv. to excl.'!F:F,A432,'Details sales deliv. to excl.'!H:H)","v":0},{"$f":"-SUMIF('Details purch. deliv. to excl.'!F:F,A432,'Details purch. deliv. to excl.'!H:H)","v":0},0,0,0]
["ND6012","net.Phone license for 125 resources",null,465,"ESCAUX",0,0,null,0,0,0,0,"",{"$f":"+SUMIF('Details sales deliv. to excl.'!F:F,A433,'Details sales deliv. to excl.'!H:H)","v":0},{"$f":"-SUMIF('Details purch. deliv. to excl.'!F:F,A433,'Details purch. deliv. to excl.'!H:H)","v":0},0,0,0]
["ND6015","net.Phone license for 150 resources",null,465,"ESCAUX",0,0,null,0,0,0,0,"",{"$f":"+SUMIF('Details sales deliv. to excl.'!F:F,A434,'Details sales deliv. to excl.'!H:H)","v":0},{"$f":"-SUMIF('Details purch. deliv. to excl.'!F:F,A434,'Details purch. deliv. to excl.'!H:H)","v":0},0,0,0]
["ND6017","net.Phone license for 175 resources",null,465,"ESCAUX",0,0,null,0,0,0,0,"",{"$f":"+SUMIF('Details sales deliv. to excl.'!F:F,A435,'Details sales deliv. to excl.'!H:H)","v":0},{"$f":"-SUMIF('Details purch. deliv. to excl.'!F:F,A435,'Details purch. deliv. to excl.'!H:H)","v":0},0,0,0]
["ND6020","net.Phone license for 200 resources",null,465,"ESCAUX",0,0,null,0,0,0,0,"",{"$f":"+SUMIF('Details sales deliv. to excl.'!F:F,A436,'Details sales deliv. to excl.'!H:H)","v":0},{"$f":"-SUMIF('Details purch. deliv. to excl.'!F:F,A436,'Details purch. deliv. to excl.'!H:H)","v":0},0,0,0]
["ND6025","net.Phone license for 250 resources",null,465,"ESCAUX",0,0,null,0,0,0,0,"",{"$f":"+SUMIF('Details sales deliv. to excl.'!F:F,A437,'Details sales deliv. to excl.'!H:H)","v":0},{"$f":"-SUMIF('Details purch. deliv. to excl.'!F:F,A437,'Details purch. deliv. to excl.'!H:H)","v":0},0,0,0]
["ND6030","net.Phone license for 300 resources",null,465,"ESCAUX",0,0,null,0,0,0,0,"",{"$f":"+SUMIF('Details sales deliv. to excl.'!F:F,A438,'Details sales deliv. to excl.'!H:H)","v":0},{"$f":"-SUMIF('Details purch. deliv. to excl.'!F:F,A438,'Details purch. deliv. to excl.'!H:H)","v":0},0,0,0]
["ND6035","net.Phone license for 350 resources",null,465,"ESCAUX",0,0,null,0,0,0,0,"",{"$f":"+SUMIF('Details sales deliv. to excl.'!F:F,A439,'Details sales deliv. to excl.'!H:H)","v":0},{"$f":"-SUMIF('Details purch. deliv. to excl.'!F:F,A439,'Details purch. deliv. to excl.'!H:H)","v":0},0,0,0]
["ND6040","net.Phone license for 400 resources",null,465,"ESCAUX",0,0,null,0,0,0,0,"",{"$f":"+SUMIF('Details sales deliv. to excl.'!F:F,A440,'Details sales deliv. to excl.'!H:H)","v":0},{"$f":"-SUMIF('Details purch. deliv. to excl.'!F:F,A440,'Details purch. deliv. to excl.'!H:H)","v":0},0,0,0]
["ND6050","net.Phone license for 500 resources",null,465,"ESCAUX",0,0,null,0,0,0,0,"",{"$f":"+SUMIF('Details sales deliv. to excl.'!F:F,A441,'Details sales deliv. to excl.'!H:H)","v":0},{"$f":"-SUMIF('Details purch. deliv. to excl.'!F:F,A441,'Details purch. deliv. to excl.'!H:H)","v":0},0,0,0]
["ND6065","net.Phone license for 650 resources",null,465,"ESCAUX",0,0,null,0,0,0,0,"",{"$f":"+SUMIF('Details sales deliv. to excl.'!F:F,A442,'Details sales deliv. to excl.'!H:H)","v":0},{"$f":"-SUMIF('Details purch. deliv. to excl.'!F:F,A442,'Details purch. deliv. to excl.'!H:H)","v":0},0,0,0]
["ND6075","net.Phone license for 750 resources",null,465,"ESCAUX",0,0,null,0,0,0,0,"",{"$f":"+SUMIF('Details sales deliv. to excl.'!F:F,A443,'Details sales deliv. to excl.'!H:H)","v":0},{"$f":"-SUMIF('Details purch. deliv. to excl.'!F:F,A443,'Details purch. deliv. to excl.'!H:H)","v":0},0,0,0]
["ND6080","net.Phone license for 800 resources",null,465,"ESCAUX",0,0,null,0,0,0,0,"",{"$f":"+SUMIF('Details sales deliv. to excl.'!F:F,A444,'Details sales deliv. to excl.'!H:H)","v":0},{"$f":"-SUMIF('Details purch. deliv. to excl.'!F:F,A444,'Details purch. deliv. to excl.'!H:H)","v":0},0,0,0]
["ND6100","net.Phone license for 1000 resources",null,465,"ESCAUX",0,0,null,0,0,0,0,"",{"$f":"+SUMIF('Details sales deliv. to excl.'!F:F,A445,'Details sales deliv. to excl.'!H:H)","v":0},{"$f":"-SUMIF('Details purch. deliv. to excl.'!F:F,A445,'Details purch. deliv. to excl.'!H:H)","v":0},0,0,0]
["ND6110","net.Phone license for 1100 resources",null,465,"ESCAUX",0,0,null,0,0,0,0,"",{"$f":"+SUMIF('Details sales deliv. to excl.'!F:F,A446,'Details sales deliv. to excl.'!H:H)","v":0},{"$f":"-SUMIF('Details purch. deliv. to excl.'!F:F,A446,'Details purch. deliv. to excl.'!H:H)","v":0},0,0,0]
["ND6120","net.Phone license for 1200 resources",null,465,"ESCAUX",0,0,null,0,0,0,0,"",{"$f":"+SUMIF('Details sales deliv. to excl.'!F:F,A447,'Details sales deliv. to excl.'!H:H)","v":0},{"$f":"-SUMIF('Details purch. deliv. to excl.'!F:F,A447,'Details purch. deliv. to excl.'!H:H)","v":0},0,0,0]
["ND6140","net.Phone license for 1400 resources",null,465,"ESCAUX",0,0,null,0,0,0,0,"",{"$f":"+SUMIF('Details sales deliv. to excl.'!F:F,A448,'Details sales deliv. to excl.'!H:H)","v":0},{"$f":"-SUMIF('Details purch. deliv. to excl.'!F:F,A448,'Details purch. deliv. to excl.'!H:H)","v":0},0,0,0]
["ND6160","net.Phone license for 1600 resources",null,465,"ESCAUX",0,0,null,0,0,0,0,"",{"$f":"+SUMIF('Details sales deliv. to excl.'!F:F,A449,'Details sales deliv. to excl.'!H:H)","v":0},{"$f":"-SUMIF('Details purch. deliv. to excl.'!F:F,A449,'Details purch. deliv. to excl.'!H:H)","v":0},0,0,0]
["ND6180","net.Phone license for 1800 resources",null,465,"ESCAUX",0,0,null,0,0,0,0,"",{"$f":"+SUMIF('Details sales deliv. to excl.'!F:F,A450,'Details sales deliv. to excl.'!H:H)","v":0},{"$f":"-SUMIF('Details purch. deliv. to excl.'!F:F,A450,'Details purch. deliv. to excl.'!H:H)","v":0},0,0,0]
["ND6200","net.Phone license for 2000 resources",null,465,"ESCAUX",0,0,null,0,0,0,0,"",{"$f":"+SUMIF('Details sales deliv. to excl.'!F:F,A451,'Details sales deliv. to excl.'!H:H)","v":0},{"$f":"-SUMIF('Details purch. deliv. to excl.'!F:F,A451,'Details purch. deliv. to excl.'!H:H)","v":0},0,0,0]
["ND6250","net.Phone license for 2500 resources",null,465,"ESCAUX",0,0,null,{"$f":"H452-G452","v":0},{"$f":"G452*F452","v":0},{"$f":"H452*F452","v":0},{"$f":"I452*F452","v":0},"",{"$f":"+SUMIF('Details sales deliv. to excl.'!F:F,A452,'Details sales deliv. to excl.'!H:H)","v":0},{"$f":"-SUMIF('Details purch. deliv. to excl.'!F:F,A452,'Details purch. deliv. to excl.'!H:H)","v":0},{"$f":"I452+N452+O452","v":0},{"$f":"G452+P452","v":0},{"$f":"Q452*F452","v":0}]
["ND6300","net.Phone license for 3000 resources",null,465,"ESCAUX",0,0,null,0,0,0,0,{"$f":"IF(ABS(L453)>500,\"check\",\"\")","v":""},{"$f":"+SUMIF('Details sales deliv. to excl.'!F:F,A453,'Details sales deliv. to excl.'!H:H)","v":0},{"$f":"-SUMIF('Details purch. deliv. to excl.'!F:F,A453,'Details purch. deliv. to excl.'!H:H)","v":0},0,0,0]
["ND6350","net.Phone license for 3500 resources",null,465,"ESCAUX",0,0,null,0,0,0,0,"",{"$f":"+SUMIF('Details sales deliv. to excl.'!F:F,A454,'Details sales deliv. to excl.'!H:H)","v":0},{"$f":"-SUMIF('Details purch. deliv. to excl.'!F:F,A454,'Details purch. deliv. to excl.'!H:H)","v":0},0,0,0]
["ND6400","net.Phone license for 4000 resources",null,465,"ESCAUX",0,0,null,0,0,0,0,"",{"$f":"+SUMIF('Details sales deliv. to excl.'!F:F,A455,'Details sales deliv. to excl.'!H:H)","v":0},{"$f":"-SUMIF('Details purch. deliv. to excl.'!F:F,A455,'Details purch. deliv. to excl.'!H:H)","v":0},0,0,0]
["ND6450","net.Phone license for 4500 resources",null,465,"ESCAUX",0,0,null,0,0,0,0,"",{"$f":"+SUMIF('Details sales deliv. to excl.'!F:F,A456,'Details sales deliv. to excl.'!H:H)","v":0},{"$f":"-SUMIF('Details purch. deliv. to excl.'!F:F,A456,'Details purch. deliv. to excl.'!H:H)","v":0},0,0,0]
["ND6500","net.Phone license for 5000 resources",null,465,"ESCAUX",0,0,null,0,0,0,0,"",{"$f":"+SUMIF('Details sales deliv. to excl.'!F:F,A457,'Details sales deliv. to excl.'!H:H)","v":0},{"$f":"-SUMIF('Details purch. deliv. to excl.'!F:F,A457,'Details purch. deliv. to excl.'!H:H)","v":0},0,0,0]
["ND7000","net.Desktop X100 license for 10 users",null,465,"ESCAUX",0,0,null,0,0,0,0,"",{"$f":"+SUMIF('Details sales deliv. to excl.'!F:F,A458,'Details sales deliv. to excl.'!H:H)","v":0},{"$f":"-SUMIF('Details purch. deliv. to excl.'!F:F,A458,'Details purch. deliv. to excl.'!H:H)","v":0},0,0,0]
["ND7002","net.Desktop X100 license for 20 users",null,465,"ESCAUX",0,0,null,0,0,0,0,"",{"$f":"+SUMIF('Details sales deliv. to excl.'!F:F,A459,'Details sales deliv. to excl.'!H:H)","v":0},{"$f":"-SUMIF('Details purch. deliv. to excl.'!F:F,A459,'Details purch. deliv. to excl.'!H:H)","v":0},0,0,0]
["ND7003","net.Desktop X100 license for 30 users",null,465,"ESCAUX",0,0,null,0,0,0,0,"",{"$f":"+SUMIF('Details sales deliv. to excl.'!F:F,A460,'Details sales deliv. to excl.'!H:H)","v":0},{"$f":"-SUMIF('Details purch. deliv. to excl.'!F:F,A460,'Details purch. deliv. to excl.'!H:H)","v":0},0,0,0]
["ND7004","net.Desktop X100 license for 40 users",null,465,"ESCAUX",0,0,null,0,0,0,0,"",{"$f":"+SUMIF('Details sales deliv. to excl.'!F:F,A461,'Details sales deliv. to excl.'!H:H)","v":0},{"$f":"-SUMIF('Details purch. deliv. to excl.'!F:F,A461,'Details purch. deliv. to excl.'!H:H)","v":0},0,0,0]
["ND7005","net.Desktop X100 license for 50 users",null,465,"ESCAUX",0,0,null,0,0,0,0,"",{"$f":"+SUMIF('Details sales deliv. to excl.'!F:F,A462,'Details sales deliv. to excl.'!H:H)","v":0},{"$f":"-SUMIF('Details purch. deliv. to excl.'!F:F,A462,'Details purch. deliv. to excl.'!H:H)","v":0},0,0,0]
["ND7006","net.Desktop X100 license for 60 users",null,465,"ESCAUX",0,0,null,0,0,0,0,"",{"$f":"+SUMIF('Details sales deliv. to excl.'!F:F,A463,'Details sales deliv. to excl.'!H:H)","v":0},{"$f":"-SUMIF('Details purch. deliv. to excl.'!F:F,A463,'Details purch. deliv. to excl.'!H:H)","v":0},0,0,0]
["ND7008","net.Desktop X100 license for 80 users",null,465,"ESCAUX",0,0,null,0,0,0,0,"",{"$f":"+SUMIF('Details sales deliv. to excl.'!F:F,A464,'Details sales deliv. to excl.'!H:H)","v":0},{"$f":"-SUMIF('Details purch. deliv. to excl.'!F:F,A464,'Details purch. deliv. to excl.'!H:H)","v":0},0,0,0]
["ND7010","net.Desktop X100 license for 100 users",null,465,"ESCAUX",0,0,null,0,0,0,0,"",{"$f":"+SUMIF('Details sales deliv. to excl.'!F:F,A465,'Details sales deliv. to excl.'!H:H)","v":0},{"$f":"-SUMIF('Details purch. deliv. to excl.'!F:F,A465,'Details purch. deliv. to excl.'!H:H)","v":0},0,0,0]
["ND7012","net.Desktop X100 license for 125 users",null,465,"ESCAUX",0,0,null,0,0,0,0,"",{"$f":"+SUMIF('Details sales deliv. to excl.'!F:F,A466,'Details sales deliv. to excl.'!H:H)","v":0},{"$f":"-SUMIF('Details purch. deliv. to excl.'!F:F,A466,'Details purch. deliv. to excl.'!H:H)","v":0},0,0,0]
["ND7015","net.Desktop X100 license for 150 users",null,465,"ESCAUX",0,0,null,0,0,0,0,"",{"$f":"+SUMIF('Details sales deliv. to excl.'!F:F,A467,'Details sales deliv. to excl.'!H:H)","v":0},{"$f":"-SUMIF('Details purch. deliv. to excl.'!F:F,A467,'Details purch. deliv. to excl.'!H:H)","v":0},0,0,0]
["ND7017","net.Desktop X100 license for 175 users",null,465,"ESCAUX",0,0,null,0,0,0,0,"",{"$f":"+SUMIF('Details sales deliv. to excl.'!F:F,A468,'Details sales deliv. to excl.'!H:H)","v":0},{"$f":"-SUMIF('Details purch. deliv. to excl.'!F:F,A468,'Details purch. deliv. to excl.'!H:H)","v":0},0,0,0]
["ND7020","net.Desktop X100 license for 200 users",null,465,"ESCAUX",0,0,null,0,0,0,0,"",{"$f":"+SUMIF('Details sales deliv. to excl.'!F:F,A469,'Details sales deliv. to excl.'!H:H)","v":0},{"$f":"-SUMIF('Details purch. deliv. to excl.'!F:F,A469,'Details purch. deliv. to excl.'!H:H)","v":0},0,0,0]
["ND7025","net.Desktop X100 license for 250 users",null,465,"ESCAUX",0,0,null,0,0,0,0,"",{"$f":"+SUMIF('Details sales deliv. to excl.'!F:F,A470,'Details sales deliv. to excl.'!H:H)","v":0},{"$f":"-SUMIF('Details purch. deliv. to excl.'!F:F,A470,'Details purch. deliv. to excl.'!H:H)","v":0},0,0,0]
["ND7030","net.Desktop X100 license for 300 users",null,465,"ESCAUX",0,0,null,0,0,0,0,"",{"$f":"+SUMIF('Details sales deliv. to excl.'!F:F,A471,'Details sales deliv. to excl.'!H:H)","v":0},{"$f":"-SUMIF('Details purch. deliv. to excl.'!F:F,A471,'Details purch. deliv. to excl.'!H:H)","v":0},0,0,0]
["ND7040","net.Desktop X100 license for 400 users",null,465,"ESCAUX",0,0,null,0,0,0,0,"",{"$f":"+SUMIF('Details sales deliv. to excl.'!F:F,A472,'Details sales deliv. to excl.'!H:H)","v":0},{"$f":"-SUMIF('Details purch. deliv. to excl.'!F:F,A472,'Details purch. deliv. to excl.'!H:H)","v":0},0,0,0]
["ND7050","net.Desktop X100 license for 500 users",null,465,"ESCAUX",0,0,null,0,0,0,0,"",{"$f":"+SUMIF('Details sales deliv. to excl.'!F:F,A473,'Details sales deliv. to excl.'!H:H)","v":0},{"$f":"-SUMIF('Details purch. deliv. to excl.'!F:F,A473,'Details purch. deliv. to excl.'!H:H)","v":0},0,0,0]
["ND7065","net.Desktop X100 license for 650 users",null,465,"ESCAUX",0,0,null,0,0,0,0,"",{"$f":"+SUMIF('Details sales deliv. to excl.'!F:F,A474,'Details sales deliv. to excl.'!H:H)","v":0},{"$f":"-SUMIF('Details purch. deliv. to excl.'!F:F,A474,'Details purch. deliv. to excl.'!H:H)","v":0},0,0,0]
["ND7075","net.Desktop X100 license for 750 users",null,465,"ESCAUX",0,0,null,0,0,0,0,"",{"$f":"+SUMIF('Details sales deliv. to excl.'!F:F,A475,'Details sales deliv. to excl.'!H:H)","v":0},{"$f":"-SUMIF('Details purch. deliv. to excl.'!F:F,A475,'Details purch. deliv. to excl.'!H:H)","v":0},0,0,0]
["ND8000","net.Desktop X300 license for 10 users",null,465,"ESCAUX",0,0,null,0,0,0,0,"",{"$f":"+SUMIF('Details sales deliv. to excl.'!F:F,A476,'Details sales deliv. to excl.'!H:H)","v":0},{"$f":"-SUMIF('Details purch. deliv. to excl.'!F:F,A476,'Details purch. deliv. to excl.'!H:H)","v":0},0,0,0]
["ND8002","net.Desktop X300 license for 20 users",null,465,"ESCAUX",0,0,null,0,0,0,0,"",{"$f":"+SUMIF('Details sales deliv. to excl.'!F:F,A477,'Details sales deliv. to excl.'!H:H)","v":0},{"$f":"-SUMIF('Details purch. deliv. to excl.'!F:F,A477,'Details purch. deliv. to excl.'!H:H)","v":0},0,0,0]
["ND8003","net.Desktop X300 license for 30 users",null,465,"ESCAUX",0,0,null,0,0,0,0,"",{"$f":"+SUMIF('Details sales deliv. to excl.'!F:F,A478,'Details sales deliv. to excl.'!H:H)","v":0},{"$f":"-SUMIF('Details purch. deliv. to excl.'!F:F,A478,'Details purch. deliv. to excl.'!H:H)","v":0},0,0,0]
["ND8004","net.Desktop X300 license for 40 users",null,465,"ESCAUX",0,0,null,0,0,0,0,"",{"$f":"+SUMIF('Details sales deliv. to excl.'!F:F,A479,'Details sales deliv. to excl.'!H:H)","v":0},{"$f":"-SUMIF('Details purch. deliv. to excl.'!F:F,A479,'Details purch. deliv. to excl.'!H:H)","v":0},0,0,0]
["ND8005","net.Desktop X300 license for 50 users",null,465,"ESCAUX",0,0,null,0,0,0,0,"",{"$f":"+SUMIF('Details sales deliv. to excl.'!F:F,A480,'Details sales deliv. to excl.'!H:H)","v":0},{"$f":"-SUMIF('Details purch. deliv. to excl.'!F:F,A480,'Details purch. deliv. to excl.'!H:H)","v":0},0,0,0]
["ND8006","net.Desktop X300 license for 60 users",null,465,"ESCAUX",0,0,null,0,0,0,0,"",{"$f":"+SUMIF('Details sales deliv. to excl.'!F:F,A481,'Details sales deliv. to excl.'!H:H)","v":0},{"$f":"-SUMIF('Details purch. deliv. to excl.'!F:F,A481,'Details purch. deliv. to excl.'!H:H)","v":0},0,0,0]
["ND8007","net.Desktop X300 license for 70 users",null,465,"ESCAUX",0,0,null,0,0,0,0,"",{"$f":"+SUMIF('Details sales deliv. to excl.'!F:F,A482,'Details sales deliv. to excl.'!H:H)","v":0},{"$f":"-SUMIF('Details purch. deliv. to excl.'!F:F,A482,'Details purch. deliv. to excl.'!H:H)","v":0},0,0,0]
["ND8008","net.Desktop X300 license for 80 users",null,465,"ESCAUX",0,0,null,0,0,0,0,"",{"$f":"+SUMIF('Details sales deliv. to excl.'!F:F,A483,'Details sales deliv. to excl.'!H:H)","v":0},{"$f":"-SUMIF('Details purch. deliv. to excl.'!F:F,A483,'Details purch. deliv. to excl.'!H:H)","v":0},0,0,0]
["ND8009","net.Desktop X300 license for 90 users",null,465,"ESCAUX",0,0,null,0,0,0,0,"",{"$f":"+SUMIF('Details sales deliv. to excl.'!F:F,A484,'Details sales deliv. to excl.'!H:H)","v":0},{"$f":"-SUMIF('Details purch. deliv. to excl.'!F:F,A484,'Details purch. deliv. to excl.'!H:H)","v":0},0,0,0]
["ND8010","net.Desktop X300 license for 100 users",null,465,"ESCAUX",0,0,null,0,0,0,0,"",{"$f":"+SUMIF('Details sales deliv. to excl.'!F:F,A485,'Details sales deliv. to excl.'!H:H)","v":0},{"$f":"-SUMIF('Details purch. deliv. to excl.'!F:F,A485,'Details purch. deliv. to excl.'!H:H)","v":0},0,0,0]
["ND8012","net.Desktop X300 license for 125 users",null,465,"ESCAUX",0,0,null,0,0,0,0,"",{"$f":"+SUMIF('Details sales deliv. to excl.'!F:F,A486,'Details sales deliv. to excl.'!H:H)","v":0},{"$f":"-SUMIF('Details purch. deliv. to excl.'!F:F,A486,'Details purch. deliv. to excl.'!H:H)","v":0},0,0,0]
["ND8015","net.Desktop X300 license for 150 users",null,465,"ESCAUX",0,0,null,0,0,0,0,"",{"$f":"+SUMIF('Details sales deliv. to excl.'!F:F,A487,'Details sales deliv. to excl.'!H:H)","v":0},{"$f":"-SUMIF('Details purch. deliv. to excl.'!F:F,A487,'Details purch. deliv. to excl.'!H:H)","v":0},0,0,0]
["ND8017","net.Desktop X300 license for 175 users",null,465,"ESCAUX",0,0,null,0,0,0,0,"",{"$f":"+SUMIF('Details sales deliv. to excl.'!F:F,A488,'Details sales deliv. to excl.'!H:H)","v":0},{"$f":"-SUMIF('Details purch. deliv. to excl.'!F:F,A488,'Details purch. deliv. to excl.'!H:H)","v":0},0,0,0]
["ND8020","net.Desktop X300 license for 200 users",null,465,"ESCAUX",0,0,null,0,0,0,0,"",{"$f":"+SUMIF('Details sales deliv. to excl.'!F:F,A489,'Details sales deliv. to excl.'!H:H)","v":0},{"$f":"-SUMIF('Details purch. deliv. to excl.'!F:F,A489,'Details purch. deliv. to excl.'!H:H)","v":0},0,0,0]
["ND8025","net.Desktop X300 license for 250 users",null,465,"ESCAUX",0,0,null,0,0,0,0,"",{"$f":"+SUMIF('Details sales deliv. to excl.'!F:F,A490,'Details sales deliv. to excl.'!H:H)","v":0},{"$f":"-SUMIF('Details purch. deliv. to excl.'!F:F,A490,'Details purch. deliv. to excl.'!H:H)","v":0},0,0,0]
["ND8030","net.Desktop X300 license for 300 users",null,465,"ESCAUX",0,0,null,0,0,0,0,"",{"$f":"+SUMIF('Details sales deliv. to excl.'!F:F,A491,'Details sales deliv. to excl.'!H:H)","v":0},{"$f":"-SUMIF('Details purch. deliv. to excl.'!F:F,A491,'Details purch. deliv. to excl.'!H:H)","v":0},0,0,0]
["ND9000","net.Desktop X500 license for 10 users",null,465,"ESCAUX",0,0,null,0,0,0,0,"",{"$f":"+SUMIF('Details sales deliv. to excl.'!F:F,A492,'Details sales deliv. to excl.'!H:H)","v":0},{"$f":"-SUMIF('Details purch. deliv. to excl.'!F:F,A492,'Details purch. deliv. to excl.'!H:H)","v":0},0,0,0]
["ND9002","net.Desktop X500 license for 20 users",null,465,"ESCAUX",0,0,null,0,0,0,0,"",{"$f":"+SUMIF('Details sales deliv. to excl.'!F:F,A493,'Details sales deliv. to excl.'!H:H)","v":0},{"$f":"-SUMIF('Details purch. deliv. to excl.'!F:F,A493,'Details purch. deliv. to excl.'!H:H)","v":0},0,0,0]
["ND9003","net.Desktop X500 license for 30 users",null,465,"ESCAUX",0,0,null,0,0,0,0,"",{"$f":"+SUMIF('Details sales deliv. to excl.'!F:F,A494,'Details sales deliv. to excl.'!H:H)","v":0},{"$f":"-SUMIF('Details purch. deliv. to excl.'!F:F,A494,'Details purch. deliv. to excl.'!H:H)","v":0},0,0,0]
["ND9004","net.Desktop X500 license for 40 users",null,465,"ESCAUX",0,0,null,0,0,0,0,"",{"$f":"+SUMIF('Details sales deliv. to excl.'!F:F,A495,'Details sales deliv. to excl.'!H:H)","v":0},{"$f":"-SUMIF('Details purch. deliv. to excl.'!F:F,A495,'Details purch. deliv. to excl.'!H:H)","v":0},0,0,0]
["ND9005","net.Desktop X500 license for 50 users",null,465,"ESCAUX",0,0,null,0,0,0,0,"",{"$f":"+SUMIF('Details sales deliv. to excl.'!F:F,A496,'Details sales deliv. to excl.'!H:H)","v":0},{"$f":"-SUMIF('Details purch. deliv. to excl.'!F:F,A496,'Details purch. deliv. to excl.'!H:H)","v":0},0,0,0]
["ND9006","net.Desktop X500 license for 60 users",null,465,"ESCAUX",0,0,null,0,0,0,0,"",{"$f":"+SUMIF('Details sales deliv. to excl.'!F:F,A497,'Details sales deliv. to excl.'!H:H)","v":0},{"$f":"-SUMIF('Details purch. deliv. to excl.'!F:F,A497,'Details purch. deliv. to excl.'!H:H)","v":0},0,0,0]
["ND9007","net.Desktop X500 license for 70 users",null,465,"ESCAUX",0,0,null,0,0,0,0,"",{"$f":"+SUMIF('Details sales deliv. to excl.'!F:F,A498,'Details sales deliv. to excl.'!H:H)","v":0},{"$f":"-SUMIF('Details purch. deliv. to excl.'!F:F,A498,'Details purch. deliv. to excl.'!H:H)","v":0},0,0,0]
["ND9008","net.Desktop X500 license for 80 users",null,465,"ESCAUX",0,0,null,0,0,0,0,"",{"$f":"+SUMIF('Details sales deliv. to excl.'!F:F,A499,'Details sales deliv. to excl.'!H:H)","v":0},{"$f":"-SUMIF('Details purch. deliv. to excl.'!F:F,A499,'Details purch. deliv. to excl.'!H:H)","v":0},0,0,0]
["ND9009","net.Desktop X500 license for 90 users",null,465,"ESCAUX",0,0,null,0,0,0,0,"",{"$f":"+SUMIF('Details sales deliv. to excl.'!F:F,A500,'Details sales deliv. to excl.'!H:H)","v":0},{"$f":"-SUMIF('Details purch. deliv. to excl.'!F:F,A500,'Details purch. deliv. to excl.'!H:H)","v":0},0,0,0]
["ND9010","net.Desktop X500 license for 100 users",null,465,"ESCAUX",0,0,null,0,0,0,0,"",{"$f":"+SUMIF('Details sales deliv. to excl.'!F:F,A501,'Details sales deliv. to excl.'!H:H)","v":0},{"$f":"-SUMIF('Details purch. deliv. to excl.'!F:F,A501,'Details purch. deliv. to excl.'!H:H)","v":0},0,0,0]
["ND9012","net.Desktop X500 license for 125 users",null,465,"ESCAUX",0,0,null,0,0,0,0,"",{"$f":"+SUMIF('Details sales deliv. to excl.'!F:F,A502,'Details sales deliv. to excl.'!H:H)","v":0},{"$f":"-SUMIF('Details purch. deliv. to excl.'!F:F,A502,'Details purch. deliv. to excl.'!H:H)","v":0},0,0,0]
["ND9015","net.Desktop X500 license for 150 users",null,465,"ESCAUX",0,0,null,0,0,0,0,"",{"$f":"+SUMIF('Details sales deliv. to excl.'!F:F,A503,'Details sales deliv. to excl.'!H:H)","v":0},{"$f":"-SUMIF('Details purch. deliv. to excl.'!F:F,A503,'Details purch. deliv. to excl.'!H:H)","v":0},0,0,0]
["ND9020","net.Desktop X500 license for 200 users",null,465,"ESCAUX",0,0,null,0,0,0,0,"",{"$f":"+SUMIF('Details sales deliv. to excl.'!F:F,A504,'Details sales deliv. to excl.'!H:H)","v":0},{"$f":"-SUMIF('Details purch. deliv. to excl.'!F:F,A504,'Details purch. deliv. to excl.'!H:H)","v":0},0,0,0]
["ND9025","net.Desktop X500 license for 250 users",null,465,"ESCAUX",0,0,null,0,0,0,0,"",{"$f":"+SUMIF('Details sales deliv. to excl.'!F:F,A505,'Details sales deliv. to excl.'!H:H)","v":0},{"$f":"-SUMIF('Details purch. deliv. to excl.'!F:F,A505,'Details purch. deliv. to excl.'!H:H)","v":0},0,0,0]
["ND9030","net.Desktop X500 license for 300 users",null,465,"ESCAUX",0,0,null,0,0,0,0,"",{"$f":"+SUMIF('Details sales deliv. to excl.'!F:F,A506,'Details sales deliv. to excl.'!H:H)","v":0},{"$f":"-SUMIF('Details purch. deliv. to excl.'!F:F,A506,'Details purch. deliv. to excl.'!H:H)","v":0},0,0,0]
["ND9040","net.Desktop X500 license for 400 users",null,465,"ESCAUX",0,0,null,0,0,0,0,"",{"$f":"+SUMIF('Details sales deliv. to excl.'!F:F,A507,'Details sales deliv. to excl.'!H:H)","v":0},{"$f":"-SUMIF('Details purch. deliv. to excl.'!F:F,A507,'Details purch. deliv. to excl.'!H:H)","v":0},0,0,0]
["ND9050","net.Desktop X500 license for 500 users",null,465,"ESCAUX",0,0,null,0,0,0,0,"",{"$f":"+SUMIF('Details sales deliv. to excl.'!F:F,A508,'Details sales deliv. to excl.'!H:H)","v":0},{"$f":"-SUMIF('Details purch. deliv. to excl.'!F:F,A508,'Details purch. deliv. to excl.'!H:H)","v":0},0,0,0]
["ND9075","net.Desktop X500 license for 750 users",null,465,"ESCAUX",0,0,null,0,0,0,0,"",{"$f":"+SUMIF('Details sales deliv. to excl.'!F:F,A509,'Details sales deliv. to excl.'!H:H)","v":0},{"$f":"-SUMIF('Details purch. deliv. to excl.'!F:F,A509,'Details purch. deliv. to excl.'!H:H)","v":0},0,0,0]
["NSTD001","Non-Standard article",null,465,"ESCAUX",0,0,null,0,0,0,0,"",{"$f":"+SUMIF('Details sales deliv. to excl.'!F:F,A510,'Details sales deliv. to excl.'!H:H)","v":0},{"$f":"-SUMIF('Details purch. deliv. to excl.'!F:F,A510,'Details purch. deliv. to excl.'!H:H)","v":0},0,0,0]
["OA1010","SMP & BMS (2x5 redundant SOP's) - up to 500 SOP's - with Premium SLA",null,465,"ESCAUX",20944.400000000001,0,null,0,0,0,0,"",{"$f":"+SUMIF('Details sales deliv. to excl.'!F:F,A511,'Details sales deliv. to excl.'!H:H)","v":0},{"$f":"-SUMIF('Details purch. deliv. to excl.'!F:F,A511,'Details purch. deliv. to excl.'!H:H)","v":0},0,0,0]
["OA1015","Spare Server HP360G8",null,465,"ESCAUX",2094.44,0,null,0,0,0,0,"",{"$f":"+SUMIF('Details sales deliv. to excl.'!F:F,A512,'Details sales deliv. to excl.'!H:H)","v":0},{"$f":"-SUMIF('Details purch. deliv. to excl.'!F:F,A512,'Details purch. deliv. to excl.'!H:H)","v":0},0,0,0]
["OA1050","SOP Installation",null,465,"ESCAUX",0,0,null,0,0,0,0,"",{"$f":"+SUMIF('Details sales deliv. to excl.'!F:F,A513,'Details sales deliv. to excl.'!H:H)","v":0},{"$f":"-SUMIF('Details purch. deliv. to excl.'!F:F,A513,'Details purch. deliv. to excl.'!H:H)","v":0},0,0,0]
["OA1100","HW+fee for extra 100 SOP's to support - up to 500 SOP's - with Premium SLA",null,465,"ESCAUX",4188.88,0,null,0,0,0,0,"",{"$f":"+SUMIF('Details sales deliv. to excl.'!F:F,A514,'Details sales deliv. to excl.'!H:H)","v":0},{"$f":"-SUMIF('Details purch. deliv. to excl.'!F:F,A514,'Details purch. deliv. to excl.'!H:H)","v":0},0,0,0]
["OA1110","Certification DL380 instead of DL360",null,465,"ESCAUX",0,0,null,0,0,0,0,"",{"$f":"+SUMIF('Details sales deliv. to excl.'!F:F,A515,'Details sales deliv. to excl.'!H:H)","v":0},{"$f":"-SUMIF('Details purch. deliv. to excl.'!F:F,A515,'Details purch. deliv. to excl.'!H:H)","v":0},0,0,0]
["OA1115","Certification alternative for HPDL120 = 1U server with SSD",null,465,"ESCAUX",0,0,null,{"$f":"H516-G516","v":0},{"$f":"G516*F516","v":0},{"$f":"H516*F516","v":0},{"$f":"I516*F516","v":0},"",{"$f":"+SUMIF('Details sales deliv. to excl.'!F:F,A516,'Details sales deliv. to excl.'!H:H)","v":0},{"$f":"-SUMIF('Details purch. deliv. to excl.'!F:F,A516,'Details purch. deliv. to excl.'!H:H)","v":0},{"$f":"I516+N516+O516","v":0},{"$f":"G516+P516","v":0},{"$f":"Q516*F516","v":0}]
["OA1117","Certification of any future replacement of TTEC based SSU",null,465,"ESCAUX",0,0,null,0,0,0,0,{"$f":"IF(ABS(L517)>500,\"check\",\"\")","v":""},{"$f":"+SUMIF('Details sales deliv. to excl.'!F:F,A517,'Details sales deliv. to excl.'!H:H)","v":0},{"$f":"-SUMIF('Details purch. deliv. to excl.'!F:F,A517,'Details purch. deliv. to excl.'!H:H)","v":0},0,0,0]
["OA1119","Certification PRI Interface in single 1U appliance",null,465,"ESCAUX",0,0,null,0,0,0,0,"",{"$f":"+SUMIF('Details sales deliv. to excl.'!F:F,A518,'Details sales deliv. to excl.'!H:H)","v":0},{"$f":"-SUMIF('Details purch. deliv. to excl.'!F:F,A518,'Details purch. deliv. to excl.'!H:H)","v":0},0,0,0]
["OA1200","Station Ancrage with SIP only - with Premium SLA",null,465,"ESCAUX",4188.88,0,null,0,0,0,0,"",{"$f":"+SUMIF('Details sales deliv. to excl.'!F:F,A519,'Details sales deliv. to excl.'!H:H)","v":0},{"$f":"-SUMIF('Details purch. deliv. to excl.'!F:F,A519,'Details purch. deliv. to excl.'!H:H)","v":0},0,0,0]
["OA1202","Spare server for Station Ancrage",null,465,"ESCAUX",2094.44,0,null,0,0,0,0,"",{"$f":"+SUMIF('Details sales deliv. to excl.'!F:F,A520,'Details sales deliv. to excl.'!H:H)","v":0},{"$f":"-SUMIF('Details purch. deliv. to excl.'!F:F,A520,'Details purch. deliv. to excl.'!H:H)","v":0},0,0,0]
["OA1205","HUB - with Premium SLA",null,465,"ESCAUX",488.12,0,null,0,0,0,0,"",{"$f":"+SUMIF('Details sales deliv. to excl.'!F:F,A521,'Details sales deliv. to excl.'!H:H)","v":0},{"$f":"-SUMIF('Details purch. deliv. to excl.'!F:F,A521,'Details purch. deliv. to excl.'!H:H)","v":0},0,0,0]
["OA1207","Spare server for HUB",null,465,"ESCAUX",545,0,null,0,0,0,0,"",{"$f":"+SUMIF('Details sales deliv. to excl.'!F:F,A522,'Details sales deliv. to excl.'!H:H)","v":0},{"$f":"-SUMIF('Details purch. deliv. to excl.'!F:F,A522,'Details purch. deliv. to excl.'!H:H)","v":0},0,0,0]
["OA1210","Remote Node Intern - with Premium SLA",null,465,"ESCAUX",488.12,0,null,0,0,0,0,"",{"$f":"+SUMIF('Details sales deliv. to excl.'!F:F,A523,'Details sales deliv. to excl.'!H:H)","v":0},{"$f":"-SUMIF('Details purch. deliv. to excl.'!F:F,A523,'Details purch. deliv. to excl.'!H:H)","v":0},0,0,0]
["OA1211","Spare server for Remote Node Intern",null,465,"ESCAUX",488.12,0,null,0,0,0,0,"",{"$f":"+SUMIF('Details sales deliv. to excl.'!F:F,A524,'Details sales deliv. to excl.'!H:H)","v":0},{"$f":"-SUMIF('Details purch. deliv. to excl.'!F:F,A524,'Details purch. deliv. to excl.'!H:H)","v":0},0,0,0]
["OA1212","Remote Node Extern - with Premium SLA",null,465,"ESCAUX",488.12,0,null,0,0,0,0,"",{"$f":"+SUMIF('Details sales deliv. to excl.'!F:F,A525,'Details sales deliv. to excl.'!H:H)","v":0},{"$f":"-SUMIF('Details purch. deliv. to excl.'!F:F,A525,'Details purch. deliv. to excl.'!H:H)","v":0},0,0,0]
["OA1213","Spare server for Remote Node Extern",null,465,"ESCAUX",488.12,0,null,0,0,0,0,"",{"$f":"+SUMIF('Details sales deliv. to excl.'!F:F,A526,'Details sales deliv. to excl.'!H:H)","v":0},{"$f":"-SUMIF('Details purch. deliv. to excl.'!F:F,A526,'Details purch. deliv. to excl.'!H:H)","v":0},0,0,0]
["OA1220","Optional 4 PRI Interface for station d'ancrage",null,465,"ESCAUX",1142.99,0,null,0,0,0,0,"",{"$f":"+SUMIF('Details sales deliv. to excl.'!F:F,A527,'Details sales deliv. to excl.'!H:H)","v":0},{"$f":"-SUMIF('Details purch. deliv. to excl.'!F:F,A527,'Details purch. deliv. to excl.'!H:H)","v":0},0,0,0]
["OA1225","USB init SOP - per 50",null,465,"ESCAUX",0,0,null,0,0,0,0,"",{"$f":"+SUMIF('Details sales deliv. to excl.'!F:F,A528,'Details sales deliv. to excl.'!H:H)","v":0},{"$f":"-SUMIF('Details purch. deliv. to excl.'!F:F,A528,'Details purch. deliv. to excl.'!H:H)","v":0},0,0,0]
["OA1230","SMP Mono -up to 20 SOP's - customer test environment - up to 500 SOP's",null,465,"ESCAUX",2094.44,0,null,0,0,0,0,"",{"$f":"+SUMIF('Details sales deliv. to excl.'!F:F,A529,'Details sales deliv. to excl.'!H:H)","v":0},{"$f":"-SUMIF('Details purch. deliv. to excl.'!F:F,A529,'Details purch. deliv. to excl.'!H:H)","v":0},0,0,0]
["OA1235","Node Intern 30 channels",null,465,"ESCAUX",545,0,null,0,0,0,0,"",{"$f":"+SUMIF('Details sales deliv. to excl.'!F:F,A530,'Details sales deliv. to excl.'!H:H)","v":0},{"$f":"-SUMIF('Details purch. deliv. to excl.'!F:F,A530,'Details purch. deliv. to excl.'!H:H)","v":0},0,0,0]
["OA1237","Node Extern 10 channels",null,465,"ESCAUX",545,0,null,0,0,0,0,"",{"$f":"+SUMIF('Details sales deliv. to excl.'!F:F,A531,'Details sales deliv. to excl.'!H:H)","v":0},{"$f":"-SUMIF('Details purch. deliv. to excl.'!F:F,A531,'Details purch. deliv. to excl.'!H:H)","v":0},0,0,0]
["OA1240","SMP Installer up to 500 SOP's",null,465,"ESCAUX",0,0,null,0,0,0,0,"",{"$f":"+SUMIF('Details sales deliv. to excl.'!F:F,A532,'Details sales deliv. to excl.'!H:H)","v":0},{"$f":"-SUMIF('Details purch. deliv. to excl.'!F:F,A532,'Details purch. deliv. to excl.'!H:H)","v":0},0,0,0]
["OA1250","G729 for HUB - Remote Node",null,761,"DIGIUM ASTERISK",9.41,0,null,0,0,0,0,"",{"$f":"+SUMIF('Details sales deliv. to excl.'!F:F,A533,'Details sales deliv. to excl.'!H:H)","v":0},{"$f":"-SUMIF('Details purch. deliv. to excl.'!F:F,A533,'Details purch. deliv. to excl.'!H:H)","v":0},0,0,0]
["OA1300","Advanced Administrator Training 2days - 1-4 participants",null,465,"ESCAUX",0,0,null,0,0,0,0,"",{"$f":"+SUMIF('Details sales deliv. to excl.'!F:F,A534,'Details sales deliv. to excl.'!H:H)","v":0},{"$f":"-SUMIF('Details purch. deliv. to excl.'!F:F,A534,'Details purch. deliv. to excl.'!H:H)","v":0},0,0,0]
["OA1302","Advanced Administrator Training 2days - 5-8 participants",null,465,"ESCAUX",0,0,null,0,0,0,0,"",{"$f":"+SUMIF('Details sales deliv. to excl.'!F:F,A535,'Details sales deliv. to excl.'!H:H)","v":0},{"$f":"-SUMIF('Details purch. deliv. to excl.'!F:F,A535,'Details purch. deliv. to excl.'!H:H)","v":0},0,0,0]
["OA1310","Expert Training - 1-4 participants",null,465,"ESCAUX",0,0,null,0,0,0,0,"",{"$f":"+SUMIF('Details sales deliv. to excl.'!F:F,A536,'Details sales deliv. to excl.'!H:H)","v":0},{"$f":"-SUMIF('Details purch. deliv. to excl.'!F:F,A536,'Details purch. deliv. to excl.'!H:H)","v":0},0,0,0]
["OA1312","Expert Training - 5-8 participants",null,465,"ESCAUX",0,0,null,0,0,0,0,"",{"$f":"+SUMIF('Details sales deliv. to excl.'!F:F,A537,'Details sales deliv. to excl.'!H:H)","v":0},{"$f":"-SUMIF('Details purch. deliv. to excl.'!F:F,A537,'Details purch. deliv. to excl.'!H:H)","v":0},0,0,0]
["OA1400","Station Ancrage with SIP only + USB key",null,465,"ESCAUX",0,0,null,0,0,0,0,"",{"$f":"+SUMIF('Details sales deliv. to excl.'!F:F,A538,'Details sales deliv. to excl.'!H:H)","v":0},{"$f":"-SUMIF('Details purch. deliv. to excl.'!F:F,A538,'Details purch. deliv. to excl.'!H:H)","v":0},0,0,0]
["OA1402","Station Ancrage with SIP only + USB key + G729",null,465,"ESCAUX",0,0,null,0,0,0,0,"",{"$f":"+SUMIF('Details sales deliv. to excl.'!F:F,A539,'Details sales deliv. to excl.'!H:H)","v":0},{"$f":"-SUMIF('Details purch. deliv. to excl.'!F:F,A539,'Details purch. deliv. to excl.'!H:H)","v":0},0,0,0]
["OA1405","KIM61 redundant + USB key",null,465,"ESCAUX",0,0,null,0,0,0,0,"",{"$f":"+SUMIF('Details sales deliv. to excl.'!F:F,A540,'Details sales deliv. to excl.'!H:H)","v":0},{"$f":"-SUMIF('Details purch. deliv. to excl.'!F:F,A540,'Details purch. deliv. to excl.'!H:H)","v":0},0,0,0]
["OA1407","KIM61 redundant + USB key + G729",null,465,"ESCAUX",0,0,null,0,0,0,0,"",{"$f":"+SUMIF('Details sales deliv. to excl.'!F:F,A541,'Details sales deliv. to excl.'!H:H)","v":0},{"$f":"-SUMIF('Details purch. deliv. to excl.'!F:F,A541,'Details purch. deliv. to excl.'!H:H)","v":0},0,0,0]
["OA1410","KIM61 single + USB key",null,465,"ESCAUX",0,0,null,0,0,0,0,"",{"$f":"+SUMIF('Details sales deliv. to excl.'!F:F,A542,'Details sales deliv. to excl.'!H:H)","v":0},{"$f":"-SUMIF('Details purch. deliv. to excl.'!F:F,A542,'Details purch. deliv. to excl.'!H:H)","v":0},0,0,0]
["OA1412","KIM61 single + USB key + G729",null,465,"ESCAUX",0,0,null,0,0,0,0,"",{"$f":"+SUMIF('Details sales deliv. to excl.'!F:F,A543,'Details sales deliv. to excl.'!H:H)","v":0},{"$f":"-SUMIF('Details purch. deliv. to excl.'!F:F,A543,'Details purch. deliv. to excl.'!H:H)","v":0},0,0,0]
["OA1415","SSU31 + USB key",null,465,"ESCAUX",0,0,null,0,0,0,0,"",{"$f":"+SUMIF('Details sales deliv. to excl.'!F:F,A544,'Details sales deliv. to excl.'!H:H)","v":0},{"$f":"-SUMIF('Details purch. deliv. to excl.'!F:F,A544,'Details purch. deliv. to excl.'!H:H)","v":0},0,0,0]
["OA1417","SSU31 + USB key + G729",null,465,"ESCAUX",0,0,null,0,0,0,0,"",{"$f":"+SUMIF('Details sales deliv. to excl.'!F:F,A545,'Details sales deliv. to excl.'!H:H)","v":0},{"$f":"-SUMIF('Details purch. deliv. to excl.'!F:F,A545,'Details purch. deliv. to excl.'!H:H)","v":0},0,0,0]
["OA1420","SSU11 + USB key",null,465,"ESCAUX",0,0,null,0,0,0,0,"",{"$f":"+SUMIF('Details sales deliv. to excl.'!F:F,A546,'Details sales deliv. to excl.'!H:H)","v":0},{"$f":"-SUMIF('Details purch. deliv. to excl.'!F:F,A546,'Details purch. deliv. to excl.'!H:H)","v":0},0,0,0]
["OA1422","SSU11 + USB key + G729",null,465,"ESCAUX",0,0,null,0,0,0,0,"",{"$f":"+SUMIF('Details sales deliv. to excl.'!F:F,A547,'Details sales deliv. to excl.'!H:H)","v":0},{"$f":"-SUMIF('Details purch. deliv. to excl.'!F:F,A547,'Details purch. deliv. to excl.'!H:H)","v":0},0,0,0]
["OC1001","software net.Console (Operator Console)","Operator Console",465,"ESCAUX",0,0,null,0,0,0,0,"",{"$f":"+SUMIF('Details sales deliv. to excl.'!F:F,A548,'Details sales deliv. to excl.'!H:H)","v":0},{"$f":"-SUMIF('Details purch. deliv. to excl.'!F:F,A548,'Details purch. deliv. to excl.'!H:H)","v":0},0,0,0]
["OI1001","Office License-1",null,465,"ESCAUX",0,0,null,0,0,0,0,"",{"$f":"+SUMIF('Details sales deliv. to excl.'!F:F,A549,'Details sales deliv. to excl.'!H:H)","v":0},{"$f":"-SUMIF('Details purch. deliv. to excl.'!F:F,A549,'Details purch. deliv. to excl.'!H:H)","v":0},0,0,0]
["OI1002","Flex License-1",null,465,"ESCAUX",0,0,null,0,0,0,0,"",{"$f":"+SUMIF('Details sales deliv. to excl.'!F:F,A550,'Details sales deliv. to excl.'!H:H)","v":0},{"$f":"-SUMIF('Details purch. deliv. to excl.'!F:F,A550,'Details purch. deliv. to excl.'!H:H)","v":0},0,0,0]
["OI1003","SIP Trunking License-1",null,465,"ESCAUX",0,0,null,0,0,0,0,"",{"$f":"+SUMIF('Details sales deliv. to excl.'!F:F,A551,'Details sales deliv. to excl.'!H:H)","v":0},{"$f":"-SUMIF('Details purch. deliv. to excl.'!F:F,A551,'Details purch. deliv. to excl.'!H:H)","v":0},0,0,0]
["OI1005","G729 Codec vSOP/SOP license",null,465,"ESCAUX",0,0,null,0,0,0,0,"",{"$f":"+SUMIF('Details sales deliv. to excl.'!F:F,A552,'Details sales deliv. to excl.'!H:H)","v":0},{"$f":"-SUMIF('Details purch. deliv. to excl.'!F:F,A552,'Details purch. deliv. to excl.'!H:H)","v":0},0,0,0]
["OI1007","Demo room license",null,465,"ESCAUX",0,0,null,0,0,0,0,"",{"$f":"+SUMIF('Details sales deliv. to excl.'!F:F,A553,'Details sales deliv. to excl.'!H:H)","v":0},{"$f":"-SUMIF('Details purch. deliv. to excl.'!F:F,A553,'Details purch. deliv. to excl.'!H:H)","v":0},0,0,0]
["OI1009","Test platform license",null,465,"ESCAUX",0,0,null,0,0,0,0,"",{"$f":"+SUMIF('Details sales deliv. to excl.'!F:F,A554,'Details sales deliv. to excl.'!H:H)","v":0},{"$f":"-SUMIF('Details purch. deliv. to excl.'!F:F,A554,'Details purch. deliv. to excl.'!H:H)","v":0},0,0,0]
["OI1011","Unified End-Point with 1 connector",null,465,"ESCAUX",0,0,null,0,0,0,0,"",{"$f":"+SUMIF('Details sales deliv. to excl.'!F:F,A555,'Details sales deliv. to excl.'!H:H)","v":0},{"$f":"-SUMIF('Details purch. deliv. to excl.'!F:F,A555,'Details purch. deliv. to excl.'!H:H)","v":0},0,0,0]
["OI1012","Unified End-Point per additional connector",null,465,"ESCAUX",0,0,null,0,0,0,0,"",{"$f":"+SUMIF('Details sales deliv. to excl.'!F:F,A556,'Details sales deliv. to excl.'!H:H)","v":0},{"$f":"-SUMIF('Details purch. deliv. to excl.'!F:F,A556,'Details purch. deliv. to excl.'!H:H)","v":0},0,0,0]
["OI1105","Yearly Support",null,465,"ESCAUX",0,0,null,0,0,0,0,"",{"$f":"+SUMIF('Details sales deliv. to excl.'!F:F,A557,'Details sales deliv. to excl.'!H:H)","v":0},{"$f":"-SUMIF('Details purch. deliv. to excl.'!F:F,A557,'Details purch. deliv. to excl.'!H:H)","v":0},0,0,0]
["OI1109","Migration services",null,465,"ESCAUX",0,0,null,0,0,0,0,"",{"$f":"+SUMIF('Details sales deliv. to excl.'!F:F,A558,'Details sales deliv. to excl.'!H:H)","v":0},{"$f":"-SUMIF('Details purch. deliv. to excl.'!F:F,A558,'Details purch. deliv. to excl.'!H:H)","v":0},0,0,0]
["OI1111","Level 3 support 24/24",null,465,"ESCAUX",0,0,null,0,0,0,0,"",{"$f":"+SUMIF('Details sales deliv. to excl.'!F:F,A559,'Details sales deliv. to excl.'!H:H)","v":0},{"$f":"-SUMIF('Details purch. deliv. to excl.'!F:F,A559,'Details purch. deliv. to excl.'!H:H)","v":0},0,0,0]
["OI1113","Out of Office Support (Level 1, Level 2)",null,465,"ESCAUX",0,0,null,0,0,0,0,"",{"$f":"+SUMIF('Details sales deliv. to excl.'!F:F,A560,'Details sales deliv. to excl.'!H:H)","v":0},{"$f":"-SUMIF('Details purch. deliv. to excl.'!F:F,A560,'Details purch. deliv. to excl.'!H:H)","v":0},0,0,0]
["OI1130","Advanced IVR per 5 sim.channels",null,465,"ESCAUX",0,0,null,0,0,0,0,"",{"$f":"+SUMIF('Details sales deliv. to excl.'!F:F,A561,'Details sales deliv. to excl.'!H:H)","v":0},{"$f":"-SUMIF('Details purch. deliv. to excl.'!F:F,A561,'Details purch. deliv. to excl.'!H:H)","v":0},0,0,0]
["OI1131","Advanced IVR per 10 sim.channels",null,465,"ESCAUX",0,0,null,0,0,0,0,"",{"$f":"+SUMIF('Details sales deliv. to excl.'!F:F,A562,'Details sales deliv. to excl.'!H:H)","v":0},{"$f":"-SUMIF('Details purch. deliv. to excl.'!F:F,A562,'Details purch. deliv. to excl.'!H:H)","v":0},0,0,0]
["OI1135","SIP Channels from 3rd party to vSOP",null,465,"ESCAUX",0,0,null,0,0,0,0,"",{"$f":"+SUMIF('Details sales deliv. to excl.'!F:F,A563,'Details sales deliv. to excl.'!H:H)","v":0},{"$f":"-SUMIF('Details purch. deliv. to excl.'!F:F,A563,'Details purch. deliv. to excl.'!H:H)","v":0},0,0,0]
["OI1140","New Customer Infra Set-up",null,465,"ESCAUX",0,0,null,0,0,0,0,"",{"$f":"+SUMIF('Details sales deliv. to excl.'!F:F,A564,'Details sales deliv. to excl.'!H:H)","v":0},{"$f":"-SUMIF('Details purch. deliv. to excl.'!F:F,A564,'Details purch. deliv. to excl.'!H:H)","v":0},0,0,0]
["OI1200","End-User Business Training",null,465,"ESCAUX",0,0,null,0,0,0,0,"",{"$f":"+SUMIF('Details sales deliv. to excl.'!F:F,A565,'Details sales deliv. to excl.'!H:H)","v":0},{"$f":"-SUMIF('Details purch. deliv. to excl.'!F:F,A565,'Details purch. deliv. to excl.'!H:H)","v":0},0,0,0]
["OI1202","End-User Advanced Training",null,465,"ESCAUX",0,0,null,0,0,0,0,"",{"$f":"+SUMIF('Details sales deliv. to excl.'!F:F,A566,'Details sales deliv. to excl.'!H:H)","v":0},{"$f":"-SUMIF('Details purch. deliv. to excl.'!F:F,A566,'Details purch. deliv. to excl.'!H:H)","v":0},0,0,0]
["OI1204","End-User Premium Training",null,465,"ESCAUX",0,0,null,0,0,0,0,"",{"$f":"+SUMIF('Details sales deliv. to excl.'!F:F,A567,'Details sales deliv. to excl.'!H:H)","v":0},{"$f":"-SUMIF('Details purch. deliv. to excl.'!F:F,A567,'Details purch. deliv. to excl.'!H:H)","v":0},0,0,0]
["OI1206","Training Call Center - Agent",null,465,"ESCAUX",0,0,null,0,0,0,0,"",{"$f":"+SUMIF('Details sales deliv. to excl.'!F:F,A568,'Details sales deliv. to excl.'!H:H)","v":0},{"$f":"-SUMIF('Details purch. deliv. to excl.'!F:F,A568,'Details purch. deliv. to excl.'!H:H)","v":0},0,0,0]
["OI1207","Training Call Center - Supervisor",null,465,"ESCAUX",0,0,null,0,0,0,0,"",{"$f":"+SUMIF('Details sales deliv. to excl.'!F:F,A569,'Details sales deliv. to excl.'!H:H)","v":0},{"$f":"-SUMIF('Details purch. deliv. to excl.'!F:F,A569,'Details purch. deliv. to excl.'!H:H)","v":0},0,0,0]
["OI1208","Training Call Center - Administrator",null,465,"ESCAUX",0,0,null,0,0,0,0,"",{"$f":"+SUMIF('Details sales deliv. to excl.'!F:F,A570,'Details sales deliv. to excl.'!H:H)","v":0},{"$f":"-SUMIF('Details purch. deliv. to excl.'!F:F,A570,'Details purch. deliv. to excl.'!H:H)","v":0},0,0,0]
["OI1210","Advanced Administrator Training 2days - 5 participants",null,465,"ESCAUX",0,0,null,0,0,0,0,"",{"$f":"+SUMIF('Details sales deliv. to excl.'!F:F,A571,'Details sales deliv. to excl.'!H:H)","v":0},{"$f":"-SUMIF('Details purch. deliv. to excl.'!F:F,A571,'Details purch. deliv. to excl.'!H:H)","v":0},0,0,0]
["OI1215","End-User Training - 1/2day - 30 p.",null,465,"ESCAUX",0,0,null,0,0,0,0,"",{"$f":"+SUMIF('Details sales deliv. to excl.'!F:F,A572,'Details sales deliv. to excl.'!H:H)","v":0},{"$f":"-SUMIF('Details purch. deliv. to excl.'!F:F,A572,'Details purch. deliv. to excl.'!H:H)","v":0},0,0,0]
["OI1217","Train the Trainer Training - 1/2day - 8 p.",null,465,"ESCAUX",0,0,null,0,0,0,0,"",{"$f":"+SUMIF('Details sales deliv. to excl.'!F:F,A573,'Details sales deliv. to excl.'!H:H)","v":0},{"$f":"-SUMIF('Details purch. deliv. to excl.'!F:F,A573,'Details purch. deliv. to excl.'!H:H)","v":0},0,0,0]
["OI1219","Administrator Training - 1/2day - 3 p.",null,465,"ESCAUX",0,0,null,0,0,0,0,"",{"$f":"+SUMIF('Details sales deliv. to excl.'!F:F,A574,'Details sales deliv. to excl.'!H:H)","v":0},{"$f":"-SUMIF('Details purch. deliv. to excl.'!F:F,A574,'Details purch. deliv. to excl.'!H:H)","v":0},0,0,0]
["OI1221","Operator Console Training - 1/2day - 3 p.",null,465,"ESCAUX",0,0,null,0,0,0,0,"",{"$f":"+SUMIF('Details sales deliv. to excl.'!F:F,A575,'Details sales deliv. to excl.'!H:H)","v":0},{"$f":"-SUMIF('Details purch. deliv. to excl.'!F:F,A575,'Details purch. deliv. to excl.'!H:H)","v":0},0,0,0]
["OI1300","Business User",null,465,"ESCAUX",0,0,null,0,0,0,0,"",{"$f":"+SUMIF('Details sales deliv. to excl.'!F:F,A576,'Details sales deliv. to excl.'!H:H)","v":0},{"$f":"-SUMIF('Details purch. deliv. to excl.'!F:F,A576,'Details purch. deliv. to excl.'!H:H)","v":0},0,0,0]
["OI1305","First UEP",null,465,"ESCAUX",0,0,null,0,0,0,0,"",{"$f":"+SUMIF('Details sales deliv. to excl.'!F:F,A577,'Details sales deliv. to excl.'!H:H)","v":0},{"$f":"-SUMIF('Details purch. deliv. to excl.'!F:F,A577,'Details purch. deliv. to excl.'!H:H)","v":0},0,0,0]
["OI1307","UEP",null,465,"ESCAUX",0,0,null,0,0,0,0,"",{"$f":"+SUMIF('Details sales deliv. to excl.'!F:F,A578,'Details sales deliv. to excl.'!H:H)","v":0},{"$f":"-SUMIF('Details purch. deliv. to excl.'!F:F,A578,'Details purch. deliv. to excl.'!H:H)","v":0},0,0,0]
["OI1310","Agent (ESCAUX SW) Business User + 1 UEP",null,465,"ESCAUX",0,0,null,0,0,0,0,"",{"$f":"+SUMIF('Details sales deliv. to excl.'!F:F,A579,'Details sales deliv. to excl.'!H:H)","v":0},{"$f":"-SUMIF('Details purch. deliv. to excl.'!F:F,A579,'Details purch. deliv. to excl.'!H:H)","v":0},0,0,0]
["OI1312","Supervisor / Administrator ESCAUX SW",null,465,"ESCAUX",0,0,null,{"$f":"H580-G580","v":0},{"$f":"G580*F580","v":0},{"$f":"H580*F580","v":0},{"$f":"I580*F580","v":0},"",{"$f":"+SUMIF('Details sales deliv. to excl.'!F:F,A580,'Details sales deliv. to excl.'!H:H)","v":0},{"$f":"-SUMIF('Details purch. deliv. to excl.'!F:F,A580,'Details purch. deliv. to excl.'!H:H)","v":0},{"$f":"I580+N580+O580","v":0},{"$f":"G580+P580","v":0},{"$f":"Q580*F580","v":0}]
["OI1320","Advanced Reporting (per 5 reports)",null,465,"ESCAUX",0,0,null,0,0,0,0,{"$f":"IF(ABS(L581)>500,\"check\",\"\")","v":""},{"$f":"+SUMIF('Details sales deliv. to excl.'!F:F,A581,'Details sales deliv. to excl.'!H:H)","v":0},{"$f":"-SUMIF('Details purch. deliv. to excl.'!F:F,A581,'Details purch. deliv. to excl.'!H:H)","v":0},0,0,0]
["OI1325","Fax to email (per channel)",null,465,"ESCAUX",0,0,null,0,0,0,0,"",{"$f":"+SUMIF('Details sales deliv. to excl.'!F:F,A582,'Details sales deliv. to excl.'!H:H)","v":0},{"$f":"-SUMIF('Details purch. deliv. to excl.'!F:F,A582,'Details purch. deliv. to excl.'!H:H)","v":0},0,0,0]
["OI1330","Email to fax (per extension)",null,465,"ESCAUX",0,0,null,0,0,0,0,"",{"$f":"+SUMIF('Details sales deliv. to excl.'!F:F,A583,'Details sales deliv. to excl.'!H:H)","v":0},{"$f":"-SUMIF('Details purch. deliv. to excl.'!F:F,A583,'Details purch. deliv. to excl.'!H:H)","v":0},0,0,0]
["OI1340","LDAP Integration",null,465,"ESCAUX",0,0,null,0,0,0,0,"",{"$f":"+SUMIF('Details sales deliv. to excl.'!F:F,A584,'Details sales deliv. to excl.'!H:H)","v":0},{"$f":"-SUMIF('Details purch. deliv. to excl.'!F:F,A584,'Details purch. deliv. to excl.'!H:H)","v":0},0,0,0]
["OI1400","Service Template workshop",null,465,"ESCAUX",0,0,null,0,0,0,0,"",{"$f":"+SUMIF('Details sales deliv. to excl.'!F:F,A585,'Details sales deliv. to excl.'!H:H)","v":0},{"$f":"-SUMIF('Details purch. deliv. to excl.'!F:F,A585,'Details purch. deliv. to excl.'!H:H)","v":0},0,0,0]
["OI1402","Service Template implementation in IRISnet environment",null,465,"ESCAUX",0,0,null,0,0,0,0,"",{"$f":"+SUMIF('Details sales deliv. to excl.'!F:F,A586,'Details sales deliv. to excl.'!H:H)","v":0},{"$f":"-SUMIF('Details purch. deliv. to excl.'!F:F,A586,'Details purch. deliv. to excl.'!H:H)","v":0},0,0,0]
["OI1404","Service Template testing in IRISnet environment",null,465,"ESCAUX",0,0,null,0,0,0,0,"",{"$f":"+SUMIF('Details sales deliv. to excl.'!F:F,A587,'Details sales deliv. to excl.'!H:H)","v":0},{"$f":"-SUMIF('Details purch. deliv. to excl.'!F:F,A587,'Details purch. deliv. to excl.'!H:H)","v":0},0,0,0]
["OI1406","Test environment setup",null,465,"ESCAUX",0,0,null,0,0,0,0,"",{"$f":"+SUMIF('Details sales deliv. to excl.'!F:F,A588,'Details sales deliv. to excl.'!H:H)","v":0},{"$f":"-SUMIF('Details purch. deliv. to excl.'!F:F,A588,'Details purch. deliv. to excl.'!H:H)","v":0},0,0,0]
["OI1408","Demo environment setup",null,465,"ESCAUX",0,0,null,0,0,0,0,"",{"$f":"+SUMIF('Details sales deliv. to excl.'!F:F,A589,'Details sales deliv. to excl.'!H:H)","v":0},{"$f":"-SUMIF('Details purch. deliv. to excl.'!F:F,A589,'Details purch. deliv. to excl.'!H:H)","v":0},0,0,0]
["OI1410","PM for Serv.Temp + setup",null,465,"ESCAUX",0,0,null,0,0,0,0,"",{"$f":"+SUMIF('Details sales deliv. to excl.'!F:F,A590,'Details sales deliv. to excl.'!H:H)","v":0},{"$f":"-SUMIF('Details purch. deliv. to excl.'!F:F,A590,'Details purch. deliv. to excl.'!H:H)","v":0},0,0,0]
["OI1412","Establishment of all processes",null,465,"ESCAUX",0,0,null,0,0,0,0,"",{"$f":"+SUMIF('Details sales deliv. to excl.'!F:F,A591,'Details sales deliv. to excl.'!H:H)","v":0},{"$f":"-SUMIF('Details purch. deliv. to excl.'!F:F,A591,'Details purch. deliv. to excl.'!H:H)","v":0},0,0,0]
["OI1414","Admin guide, Service Desc, Serv.Assurance Guide",null,465,"ESCAUX",0,0,null,0,0,0,0,"",{"$f":"+SUMIF('Details sales deliv. to excl.'!F:F,A592,'Details sales deliv. to excl.'!H:H)","v":0},{"$f":"-SUMIF('Details purch. deliv. to excl.'!F:F,A592,'Details purch. deliv. to excl.'!H:H)","v":0},0,0,0]
["OI1416","PM, Config, SMP Installation",null,465,"ESCAUX",0,0,null,0,0,0,0,"",{"$f":"+SUMIF('Details sales deliv. to excl.'!F:F,A593,'Details sales deliv. to excl.'!H:H)","v":0},{"$f":"-SUMIF('Details purch. deliv. to excl.'!F:F,A593,'Details purch. deliv. to excl.'!H:H)","v":0},0,0,0]
["OI1418","Phase 2 Integration at vSOP Level for Nixxis",null,465,"ESCAUX",0,0,null,0,0,0,0,"",{"$f":"+SUMIF('Details sales deliv. to excl.'!F:F,A594,'Details sales deliv. to excl.'!H:H)","v":0},{"$f":"-SUMIF('Details purch. deliv. to excl.'!F:F,A594,'Details purch. deliv. to excl.'!H:H)","v":0},0,0,0]
["OI1420","CDR customization PM + Config + Testing",null,465,"ESCAUX",0,0,null,0,0,0,0,"",{"$f":"+SUMIF('Details sales deliv. to excl.'!F:F,A595,'Details sales deliv. to excl.'!H:H)","v":0},{"$f":"-SUMIF('Details purch. deliv. to excl.'!F:F,A595,'Details purch. deliv. to excl.'!H:H)","v":0},0,0,0]
["OI1501","VSOP configuration and installation in DC IRISnet",null,465,"ESCAUX",0,0,null,0,0,0,0,"",{"$f":"+SUMIF('Details sales deliv. to excl.'!F:F,A596,'Details sales deliv. to excl.'!H:H)","v":0},{"$f":"-SUMIF('Details purch. deliv. to excl.'!F:F,A596,'Details purch. deliv. to excl.'!H:H)","v":0},0,0,0]
["OI1503","SOP pre-configuration by Escaux",null,465,"ESCAUX",0,0,null,0,0,0,0,"",{"$f":"+SUMIF('Details sales deliv. to excl.'!F:F,A597,'Details sales deliv. to excl.'!H:H)","v":0},{"$f":"-SUMIF('Details purch. deliv. to excl.'!F:F,A597,'Details purch. deliv. to excl.'!H:H)","v":0},0,0,0]
["OI1511","Staging VSOP & VSBC - per customer",null,465,"ESCAUX",0,0,null,0,0,0,0,"",{"$f":"+SUMIF('Details sales deliv. to excl.'!F:F,A598,'Details sales deliv. to excl.'!H:H)","v":0},{"$f":"-SUMIF('Details purch. deliv. to excl.'!F:F,A598,'Details purch. deliv. to excl.'!H:H)","v":0},0,0,0]
["OI1513","Configuration & Support Engineer - per day",null,465,"ESCAUX",0,0,null,0,0,0,0,"",{"$f":"+SUMIF('Details sales deliv. to excl.'!F:F,A599,'Details sales deliv. to excl.'!H:H)","v":0},{"$f":"-SUMIF('Details purch. deliv. to excl.'!F:F,A599,'Details purch. deliv. to excl.'!H:H)","v":0},0,0,0]
["OI1515","Project Manager - per day",null,465,"ESCAUX",0,0,null,0,0,0,0,"",{"$f":"+SUMIF('Details sales deliv. to excl.'!F:F,A600,'Details sales deliv. to excl.'!H:H)","v":0},{"$f":"-SUMIF('Details purch. deliv. to excl.'!F:F,A600,'Details purch. deliv. to excl.'!H:H)","v":0},0,0,0]
["OI1517","Senior Developer - per day",null,465,"ESCAUX",0,0,null,0,0,0,0,"",{"$f":"+SUMIF('Details sales deliv. to excl.'!F:F,A601,'Details sales deliv. to excl.'!H:H)","v":0},{"$f":"-SUMIF('Details purch. deliv. to excl.'!F:F,A601,'Details purch. deliv. to excl.'!H:H)","v":0},0,0,0]
["OI1519","Design Architecture - per day",null,465,"ESCAUX",0,0,null,0,0,0,0,"",{"$f":"+SUMIF('Details sales deliv. to excl.'!F:F,A602,'Details sales deliv. to excl.'!H:H)","v":0},{"$f":"-SUMIF('Details purch. deliv. to excl.'!F:F,A602,'Details purch. deliv. to excl.'!H:H)","v":0},0,0,0]
["OM1100","Profile (from 0 to 4999)",null,465,"ESCAUX",0,0,null,0,0,0,0,"",{"$f":"+SUMIF('Details sales deliv. to excl.'!F:F,A603,'Details sales deliv. to excl.'!H:H)","v":0},{"$f":"-SUMIF('Details purch. deliv. to excl.'!F:F,A603,'Details purch. deliv. to excl.'!H:H)","v":0},0,0,0]
["OM1102","Profile (from 5000 to 9999)",null,465,"ESCAUX",0,0,null,0,0,0,0,"",{"$f":"+SUMIF('Details sales deliv. to excl.'!F:F,A604,'Details sales deliv. to excl.'!H:H)","v":0},{"$f":"-SUMIF('Details purch. deliv. to excl.'!F:F,A604,'Details purch. deliv. to excl.'!H:H)","v":0},0,0,0]
["OM1104","Profile (from 10000 to 14999)",null,465,"ESCAUX",0,0,null,0,0,0,0,"",{"$f":"+SUMIF('Details sales deliv. to excl.'!F:F,A605,'Details sales deliv. to excl.'!H:H)","v":0},{"$f":"-SUMIF('Details purch. deliv. to excl.'!F:F,A605,'Details purch. deliv. to excl.'!H:H)","v":0},0,0,0]
["OM1106","Profile (from 15000 to 24999)",null,465,"ESCAUX",0,0,null,0,0,0,0,"",{"$f":"+SUMIF('Details sales deliv. to excl.'!F:F,A606,'Details sales deliv. to excl.'!H:H)","v":0},{"$f":"-SUMIF('Details purch. deliv. to excl.'!F:F,A606,'Details purch. deliv. to excl.'!H:H)","v":0},0,0,0]
["OM1108","Profile (from 25000 to 34999)",null,465,"ESCAUX",0,0,null,0,0,0,0,"",{"$f":"+SUMIF('Details sales deliv. to excl.'!F:F,A607,'Details sales deliv. to excl.'!H:H)","v":0},{"$f":"-SUMIF('Details purch. deliv. to excl.'!F:F,A607,'Details purch. deliv. to excl.'!H:H)","v":0},0,0,0]
["OM1110","Profile (from 35000 to 44999)",null,465,"ESCAUX",0,0,null,0,0,0,0,"",{"$f":"+SUMIF('Details sales deliv. to excl.'!F:F,A608,'Details sales deliv. to excl.'!H:H)","v":0},{"$f":"-SUMIF('Details purch. deliv. to excl.'!F:F,A608,'Details purch. deliv. to excl.'!H:H)","v":0},0,0,0]
["OM1112","Profile (more than 45000)",null,465,"ESCAUX",0,0,null,0,0,0,0,"",{"$f":"+SUMIF('Details sales deliv. to excl.'!F:F,A609,'Details sales deliv. to excl.'!H:H)","v":0},{"$f":"-SUMIF('Details purch. deliv. to excl.'!F:F,A609,'Details purch. deliv. to excl.'!H:H)","v":0},0,0,0]
["OM1200","Activation in euro/company (from 0 to 4999)",null,465,"ESCAUX",0,0,null,0,0,0,0,"",{"$f":"+SUMIF('Details sales deliv. to excl.'!F:F,A610,'Details sales deliv. to excl.'!H:H)","v":0},{"$f":"-SUMIF('Details purch. deliv. to excl.'!F:F,A610,'Details purch. deliv. to excl.'!H:H)","v":0},0,0,0]
["OM1202","Activation in euro/company (from 5000 to 9999)",null,465,"ESCAUX",0,0,null,0,0,0,0,"",{"$f":"+SUMIF('Details sales deliv. to excl.'!F:F,A611,'Details sales deliv. to excl.'!H:H)","v":0},{"$f":"-SUMIF('Details purch. deliv. to excl.'!F:F,A611,'Details purch. deliv. to excl.'!H:H)","v":0},0,0,0]
["OM1204","Activation in euro/company (from 10000 to 14999)",null,465,"ESCAUX",0,0,null,0,0,0,0,"",{"$f":"+SUMIF('Details sales deliv. to excl.'!F:F,A612,'Details sales deliv. to excl.'!H:H)","v":0},{"$f":"-SUMIF('Details purch. deliv. to excl.'!F:F,A612,'Details purch. deliv. to excl.'!H:H)","v":0},0,0,0]
["OM1206","Activation in euro/company (from 15000 to 24999)",null,465,"ESCAUX",0,0,null,0,0,0,0,"",{"$f":"+SUMIF('Details sales deliv. to excl.'!F:F,A613,'Details sales deliv. to excl.'!H:H)","v":0},{"$f":"-SUMIF('Details purch. deliv. to excl.'!F:F,A613,'Details purch. deliv. to excl.'!H:H)","v":0},0,0,0]
["OM1208","Activation in euro/company (from 25000 to 34999)",null,465,"ESCAUX",0,0,null,0,0,0,0,"",{"$f":"+SUMIF('Details sales deliv. to excl.'!F:F,A614,'Details sales deliv. to excl.'!H:H)","v":0},{"$f":"-SUMIF('Details purch. deliv. to excl.'!F:F,A614,'Details purch. deliv. to excl.'!H:H)","v":0},0,0,0]
["OM1210","Activation in euro/company (from 35000 to 44999)",null,465,"ESCAUX",0,0,null,0,0,0,0,"",{"$f":"+SUMIF('Details sales deliv. to excl.'!F:F,A615,'Details sales deliv. to excl.'!H:H)","v":0},{"$f":"-SUMIF('Details purch. deliv. to excl.'!F:F,A615,'Details purch. deliv. to excl.'!H:H)","v":0},0,0,0]
["OM1212","Activation in euro/company (more than 45000)",null,465,"ESCAUX",0,0,null,0,0,0,0,"",{"$f":"+SUMIF('Details sales deliv. to excl.'!F:F,A616,'Details sales deliv. to excl.'!H:H)","v":0},{"$f":"-SUMIF('Details purch. deliv. to excl.'!F:F,A616,'Details purch. deliv. to excl.'!H:H)","v":0},0,0,0]
["OM1250","Project Management M*/day",null,465,"ESCAUX",0,0,null,0,0,0,0,"",{"$f":"+SUMIF('Details sales deliv. to excl.'!F:F,A617,'Details sales deliv. to excl.'!H:H)","v":0},{"$f":"-SUMIF('Details purch. deliv. to excl.'!F:F,A617,'Details purch. deliv. to excl.'!H:H)","v":0},0,0,0]
["OM1255","Design Architecture M*/day",null,465,"ESCAUX",0,0,null,0,0,0,0,"",{"$f":"+SUMIF('Details sales deliv. to excl.'!F:F,A618,'Details sales deliv. to excl.'!H:H)","v":0},{"$f":"-SUMIF('Details purch. deliv. to excl.'!F:F,A618,'Details purch. deliv. to excl.'!H:H)","v":0},0,0,0]
["OM1260","Senior Developper M*/day",null,465,"ESCAUX",0,0,null,0,0,0,0,"",{"$f":"+SUMIF('Details sales deliv. to excl.'!F:F,A619,'Details sales deliv. to excl.'!H:H)","v":0},{"$f":"-SUMIF('Details purch. deliv. to excl.'!F:F,A619,'Details purch. deliv. to excl.'!H:H)","v":0},0,0,0]
["OM1265","Configuration & Support Engineer M*/day",null,465,"ESCAUX",0,0,null,0,0,0,0,"",{"$f":"+SUMIF('Details sales deliv. to excl.'!F:F,A620,'Details sales deliv. to excl.'!H:H)","v":0},{"$f":"-SUMIF('Details purch. deliv. to excl.'!F:F,A620,'Details purch. deliv. to excl.'!H:H)","v":0},0,0,0]
["OM1270","Professional manday M*",null,465,"ESCAUX",0,0,null,0,0,0,0,"",{"$f":"+SUMIF('Details sales deliv. to excl.'!F:F,A621,'Details sales deliv. to excl.'!H:H)","v":0},{"$f":"-SUMIF('Details purch. deliv. to excl.'!F:F,A621,'Details purch. deliv. to excl.'!H:H)","v":0},0,0,0]
["OM1300","Incident management during/outside business hours - 24/7",null,465,"ESCAUX",0,0,null,0,0,0,0,"",{"$f":"+SUMIF('Details sales deliv. to excl.'!F:F,A622,'Details sales deliv. to excl.'!H:H)","v":0},{"$f":"-SUMIF('Details purch. deliv. to excl.'!F:F,A622,'Details purch. deliv. to excl.'!H:H)","v":0},0,0,0]
["OM1301","Incident management outside business hours",null,465,"ESCAUX",0,0,null,0,0,0,0,"",{"$f":"+SUMIF('Details sales deliv. to excl.'!F:F,A623,'Details sales deliv. to excl.'!H:H)","v":0},{"$f":"-SUMIF('Details purch. deliv. to excl.'!F:F,A623,'Details purch. deliv. to excl.'!H:H)","v":0},0,0,0]
["OM1310","service manager (SLA management, reporting, ...)",null,465,"ESCAUX",0,0,null,0,0,0,0,"",{"$f":"+SUMIF('Details sales deliv. to excl.'!F:F,A624,'Details sales deliv. to excl.'!H:H)","v":0},{"$f":"-SUMIF('Details purch. deliv. to excl.'!F:F,A624,'Details purch. deliv. to excl.'!H:H)","v":0},0,0,0]
["OM1312","Configuration support (for end customer, changes in service template, ...)",null,465,"ESCAUX",0,0,null,0,0,0,0,"",{"$f":"+SUMIF('Details sales deliv. to excl.'!F:F,A625,'Details sales deliv. to excl.'!H:H)","v":0},{"$f":"-SUMIF('Details purch. deliv. to excl.'!F:F,A625,'Details purch. deliv. to excl.'!H:H)","v":0},0,0,0]
["OM1315","On-site intervention (for end-customer if applicable)",null,465,"ESCAUX",0,0,null,0,0,0,0,"",{"$f":"+SUMIF('Details sales deliv. to excl.'!F:F,A626,'Details sales deliv. to excl.'!H:H)","v":0},{"$f":"-SUMIF('Details purch. deliv. to excl.'!F:F,A626,'Details purch. deliv. to excl.'!H:H)","v":0},0,0,0]
["OM1400","Set-up cost for SS7-TDM solution",null,465,"ESCAUX",0,0,null,0,0,0,0,"",{"$f":"+SUMIF('Details sales deliv. to excl.'!F:F,A627,'Details sales deliv. to excl.'!H:H)","v":0},{"$f":"-SUMIF('Details purch. deliv. to excl.'!F:F,A627,'Details purch. deliv. to excl.'!H:H)","v":0},0,0,0]
["OM1405","Set-up cost for ISUP solution",null,465,"ESCAUX",0,0,null,0,0,0,0,"",{"$f":"+SUMIF('Details sales deliv. to excl.'!F:F,A628,'Details sales deliv. to excl.'!H:H)","v":0},{"$f":"-SUMIF('Details purch. deliv. to excl.'!F:F,A628,'Details purch. deliv. to excl.'!H:H)","v":0},0,0,0]
["PA1000","Cisco 7940-7960 power supply","CP-PWR-CUBE",472,"WESTCON GROUP EUROPEAN OPERATIONS LTD - BELGIUM BRANCH",20.6,0,null,0,0,0,0,"",{"$f":"+SUMIF('Details sales deliv. to excl.'!F:F,A629,'Details sales deliv. to excl.'!H:H)","v":0},{"$f":"-SUMIF('Details purch. deliv. to excl.'!F:F,A629,'Details purch. deliv. to excl.'!H:H)","v":0},0,0,0]
["PA1001","Cisco 7941 pwr cube + pwr cord","CP-PWR-CUBE-3+CP-PWR-CORD-CE",472,"WESTCON GROUP EUROPEAN OPERATIONS LTD - BELGIUM BRANCH",25.57,36,36,0,920.52,920.52,0,null,{"$f":"+SUMIF('Details sales deliv. to excl.'!F:F,A630,'Details sales deliv. to excl.'!H:H)","v":0},{"$f":"-SUMIF('Details purch. deliv. to excl.'!F:F,A630,'Details purch. deliv. to excl.'!H:H)","v":0},0,36,920.52]
["PA1005","Handset cord for 7900 series phones","Handset cord 7900 cisco phones",472,"WESTCON GROUP EUROPEAN OPERATIONS LTD - BELGIUM BRANCH",2.44,0,null,0,0,0,0,"",{"$f":"+SUMIF('Details sales deliv. to excl.'!F:F,A631,'Details sales deliv. to excl.'!H:H)","v":0},{"$f":"-SUMIF('Details purch. deliv. to excl.'!F:F,A631,'Details purch. deliv. to excl.'!H:H)","v":0},0,0,0]
["PA1010","Power cord","PWR-CORD REF. ELX37011",473,"REXEL",2.71,0,null,0,0,0,0,"",{"$f":"+SUMIF('Details sales deliv. to excl.'!F:F,A632,'Details sales deliv. to excl.'!H:H)","v":0},{"$f":"-SUMIF('Details purch. deliv. to excl.'!F:F,A632,'Details purch. deliv. to excl.'!H:H)","v":0},0,0,0]
["PA1020","Swissvoice Power Cube","02P175600A",561,"SWISSVOICE",2,0,null,0,0,0,0,"",{"$f":"+SUMIF('Details sales deliv. to excl.'!F:F,A633,'Details sales deliv. to excl.'!H:H)","v":0},{"$f":"-SUMIF('Details purch. deliv. to excl.'!F:F,A633,'Details purch. deliv. to excl.'!H:H)","v":0},0,0,0]
["PA1021","GRANDSTREAM power cube GXP2000",null,503,"ELINK GMBH",7,2,2,0,14,14,0,null,{"$f":"+SUMIF('Details sales deliv. to excl.'!F:F,A634,'Details sales deliv. to excl.'!H:H)","v":0},{"$f":"-SUMIF('Details purch. deliv. to excl.'!F:F,A634,'Details purch. deliv. to excl.'!H:H)","v":0},0,2,14]
["PA1022","YEALINK POWER CUBE for Gandstream GXP2000",null,503,"ELINK GMBH",7,44,44,0,308,308,0,null,{"$f":"+SUMIF('Details sales deliv. to excl.'!F:F,A635,'Details sales deliv. to excl.'!H:H)","v":0},{"$f":"-SUMIF('Details purch. deliv. to excl.'!F:F,A635,'Details purch. deliv. to excl.'!H:H)","v":0},0,44,308]
["PA1030","5 POLYCOM power supply for IP330","2200 17569 122",857,"GO TELECOM BVBA",49.5,0,null,0,0,0,0,"",{"$f":"+SUMIF('Details sales deliv. to excl.'!F:F,A636,'Details sales deliv. to excl.'!H:H)","v":0},{"$f":"-SUMIF('Details purch. deliv. to excl.'!F:F,A636,'Details purch. deliv. to excl.'!H:H)","v":0},0,0,0]
["PA1031","5 POLYCOM pwr supplies for IP331/335/450 - 24V","2200-17877-122",472,"WESTCON GROUP EUROPEAN OPERATIONS LTD - BELGIUM BRANCH",60.48,10,10,0,604.79999999999995,604.79999999999995,0,null,{"$f":"+SUMIF('Details sales deliv. to excl.'!F:F,A637,'Details sales deliv. to excl.'!H:H)","v":0},{"$f":"-SUMIF('Details purch. deliv. to excl.'!F:F,A637,'Details purch. deliv. to excl.'!H:H)","v":0},0,10,604.79999999999995]
["PA1032","5 POLYCOM pwr supplies for IP560/670/VVX500/VVX1500 - 48V - EU plug","2200-17670-122",472,"WESTCON GROUP EUROPEAN OPERATIONS LTD - BELGIUM BRANCH",59.04,7,7,0,413.28,413.28,0,null,{"$f":"+SUMIF('Details sales deliv. to excl.'!F:F,A638,'Details sales deliv. to excl.'!H:H)","v":0},{"$f":"-SUMIF('Details purch. deliv. to excl.'!F:F,A638,'Details purch. deliv. to excl.'!H:H)","v":0},0,7,413.28]
["PA1033","5 POLYCOM pwr supplies for IP550/650 - 24V","2200-17569-122",472,"WESTCON GROUP EUROPEAN OPERATIONS LTD - BELGIUM BRANCH",44.28,4,4,0,177.12,177.12,0,null,{"$f":"+SUMIF('Details sales deliv. to excl.'!F:F,A639,'Details sales deliv. to excl.'!H:H)","v":0},{"$f":"-SUMIF('Details purch. deliv. to excl.'!F:F,A639,'Details purch. deliv. to excl.'!H:H)","v":0},0,4,177.12]
["PA1034","POLYCOM Power Supply IP330 - UK plug","2200-17878-015",472,"WESTCON GROUP EUROPEAN OPERATIONS LTD - BELGIUM BRANCH",13.94,0,null,0,0,0,0,"",{"$f":"+SUMIF('Details sales deliv. to excl.'!F:F,A640,'Details sales deliv. to excl.'!H:H)","v":0},{"$f":"-SUMIF('Details purch. deliv. to excl.'!F:F,A640,'Details purch. deliv. to excl.'!H:H)","v":0},0,0,0]
["PA1035","5 POLYCOM Power Supply IP331/335/450 - 24V - UK plug","2200-17877-015",472,"WESTCON GROUP EUROPEAN OPERATIONS LTD - BELGIUM BRANCH",59.04,0,null,0,0,0,0,"",{"$f":"+SUMIF('Details sales deliv. to excl.'!F:F,A641,'Details sales deliv. to excl.'!H:H)","v":0},{"$f":"-SUMIF('Details purch. deliv. to excl.'!F:F,A641,'Details purch. deliv. to excl.'!H:H)","v":0},0,0,0]
["PA1036","5 POLYCOM pwr supplies for VVX 10x/20x - 12V - EU plug","2200-40350-122",472,"WESTCON GROUP EUROPEAN OPERATIONS LTD - BELGIUM BRANCH",55.76,4,4,0,223.04,223.04,0,null,{"$f":"+SUMIF('Details sales deliv. to excl.'!F:F,A642,'Details sales deliv. to excl.'!H:H)","v":0},{"$f":"-SUMIF('Details purch. deliv. to excl.'!F:F,A642,'Details purch. deliv. to excl.'!H:H)","v":0},0,4,223.04]
["PA1040","POLYCOM Power Cube for IP301-501","2200-17568-122",470,"IMAGO GROUP BENELUX",8.08,0,null,0,0,0,0,"",{"$f":"+SUMIF('Details sales deliv. to excl.'!F:F,A643,'Details sales deliv. to excl.'!H:H)","v":0},{"$f":"-SUMIF('Details purch. deliv. to excl.'!F:F,A643,'Details purch. deliv. to excl.'!H:H)","v":0},0,0,0]
["PA1050","1 POLYCOM pwr supply for IP650 - 24V","2200-17879-122",472,"WESTCON GROUP EUROPEAN OPERATIONS LTD - BELGIUM BRANCH",10.199999999999999,4,4,{"$f":"H644-G644","v":0},{"$f":"G644*F644","v":40.799999999999997},{"$f":"H644*F644","v":40.799999999999997},{"$f":"I644*F644","v":0},null,{"$f":"+SUMIF('Details sales deliv. to excl.'!F:F,A644,'Details sales deliv. to excl.'!H:H)","v":0},{"$f":"-SUMIF('Details purch. deliv. to excl.'!F:F,A644,'Details purch. deliv. to excl.'!H:H)","v":0},{"$f":"I644+N644+O644","v":0},{"$f":"G644+P644","v":4},{"$f":"Q644*F644","v":40.799999999999997}]
["PA1060","5 POLYCOM pwr supplies for VVX30x/40x- 48V - EU plug","2200-46175-122",472,"WESTCON GROUP EUROPEAN OPERATIONS LTD - BELGIUM BRANCH",53.3,17,16,-1,906.09999999999991,852.8,-53.3,null,{"$f":"+SUMIF('Details sales deliv. to excl.'!F:F,A645,'Details sales deliv. to excl.'!H:H)","v":0},{"$f":"-SUMIF('Details purch. deliv. to excl.'!F:F,A645,'Details purch. deliv. to excl.'!H:H)","v":0},-1,16,852.8]
["PA1100","POLYCOM Power Patch IEEE 802.3af","2200-11530-122",469,"GO TELECOM NL",24.75,0,null,0,0,0,0,{"$f":"IF(ABS(L646)>500,\"check\",\"\")","v":""},{"$f":"+SUMIF('Details sales deliv. to excl.'!F:F,A646,'Details sales deliv. to excl.'!H:H)","v":0},{"$f":"-SUMIF('Details purch. deliv. to excl.'!F:F,A646,'Details purch. deliv. to excl.'!H:H)","v":0},0,0,0]
["PA1110","POLYCOM Powerpatch CiscoPoE",null,469,"GO TELECOM NL",25.25,0,null,0,0,0,0,"",{"$f":"+SUMIF('Details sales deliv. to excl.'!F:F,A647,'Details sales deliv. to excl.'!H:H)","v":0},{"$f":"-SUMIF('Details purch. deliv. to excl.'!F:F,A647,'Details purch. deliv. to excl.'!H:H)","v":0},0,0,0]
["PA1150","POLYCOM IP331 deskstand/wallmount (5-pack)","2200-17543-001",472,"WESTCON GROUP EUROPEAN OPERATIONS LTD - BELGIUM BRANCH",25.42,0,null,0,0,0,0,"",{"$f":"+SUMIF('Details sales deliv. to excl.'!F:F,A648,'Details sales deliv. to excl.'!H:H)","v":0},{"$f":"-SUMIF('Details purch. deliv. to excl.'!F:F,A648,'Details purch. deliv. to excl.'!H:H)","v":0},0,0,0]
["PA1210","THOMSON ST2030 extension module","EXTENSION MODULE FOR 2030",517,"THOMSON",51.99,3,3,0,155.97,155.97,0,null,{"$f":"+SUMIF('Details sales deliv. to excl.'!F:F,A649,'Details sales deliv. to excl.'!H:H)","v":0},{"$f":"-SUMIF('Details purch. deliv. to excl.'!F:F,A649,'Details purch. deliv. to excl.'!H:H)","v":0},0,3,155.97]
["PA1220","GRANDSTREAM GXP 2000 extension module","EXP  MODULE FOR GXP2000",503,"ELINK GMBH",57,5,5,0,285,285,0,null,{"$f":"+SUMIF('Details sales deliv. to excl.'!F:F,A650,'Details sales deliv. to excl.'!H:H)","v":0},{"$f":"-SUMIF('Details purch. deliv. to excl.'!F:F,A650,'Details purch. deliv. to excl.'!H:H)","v":0},0,5,285]
["PA1300","SNOM 320-360-370 extension module","SNOM EXPANSION MODULE",503,"ELINK GMBH",89.33,4,4,0,357.32,357.32,0,null,{"$f":"+SUMIF('Details sales deliv. to excl.'!F:F,A651,'Details sales deliv. to excl.'!H:H)","v":0},{"$f":"-SUMIF('Details purch. deliv. to excl.'!F:F,A651,'Details purch. deliv. to excl.'!H:H)","v":0},0,4,357.32]
["PA1400","Power supply for KIRK DECT handset and repeater","KD84642420",736,"TIPTEL",7.5,0,null,0,0,0,0,"",{"$f":"+SUMIF('Details sales deliv. to excl.'!F:F,A652,'Details sales deliv. to excl.'!H:H)","v":0},{"$f":"-SUMIF('Details purch. deliv. to excl.'!F:F,A652,'Details purch. deliv. to excl.'!H:H)","v":0},0,0,0]
["PA1410","Single charger for 4020/4040 KIRK DECT handset","KD84642462",736,"TIPTEL",11.25,0,null,0,0,0,0,"",{"$f":"+SUMIF('Details sales deliv. to excl.'!F:F,A653,'Details sales deliv. to excl.'!H:H)","v":0},{"$f":"-SUMIF('Details purch. deliv. to excl.'!F:F,A653,'Details purch. deliv. to excl.'!H:H)","v":0},0,0,0]
["PAR001","SMP Usage",null,0,null,0,0,null,0,0,0,0,"",{"$f":"+SUMIF('Details sales deliv. to excl.'!F:F,A654,'Details sales deliv. to excl.'!H:H)","v":0},{"$f":"-SUMIF('Details purch. deliv. to excl.'!F:F,A654,'Details purch. deliv. to excl.'!H:H)","v":0},0,0,0]
["PAR002","SOP Backup",null,0,null,0,0,null,0,0,0,0,"",{"$f":"+SUMIF('Details sales deliv. to excl.'!F:F,A655,'Details sales deliv. to excl.'!H:H)","v":0},{"$f":"-SUMIF('Details purch. deliv. to excl.'!F:F,A655,'Details purch. deliv. to excl.'!H:H)","v":0},0,0,0]
["PAR003","SOP Monitoring",null,0,null,0,0,null,0,0,0,0,"",{"$f":"+SUMIF('Details sales deliv. to excl.'!F:F,A656,'Details sales deliv. to excl.'!H:H)","v":0},{"$f":"-SUMIF('Details purch. deliv. to excl.'!F:F,A656,'Details purch. deliv. to excl.'!H:H)","v":0},0,0,0]
["PD1000","HELIOS IP Physical installation","doorphone instal.",10183,"FUZER SA",500,0,null,0,0,0,0,"",{"$f":"+SUMIF('Details sales deliv. to excl.'!F:F,A657,'Details sales deliv. to excl.'!H:H)","v":0},{"$f":"-SUMIF('Details purch. deliv. to excl.'!F:F,A657,'Details purch. deliv. to excl.'!H:H)","v":0},0,0,0]
["PD1001","HELIOS IP Force 4 buttons (H9151104W)","H9151104W",885,"CREATEL STUDIO sa",611.04,3,3,0,1833.12,1833.12,0,null,{"$f":"+SUMIF('Details sales deliv. to excl.'!F:F,A658,'Details sales deliv. to excl.'!H:H)","v":0},{"$f":"-SUMIF('Details purch. deliv. to excl.'!F:F,A658,'Details purch. deliv. to excl.'!H:H)","v":0},0,3,1833.12]
["PD1002","HELIOS IP Force 1 button with keypad (H9151101KW)","H9151101KW",885,"CREATEL STUDIO sa",603.44000000000005,0,null,0,0,0,0,"",{"$f":"+SUMIF('Details sales deliv. to excl.'!F:F,A659,'Details sales deliv. to excl.'!H:H)","v":0},{"$f":"-SUMIF('Details purch. deliv. to excl.'!F:F,A659,'Details purch. deliv. to excl.'!H:H)","v":0},0,0,0]
["PD1003","HELIOS IP Force 4 buttons with camera (H9151104CW)","H9151104CW",885,"CREATEL STUDIO sa",736.44,3,3,0,2209.3200000000002,2209.3200000000002,0,null,{"$f":"+SUMIF('Details sales deliv. to excl.'!F:F,A660,'Details sales deliv. to excl.'!H:H)","v":0},{"$f":"-SUMIF('Details purch. deliv. to excl.'!F:F,A660,'Details purch. deliv. to excl.'!H:H)","v":0},0,3,2209.3200000000002]
["PD1004","HELIOS IP Camera 1 button (H9137111CU)","H9137111CU",885,"CREATEL STUDIO sa",699,0,null,0,0,0,0,"",{"$f":"+SUMIF('Details sales deliv. to excl.'!F:F,A661,'Details sales deliv. to excl.'!H:H)","v":0},{"$f":"-SUMIF('Details purch. deliv. to excl.'!F:F,A661,'Details purch. deliv. to excl.'!H:H)","v":0},0,0,0]
["PD1005","HELIOS IP Force 1 button with camera (H9151101CKW)","H9151101CKW",885,"CREATEL STUDIO sa",733.4,0,null,0,0,0,0,"",{"$f":"+SUMIF('Details sales deliv. to excl.'!F:F,A662,'Details sales deliv. to excl.'!H:H)","v":0},{"$f":"-SUMIF('Details purch. deliv. to excl.'!F:F,A662,'Details purch. deliv. to excl.'!H:H)","v":0},0,0,0]
["PD1006","Box for HELIOS 1 module (H9135351)","H9135351",885,"CREATEL STUDIO sa",52,0,null,0,0,0,0,"",{"$f":"+SUMIF('Details sales deliv. to excl.'!F:F,A663,'Details sales deliv. to excl.'!H:H)","v":0},{"$f":"-SUMIF('Details purch. deliv. to excl.'!F:F,A663,'Details purch. deliv. to excl.'!H:H)","v":0},0,0,0]
["PD1007","HELIOS IP SIP - 3 buttons - PoE (9137131KU)","9137131KU",885,"CREATEL STUDIO sa",452,1,1,0,452,452,0,null,{"$f":"+SUMIF('Details sales deliv. to excl.'!F:F,A664,'Details sales deliv. to excl.'!H:H)","v":0},{"$f":"-SUMIF('Details purch. deliv. to excl.'!F:F,A664,'Details purch. deliv. to excl.'!H:H)","v":0},0,1,452]
["PD1008","HELIOS IP Vario - Keycode - 3 buttons - PoE (H9137131U)","H9137131U",885,"CREATEL STUDIO sa",418,0,null,0,0,0,0,"",{"$f":"+SUMIF('Details sales deliv. to excl.'!F:F,A665,'Details sales deliv. to excl.'!H:H)","v":0},{"$f":"-SUMIF('Details purch. deliv. to excl.'!F:F,A665,'Details purch. deliv. to excl.'!H:H)","v":0},0,0,0]
["PD1009","HELIOS IP SIP - Camera - 3 buttons - PoE (H9137131CU)","H9137131CU",885,"CREATEL STUDIO sa",715,0,null,0,0,0,0,"",{"$f":"+SUMIF('Details sales deliv. to excl.'!F:F,A666,'Details sales deliv. to excl.'!H:H)","v":0},{"$f":"-SUMIF('Details purch. deliv. to excl.'!F:F,A666,'Details purch. deliv. to excl.'!H:H)","v":0},0,0,0]
["PD1010","HELIOS IP SIP - 6 buttons - PoE (H9137161U)","H9137161U",885,"CREATEL STUDIO sa",433,0,null,0,0,0,0,"",{"$f":"+SUMIF('Details sales deliv. to excl.'!F:F,A667,'Details sales deliv. to excl.'!H:H)","v":0},{"$f":"-SUMIF('Details purch. deliv. to excl.'!F:F,A667,'Details purch. deliv. to excl.'!H:H)","v":0},0,0,0]
["PD1011","HELIOS IP SIP - Camera - 6 buttons - POE (H9137161CU)","H9137161CU",885,"CREATEL STUDIO sa",730,0,null,0,0,0,0,"",{"$f":"+SUMIF('Details sales deliv. to excl.'!F:F,A668,'Details sales deliv. to excl.'!H:H)","v":0},{"$f":"-SUMIF('Details purch. deliv. to excl.'!F:F,A668,'Details purch. deliv. to excl.'!H:H)","v":0},0,0,0]
["PD1021","HELIOS IP Vario - Display - Camera - Keycode - 6 buttons - PoE (9137160CKDU)","9137160CKDU",885,"CREATEL STUDIO sa",956,0,null,0,0,0,0,"",{"$f":"+SUMIF('Details sales deliv. to excl.'!F:F,A669,'Details sales deliv. to excl.'!H:H)","v":0},{"$f":"-SUMIF('Details purch. deliv. to excl.'!F:F,A669,'Details purch. deliv. to excl.'!H:H)","v":0},0,0,0]
["PD1030","HELIOS Analog - 1 button (H9135110)","H9135110",885,"CREATEL STUDIO sa",208.6,0,null,0,0,0,0,"",{"$f":"+SUMIF('Details sales deliv. to excl.'!F:F,A670,'Details sales deliv. to excl.'!H:H)","v":0},{"$f":"-SUMIF('Details purch. deliv. to excl.'!F:F,A670,'Details purch. deliv. to excl.'!H:H)","v":0},0,0,0]
["PD1031","HELIOS Analog - 3 buttons with camera (H9135130C)","H9135130C",885,"CREATEL STUDIO sa",216.3,1,1,0,216.3,216.3,0,null,{"$f":"+SUMIF('Details sales deliv. to excl.'!F:F,A671,'Details sales deliv. to excl.'!H:H)","v":0},{"$f":"-SUMIF('Details purch. deliv. to excl.'!F:F,A671,'Details purch. deliv. to excl.'!H:H)","v":0},0,1,216.3]
["PD1060","HELIOS 2N Video Kit (H9154100C)","H9154100C",885,"CREATEL STUDIO sa",523.6,0,null,0,0,0,0,"",{"$f":"+SUMIF('Details sales deliv. to excl.'!F:F,A672,'Details sales deliv. to excl.'!H:H)","v":0},{"$f":"-SUMIF('Details purch. deliv. to excl.'!F:F,A672,'Details purch. deliv. to excl.'!H:H)","v":0},0,0,0]
["PD1101","HELIOS Flush mounting (9151001)",9151001,885,"CREATEL STUDIO sa",59,0,null,0,0,0,0,"",{"$f":"+SUMIF('Details sales deliv. to excl.'!F:F,A673,'Details sales deliv. to excl.'!H:H)","v":0},{"$f":"-SUMIF('Details purch. deliv. to excl.'!F:F,A673,'Details purch. deliv. to excl.'!H:H)","v":0},0,0,0]
["PD1102","HELIOS Flush mounting (9151002)",9151002,885,"CREATEL STUDIO sa",49,0,null,0,0,0,0,"",{"$f":"+SUMIF('Details sales deliv. to excl.'!F:F,A674,'Details sales deliv. to excl.'!H:H)","v":0},{"$f":"-SUMIF('Details purch. deliv. to excl.'!F:F,A674,'Details purch. deliv. to excl.'!H:H)","v":0},0,0,0]
["PD1103","HELIOS Box + roof - 1 module - Flush mounting - Outside (H9135361)","H9135361",885,"CREATEL STUDIO sa",88,0,null,0,0,0,0,"",{"$f":"+SUMIF('Details sales deliv. to excl.'!F:F,A675,'Details sales deliv. to excl.'!H:H)","v":0},{"$f":"-SUMIF('Details purch. deliv. to excl.'!F:F,A675,'Details purch. deliv. to excl.'!H:H)","v":0},0,0,0]
["PD1104","HELIOS Roof - Wall mounting - Outside (H9135331)","H9135331",885,"CREATEL STUDIO sa",44,0,null,0,0,0,0,"",{"$f":"+SUMIF('Details sales deliv. to excl.'!F:F,A676,'Details sales deliv. to excl.'!H:H)","v":0},{"$f":"-SUMIF('Details purch. deliv. to excl.'!F:F,A676,'Details purch. deliv. to excl.'!H:H)","v":0},0,0,0]
["PD1121","HELIOS Roof for 1 module (H9135331)","H9135331",885,"CREATEL STUDIO sa",44,0,null,0,0,0,0,"",{"$f":"+SUMIF('Details sales deliv. to excl.'!F:F,A677,'Details sales deliv. to excl.'!H:H)","v":0},{"$f":"-SUMIF('Details purch. deliv. to excl.'!F:F,A677,'Details purch. deliv. to excl.'!H:H)","v":0},0,0,0]
["PD1201","HELIOS Roof for Helios - 2 modules (H9135332)","H9135332",885,"CREATEL STUDIO sa",58,0,null,0,0,0,0,"",{"$f":"+SUMIF('Details sales deliv. to excl.'!F:F,A678,'Details sales deliv. to excl.'!H:H)","v":0},{"$f":"-SUMIF('Details purch. deliv. to excl.'!F:F,A678,'Details purch. deliv. to excl.'!H:H)","v":0},0,0,0]
["PD1202","HELIOS IP Vario Extension module 8 buttons (H9135181)","H9135181",885,"CREATEL STUDIO sa",120,0,null,0,0,0,0,"",{"$f":"+SUMIF('Details sales deliv. to excl.'!F:F,A679,'Details sales deliv. to excl.'!H:H)","v":0},{"$f":"-SUMIF('Details purch. deliv. to excl.'!F:F,A679,'Details purch. deliv. to excl.'!H:H)","v":0},0,0,0]
["PD1301","HELIOS External IP relay, 4 contacts, PoE, HTTP command (H9137411)","H9137411",885,"CREATEL STUDIO sa",198,0,null,0,0,0,0,"",{"$f":"+SUMIF('Details sales deliv. to excl.'!F:F,A680,'Details sales deliv. to excl.'!H:H)","v":0},{"$f":"-SUMIF('Details purch. deliv. to excl.'!F:F,A680,'Details purch. deliv. to excl.'!H:H)","v":0},0,0,0]
["PD1302","HELIOS Licence enhanced integration - HTTP commands for IP relay (H9137907)","H9137907",885,"CREATEL STUDIO sa",45,0,null,0,0,0,0,"",{"$f":"+SUMIF('Details sales deliv. to excl.'!F:F,A681,'Details sales deliv. to excl.'!H:H)","v":0},{"$f":"-SUMIF('Details purch. deliv. to excl.'!F:F,A681,'Details purch. deliv. to excl.'!H:H)","v":0},0,0,0]
["PD1303","HELIOS 2N VERSO BASIC AUDIO MODULE - 1 BUTTON","H9155101",885,"CREATEL STUDIO sa",457.65,0,null,0,0,0,0,"",{"$f":"+SUMIF('Details sales deliv. to excl.'!F:F,A682,'Details sales deliv. to excl.'!H:H)","v":0},{"$f":"-SUMIF('Details purch. deliv. to excl.'!F:F,A682,'Details purch. deliv. to excl.'!H:H)","v":0},0,0,0]
["PD1304","HELIOS 2N VERSO KEYCODE MODULE","H9155031",885,"CREATEL STUDIO sa",228.15,0,null,0,0,0,0,"",{"$f":"+SUMIF('Details sales deliv. to excl.'!F:F,A683,'Details sales deliv. to excl.'!H:H)","v":0},{"$f":"-SUMIF('Details purch. deliv. to excl.'!F:F,A683,'Details purch. deliv. to excl.'!H:H)","v":0},0,0,0]
["PD1305","HELIOS 2N IP Verso Backplate 2 modules (H9155062)","H9155062",885,"CREATEL STUDIO sa",57.4,0,null,0,0,0,0,"",{"$f":"+SUMIF('Details sales deliv. to excl.'!F:F,A684,'Details sales deliv. to excl.'!H:H)","v":0},{"$f":"-SUMIF('Details purch. deliv. to excl.'!F:F,A684,'Details purch. deliv. to excl.'!H:H)","v":0},0,0,0]
["PD1306","HELIOS 2N VERSO COVER BOX 2 MODULES FOR SURFACE INSTAL (9155022)","H9155022",885,"CREATEL STUDIO sa",50.09,0,null,0,0,0,0,"",{"$f":"+SUMIF('Details sales deliv. to excl.'!F:F,A685,'Details sales deliv. to excl.'!H:H)","v":0},{"$f":"-SUMIF('Details purch. deliv. to excl.'!F:F,A685,'Details purch. deliv. to excl.'!H:H)","v":0},0,0,0]
["PH1000","CISCO 7905","CP-7905G",472,"WESTCON GROUP EUROPEAN OPERATIONS LTD - BELGIUM BRANCH",0,0,null,0,0,0,0,"",{"$f":"+SUMIF('Details sales deliv. to excl.'!F:F,A686,'Details sales deliv. to excl.'!H:H)","v":0},{"$f":"-SUMIF('Details purch. deliv. to excl.'!F:F,A686,'Details purch. deliv. to excl.'!H:H)","v":0},0,0,0]
["PH1010","CISCO 7912","CP-7912G",472,"WESTCON GROUP EUROPEAN OPERATIONS LTD - BELGIUM BRANCH",157.76,0,null,0,0,0,0,"",{"$f":"+SUMIF('Details sales deliv. to excl.'!F:F,A687,'Details sales deliv. to excl.'!H:H)","v":0},{"$f":"-SUMIF('Details purch. deliv. to excl.'!F:F,A687,'Details purch. deliv. to excl.'!H:H)","v":0},0,0,0]
["PH1020","CISCO 7940","CP-7940G",472,"WESTCON GROUP EUROPEAN OPERATIONS LTD - BELGIUM BRANCH",128.86000000000001,1,1,0,128.86000000000001,128.86000000000001,0,null,{"$f":"+SUMIF('Details sales deliv. to excl.'!F:F,A688,'Details sales deliv. to excl.'!H:H)","v":0},{"$f":"-SUMIF('Details purch. deliv. to excl.'!F:F,A688,'Details purch. deliv. to excl.'!H:H)","v":0},0,1,128.86000000000001]
["PH1021","CISCO 7941","CP-7941G",472,"WESTCON GROUP EUROPEAN OPERATIONS LTD - BELGIUM BRANCH",130.52000000000001,0,null,0,0,0,0,"",{"$f":"+SUMIF('Details sales deliv. to excl.'!F:F,A689,'Details sales deliv. to excl.'!H:H)","v":0},{"$f":"-SUMIF('Details purch. deliv. to excl.'!F:F,A689,'Details purch. deliv. to excl.'!H:H)","v":0},0,0,0]
["PH1022","CISCO 7942G","CP-7942G",472,"WESTCON GROUP EUROPEAN OPERATIONS LTD - BELGIUM BRANCH",173.84,0,null,0,0,0,0,"",{"$f":"+SUMIF('Details sales deliv. to excl.'!F:F,A690,'Details sales deliv. to excl.'!H:H)","v":0},{"$f":"-SUMIF('Details purch. deliv. to excl.'!F:F,A690,'Details purch. deliv. to excl.'!H:H)","v":0},0,0,0]
["PH1030","CISCO 7960","CP-7960G",472,"WESTCON GROUP EUROPEAN OPERATIONS LTD - BELGIUM BRANCH",179.89,0,null,0,0,0,0,"",{"$f":"+SUMIF('Details sales deliv. to excl.'!F:F,A691,'Details sales deliv. to excl.'!H:H)","v":0},{"$f":"-SUMIF('Details purch. deliv. to excl.'!F:F,A691,'Details purch. deliv. to excl.'!H:H)","v":0},0,0,0]
["PH1100","POLYCOM IP301 - PoE","Polycom 2200-11331-025",469,"GO TELECOM NL",104.3,3,3,0,312.89999999999998,312.89999999999998,0,null,{"$f":"+SUMIF('Details sales deliv. to excl.'!F:F,A692,'Details sales deliv. to excl.'!H:H)","v":0},{"$f":"-SUMIF('Details purch. deliv. to excl.'!F:F,A692,'Details purch. deliv. to excl.'!H:H)","v":0},0,3,312.89999999999998]
["PH1105","POLYCOM IP301 - PWR Cable","Polycom 2200-11331-122",469,"GO TELECOM NL",104.82,0,null,0,0,0,0,"",{"$f":"+SUMIF('Details sales deliv. to excl.'!F:F,A693,'Details sales deliv. to excl.'!H:H)","v":0},{"$f":"-SUMIF('Details purch. deliv. to excl.'!F:F,A693,'Details purch. deliv. to excl.'!H:H)","v":0},0,0,0]
["PH1106","POLYCOM IP321 - PoE","2200-12360-025",472,"WESTCON GROUP EUROPEAN OPERATIONS LTD - BELGIUM BRANCH",46,0,null,0,0,0,0,"",{"$f":"+SUMIF('Details sales deliv. to excl.'!F:F,A694,'Details sales deliv. to excl.'!H:H)","v":0},{"$f":"-SUMIF('Details purch. deliv. to excl.'!F:F,A694,'Details purch. deliv. to excl.'!H:H)","v":0},0,0,0]
["PH1107","POLYCOM IP330 - PoE","2200-12330-025",857,"GO TELECOM BVBA",65.38,1,1,0,65.38,65.38,0,null,{"$f":"+SUMIF('Details sales deliv. to excl.'!F:F,A695,'Details sales deliv. to excl.'!H:H)","v":0},{"$f":"-SUMIF('Details purch. deliv. to excl.'!F:F,A695,'Details purch. deliv. to excl.'!H:H)","v":0},0,1,65.38]
["PH1107r","POLYCOM IP330 SIP PoE (RMA)","2200-12330-025",857,"GO TELECOM BVBA",65.38,0,null,0,0,0,0,"",{"$f":"+SUMIF('Details sales deliv. to excl.'!F:F,A696,'Details sales deliv. to excl.'!H:H)","v":0},{"$f":"-SUMIF('Details purch. deliv. to excl.'!F:F,A696,'Details purch. deliv. to excl.'!H:H)","v":0},0,0,0]
["PH1107s","POLYCOM IP330 SIP PoE (2nd hand)","2200-12330-025",857,"GO TELECOM BVBA",65.38,0,null,0,0,0,0,"",{"$f":"+SUMIF('Details sales deliv. to excl.'!F:F,A697,'Details sales deliv. to excl.'!H:H)","v":0},{"$f":"-SUMIF('Details purch. deliv. to excl.'!F:F,A697,'Details purch. deliv. to excl.'!H:H)","v":0},0,0,0]
["PH1108","POLYCOM IP330 - PWR Cable","2200-12330-122",470,"IMAGO GROUP BENELUX",81.75,0,null,0,0,0,0,"",{"$f":"+SUMIF('Details sales deliv. to excl.'!F:F,A698,'Details sales deliv. to excl.'!H:H)","v":0},{"$f":"-SUMIF('Details purch. deliv. to excl.'!F:F,A698,'Details purch. deliv. to excl.'!H:H)","v":0},0,0,0]
["PH1109","POLYCOM IP331 - PoE","2200-12365-025",472,"WESTCON GROUP EUROPEAN OPERATIONS LTD - BELGIUM BRANCH",46,169,168,-1,7774,7728,-46,null,{"$f":"+SUMIF('Details sales deliv. to excl.'!F:F,A699,'Details sales deliv. to excl.'!H:H)","v":0},{"$f":"-SUMIF('Details purch. deliv. to excl.'!F:F,A699,'Details purch. deliv. to excl.'!H:H)","v":0},-1,168,7728]
["PH1109pc","AC Adapter IP 3XX, 4XX, 550, 650 (5 units pack)","POL-220017877122",1462,"EXERTIS GO CONNECT",57.6,31,31,0,1785.6000000000001,1785.6000000000001,0,null,{"$f":"+SUMIF('Details sales deliv. to excl.'!F:F,A700,'Details sales deliv. to excl.'!H:H)","v":0},{"$f":"-SUMIF('Details purch. deliv. to excl.'!F:F,A700,'Details purch. deliv. to excl.'!H:H)","v":0},0,31,1785.6000000000001]
["PH1110","POLYCOM IP501 - PoE","2200-11531-025",470,"IMAGO GROUP BENELUX",121.52,1,1,0,121.52,121.52,0,null,{"$f":"+SUMIF('Details sales deliv. to excl.'!F:F,A701,'Details sales deliv. to excl.'!H:H)","v":0},{"$f":"-SUMIF('Details purch. deliv. to excl.'!F:F,A701,'Details purch. deliv. to excl.'!H:H)","v":0},0,1,121.52]
["PH1111","POLYCOM IP331 - PWR Cable","2200-12365-025",857,"GO TELECOM BVBA",56.2,0,null,0,0,0,0,"",{"$f":"+SUMIF('Details sales deliv. to excl.'!F:F,A702,'Details sales deliv. to excl.'!H:H)","v":0},{"$f":"-SUMIF('Details purch. deliv. to excl.'!F:F,A702,'Details purch. deliv. to excl.'!H:H)","v":0},0,0,0]
["PH1112","POLYCOM IP335 - PoE","2200-12375-025",472,"WESTCON GROUP EUROPEAN OPERATIONS LTD - BELGIUM BRANCH",76.5,1,1,0,76.5,76.5,0,null,{"$f":"+SUMIF('Details sales deliv. to excl.'!F:F,A703,'Details sales deliv. to excl.'!H:H)","v":0},{"$f":"-SUMIF('Details purch. deliv. to excl.'!F:F,A703,'Details purch. deliv. to excl.'!H:H)","v":0},0,1,76.5]
["PH1113","POLYCOM IP450 - PoE","2200-12450-025",472,"WESTCON GROUP EUROPEAN OPERATIONS LTD - BELGIUM BRANCH",99.45,1,2,1,99.45,198.9,99.45,null,{"$f":"+SUMIF('Details sales deliv. to excl.'!F:F,A704,'Details sales deliv. to excl.'!H:H)","v":0},{"$f":"-SUMIF('Details purch. deliv. to excl.'!F:F,A704,'Details purch. deliv. to excl.'!H:H)","v":0},1,2,198.9]
["PH1113r","POLYCOM IP450 SIP (ok for PoE and no PoE)(RMA)","2200-12450-122",857,"GO TELECOM BVBA",116.32,0,null,0,0,0,0,"",{"$f":"+SUMIF('Details sales deliv. to excl.'!F:F,A705,'Details sales deliv. to excl.'!H:H)","v":0},{"$f":"-SUMIF('Details purch. deliv. to excl.'!F:F,A705,'Details purch. deliv. to excl.'!H:H)","v":0},0,0,0]
["PH1113s","POLYCOM IP450 SIP (ok for PoE and no PoE)(2dhand)","2200-12450-122",857,"GO TELECOM BVBA",116.32,0,null,0,0,0,0,"",{"$f":"+SUMIF('Details sales deliv. to excl.'!F:F,A706,'Details sales deliv. to excl.'!H:H)","v":0},{"$f":"-SUMIF('Details purch. deliv. to excl.'!F:F,A706,'Details purch. deliv. to excl.'!H:H)","v":0},0,0,0]
["PH1114","POLYCOM IP450 - PWR Cble","2200-12550-122",470,"IMAGO GROUP BENELUX",135.5,0,null,0,0,0,0,"",{"$f":"+SUMIF('Details sales deliv. to excl.'!F:F,A707,'Details sales deliv. to excl.'!H:H)","v":0},{"$f":"-SUMIF('Details purch. deliv. to excl.'!F:F,A707,'Details purch. deliv. to excl.'!H:H)","v":0},0,0,0]
["PH1115","POLYCOM IP501 - PWR cable","2200-11531-122",470,"IMAGO GROUP BENELUX",121.52,1,1,{"$f":"H708-G708","v":0},{"$f":"G708*F708","v":121.52},{"$f":"H708*F708","v":121.52},{"$f":"I708*F708","v":0},null,{"$f":"+SUMIF('Details sales deliv. to excl.'!F:F,A708,'Details sales deliv. to excl.'!H:H)","v":0},{"$f":"-SUMIF('Details purch. deliv. to excl.'!F:F,A708,'Details purch. deliv. to excl.'!H:H)","v":0},{"$f":"I708+N708+O708","v":0},{"$f":"G708+P708","v":1},{"$f":"Q708*F708","v":121.52}]
["PH1116","POLYCOM IP331 - PoE (refurbished)","2200-12365-025 (R)",472,"WESTCON GROUP EUROPEAN OPERATIONS LTD - BELGIUM BRANCH",3.5,0,null,0,0,0,0,{"$f":"IF(ABS(L709)>500,\"check\",\"\")","v":""},{"$f":"+SUMIF('Details sales deliv. to excl.'!F:F,A709,'Details sales deliv. to excl.'!H:H)","v":0},{"$f":"-SUMIF('Details purch. deliv. to excl.'!F:F,A709,'Details purch. deliv. to excl.'!H:H)","v":0},0,0,0]
["PH1117","POLYCOM IP550 - PoE","2200-12550-025",472,"WESTCON GROUP EUROPEAN OPERATIONS LTD - BELGIUM BRANCH",117.45,1,1,0,117.45,117.45,0,null,{"$f":"+SUMIF('Details sales deliv. to excl.'!F:F,A710,'Details sales deliv. to excl.'!H:H)","v":0},{"$f":"-SUMIF('Details purch. deliv. to excl.'!F:F,A710,'Details purch. deliv. to excl.'!H:H)","v":0},0,1,117.45]
["PH1117r","POLYCOM IP550 SIP (ok for PoE and no PoE)(RMA)","2200-12550-122",857,"GO TELECOM BVBA",134.13999999999999,0,null,0,0,0,0,"",{"$f":"+SUMIF('Details sales deliv. to excl.'!F:F,A711,'Details sales deliv. to excl.'!H:H)","v":0},{"$f":"-SUMIF('Details purch. deliv. to excl.'!F:F,A711,'Details purch. deliv. to excl.'!H:H)","v":0},0,0,0]
["PH1117s","POLYCOM IP550 SIP (ok for PoE and no PoE)(2dhand)","2200-12550-122",857,"GO TELECOM BVBA",134.13999999999999,0,null,0,0,0,0,"",{"$f":"+SUMIF('Details sales deliv. to excl.'!F:F,A712,'Details sales deliv. to excl.'!H:H)","v":0},{"$f":"-SUMIF('Details purch. deliv. to excl.'!F:F,A712,'Details purch. deliv. to excl.'!H:H)","v":0},0,0,0]
["PH1118","POLYCOM IP450 - PoE refurbished",null,10183,"FUZER SA",0,57,372,315,0,0,0,null,{"$f":"+SUMIF('Details sales deliv. to excl.'!F:F,A713,'Details sales deliv. to excl.'!H:H)","v":0},{"$f":"-SUMIF('Details purch. deliv. to excl.'!F:F,A713,'Details purch. deliv. to excl.'!H:H)","v":0},315,372,0]
["PH1120","POLYCOM IP600 SIP","IP600 SIP",469,"GO TELECOM NL",244.3,0,null,0,0,0,0,"",{"$f":"+SUMIF('Details sales deliv. to excl.'!F:F,A714,'Details sales deliv. to excl.'!H:H)","v":0},{"$f":"-SUMIF('Details purch. deliv. to excl.'!F:F,A714,'Details purch. deliv. to excl.'!H:H)","v":0},0,0,0]
["PH1121","POLYCOM IP650 expansion module (14 keys)","2200-12750-025",472,"WESTCON GROUP EUROPEAN OPERATIONS LTD - BELGIUM BRANCH",120.95,8,8,0,967.6,967.6,0,null,{"$f":"+SUMIF('Details sales deliv. to excl.'!F:F,A715,'Details sales deliv. to excl.'!H:H)","v":0},{"$f":"-SUMIF('Details purch. deliv. to excl.'!F:F,A715,'Details purch. deliv. to excl.'!H:H)","v":0},0,8,967.6]
["PH1122","POLYCOM IP601","2200-11631-122",470,"IMAGO GROUP BENELUX",174.2,1,1,0,174.2,174.2,0,null,{"$f":"+SUMIF('Details sales deliv. to excl.'!F:F,A716,'Details sales deliv. to excl.'!H:H)","v":0},{"$f":"-SUMIF('Details purch. deliv. to excl.'!F:F,A716,'Details purch. deliv. to excl.'!H:H)","v":0},0,1,174.2]
["PH1123","POLYCOM IP650 - PoE","2200-12651-025",472,"WESTCON GROUP EUROPEAN OPERATIONS LTD - BELGIUM BRANCH",128,26,24,-2,3328,3072,-256,null,{"$f":"+SUMIF('Details sales deliv. to excl.'!F:F,A717,'Details sales deliv. to excl.'!H:H)","v":0},{"$f":"-SUMIF('Details purch. deliv. to excl.'!F:F,A717,'Details purch. deliv. to excl.'!H:H)","v":0},-2,24,3072]
["PH1123r","POLYCOM IP650 SIP (ok for PoE and no PoE) RMA","2200-12651-122",857,"GO TELECOM BVBA",163.35,0,null,0,0,0,0,"",{"$f":"+SUMIF('Details sales deliv. to excl.'!F:F,A718,'Details sales deliv. to excl.'!H:H)","v":0},{"$f":"-SUMIF('Details purch. deliv. to excl.'!F:F,A718,'Details purch. deliv. to excl.'!H:H)","v":0},0,0,0]
["PH1123s","POLYCOM IP650 SIP (ok for PoE and no PoE)(2ndhand)","2200-12651-122",857,"GO TELECOM BVBA",163.35,0,null,0,0,0,0,"",{"$f":"+SUMIF('Details sales deliv. to excl.'!F:F,A719,'Details sales deliv. to excl.'!H:H)","v":0},{"$f":"-SUMIF('Details purch. deliv. to excl.'!F:F,A719,'Details purch. deliv. to excl.'!H:H)","v":0},0,0,0]
["PH1124","POLYCOM IP670","2200-12670-025",472,"WESTCON GROUP EUROPEAN OPERATIONS LTD - BELGIUM BRANCH",198,0,null,0,0,0,0,"",{"$f":"+SUMIF('Details sales deliv. to excl.'!F:F,A720,'Details sales deliv. to excl.'!H:H)","v":0},{"$f":"-SUMIF('Details purch. deliv. to excl.'!F:F,A720,'Details purch. deliv. to excl.'!H:H)","v":0},0,0,0]
["PH1125","POLYCOM IP560","2200-12560-025",472,"WESTCON GROUP EUROPEAN OPERATIONS LTD - BELGIUM BRANCH",125.4,0,null,0,0,0,0,"",{"$f":"+SUMIF('Details sales deliv. to excl.'!F:F,A721,'Details sales deliv. to excl.'!H:H)","v":0},{"$f":"-SUMIF('Details purch. deliv. to excl.'!F:F,A721,'Details purch. deliv. to excl.'!H:H)","v":0},0,0,0]
["PH1126","POLYCOM IP560 with Pwr Cable","POL22001256122",470,"IMAGO GROUP BENELUX",170.3,0,null,0,0,0,0,"",{"$f":"+SUMIF('Details sales deliv. to excl.'!F:F,A722,'Details sales deliv. to excl.'!H:H)","v":0},{"$f":"-SUMIF('Details purch. deliv. to excl.'!F:F,A722,'Details purch. deliv. to excl.'!H:H)","v":0},0,0,0]
["PH1127","POLYCOM IP670 with Pwr Cable","220012670 122",470,"IMAGO GROUP BENELUX",228.69,0,null,0,0,0,0,"",{"$f":"+SUMIF('Details sales deliv. to excl.'!F:F,A723,'Details sales deliv. to excl.'!H:H)","v":0},{"$f":"-SUMIF('Details purch. deliv. to excl.'!F:F,A723,'Details purch. deliv. to excl.'!H:H)","v":0},0,0,0]
["PH1128","POLYCOM IP670 expansion module (14 keys)","2200-12770-025",472,"WESTCON GROUP EUROPEAN OPERATIONS LTD - BELGIUM BRANCH",152.1,2,2,0,304.2,304.2,0,null,{"$f":"+SUMIF('Details sales deliv. to excl.'!F:F,A724,'Details sales deliv. to excl.'!H:H)","v":0},{"$f":"-SUMIF('Details purch. deliv. to excl.'!F:F,A724,'Details purch. deliv. to excl.'!H:H)","v":0},0,2,304.2]
["PH1200","THOMSON ST2020","ST2020 SIP",517,"THOMSON",60,0,null,0,0,0,0,"",{"$f":"+SUMIF('Details sales deliv. to excl.'!F:F,A725,'Details sales deliv. to excl.'!H:H)","v":0},{"$f":"-SUMIF('Details purch. deliv. to excl.'!F:F,A725,'Details purch. deliv. to excl.'!H:H)","v":0},0,0,0]
["PH1201","THOMSON ST2022","ST2022 SIP",517,"THOMSON",0,0,null,0,0,0,0,"",{"$f":"+SUMIF('Details sales deliv. to excl.'!F:F,A726,'Details sales deliv. to excl.'!H:H)","v":0},{"$f":"-SUMIF('Details purch. deliv. to excl.'!F:F,A726,'Details purch. deliv. to excl.'!H:H)","v":0},0,0,0]
["PH1210","THOMSON ST2030","ST2030 SIP",517,"THOMSON",70.290000000000006,0,null,0,0,0,0,"",{"$f":"+SUMIF('Details sales deliv. to excl.'!F:F,A727,'Details sales deliv. to excl.'!H:H)","v":0},{"$f":"-SUMIF('Details purch. deliv. to excl.'!F:F,A727,'Details purch. deliv. to excl.'!H:H)","v":0},0,0,0]
["PH1300","GRANDSTREAM BT102","BT102",503,"ELINK GMBH",52.9,0,null,0,0,0,0,"",{"$f":"+SUMIF('Details sales deliv. to excl.'!F:F,A728,'Details sales deliv. to excl.'!H:H)","v":0},{"$f":"-SUMIF('Details purch. deliv. to excl.'!F:F,A728,'Details purch. deliv. to excl.'!H:H)","v":0},0,0,0]
["PH1310","GRANDSTREAM BT101","BT101",503,"ELINK GMBH",0,0,null,0,0,0,0,"",{"$f":"+SUMIF('Details sales deliv. to excl.'!F:F,A729,'Details sales deliv. to excl.'!H:H)","v":0},{"$f":"-SUMIF('Details purch. deliv. to excl.'!F:F,A729,'Details purch. deliv. to excl.'!H:H)","v":0},0,0,0]
["PH1320","GRANDSTREAM GXP 2000","GXP2000 Europ Style Pwr Supply",848,"BNS",69.569999999999993,1,1,0,69.569999999999993,69.569999999999993,0,null,{"$f":"+SUMIF('Details sales deliv. to excl.'!F:F,A730,'Details sales deliv. to excl.'!H:H)","v":0},{"$f":"-SUMIF('Details purch. deliv. to excl.'!F:F,A730,'Details purch. deliv. to excl.'!H:H)","v":0},0,1,69.569999999999993]
["PH1400","SNOM 360","SNOM 360",503,"ELINK GMBH",148.24,1,1,0,148.24,148.24,0,null,{"$f":"+SUMIF('Details sales deliv. to excl.'!F:F,A731,'Details sales deliv. to excl.'!H:H)","v":0},{"$f":"-SUMIF('Details purch. deliv. to excl.'!F:F,A731,'Details purch. deliv. to excl.'!H:H)","v":0},0,1,148.24]
["PH1401","SNOM 360 white","SNOM 360 white",503,"ELINK GMBH",158.5,0,null,0,0,0,0,"",{"$f":"+SUMIF('Details sales deliv. to excl.'!F:F,A732,'Details sales deliv. to excl.'!H:H)","v":0},{"$f":"-SUMIF('Details purch. deliv. to excl.'!F:F,A732,'Details purch. deliv. to excl.'!H:H)","v":0},0,0,0]
["PH1410","SNOM 300","SNOM_3037",1105,"ATIS",72,0,null,0,0,0,0,"",{"$f":"+SUMIF('Details sales deliv. to excl.'!F:F,A733,'Details sales deliv. to excl.'!H:H)","v":0},{"$f":"-SUMIF('Details purch. deliv. to excl.'!F:F,A733,'Details purch. deliv. to excl.'!H:H)","v":0},0,0,0]
["PH1420","SNOM 320","SNOM 320",503,"ELINK GMBH",116.7,2,2,0,233.4,233.4,0,null,{"$f":"+SUMIF('Details sales deliv. to excl.'!F:F,A734,'Details sales deliv. to excl.'!H:H)","v":0},{"$f":"-SUMIF('Details purch. deliv. to excl.'!F:F,A734,'Details purch. deliv. to excl.'!H:H)","v":0},0,2,233.4]
["PH1422","pwr supply SNOM 320/821/870","pwr supply SNOM 320",503,"ELINK GMBH",11.35,1,1,0,11.35,11.35,0,null,{"$f":"+SUMIF('Details sales deliv. to excl.'!F:F,A735,'Details sales deliv. to excl.'!H:H)","v":0},{"$f":"-SUMIF('Details purch. deliv. to excl.'!F:F,A735,'Details purch. deliv. to excl.'!H:H)","v":0},0,1,11.35]
["PH1430","SNOM 370","SNOM 370",503,"ELINK GMBH",144.11000000000001,1,1,0,144.11000000000001,144.11000000000001,0,null,{"$f":"+SUMIF('Details sales deliv. to excl.'!F:F,A736,'Details sales deliv. to excl.'!H:H)","v":0},{"$f":"-SUMIF('Details purch. deliv. to excl.'!F:F,A736,'Details purch. deliv. to excl.'!H:H)","v":0},0,1,144.11000000000001]
["PH1435","SNOM 820","SNOM 820",503,"ELINK GMBH",196,0,null,0,0,0,0,"",{"$f":"+SUMIF('Details sales deliv. to excl.'!F:F,A737,'Details sales deliv. to excl.'!H:H)","v":0},{"$f":"-SUMIF('Details purch. deliv. to excl.'!F:F,A737,'Details purch. deliv. to excl.'!H:H)","v":0},0,0,0]
["PH1437","SNOM 821","SNOM_2345",1105,"ATIS",182.48,1,1,0,182.48,182.48,0,null,{"$f":"+SUMIF('Details sales deliv. to excl.'!F:F,A738,'Details sales deliv. to excl.'!H:H)","v":0},{"$f":"-SUMIF('Details purch. deliv. to excl.'!F:F,A738,'Details purch. deliv. to excl.'!H:H)","v":0},0,1,182.48]
["PH1439","SNOM 870","SNOM_2193",503,"ELINK GMBH",233.07,11,11,0,2563.77,2563.77,0,null,{"$f":"+SUMIF('Details sales deliv. to excl.'!F:F,A739,'Details sales deliv. to excl.'!H:H)","v":0},{"$f":"-SUMIF('Details purch. deliv. to excl.'!F:F,A739,'Details purch. deliv. to excl.'!H:H)","v":0},0,11,2563.77]
["PH1440","SNOM M3 handset",1223,503,"ELINK GMBH",58,0,null,0,0,0,0,"",{"$f":"+SUMIF('Details sales deliv. to excl.'!F:F,A740,'Details sales deliv. to excl.'!H:H)","v":0},{"$f":"-SUMIF('Details purch. deliv. to excl.'!F:F,A740,'Details purch. deliv. to excl.'!H:H)","v":0},0,0,0]
["PH1450","SNOM M3",1206,503,"ELINK GMBH",111.25,3,3,0,333.75,333.75,0,null,{"$f":"+SUMIF('Details sales deliv. to excl.'!F:F,A741,'Details sales deliv. to excl.'!H:H)","v":0},{"$f":"-SUMIF('Details purch. deliv. to excl.'!F:F,A741,'Details purch. deliv. to excl.'!H:H)","v":0},0,3,333.75]
["PH1460","SNOM M3 DECT repeaters",1694,503,"ELINK GMBH",83.69,3,3,0,251.07,251.07,0,null,{"$f":"+SUMIF('Details sales deliv. to excl.'!F:F,A742,'Details sales deliv. to excl.'!H:H)","v":0},{"$f":"-SUMIF('Details purch. deliv. to excl.'!F:F,A742,'Details purch. deliv. to excl.'!H:H)","v":0},0,3,251.07]
["PH1470","SNOM M9 IP DECT Handset","Snom M9 handset",503,"ELINK GMBH",60.1,0,null,0,0,0,0,"",{"$f":"+SUMIF('Details sales deliv. to excl.'!F:F,A743,'Details sales deliv. to excl.'!H:H)","v":0},{"$f":"-SUMIF('Details purch. deliv. to excl.'!F:F,A743,'Details purch. deliv. to excl.'!H:H)","v":0},0,0,0]
["PH1471","SNOM M9r IP DECT Handset","Snom M9 handset",503,"ELINK GMBH",60.1,26,31,5,1562.6000000000001,1863.1000000000001,300.5,null,{"$f":"+SUMIF('Details sales deliv. to excl.'!F:F,A744,'Details sales deliv. to excl.'!H:H)","v":0},{"$f":"-SUMIF('Details purch. deliv. to excl.'!F:F,A744,'Details purch. deliv. to excl.'!H:H)","v":0},5,31,1863.1000000000001]
["PH1480","SNOM M9 IP DECT 2Handset+BS","Snom M9 (h+b)",503,"ELINK GMBH",140,0,null,0,0,0,0,"",{"$f":"+SUMIF('Details sales deliv. to excl.'!F:F,A745,'Details sales deliv. to excl.'!H:H)","v":0},{"$f":"-SUMIF('Details purch. deliv. to excl.'!F:F,A745,'Details purch. deliv. to excl.'!H:H)","v":0},0,0,0]
["PH1482","SNOM M9 IP DECT Handset+BS","Snom M9 (h+b)",503,"ELINK GMBH",132.44999999999999,0,null,0,0,0,0,"",{"$f":"+SUMIF('Details sales deliv. to excl.'!F:F,A746,'Details sales deliv. to excl.'!H:H)","v":0},{"$f":"-SUMIF('Details purch. deliv. to excl.'!F:F,A746,'Details purch. deliv. to excl.'!H:H)","v":0},0,0,0]
["PH1483","SNOM M9r IP DECT Handset+BS","Snom M9 (h+b)",503,"ELINK GMBH",132.44999999999999,85,85,0,11258.249999999998,11258.249999999998,0,null,{"$f":"+SUMIF('Details sales deliv. to excl.'!F:F,A747,'Details sales deliv. to excl.'!H:H)","v":0},{"$f":"-SUMIF('Details purch. deliv. to excl.'!F:F,A747,'Details purch. deliv. to excl.'!H:H)","v":0},0,85,11258.249999999998]
["PH1490","RTX 4002 Repeater for Gigaset & Snom","RTX 4002",1491,"PROVU COMMUNICATIONS",38.86,3,3,0,116.58,116.58,0,null,{"$f":"+SUMIF('Details sales deliv. to excl.'!F:F,A748,'Details sales deliv. to excl.'!H:H)","v":0},{"$f":"-SUMIF('Details purch. deliv. to excl.'!F:F,A748,'Details purch. deliv. to excl.'!H:H)","v":0},0,3,116.58]
["PH1496","SNOM M9r battery",60020438,503,"ELINK GMBH",15,3,3,0,45,45,0,null,{"$f":"+SUMIF('Details sales deliv. to excl.'!F:F,A749,'Details sales deliv. to excl.'!H:H)","v":0},{"$f":"-SUMIF('Details purch. deliv. to excl.'!F:F,A749,'Details purch. deliv. to excl.'!H:H)","v":0},0,3,45]
["PH1500","SWISSVOICE IP10S","IP10S FK SIP GRIS",561,"SWISSVOICE",62,0,null,0,0,0,0,"",{"$f":"+SUMIF('Details sales deliv. to excl.'!F:F,A750,'Details sales deliv. to excl.'!H:H)","v":0},{"$f":"-SUMIF('Details purch. deliv. to excl.'!F:F,A750,'Details purch. deliv. to excl.'!H:H)","v":0},0,0,0]
["PH1600","TIPTEL 160",82986,736,"TIPTEL",35.33,1,1,0,35.33,35.33,0,null,{"$f":"+SUMIF('Details sales deliv. to excl.'!F:F,A751,'Details sales deliv. to excl.'!H:H)","v":0},{"$f":"-SUMIF('Details purch. deliv. to excl.'!F:F,A751,'Details purch. deliv. to excl.'!H:H)","v":0},0,1,35.33]
["PH1603","TIPTEL 114 red",1081782,736,"TIPTEL",16.850000000000001,0,null,0,0,0,0,"",{"$f":"+SUMIF('Details sales deliv. to excl.'!F:F,A752,'Details sales deliv. to excl.'!H:H)","v":0},{"$f":"-SUMIF('Details purch. deliv. to excl.'!F:F,A752,'Details purch. deliv. to excl.'!H:H)","v":0},0,0,0]
["PH1605","TIPTEL 218 USB video phone",1121835,736,"TIPTEL",60,1,1,0,60,60,0,null,{"$f":"+SUMIF('Details sales deliv. to excl.'!F:F,A753,'Details sales deliv. to excl.'!H:H)","v":0},{"$f":"-SUMIF('Details purch. deliv. to excl.'!F:F,A753,'Details purch. deliv. to excl.'!H:H)","v":0},0,1,60]
["PH1700","AASTRA 6731i","A6731-0131-1055",1105,"ATIS",75,3,3,0,225,225,0,null,{"$f":"+SUMIF('Details sales deliv. to excl.'!F:F,A754,'Details sales deliv. to excl.'!H:H)","v":0},{"$f":"-SUMIF('Details purch. deliv. to excl.'!F:F,A754,'Details purch. deliv. to excl.'!H:H)","v":0},0,3,225]
["PH1705","AASTRA pwr supply for 6731i SIP","AAS-2020208504",1462,"EXERTIS GO CONNECT",10.8,0,null,0,0,0,0,"",{"$f":"+SUMIF('Details sales deliv. to excl.'!F:F,A755,'Details sales deliv. to excl.'!H:H)","v":0},{"$f":"-SUMIF('Details purch. deliv. to excl.'!F:F,A755,'Details purch. deliv. to excl.'!H:H)","v":0},0,0,0]
["PH1708","AASTRA 6755i",2020208507,1105,"ATIS",145,1,1,0,145,145,0,null,{"$f":"+SUMIF('Details sales deliv. to excl.'!F:F,A756,'Details sales deliv. to excl.'!H:H)","v":0},{"$f":"-SUMIF('Details purch. deliv. to excl.'!F:F,A756,'Details purch. deliv. to excl.'!H:H)","v":0},0,1,145]
["PH1710","AASTRA 6757i",2020208508,1105,"ATIS",170,1,1,0,170,170,0,null,{"$f":"+SUMIF('Details sales deliv. to excl.'!F:F,A757,'Details sales deliv. to excl.'!H:H)","v":0},{"$f":"-SUMIF('Details purch. deliv. to excl.'!F:F,A757,'Details purch. deliv. to excl.'!H:H)","v":0},0,1,170]
["PH1801","DORO Magna 4000 phone",null,10178,"CINEBEL WAVRE SPRL",49.57,0,null,0,0,0,0,"",{"$f":"+SUMIF('Details sales deliv. to excl.'!F:F,A758,'Details sales deliv. to excl.'!H:H)","v":0},{"$f":"-SUMIF('Details purch. deliv. to excl.'!F:F,A758,'Details purch. deliv. to excl.'!H:H)","v":0},0,0,0]
["PH1901","JABLOCOM Essence",109355,10340,"MCS - MIXE COMMUNICATION SOLUTIONS BELGIE NV / SA",135,0,null,0,0,0,0,"",{"$f":"+SUMIF('Details sales deliv. to excl.'!F:F,A759,'Details sales deliv. to excl.'!H:H)","v":0},{"$f":"-SUMIF('Details purch. deliv. to excl.'!F:F,A759,'Details purch. deliv. to excl.'!H:H)","v":0},0,0,0]
["PH1903","JABLOCOM Raven","Jablocom Raven",10340,"MCS - MIXE COMMUNICATION SOLUTIONS BELGIE NV / SA",125,0,null,0,0,0,0,"",{"$f":"+SUMIF('Details sales deliv. to excl.'!F:F,A760,'Details sales deliv. to excl.'!H:H)","v":0},{"$f":"-SUMIF('Details purch. deliv. to excl.'!F:F,A760,'Details purch. deliv. to excl.'!H:H)","v":0},0,0,0]
["PHD1000","SIEMENS Gigaset DECT entry","SIEMENS Gigaset  AS140",526,"VANDEN BORRE",70,0,null,0,0,0,0,"",{"$f":"+SUMIF('Details sales deliv. to excl.'!F:F,A761,'Details sales deliv. to excl.'!H:H)","v":0},{"$f":"-SUMIF('Details purch. deliv. to excl.'!F:F,A761,'Details purch. deliv. to excl.'!H:H)","v":0},0,0,0]
["PHD1005","GIGASET N510 IP PRO Dect Station for 6 phones","S30852-H2217-R101",10298,"BUSINESS COM BV",67,9,9,0,603,603,0,null,{"$f":"+SUMIF('Details sales deliv. to excl.'!F:F,A762,'Details sales deliv. to excl.'!H:H)","v":0},{"$f":"-SUMIF('Details purch. deliv. to excl.'!F:F,A762,'Details purch. deliv. to excl.'!H:H)","v":0},0,9,603]
["PHD1006","GIGASET 650IP bundel","S30852-H2617-R101",10298,"BUSINESS COM BV",105.75,0,null,0,0,0,0,"",{"$f":"+SUMIF('Details sales deliv. to excl.'!F:F,A763,'Details sales deliv. to excl.'!H:H)","v":0},{"$f":"-SUMIF('Details purch. deliv. to excl.'!F:F,A763,'Details purch. deliv. to excl.'!H:H)","v":0},0,0,0]
["PHD1007","GIGASET S650H PRO","S30852-H2665-R121",10298,"BUSINESS COM BV",60.5,10,10,0,605,605,0,null,{"$f":"+SUMIF('Details sales deliv. to excl.'!F:F,A764,'Details sales deliv. to excl.'!H:H)","v":0},{"$f":"-SUMIF('Details purch. deliv. to excl.'!F:F,A764,'Details purch. deliv. to excl.'!H:H)","v":0},0,10,605]
["PHD1008","GIGASET R650H PRO","S30852-H2762-R121",10298,"BUSINESS COM BV",86.26,4,4,0,345.04,345.04,0,null,{"$f":"+SUMIF('Details sales deliv. to excl.'!F:F,A765,'Details sales deliv. to excl.'!H:H)","v":0},{"$f":"-SUMIF('Details purch. deliv. to excl.'!F:F,A765,'Details purch. deliv. to excl.'!H:H)","v":0},0,4,345.04]
["PHD1009","GIGASET E630H, Black","S30852-H2762-R101",10298,"BUSINESS COM BV",86.04,0,null,0,0,0,0,"",{"$f":"+SUMIF('Details sales deliv. to excl.'!F:F,A766,'Details sales deliv. to excl.'!H:H)","v":0},{"$f":"-SUMIF('Details purch. deliv. to excl.'!F:F,A766,'Details purch. deliv. to excl.'!H:H)","v":0},0,0,0]
["PHD1010","SIEMENS Gigaset DECT analog",null,526,"VANDEN BORRE",110,0,null,0,0,0,0,"",{"$f":"+SUMIF('Details sales deliv. to excl.'!F:F,A767,'Details sales deliv. to excl.'!H:H)","v":0},{"$f":"-SUMIF('Details purch. deliv. to excl.'!F:F,A767,'Details purch. deliv. to excl.'!H:H)","v":0},0,0,0]
["PHD1011","GIGASET Pwr Supply Unit","L36280-Z4-X765",10616,"TELEVERSAL",9.9499999999999993,3,5,2,29.849999999999998,49.75,19.899999999999999,null,{"$f":"+SUMIF('Details sales deliv. to excl.'!F:F,A768,'Details sales deliv. to excl.'!H:H)","v":0},{"$f":"-SUMIF('Details purch. deliv. to excl.'!F:F,A768,'Details purch. deliv. to excl.'!H:H)","v":0},2,5,49.75]
["PHD1012","GIGASET E630HX  Black","S30852-H2762-R101",10298,"BUSINESS COM BV",86.04,0,null,0,0,0,0,"",{"$f":"+SUMIF('Details sales deliv. to excl.'!F:F,A769,'Details sales deliv. to excl.'!H:H)","v":0},{"$f":"-SUMIF('Details purch. deliv. to excl.'!F:F,A769,'Details purch. deliv. to excl.'!H:H)","v":0},0,0,0]
["PHD1014","GIGASET SL750H PRO","S30852-H2752-R122",10298,"BUSINESS COM BV",92.91,2,2,0,185.82,185.82,0,null,{"$f":"+SUMIF('Details sales deliv. to excl.'!F:F,A770,'Details sales deliv. to excl.'!H:H)","v":0},{"$f":"-SUMIF('Details purch. deliv. to excl.'!F:F,A770,'Details purch. deliv. to excl.'!H:H)","v":0},0,2,185.82]
["PHD1020","GIGASET DECT C340",null,526,"VANDEN BORRE",50,0,null,0,0,0,0,"",{"$f":"+SUMIF('Details sales deliv. to excl.'!F:F,A771,'Details sales deliv. to excl.'!H:H)","v":0},{"$f":"-SUMIF('Details purch. deliv. to excl.'!F:F,A771,'Details purch. deliv. to excl.'!H:H)","v":0},0,0,0]
["PHD1030","GIGASET DECT AL140",8993084,526,"VANDEN BORRE",29,1,1,{"$f":"H772-G772","v":0},{"$f":"G772*F772","v":29},{"$f":"H772*F772","v":29},{"$f":"I772*F772","v":0},null,{"$f":"+SUMIF('Details sales deliv. to excl.'!F:F,A772,'Details sales deliv. to excl.'!H:H)","v":0},{"$f":"-SUMIF('Details purch. deliv. to excl.'!F:F,A772,'Details purch. deliv. to excl.'!H:H)","v":0},{"$f":"I772+N772+O772","v":0},{"$f":"G772+P772","v":1},{"$f":"Q772*F772","v":29}]
["PHW1000","CISCO 7920","CP-7920G",472,"WESTCON GROUP EUROPEAN OPERATIONS LTD - BELGIUM BRANCH",360,0,null,0,0,0,0,{"$f":"IF(ABS(L773)>500,\"check\",\"\")","v":""},{"$f":"+SUMIF('Details sales deliv. to excl.'!F:F,A773,'Details sales deliv. to excl.'!H:H)","v":0},{"$f":"-SUMIF('Details purch. deliv. to excl.'!F:F,A773,'Details purch. deliv. to excl.'!H:H)","v":0},0,0,0]
["PS1000","COUNTERPATH X-lite","X-Lite",476,"COUNTERPATH",0,0,null,0,0,0,0,"",{"$f":"+SUMIF('Details sales deliv. to excl.'!F:F,A774,'Details sales deliv. to excl.'!H:H)","v":0},{"$f":"-SUMIF('Details purch. deliv. to excl.'!F:F,A774,'Details purch. deliv. to excl.'!H:H)","v":0},0,0,0]
["PS1010","COUNTERPATH Eyebeam Audio+Video for Windows","eyeBeam v1.5 Enhanced",492,"REGNOW-DIGITAL RIVER",31.53,0,null,0,0,0,0,"",{"$f":"+SUMIF('Details sales deliv. to excl.'!F:F,A775,'Details sales deliv. to excl.'!H:H)","v":0},{"$f":"-SUMIF('Details purch. deliv. to excl.'!F:F,A775,'Details purch. deliv. to excl.'!H:H)","v":0},0,0,0]
["PS1011","COUNTERPATH Eyebeam Audio+Video for MAC","eyeBeam v1.5 Enhanced MAC",492,"REGNOW-DIGITAL RIVER",34.6,0,null,0,0,0,0,"",{"$f":"+SUMIF('Details sales deliv. to excl.'!F:F,A776,'Details sales deliv. to excl.'!H:H)","v":0},{"$f":"-SUMIF('Details purch. deliv. to excl.'!F:F,A776,'Details purch. deliv. to excl.'!H:H)","v":0},0,0,0]
["PS1020","Eyebeam Softphone (Basic version - Audio-only)",null,476,"COUNTERPATH",23.43,0,null,0,0,0,0,"",{"$f":"+SUMIF('Details sales deliv. to excl.'!F:F,A777,'Details sales deliv. to excl.'!H:H)","v":0},{"$f":"-SUMIF('Details purch. deliv. to excl.'!F:F,A777,'Details purch. deliv. to excl.'!H:H)","v":0},0,0,0]
["PS1021","COUNTERPATH Eyebeam Audio-only for Mac","EYEBEAM V.1.5 BASIC MAC",492,"REGNOW-DIGITAL RIVER",0,0,null,0,0,0,0,"",{"$f":"+SUMIF('Details sales deliv. to excl.'!F:F,A778,'Details sales deliv. to excl.'!H:H)","v":0},{"$f":"-SUMIF('Details purch. deliv. to excl.'!F:F,A778,'Details purch. deliv. to excl.'!H:H)","v":0},0,0,0]
["PS1022","Bria Softphone (Audio-only)","bria",476,"COUNTERPATH",10.36,469,469,0,4858.84,4858.84,0,null,{"$f":"+SUMIF('Details sales deliv. to excl.'!F:F,A779,'Details sales deliv. to excl.'!H:H)","v":0},{"$f":"-SUMIF('Details purch. deliv. to excl.'!F:F,A779,'Details purch. deliv. to excl.'!H:H)","v":0},0,469,4858.84]
["PS1030","CYBERPHONE USB","cyberphone K  (FIT-V652)",469,"GO TELECOM NL",31.82,0,null,0,0,0,0,"",{"$f":"+SUMIF('Details sales deliv. to excl.'!F:F,A780,'Details sales deliv. to excl.'!H:H)","v":0},{"$f":"-SUMIF('Details purch. deliv. to excl.'!F:F,A780,'Details purch. deliv. to excl.'!H:H)","v":0},0,0,0]
["PU1000","PLANTRONICS DSP-100 USB",null,469,"GO TELECOM NL",58,0,null,0,0,0,0,"",{"$f":"+SUMIF('Details sales deliv. to excl.'!F:F,A781,'Details sales deliv. to excl.'!H:H)","v":0},{"$f":"-SUMIF('Details purch. deliv. to excl.'!F:F,A781,'Details purch. deliv. to excl.'!H:H)","v":0},0,0,0]
["PU1010","PLANTRONICS DSP-400 USB","DSP-400",469,"GO TELECOM NL",52.5,0,null,0,0,0,0,"",{"$f":"+SUMIF('Details sales deliv. to excl.'!F:F,A782,'Details sales deliv. to excl.'!H:H)","v":0},{"$f":"-SUMIF('Details purch. deliv. to excl.'!F:F,A782,'Details purch. deliv. to excl.'!H:H)","v":0},0,0,0]
["PW1000","Wi-Fi Hitachi IP5000","HC-WIP5000-EU",538,"SIRACOM",175,0,null,0,0,0,0,"",{"$f":"+SUMIF('Details sales deliv. to excl.'!F:F,A783,'Details sales deliv. to excl.'!H:H)","v":0},{"$f":"-SUMIF('Details purch. deliv. to excl.'!F:F,A783,'Details purch. deliv. to excl.'!H:H)","v":0},0,0,0]
["PW1001","Hitachi IP 5000 WIFI - Carrying Case","RPH5000",538,"SIRACOM",12,0,null,0,0,0,0,"",{"$f":"+SUMIF('Details sales deliv. to excl.'!F:F,A784,'Details sales deliv. to excl.'!H:H)","v":0},{"$f":"-SUMIF('Details purch. deliv. to excl.'!F:F,A784,'Details purch. deliv. to excl.'!H:H)","v":0},0,0,0]
["PW1002","Hitachi IP 5000 WIFI - USB cable","USB cable for WIP5000",538,"SIRACOM",27,0,null,0,0,0,0,"",{"$f":"+SUMIF('Details sales deliv. to excl.'!F:F,A785,'Details sales deliv. to excl.'!H:H)","v":0},{"$f":"-SUMIF('Details purch. deliv. to excl.'!F:F,A785,'Details purch. deliv. to excl.'!H:H)","v":0},0,0,0]
["PW1003","Hitachi IP 5000 WIFI - battery","Battery for  IP5000",538,"SIRACOM",31.5,0,null,0,0,0,0,"",{"$f":"+SUMIF('Details sales deliv. to excl.'!F:F,A786,'Details sales deliv. to excl.'!H:H)","v":0},{"$f":"-SUMIF('Details purch. deliv. to excl.'!F:F,A786,'Details purch. deliv. to excl.'!H:H)","v":0},0,0,0]
["PW1010","Wi-Fi GSM NOKIA N93","NOKIA N93",526,"VANDEN BORRE",0,0,null,0,0,0,0,"",{"$f":"+SUMIF('Details sales deliv. to excl.'!F:F,A787,'Details sales deliv. to excl.'!H:H)","v":0},{"$f":"-SUMIF('Details purch. deliv. to excl.'!F:F,A787,'Details purch. deliv. to excl.'!H:H)","v":0},0,0,0]
["PW1020","Ascom I75 Proctector Industrial","I75 Protector",784,"ASCOM SA",245,0,null,0,0,0,0,"",{"$f":"+SUMIF('Details sales deliv. to excl.'!F:F,A788,'Details sales deliv. to excl.'!H:H)","v":0},{"$f":"-SUMIF('Details purch. deliv. to excl.'!F:F,A788,'Details purch. deliv. to excl.'!H:H)","v":0},0,0,0]
["PW1021","Ascom I75 Stand Battery","I75 Protector St Battery",784,"ASCOM SA",26,0,null,0,0,0,0,"",{"$f":"+SUMIF('Details sales deliv. to excl.'!F:F,A789,'Details sales deliv. to excl.'!H:H)","v":0},{"$f":"-SUMIF('Details purch. deliv. to excl.'!F:F,A789,'Details purch. deliv. to excl.'!H:H)","v":0},0,0,0]
["PW1022","Ascom I75  Ext. Battery","I75 Protector Ext Battery",784,"ASCOM SA",37,0,null,0,0,0,0,"",{"$f":"+SUMIF('Details sales deliv. to excl.'!F:F,A790,'Details sales deliv. to excl.'!H:H)","v":0},{"$f":"-SUMIF('Details purch. deliv. to excl.'!F:F,A790,'Details purch. deliv. to excl.'!H:H)","v":0},0,0,0]
["PW1023","Ascom I75 DC2 Ind. Charger","I75 DC2 Individual Charger",784,"ASCOM SA",21,0,null,0,0,0,0,"",{"$f":"+SUMIF('Details sales deliv. to excl.'!F:F,A791,'Details sales deliv. to excl.'!H:H)","v":0},{"$f":"-SUMIF('Details purch. deliv. to excl.'!F:F,A791,'Details purch. deliv. to excl.'!H:H)","v":0},0,0,0]
["PW1024","I75Protector PDM SA Device Manager","I75 PDM SA Device Manager",784,"ASCOM SA",174,0,null,0,0,0,0,"",{"$f":"+SUMIF('Details sales deliv. to excl.'!F:F,A792,'Details sales deliv. to excl.'!H:H)","v":0},{"$f":"-SUMIF('Details purch. deliv. to excl.'!F:F,A792,'Details purch. deliv. to excl.'!H:H)","v":0},0,0,0]
["PW1025","Ascom I75 Multirack charger","I75 Multirack Charger 660104",784,"ASCOM SA",171,0,null,0,0,0,0,"",{"$f":"+SUMIF('Details sales deliv. to excl.'!F:F,A793,'Details sales deliv. to excl.'!H:H)","v":0},{"$f":"-SUMIF('Details purch. deliv. to excl.'!F:F,A793,'Details purch. deliv. to excl.'!H:H)","v":0},0,0,0]
["PW1026","Ascom I75 Power Supply CR24 max 3racks","I75 Alimenation CR24",784,"ASCOM SA",116,0,null,0,0,0,0,"",{"$f":"+SUMIF('Details sales deliv. to excl.'!F:F,A794,'Details sales deliv. to excl.'!H:H)","v":0},{"$f":"-SUMIF('Details purch. deliv. to excl.'!F:F,A794,'Details purch. deliv. to excl.'!H:H)","v":0},0,0,0]
["PW1029","Industrial Wi-Fi I75Messenger","I75 Messenger",784,"ASCOM SA",278,0,null,0,0,0,0,"",{"$f":"+SUMIF('Details sales deliv. to excl.'!F:F,A795,'Details sales deliv. to excl.'!H:H)","v":0},{"$f":"-SUMIF('Details purch. deliv. to excl.'!F:F,A795,'Details purch. deliv. to excl.'!H:H)","v":0},0,0,0]
["PW1030","Wi-Fi Hitachi IP3000","HC-WIP3000-EU",538,"SIRACOM",136,0,null,0,0,0,0,"",{"$f":"+SUMIF('Details sales deliv. to excl.'!F:F,A796,'Details sales deliv. to excl.'!H:H)","v":0},{"$f":"-SUMIF('Details purch. deliv. to excl.'!F:F,A796,'Details purch. deliv. to excl.'!H:H)","v":0},0,0,0]
["PW1031","Belt Clips for Wi-Fi Hitachi IP3000","S1",538,"SIRACOM",9,0,null,0,0,0,0,"",{"$f":"+SUMIF('Details sales deliv. to excl.'!F:F,A797,'Details sales deliv. to excl.'!H:H)","v":0},{"$f":"-SUMIF('Details purch. deliv. to excl.'!F:F,A797,'Details purch. deliv. to excl.'!H:H)","v":0},0,0,0]
["PW1032","IP 7700 WIFI","Unidata WIP770-EU",538,"SIRACOM",145,1,1,0,145,145,0,null,{"$f":"+SUMIF('Details sales deliv. to excl.'!F:F,A798,'Details sales deliv. to excl.'!H:H)","v":0},{"$f":"-SUMIF('Details purch. deliv. to excl.'!F:F,A798,'Details purch. deliv. to excl.'!H:H)","v":0},0,1,145]
["PW1033","IP 7700 WIFI Battery","Unidata WIP770 battery only",538,"SIRACOM",18,0,null,0,0,0,0,"",{"$f":"+SUMIF('Details sales deliv. to excl.'!F:F,A799,'Details sales deliv. to excl.'!H:H)","v":0},{"$f":"-SUMIF('Details purch. deliv. to excl.'!F:F,A799,'Details purch. deliv. to excl.'!H:H)","v":0},0,0,0]
["PW1034","IP 7700 WIFI Belt Clip","Unidata WIP770-EU belt clip",538,"SIRACOM",9.0299999999999994,0,null,0,0,0,0,"",{"$f":"+SUMIF('Details sales deliv. to excl.'!F:F,A800,'Details sales deliv. to excl.'!H:H)","v":0},{"$f":"-SUMIF('Details purch. deliv. to excl.'!F:F,A800,'Details purch. deliv. to excl.'!H:H)","v":0},0,0,0]
["PW1035","Wi-Fi Unidata IP7700 multi-battery charger","WiFi IP7700 multi-bat. charger",538,"SIRACOM",50,1,1,0,50,50,0,null,{"$f":"+SUMIF('Details sales deliv. to excl.'!F:F,A801,'Details sales deliv. to excl.'!H:H)","v":0},{"$f":"-SUMIF('Details purch. deliv. to excl.'!F:F,A801,'Details purch. deliv. to excl.'!H:H)","v":0},0,1,50]
["PW1040","Wi-Fi Polycom 8020 incl bat, charger, power supply","CBS200",837,"ZYCKO BENELUX BV",307,0,null,0,0,0,0,"",{"$f":"+SUMIF('Details sales deliv. to excl.'!F:F,A802,'Details sales deliv. to excl.'!H:H)","v":0},{"$f":"-SUMIF('Details purch. deliv. to excl.'!F:F,A802,'Details purch. deliv. to excl.'!H:H)","v":0},0,0,0]
["PW1050","UNIDATA IP 7800 WIFI","WPU-7800",538,"SIRACOM",110,1,1,0,110,110,0,null,{"$f":"+SUMIF('Details sales deliv. to excl.'!F:F,A803,'Details sales deliv. to excl.'!H:H)","v":0},{"$f":"-SUMIF('Details purch. deliv. to excl.'!F:F,A803,'Details purch. deliv. to excl.'!H:H)","v":0},0,1,110]
["PW1051","ICW-1000G WIFI","ICW1000G-EU",538,"SIRACOM",120,0,null,0,0,0,0,"",{"$f":"+SUMIF('Details sales deliv. to excl.'!F:F,A804,'Details sales deliv. to excl.'!H:H)","v":0},{"$f":"-SUMIF('Details purch. deliv. to excl.'!F:F,A804,'Details purch. deliv. to excl.'!H:H)","v":0},0,0,0]
["PW1053","UNIDATA IP 7800 Battery","WPU-7800 Battery",538,"SIRACOM",18,0,null,0,0,0,0,"",{"$f":"+SUMIF('Details sales deliv. to excl.'!F:F,A805,'Details sales deliv. to excl.'!H:H)","v":0},{"$f":"-SUMIF('Details purch. deliv. to excl.'!F:F,A805,'Details purch. deliv. to excl.'!H:H)","v":0},0,0,0]
["PW1055","WPU-7800 Docking Station","WPU-7800CR",538,"SIRACOM",45,0,null,0,0,0,0,"",{"$f":"+SUMIF('Details sales deliv. to excl.'!F:F,A806,'Details sales deliv. to excl.'!H:H)","v":0},{"$f":"-SUMIF('Details purch. deliv. to excl.'!F:F,A806,'Details purch. deliv. to excl.'!H:H)","v":0},0,0,0]
["PW1056","WPU-7800 Cradle Dock.St.","WPU-7800 Cradle Dock.St.",538,"SIRACOM",16,0,null,0,0,0,0,"",{"$f":"+SUMIF('Details sales deliv. to excl.'!F:F,A807,'Details sales deliv. to excl.'!H:H)","v":0},{"$f":"-SUMIF('Details purch. deliv. to excl.'!F:F,A807,'Details purch. deliv. to excl.'!H:H)","v":0},0,0,0]
["PW1057","WPU-7800 Multi Battery Charger","WPU-7800 Mutli Battery Charger",538,"SIRACOM",48,0,null,0,0,0,0,"",{"$f":"+SUMIF('Details sales deliv. to excl.'!F:F,A808,'Details sales deliv. to excl.'!H:H)","v":0},{"$f":"-SUMIF('Details purch. deliv. to excl.'!F:F,A808,'Details purch. deliv. to excl.'!H:H)","v":0},0,0,0]
["PW1058","WPU-7800 Adapter Dock.Stat.","WPU-7800 Adapter Dock.Stat.",538,"SIRACOM",29,0,null,0,0,0,0,"",{"$f":"+SUMIF('Details sales deliv. to excl.'!F:F,A809,'Details sales deliv. to excl.'!H:H)","v":0},{"$f":"-SUMIF('Details purch. deliv. to excl.'!F:F,A809,'Details purch. deliv. to excl.'!H:H)","v":0},0,0,0]
["PW1109","POLYCOM IP-DECT Server 6500 in Rack cabinet",2350000,472,"WESTCON GROUP EUROPEAN OPERATIONS LTD - BELGIUM BRANCH",679.25,0,null,0,0,0,0,"",{"$f":"+SUMIF('Details sales deliv. to excl.'!F:F,A810,'Details sales deliv. to excl.'!H:H)","v":0},{"$f":"-SUMIF('Details purch. deliv. to excl.'!F:F,A810,'Details purch. deliv. to excl.'!H:H)","v":0},0,0,0]
["PW1110","POLYCOM Kirk KWS300 Wireless Srv 4ch/12users","?",736,"TIPTEL",237,0,null,0,0,0,0,"",{"$f":"+SUMIF('Details sales deliv. to excl.'!F:F,A811,'Details sales deliv. to excl.'!H:H)","v":0},{"$f":"-SUMIF('Details purch. deliv. to excl.'!F:F,A811,'Details purch. deliv. to excl.'!H:H)","v":0},0,0,0]
["PW1112","POLYCOM Kirk KWS600 multicell license",null,736,"TIPTEL",144.19999999999999,0,null,0,0,0,0,"",{"$f":"+SUMIF('Details sales deliv. to excl.'!F:F,A812,'Details sales deliv. to excl.'!H:H)","v":0},{"$f":"-SUMIF('Details purch. deliv. to excl.'!F:F,A812,'Details purch. deliv. to excl.'!H:H)","v":0},0,0,0]
["PW1113","POLYCOM Kirk KWS600 Srv 11ch/30users","KD02363312",736,"TIPTEL",699.3,1,1,0,699.3,699.3,0,null,{"$f":"+SUMIF('Details sales deliv. to excl.'!F:F,A813,'Details sales deliv. to excl.'!H:H)","v":0},{"$f":"-SUMIF('Details purch. deliv. to excl.'!F:F,A813,'Details purch. deliv. to excl.'!H:H)","v":0},0,1,699.3]
["PW1114","POLYCOM KWS6000 G729 Codec Module 24ch",null,736,"TIPTEL",344,0,null,0,0,0,0,"",{"$f":"+SUMIF('Details sales deliv. to excl.'!F:F,A814,'Details sales deliv. to excl.'!H:H)","v":0},{"$f":"-SUMIF('Details purch. deliv. to excl.'!F:F,A814,'Details purch. deliv. to excl.'!H:H)","v":0},0,0,0]
["PW1115","POLYCOM KIRK Wireless Server 6000","KD02344100",736,"TIPTEL",473.5,0,null,0,0,0,0,"",{"$f":"+SUMIF('Details sales deliv. to excl.'!F:F,A815,'Details sales deliv. to excl.'!H:H)","v":0},{"$f":"-SUMIF('Details purch. deliv. to excl.'!F:F,A815,'Details purch. deliv. to excl.'!H:H)","v":0},0,0,0]
["PW1116","Kirk Media Resource",null,736,"TIPTEL",778,0,null,0,0,0,0,"",{"$f":"+SUMIF('Details sales deliv. to excl.'!F:F,A816,'Details sales deliv. to excl.'!H:H)","v":0},{"$f":"-SUMIF('Details purch. deliv. to excl.'!F:F,A816,'Details purch. deliv. to excl.'!H:H)","v":0},0,0,0]
["PW1117","POLYCOM KIRK KWS6000 Licence 30-150 users /server",14075210,736,"TIPTEL",552,0,null,0,0,0,0,"",{"$f":"+SUMIF('Details sales deliv. to excl.'!F:F,A817,'Details sales deliv. to excl.'!H:H)","v":0},{"$f":"-SUMIF('Details purch. deliv. to excl.'!F:F,A817,'Details purch. deliv. to excl.'!H:H)","v":0},0,0,0]
["PW1118","POLYCOM KIRK KWS6000 Licences up to 30 users/server",null,736,"TIPTEL",0,0,null,0,0,0,0,"",{"$f":"+SUMIF('Details sales deliv. to excl.'!F:F,A818,'Details sales deliv. to excl.'!H:H)","v":0},{"$f":"-SUMIF('Details purch. deliv. to excl.'!F:F,A818,'Details purch. deliv. to excl.'!H:H)","v":0},0,0,0]
["PW1119","POLYCOM KIRK KWS6000 Licences up to 500 users/server",null,736,"TIPTEL",1159,0,null,0,0,0,0,"",{"$f":"+SUMIF('Details sales deliv. to excl.'!F:F,A819,'Details sales deliv. to excl.'!H:H)","v":0},{"$f":"-SUMIF('Details purch. deliv. to excl.'!F:F,A819,'Details purch. deliv. to excl.'!H:H)","v":0},0,0,0]
["PW1120","KIRK IPDECT 4020 handset","KD02380607",736,"TIPTEL",132.08000000000001,0,null,0,0,0,0,"",{"$f":"+SUMIF('Details sales deliv. to excl.'!F:F,A820,'Details sales deliv. to excl.'!H:H)","v":0},{"$f":"-SUMIF('Details purch. deliv. to excl.'!F:F,A820,'Details purch. deliv. to excl.'!H:H)","v":0},0,0,0]
["PW1121","KIRK IPDECT 5020 handset","KD02380707",736,"TIPTEL",160.55000000000001,1,1,0,160.55000000000001,160.55000000000001,0,null,{"$f":"+SUMIF('Details sales deliv. to excl.'!F:F,A821,'Details sales deliv. to excl.'!H:H)","v":0},{"$f":"-SUMIF('Details purch. deliv. to excl.'!F:F,A821,'Details purch. deliv. to excl.'!H:H)","v":0},0,1,160.55000000000001]
["PW1122","KIRK IPDECT 5020 handset [use PW1121]","KD02380707",736,"TIPTEL",185.42,0,null,0,0,0,0,"",{"$f":"+SUMIF('Details sales deliv. to excl.'!F:F,A822,'Details sales deliv. to excl.'!H:H)","v":0},{"$f":"-SUMIF('Details purch. deliv. to excl.'!F:F,A822,'Details purch. deliv. to excl.'!H:H)","v":0},0,0,0]
["PW1123","KIRK IPDECT 5040 handset",null,736,"TIPTEL",185.42,1,1,0,185.42,185.42,0,null,{"$f":"+SUMIF('Details sales deliv. to excl.'!F:F,A823,'Details sales deliv. to excl.'!H:H)","v":0},{"$f":"-SUMIF('Details purch. deliv. to excl.'!F:F,A823,'Details purch. deliv. to excl.'!H:H)","v":0},0,1,185.42]
["PW1124","KIRK IPDECT 3040 handset","KD02331617",736,"TIPTEL",170.25,0,null,0,0,0,0,"",{"$f":"+SUMIF('Details sales deliv. to excl.'!F:F,A824,'Details sales deliv. to excl.'!H:H)","v":0},{"$f":"-SUMIF('Details purch. deliv. to excl.'!F:F,A824,'Details purch. deliv. to excl.'!H:H)","v":0},0,0,0]
["PW1125","KIRK IPDECT charger (4020-4040)",84642484,736,"TIPTEL",12,50,50,0,600,600,0,null,{"$f":"+SUMIF('Details sales deliv. to excl.'!F:F,A825,'Details sales deliv. to excl.'!H:H)","v":0},{"$f":"-SUMIF('Details purch. deliv. to excl.'!F:F,A825,'Details purch. deliv. to excl.'!H:H)","v":0},0,50,600]
["PW1126","KIRK IPDECT power supply (4020-4040)","KD84642462",736,"TIPTEL",12,33,33,0,396,396,0,null,{"$f":"+SUMIF('Details sales deliv. to excl.'!F:F,A826,'Details sales deliv. to excl.'!H:H)","v":0},{"$f":"-SUMIF('Details purch. deliv. to excl.'!F:F,A826,'Details purch. deliv. to excl.'!H:H)","v":0},0,33,396]
["PW1127","KIRK IPDECT charger (5020-5040-6020-6040-7010)","KD84642472",736,"TIPTEL",12,12,12,0,144,144,0,null,{"$f":"+SUMIF('Details sales deliv. to excl.'!F:F,A827,'Details sales deliv. to excl.'!H:H)","v":0},{"$f":"-SUMIF('Details purch. deliv. to excl.'!F:F,A827,'Details purch. deliv. to excl.'!H:H)","v":0},0,12,144]
["PW1128","KIRK IPDECT pwr supply (5020-5040-6020-6040-7010)","KD84642601",736,"TIPTEL",12,6,6,0,72,72,0,null,{"$f":"+SUMIF('Details sales deliv. to excl.'!F:F,A828,'Details sales deliv. to excl.'!H:H)","v":0},{"$f":"-SUMIF('Details purch. deliv. to excl.'!F:F,A828,'Details purch. deliv. to excl.'!H:H)","v":0},0,6,72]
["PW1129","KIRK IPDECT battery 3040/40x0","KD84743411",470,"IMAGO GROUP BENELUX",18.75,0,null,0,0,0,0,"",{"$f":"+SUMIF('Details sales deliv. to excl.'!F:F,A829,'Details sales deliv. to excl.'!H:H)","v":0},{"$f":"-SUMIF('Details purch. deliv. to excl.'!F:F,A829,'Details purch. deliv. to excl.'!H:H)","v":0},0,0,0]
["PW1130","POLYCOM KIRK KWS6000 Licences up to 1500 users/server",null,736,"TIPTEL",2081,0,null,0,0,0,0,"",{"$f":"+SUMIF('Details sales deliv. to excl.'!F:F,A830,'Details sales deliv. to excl.'!H:H)","v":0},{"$f":"-SUMIF('Details purch. deliv. to excl.'!F:F,A830,'Details purch. deliv. to excl.'!H:H)","v":0},0,0,0]
["PW1131","KIRK IPDECT battery 50x0/60x0",84743424,736,"TIPTEL",27.32,0,null,0,0,0,0,"",{"$f":"+SUMIF('Details sales deliv. to excl.'!F:F,A831,'Details sales deliv. to excl.'!H:H)","v":0},{"$f":"-SUMIF('Details purch. deliv. to excl.'!F:F,A831,'Details purch. deliv. to excl.'!H:H)","v":0},0,0,0]
["PW1135","KIRK pwr supply for repeater",84642602,736,"TIPTEL",11.25,0,null,0,0,0,0,"",{"$f":"+SUMIF('Details sales deliv. to excl.'!F:F,A832,'Details sales deliv. to excl.'!H:H)","v":0},{"$f":"-SUMIF('Details purch. deliv. to excl.'!F:F,A832,'Details purch. deliv. to excl.'!H:H)","v":0},0,0,0]
["PW1140","PoE Injector for WS300 or base station w/o PoE",1083074,736,"TIPTEL",21,0,null,0,0,0,0,"",{"$f":"+SUMIF('Details sales deliv. to excl.'!F:F,A833,'Details sales deliv. to excl.'!H:H)","v":0},{"$f":"-SUMIF('Details purch. deliv. to excl.'!F:F,A833,'Details purch. deliv. to excl.'!H:H)","v":0},0,0,0]
["PW1150","KIRK 4020 Belt Clip","KD02319539",736,"TIPTEL",13,32,32,0,416,416,0,null,{"$f":"+SUMIF('Details sales deliv. to excl.'!F:F,A834,'Details sales deliv. to excl.'!H:H)","v":0},{"$f":"-SUMIF('Details purch. deliv. to excl.'!F:F,A834,'Details purch. deliv. to excl.'!H:H)","v":0},0,32,416]
["PW1151","KIRK 4020 Rubber Cover","KD02319584",736,"TIPTEL",26.25,0,null,0,0,0,0,"",{"$f":"+SUMIF('Details sales deliv. to excl.'!F:F,A835,'Details sales deliv. to excl.'!H:H)","v":0},{"$f":"-SUMIF('Details purch. deliv. to excl.'!F:F,A835,'Details purch. deliv. to excl.'!H:H)","v":0},0,0,0]
["PW1152","KIRK 4020 Leather Bag","KD02319543",736,"TIPTEL",21.75,0,null,{"$f":"H836-G836","v":0},{"$f":"G836*F836","v":0},{"$f":"H836*F836","v":0},{"$f":"I836*F836","v":0},"",{"$f":"+SUMIF('Details sales deliv. to excl.'!F:F,A836,'Details sales deliv. to excl.'!H:H)","v":0},{"$f":"-SUMIF('Details purch. deliv. to excl.'!F:F,A836,'Details purch. deliv. to excl.'!H:H)","v":0},{"$f":"I836+N836+O836","v":0},{"$f":"G836+P836","v":0},{"$f":"Q836*F836","v":0}]
["PW1153","KIRK 4020 Safety Cord",null,736,"TIPTEL",11.75,0,null,0,0,0,0,{"$f":"IF(ABS(L837)>500,\"check\",\"\")","v":""},{"$f":"+SUMIF('Details sales deliv. to excl.'!F:F,A837,'Details sales deliv. to excl.'!H:H)","v":0},{"$f":"-SUMIF('Details purch. deliv. to excl.'!F:F,A837,'Details purch. deliv. to excl.'!H:H)","v":0},0,0,0]
["PW1154","KIRK 5020 Belt Clip","KD02319588",736,"TIPTEL",9.5,0,null,0,0,0,0,"",{"$f":"+SUMIF('Details sales deliv. to excl.'!F:F,A838,'Details sales deliv. to excl.'!H:H)","v":0},{"$f":"-SUMIF('Details purch. deliv. to excl.'!F:F,A838,'Details purch. deliv. to excl.'!H:H)","v":0},0,0,0]
["PW1160","Test station wireless station",9352012,736,"TIPTEL",500.3,0,null,0,0,0,0,"",{"$f":"+SUMIF('Details sales deliv. to excl.'!F:F,A839,'Details sales deliv. to excl.'!H:H)","v":0},{"$f":"-SUMIF('Details purch. deliv. to excl.'!F:F,A839,'Details purch. deliv. to excl.'!H:H)","v":0},0,0,0]
["PW1170","SPECTRALINK 7440 Handset (prev. KIRK 4040)",2380107,736,"TIPTEL",185.25,0,null,0,0,0,0,"",{"$f":"+SUMIF('Details sales deliv. to excl.'!F:F,A840,'Details sales deliv. to excl.'!H:H)","v":0},{"$f":"-SUMIF('Details purch. deliv. to excl.'!F:F,A840,'Details purch. deliv. to excl.'!H:H)","v":0},0,0,0]
["PW1181","SPECTRALINK 7522 w/o USB handset",2620000,472,"WESTCON GROUP EUROPEAN OPERATIONS LTD - BELGIUM BRANCH",173.51,1,1,0,173.51,173.51,0,null,{"$f":"+SUMIF('Details sales deliv. to excl.'!F:F,A841,'Details sales deliv. to excl.'!H:H)","v":0},{"$f":"-SUMIF('Details purch. deliv. to excl.'!F:F,A841,'Details purch. deliv. to excl.'!H:H)","v":0},0,1,173.51]
["PW1182","SPECTRALINK 7522 w/o USB charger",84642472,472,"WESTCON GROUP EUROPEAN OPERATIONS LTD - BELGIUM BRANCH",10.56,1,1,0,10.56,10.56,0,null,{"$f":"+SUMIF('Details sales deliv. to excl.'!F:F,A842,'Details sales deliv. to excl.'!H:H)","v":0},{"$f":"-SUMIF('Details purch. deliv. to excl.'!F:F,A842,'Details purch. deliv. to excl.'!H:H)","v":0},0,1,10.56]
["PW1183","SPECTRALINK 7522 w/o USB pwr supply",84642601,472,"WESTCON GROUP EUROPEAN OPERATIONS LTD - BELGIUM BRANCH",10.56,1,1,0,10.56,10.56,0,null,{"$f":"+SUMIF('Details sales deliv. to excl.'!F:F,A843,'Details sales deliv. to excl.'!H:H)","v":0},{"$f":"-SUMIF('Details purch. deliv. to excl.'!F:F,A843,'Details purch. deliv. to excl.'!H:H)","v":0},0,1,10.56]
["PW1200","AASTRA 610D Handset [EOL]",68851,1105,"ATIS",123.33,2,0,-2,246.66,0,-246.66,null,{"$f":"+SUMIF('Details sales deliv. to excl.'!F:F,A844,'Details sales deliv. to excl.'!H:H)","v":0},{"$f":"-SUMIF('Details purch. deliv. to excl.'!F:F,A844,'Details purch. deliv. to excl.'!H:H)","v":0},-2,0,0]
["PW1201","AASTRA 612D set","80E00011AAA-A",1462,"EXERTIS GO CONNECT",109.35,21,21,0,2296.35,2296.35,0,null,{"$f":"+SUMIF('Details sales deliv. to excl.'!F:F,A845,'Details sales deliv. to excl.'!H:H)","v":0},{"$f":"-SUMIF('Details purch. deliv. to excl.'!F:F,A845,'Details purch. deliv. to excl.'!H:H)","v":0},0,21,2296.35]
["PW1202","AASTRA 612D Handset","80E00008AAA-A",1462,"EXERTIS GO CONNECT",101.52,1,1,0,101.52,101.52,0,null,{"$f":"+SUMIF('Details sales deliv. to excl.'!F:F,A846,'Details sales deliv. to excl.'!H:H)","v":0},{"$f":"-SUMIF('Details purch. deliv. to excl.'!F:F,A846,'Details purch. deliv. to excl.'!H:H)","v":0},0,1,101.52]
["PW1205","AASTRA 620D Handset [EOL]",68850,1105,"ATIS",172.5,2,0,-2,345,0,-345,null,{"$f":"+SUMIF('Details sales deliv. to excl.'!F:F,A847,'Details sales deliv. to excl.'!H:H)","v":0},{"$f":"-SUMIF('Details purch. deliv. to excl.'!F:F,A847,'Details purch. deliv. to excl.'!H:H)","v":0},-2,0,0]
["PW1206","AASTRA 622D Handset","80E00009AAAA",1462,"EXERTIS GO CONNECT",145.26,3,3,0,435.78,435.78,0,null,{"$f":"+SUMIF('Details sales deliv. to excl.'!F:F,A848,'Details sales deliv. to excl.'!H:H)","v":0},{"$f":"-SUMIF('Details purch. deliv. to excl.'!F:F,A848,'Details purch. deliv. to excl.'!H:H)","v":0},0,3,435.78]
["PW1207","AASTRA 622D set","80E00012AAA-A",1462,"EXERTIS GO CONNECT",153.94,10,10,0,1539.4,1539.4,0,null,{"$f":"+SUMIF('Details sales deliv. to excl.'!F:F,A849,'Details sales deliv. to excl.'!H:H)","v":0},{"$f":"-SUMIF('Details purch. deliv. to excl.'!F:F,A849,'Details purch. deliv. to excl.'!H:H)","v":0},0,10,1539.4]
["PW1210","AASTRA 630D Handset [EOL]",68849,1105,"ATIS",347.9,0,null,0,0,0,0,"",{"$f":"+SUMIF('Details sales deliv. to excl.'!F:F,A850,'Details sales deliv. to excl.'!H:H)","v":0},{"$f":"-SUMIF('Details purch. deliv. to excl.'!F:F,A850,'Details purch. deliv. to excl.'!H:H)","v":0},0,0,0]
["PW1211","AASTRA 632D Handset","80E00010AAAA",1462,"EXERTIS GO CONNECT",283,0,null,0,0,0,0,"",{"$f":"+SUMIF('Details sales deliv. to excl.'!F:F,A851,'Details sales deliv. to excl.'!H:H)","v":0},{"$f":"-SUMIF('Details purch. deliv. to excl.'!F:F,A851,'Details purch. deliv. to excl.'!H:H)","v":0},0,0,0]
["PW1212","AASTRA 632D set","80 E00013AAAA",1462,"EXERTIS GO CONNECT",290.79000000000002,6,6,0,1744.7400000000002,1744.7400000000002,0,null,{"$f":"+SUMIF('Details sales deliv. to excl.'!F:F,A852,'Details sales deliv. to excl.'!H:H)","v":0},{"$f":"-SUMIF('Details purch. deliv. to excl.'!F:F,A852,'Details purch. deliv. to excl.'!H:H)","v":0},0,6,1744.7400000000002]
["PW1220","AASTRA Base station + Antenna RFP Dect L32 [EOL]",68883,1105,"ATIS",442.75,0,null,0,0,0,0,"",{"$f":"+SUMIF('Details sales deliv. to excl.'!F:F,A853,'Details sales deliv. to excl.'!H:H)","v":0},{"$f":"-SUMIF('Details purch. deliv. to excl.'!F:F,A853,'Details purch. deliv. to excl.'!H:H)","v":0},0,0,0]
["PW1221","AASTRA Base station RFP L36IP DECT Outdoor",68621,1462,"EXERTIS GO CONNECT",384.04,3,3,0,1152.1200000000001,1152.1200000000001,0,null,{"$f":"+SUMIF('Details sales deliv. to excl.'!F:F,A854,'Details sales deliv. to excl.'!H:H)","v":0},{"$f":"-SUMIF('Details purch. deliv. to excl.'!F:F,A854,'Details purch. deliv. to excl.'!H:H)","v":0},0,3,1152.1200000000001]
["PW1222","AASTRA Base station RFP 34IP DECT Outdoor [EOL]",69205,1105,"ATIS",489.06,0,null,0,0,0,0,"",{"$f":"+SUMIF('Details sales deliv. to excl.'!F:F,A855,'Details sales deliv. to excl.'!H:H)","v":0},{"$f":"-SUMIF('Details purch. deliv. to excl.'!F:F,A855,'Details purch. deliv. to excl.'!H:H)","v":0},0,0,0]
["PW1223","AASTRA Base station RFP 36IP DECT Outdoor",68635,1462,"EXERTIS GO CONNECT",383.7,2,2,0,767.4,767.4,0,null,{"$f":"+SUMIF('Details sales deliv. to excl.'!F:F,A856,'Details sales deliv. to excl.'!H:H)","v":0},{"$f":"-SUMIF('Details purch. deliv. to excl.'!F:F,A856,'Details purch. deliv. to excl.'!H:H)","v":0},0,2,767.4]
["PW1224","AASTRA Power supply for RFP(L)35/(L)43 IP","87-00002AAA-A",1462,"EXERTIS GO CONNECT",13.5,8,7,-1,108,94.5,-13.5,null,{"$f":"+SUMIF('Details sales deliv. to excl.'!F:F,A857,'Details sales deliv. to excl.'!H:H)","v":0},{"$f":"-SUMIF('Details purch. deliv. to excl.'!F:F,A857,'Details purch. deliv. to excl.'!H:H)","v":0},-1,7,94.5]
["PW1225","AASTRA Base station + Antenna RFP Dect L35",68622,1462,"EXERTIS GO CONNECT",347.04,2,2,0,694.08,694.08,0,null,{"$f":"+SUMIF('Details sales deliv. to excl.'!F:F,A858,'Details sales deliv. to excl.'!H:H)","v":0},{"$f":"-SUMIF('Details purch. deliv. to excl.'!F:F,A858,'Details purch. deliv. to excl.'!H:H)","v":0},0,2,694.08]
["PW1226","AASTRA Base station + Antenna RFP Dect 35",68637,1462,"EXERTIS GO CONNECT",335.1,25,25,0,8377.5,8377.5,0,null,{"$f":"+SUMIF('Details sales deliv. to excl.'!F:F,A859,'Details sales deliv. to excl.'!H:H)","v":0},{"$f":"-SUMIF('Details purch. deliv. to excl.'!F:F,A859,'Details purch. deliv. to excl.'!H:H)","v":0},0,25,8377.5]
["PW1230","AASTRA IP Dect pwr supply for L32IP & L34IP [EOL]","AAS-404513610",857,"GO TELECOM BVBA",20.350000000000001,0,null,0,0,0,0,"",{"$f":"+SUMIF('Details sales deliv. to excl.'!F:F,A860,'Details sales deliv. to excl.'!H:H)","v":0},{"$f":"-SUMIF('Details purch. deliv. to excl.'!F:F,A860,'Details purch. deliv. to excl.'!H:H)","v":0},0,0,0]
["PW1235","AASTRA - Installation CD for RFP L32IP and L34IP [EOL]",400068885,1105,"ATIS",33.75,0,null,0,0,0,0,"",{"$f":"+SUMIF('Details sales deliv. to excl.'!F:F,A861,'Details sales deliv. to excl.'!H:H)","v":0},{"$f":"-SUMIF('Details purch. deliv. to excl.'!F:F,A861,'Details purch. deliv. to excl.'!H:H)","v":0},0,0,0]
["PW1236","AASTRA - Installation CD for RFP L35IP [use PW1237]",400068885,1105,"ATIS",33.75,0,null,0,0,0,0,"",{"$f":"+SUMIF('Details sales deliv. to excl.'!F:F,A862,'Details sales deliv. to excl.'!H:H)","v":0},{"$f":"-SUMIF('Details purch. deliv. to excl.'!F:F,A862,'Details purch. deliv. to excl.'!H:H)","v":0},0,0,0]
["PW1237","AASTRA - Installation CD for RFP (L)35IP - OMM5.0","89-00009AAA-A",1462,"EXERTIS GO CONNECT",30,5,5,0,150,150,0,null,{"$f":"+SUMIF('Details sales deliv. to excl.'!F:F,A863,'Details sales deliv. to excl.'!H:H)","v":0},{"$f":"-SUMIF('Details purch. deliv. to excl.'!F:F,A863,'Details purch. deliv. to excl.'!H:H)","v":0},0,5,150]
["PW1238","AASTRA - RFP L35IP Base Station + Installation CD [use PW1237]","89-00004AAA-A",1105,"ATIS",377.04,0,null,0,0,0,0,"",{"$f":"+SUMIF('Details sales deliv. to excl.'!F:F,A864,'Details sales deliv. to excl.'!H:H)","v":0},{"$f":"-SUMIF('Details purch. deliv. to excl.'!F:F,A864,'Details purch. deliv. to excl.'!H:H)","v":0},0,0,0]
["PW1239","AASTRA - OM System License 50 for RFP","MIT68665",1462,"EXERTIS GO CONNECT",895.5,0,null,0,0,0,0,"",{"$f":"+SUMIF('Details sales deliv. to excl.'!F:F,A865,'Details sales deliv. to excl.'!H:H)","v":0},{"$f":"-SUMIF('Details purch. deliv. to excl.'!F:F,A865,'Details purch. deliv. to excl.'!H:H)","v":0},0,0,0]
["PW1240","AASTRA - OM System License 20 for RFP",68666,1462,"EXERTIS GO CONNECT",580.5,1,1,0,580.5,580.5,0,null,{"$f":"+SUMIF('Details sales deliv. to excl.'!F:F,A866,'Details sales deliv. to excl.'!H:H)","v":0},{"$f":"-SUMIF('Details purch. deliv. to excl.'!F:F,A866,'Details purch. deliv. to excl.'!H:H)","v":0},0,1,580.5]
["PW1241","AASTRA - OM System License 10 for RFP",68667,1462,"EXERTIS GO CONNECT",355.5,1,1,0,355.5,355.5,0,null,{"$f":"+SUMIF('Details sales deliv. to excl.'!F:F,A867,'Details sales deliv. to excl.'!H:H)","v":0},{"$f":"-SUMIF('Details purch. deliv. to excl.'!F:F,A867,'Details purch. deliv. to excl.'!H:H)","v":0},0,1,355.5]
["PW1242","AASTRA - OM System License 5  for RFP (not extendable)",null,1462,"EXERTIS GO CONNECT",0,0,null,0,0,0,0,"",{"$f":"+SUMIF('Details sales deliv. to excl.'!F:F,A868,'Details sales deliv. to excl.'!H:H)","v":0},{"$f":"-SUMIF('Details purch. deliv. to excl.'!F:F,A868,'Details purch. deliv. to excl.'!H:H)","v":0},0,0,0]
["PW1243","AASTRA - OM System Upgrade License for RFP 3.x/4.x/5.x",68632,1462,"EXERTIS GO CONNECT",128.94999999999999,0,null,0,0,0,0,"",{"$f":"+SUMIF('Details sales deliv. to excl.'!F:F,A869,'Details sales deliv. to excl.'!H:H)","v":0},{"$f":"-SUMIF('Details purch. deliv. to excl.'!F:F,A869,'Details purch. deliv. to excl.'!H:H)","v":0},0,0,0]
["PW1250","AASTRA 600c/d - Set Charger Rack (8 positions)",68774,1462,"EXERTIS GO CONNECT",459.04,3,3,0,1377.1200000000001,1377.1200000000001,0,null,{"$f":"+SUMIF('Details sales deliv. to excl.'!F:F,A870,'Details sales deliv. to excl.'!H:H)","v":0},{"$f":"-SUMIF('Details purch. deliv. to excl.'!F:F,A870,'Details purch. deliv. to excl.'!H:H)","v":0},0,3,1377.1200000000001]
["PW1255","AASTRA 610d, 612d, 620d, 622d - Cover",68767,1462,"EXERTIS GO CONNECT",3.79,0,null,0,0,0,0,"",{"$f":"+SUMIF('Details sales deliv. to excl.'!F:F,A871,'Details sales deliv. to excl.'!H:H)","v":0},{"$f":"-SUMIF('Details purch. deliv. to excl.'!F:F,A871,'Details purch. deliv. to excl.'!H:H)","v":0},0,0,0]
["PW1257","AASTRA Beltbag for 610/620 [EOL]","DT2948",1105,"ATIS",22.5,0,null,0,0,0,0,"",{"$f":"+SUMIF('Details sales deliv. to excl.'!F:F,A872,'Details sales deliv. to excl.'!H:H)","v":0},{"$f":"-SUMIF('Details purch. deliv. to excl.'!F:F,A872,'Details purch. deliv. to excl.'!H:H)","v":0},0,0,0]
["PW1258","AASTRA Rotary-Belt Clip (610d, 612d, 620d, 622d)",68770,1462,"EXERTIS GO CONNECT",7,0,null,0,0,0,0,"",{"$f":"+SUMIF('Details sales deliv. to excl.'!F:F,A873,'Details sales deliv. to excl.'!H:H)","v":0},{"$f":"-SUMIF('Details purch. deliv. to excl.'!F:F,A873,'Details purch. deliv. to excl.'!H:H)","v":0},0,0,0]
["PW1259","AASTRA wall mount kit for L34",4602286,1462,"EXERTIS GO CONNECT",5.05,1,1,0,5.05,5.05,0,null,{"$f":"+SUMIF('Details sales deliv. to excl.'!F:F,A874,'Details sales deliv. to excl.'!H:H)","v":0},{"$f":"-SUMIF('Details purch. deliv. to excl.'!F:F,A874,'Details purch. deliv. to excl.'!H:H)","v":0},0,1,5.05]
["PW1260","AASTRA - Installation CD for RFP L35IP - OMM6..0","OMM 6.0 -- to be confirmed",1462,"EXERTIS GO CONNECT",0,0,null,0,0,0,0,"",{"$f":"+SUMIF('Details sales deliv. to excl.'!F:F,A875,'Details sales deliv. to excl.'!H:H)","v":0},{"$f":"-SUMIF('Details purch. deliv. to excl.'!F:F,A875,'Details purch. deliv. to excl.'!H:H)","v":0},0,0,0]
["PW1261","AASTRA 610d, 612d, 620d,622d Leather Pouch with Belt Clip","MIT-68762",1462,"EXERTIS GO CONNECT",34.020000000000003,51,48,-3,1735.0200000000002,1632.96,-102.06,null,{"$f":"+SUMIF('Details sales deliv. to excl.'!F:F,A876,'Details sales deliv. to excl.'!H:H)","v":0},{"$f":"-SUMIF('Details purch. deliv. to excl.'!F:F,A876,'Details purch. deliv. to excl.'!H:H)","v":0},-3,48,1632.96]
["PW1262","OM Messaging Licence 10 - for sending messages","MIT-68659",1462,"EXERTIS GO CONNECT",130.5,0,null,0,0,0,0,"",{"$f":"+SUMIF('Details sales deliv. to excl.'!F:F,A877,'Details sales deliv. to excl.'!H:H)","v":0},{"$f":"-SUMIF('Details purch. deliv. to excl.'!F:F,A877,'Details purch. deliv. to excl.'!H:H)","v":0},0,0,0]
["PW1263","OM Messaging & Alerting System Licence - alerting & receiving messages","MIT-68660",1462,"EXERTIS GO CONNECT",2250,1,1,0,2250,2250,0,null,{"$f":"+SUMIF('Details sales deliv. to excl.'!F:F,A878,'Details sales deliv. to excl.'!H:H)","v":0},{"$f":"-SUMIF('Details purch. deliv. to excl.'!F:F,A878,'Details purch. deliv. to excl.'!H:H)","v":0},0,1,2250]
["S1001","net.PBX - office","X0920WIM6-F",1093,"TTEC COMPUTERS B.V.",470,0,null,0,0,0,0,"",{"$f":"+SUMIF('Details sales deliv. to excl.'!F:F,A879,'Details sales deliv. to excl.'!H:H)","v":0},{"$f":"-SUMIF('Details purch. deliv. to excl.'!F:F,A879,'Details purch. deliv. to excl.'!H:H)","v":0},0,0,0]
["S1002","net.PBX SOP - Rack I","CL141U3S4-A",1093,"TTEC COMPUTERS B.V.",1010,0,null,0,0,0,0,"",{"$f":"+SUMIF('Details sales deliv. to excl.'!F:F,A880,'Details sales deliv. to excl.'!H:H)","v":0},{"$f":"-SUMIF('Details purch. deliv. to excl.'!F:F,A880,'Details purch. deliv. to excl.'!H:H)","v":0},0,0,0]
["S1003","net.PBX SOP - Rack 4 V1","PJ-203338BA",1093,"TTEC COMPUTERS B.V.",534,0,null,0,0,0,0,"",{"$f":"+SUMIF('Details sales deliv. to excl.'!F:F,A881,'Details sales deliv. to excl.'!H:H)","v":0},{"$f":"-SUMIF('Details purch. deliv. to excl.'!F:F,A881,'Details purch. deliv. to excl.'!H:H)","v":0},0,0,0]
["S1004","net.PBX SOP - Rack 2 (RAID - 2CPU)",1492633,1093,"TTEC COMPUTERS B.V.",2545,0,null,0,0,0,0,"",{"$f":"+SUMIF('Details sales deliv. to excl.'!F:F,A882,'Details sales deliv. to excl.'!H:H)","v":0},{"$f":"-SUMIF('Details purch. deliv. to excl.'!F:F,A882,'Details purch. deliv. to excl.'!H:H)","v":0},0,0,0]
["S1005","net.PBX SOP - Rack 2 (RAID - 1CPU)",1416933,1093,"TTEC COMPUTERS B.V.",2566,0,null,0,0,0,0,"",{"$f":"+SUMIF('Details sales deliv. to excl.'!F:F,A883,'Details sales deliv. to excl.'!H:H)","v":0},{"$f":"-SUMIF('Details purch. deliv. to excl.'!F:F,A883,'Details purch. deliv. to excl.'!H:H)","v":0},0,0,0]
["S1006","ESCAUX Core Appliance","2U_1538916",1093,"TTEC COMPUTERS B.V.",2465,2,2,0,4930,4930,0,null,{"$f":"+SUMIF('Details sales deliv. to excl.'!F:F,A884,'Details sales deliv. to excl.'!H:H)","v":0},{"$f":"-SUMIF('Details purch. deliv. to excl.'!F:F,A884,'Details purch. deliv. to excl.'!H:H)","v":0},0,2,4930]
["S1007","net.PBX SOP - Rack 2 (RAID - 2CPU) v3",1683536,1093,"TTEC COMPUTERS B.V.",2640,0,null,0,0,0,0,"",{"$f":"+SUMIF('Details sales deliv. to excl.'!F:F,A885,'Details sales deliv. to excl.'!H:H)","v":0},{"$f":"-SUMIF('Details purch. deliv. to excl.'!F:F,A885,'Details purch. deliv. to excl.'!H:H)","v":0},0,0,0]
["S1007r","net.PBX SOP - Rack 2 (RAID - 2CPU) v3 (RMA)","2U_1650376",463,"TTEC",2545,0,null,0,0,0,0,"",{"$f":"+SUMIF('Details sales deliv. to excl.'!F:F,A886,'Details sales deliv. to excl.'!H:H)","v":0},{"$f":"-SUMIF('Details purch. deliv. to excl.'!F:F,A886,'Details purch. deliv. to excl.'!H:H)","v":0},0,0,0]
["S1008","ESCAUX Core Appliance","CL342U3R8-A",1093,"TTEC COMPUTERS B.V.",2628,4,4,0,10512,10512,0,null,{"$f":"+SUMIF('Details sales deliv. to excl.'!F:F,A887,'Details sales deliv. to excl.'!H:H)","v":0},{"$f":"-SUMIF('Details purch. deliv. to excl.'!F:F,A887,'Details purch. deliv. to excl.'!H:H)","v":0},0,4,10512]
["S1009","net.PBX SOP - Rack 2 (RAID - 2CPU) 300GB harddrive","CL342U3R8-B",1093,"TTEC COMPUTERS B.V.",2640,0,null,0,0,0,0,"",{"$f":"+SUMIF('Details sales deliv. to excl.'!F:F,A888,'Details sales deliv. to excl.'!H:H)","v":0},{"$f":"-SUMIF('Details purch. deliv. to excl.'!F:F,A888,'Details purch. deliv. to excl.'!H:H)","v":0},0,0,0]
["S1011","net.PBX SOP - Rack 4 V4","PJ203338BG",1093,"TTEC COMPUTERS B.V.",505,0,null,0,0,0,0,"",{"$f":"+SUMIF('Details sales deliv. to excl.'!F:F,A889,'Details sales deliv. to excl.'!H:H)","v":0},{"$f":"-SUMIF('Details purch. deliv. to excl.'!F:F,A889,'Details purch. deliv. to excl.'!H:H)","v":0},0,0,0]
["S1012","net.PBX SOP - Rack 4 V3","PJ203338BD",1093,"TTEC COMPUTERS B.V.",534,0,null,0,0,0,0,"",{"$f":"+SUMIF('Details sales deliv. to excl.'!F:F,A890,'Details sales deliv. to excl.'!H:H)","v":0},{"$f":"-SUMIF('Details purch. deliv. to excl.'!F:F,A890,'Details purch. deliv. to excl.'!H:H)","v":0},0,0,0]
["S1013","ESCAUX Edge Appliance","4U_1547571 Black",1093,"TTEC COMPUTERS B.V.",516,0,null,0,0,0,0,"",{"$f":"+SUMIF('Details sales deliv. to excl.'!F:F,A891,'Details sales deliv. to excl.'!H:H)","v":0},{"$f":"-SUMIF('Details purch. deliv. to excl.'!F:F,A891,'Details purch. deliv. to excl.'!H:H)","v":0},0,0,0]
["S1013r","net.PBX SOP - Rack 4 V5 (RMA)","4U_1547571 Black",463,"TTEC",516,0,null,0,0,0,0,"",{"$f":"+SUMIF('Details sales deliv. to excl.'!F:F,A892,'Details sales deliv. to excl.'!H:H)","v":0},{"$f":"-SUMIF('Details purch. deliv. to excl.'!F:F,A892,'Details purch. deliv. to excl.'!H:H)","v":0},0,0,0]
["S1014","ESCAUX Edge Appliance (TTEC)","PJ-ESCAUX/B",1093,"TTEC COMPUTERS B.V.",525,2,2,0,1050,1050,0,null,{"$f":"+SUMIF('Details sales deliv. to excl.'!F:F,A893,'Details sales deliv. to excl.'!H:H)","v":0},{"$f":"-SUMIF('Details purch. deliv. to excl.'!F:F,A893,'Details purch. deliv. to excl.'!H:H)","v":0},0,2,1050]
["S1015","TTEC 4U appliance - G41 chipset","PJ-ESCAUX/F",1093,"TTEC COMPUTERS B.V.",550,0,null,0,0,0,0,"",{"$f":"+SUMIF('Details sales deliv. to excl.'!F:F,A894,'Details sales deliv. to excl.'!H:H)","v":0},{"$f":"-SUMIF('Details purch. deliv. to excl.'!F:F,A894,'Details purch. deliv. to excl.'!H:H)","v":0},0,0,0]
["S1020","Power Supply for 4U server","ATX3025-HEN",1093,"TTEC COMPUTERS B.V.",46,8,10,2,368,460,92,null,{"$f":"+SUMIF('Details sales deliv. to excl.'!F:F,A895,'Details sales deliv. to excl.'!H:H)","v":0},{"$f":"-SUMIF('Details purch. deliv. to excl.'!F:F,A895,'Details purch. deliv. to excl.'!H:H)","v":0},2,10,460]
["S1030","net.PBX branch 3PCI",null,1093,"TTEC COMPUTERS B.V.",270,0,null,0,0,0,0,"",{"$f":"+SUMIF('Details sales deliv. to excl.'!F:F,A896,'Details sales deliv. to excl.'!H:H)","v":0},{"$f":"-SUMIF('Details purch. deliv. to excl.'!F:F,A896,'Details purch. deliv. to excl.'!H:H)","v":0},0,0,0]
["S1031","net.PBX branch v2","offer 1547327",1093,"TTEC COMPUTERS B.V.",275,0,null,0,0,0,0,"",{"$f":"+SUMIF('Details sales deliv. to excl.'!F:F,A897,'Details sales deliv. to excl.'!H:H)","v":0},{"$f":"-SUMIF('Details purch. deliv. to excl.'!F:F,A897,'Details purch. deliv. to excl.'!H:H)","v":0},0,0,0]
["S1032","ESCAUX Office Appliance",1675405,1093,"TTEC COMPUTERS B.V.",260,0,null,0,0,0,0,"",{"$f":"+SUMIF('Details sales deliv. to excl.'!F:F,A898,'Details sales deliv. to excl.'!H:H)","v":0},{"$f":"-SUMIF('Details purch. deliv. to excl.'!F:F,A898,'Details purch. deliv. to excl.'!H:H)","v":0},0,0,0]
["S1033","ESCAUX Office Appliance (TTEC)","PJ-ESCAUX/C",1093,"TTEC COMPUTERS B.V.",295,0,null,0,0,0,0,"",{"$f":"+SUMIF('Details sales deliv. to excl.'!F:F,A899,'Details sales deliv. to excl.'!H:H)","v":0},{"$f":"-SUMIF('Details purch. deliv. to excl.'!F:F,A899,'Details purch. deliv. to excl.'!H:H)","v":0},0,0,0]
["S1035","SME net.PBX Package",null,1093,"TTEC COMPUTERS B.V.",434.15,0,null,{"$f":"H900-G900","v":0},{"$f":"G900*F900","v":0},{"$f":"H900*F900","v":0},{"$f":"I900*F900","v":0},"",{"$f":"+SUMIF('Details sales deliv. to excl.'!F:F,A900,'Details sales deliv. to excl.'!H:H)","v":0},{"$f":"-SUMIF('Details purch. deliv. to excl.'!F:F,A900,'Details purch. deliv. to excl.'!H:H)","v":0},{"$f":"I900+N900+O900","v":0},{"$f":"G900+P900","v":0},{"$f":"Q900*F900","v":0}]
["S1040","ESCAUX Edge Appliance (HP DL120 G6)","DL120 G6 ESCAUX",1229,"HP (HEWLETT-PACKARD)",463.01,0,null,0,0,0,0,{"$f":"IF(ABS(L901)>500,\"check\",\"\")","v":""},{"$f":"+SUMIF('Details sales deliv. to excl.'!F:F,A901,'Details sales deliv. to excl.'!H:H)","v":0},{"$f":"-SUMIF('Details purch. deliv. to excl.'!F:F,A901,'Details purch. deliv. to excl.'!H:H)","v":0},0,0,0]
["S1042","ESCAUX Edge Appliance (HP DL120 G7)","DL120 G7 ESCAUX",1229,"HP (HEWLETT-PACKARD)",488.12,1,1,0,488.12,488.12,0,null,{"$f":"+SUMIF('Details sales deliv. to excl.'!F:F,A902,'Details sales deliv. to excl.'!H:H)","v":0},{"$f":"-SUMIF('Details purch. deliv. to excl.'!F:F,A902,'Details purch. deliv. to excl.'!H:H)","v":0},0,1,488.12]
["S1043","ESCAUX Edge Appliance (HP DL120 G7 - with E3-1220)","DL120 G7 with E3-1220",1229,"HP (HEWLETT-PACKARD)",564.35,0,null,0,0,0,0,"",{"$f":"+SUMIF('Details sales deliv. to excl.'!F:F,A903,'Details sales deliv. to excl.'!H:H)","v":0},{"$f":"-SUMIF('Details purch. deliv. to excl.'!F:F,A903,'Details purch. deliv. to excl.'!H:H)","v":0},0,0,0]
["S1045","ESCAUX Edge Appliance (HP DL320eG8v2)","8401-32537-02",1229,"HP (HEWLETT-PACKARD)",633.23,0,null,0,0,0,0,"",{"$f":"+SUMIF('Details sales deliv. to excl.'!F:F,A904,'Details sales deliv. to excl.'!H:H)","v":0},{"$f":"-SUMIF('Details purch. deliv. to excl.'!F:F,A904,'Details purch. deliv. to excl.'!H:H)","v":0},0,0,0]
["S1046","ESCAUX Edge Appliance (HP DL20 Gen9)","8401-32537-02",10618,"SYSTEM SOLUTIONS",777.19,20,20,0,15543.800000000001,15543.800000000001,0,null,{"$f":"+SUMIF('Details sales deliv. to excl.'!F:F,A905,'Details sales deliv. to excl.'!H:H)","v":0},{"$f":"-SUMIF('Details purch. deliv. to excl.'!F:F,A905,'Details purch. deliv. to excl.'!H:H)","v":0},0,20,15543.800000000001]
["S1050","ESCAUX Office Appliance (HP ML110 G6)","ML110 G6 ESCAUX",1229,"HP (HEWLETT-PACKARD)",273.45,1,1,0,273.45,273.45,0,null,{"$f":"+SUMIF('Details sales deliv. to excl.'!F:F,A906,'Details sales deliv. to excl.'!H:H)","v":0},{"$f":"-SUMIF('Details purch. deliv. to excl.'!F:F,A906,'Details purch. deliv. to excl.'!H:H)","v":0},0,1,273.45]
["S1051","ML110 G6 - rackmount kit","417705-B21",1229,"HP (HEWLETT-PACKARD)",145,0,null,0,0,0,0,"",{"$f":"+SUMIF('Details sales deliv. to excl.'!F:F,A907,'Details sales deliv. to excl.'!H:H)","v":0},{"$f":"-SUMIF('Details purch. deliv. to excl.'!F:F,A907,'Details purch. deliv. to excl.'!H:H)","v":0},0,0,0]
["S1053","ESCAUX Office Appliance (HP ML110 G7)","ML110 G7 ESCAUX",1229,"HP (HEWLETT-PACKARD)",297.19,1,1,0,297.19,297.19,0,null,{"$f":"+SUMIF('Details sales deliv. to excl.'!F:F,A908,'Details sales deliv. to excl.'!H:H)","v":0},{"$f":"-SUMIF('Details purch. deliv. to excl.'!F:F,A908,'Details purch. deliv. to excl.'!H:H)","v":0},0,1,297.19]
["S1054","ESCAUX Office Appliance (HP ML110 G7 - E3-1220)","2150275N1",1395,"INFOTHEEK",429,0,null,0,0,0,0,"",{"$f":"+SUMIF('Details sales deliv. to excl.'!F:F,A909,'Details sales deliv. to excl.'!H:H)","v":0},{"$f":"-SUMIF('Details purch. deliv. to excl.'!F:F,A909,'Details purch. deliv. to excl.'!H:H)","v":0},0,0,0]
["S1060","ESCAUX Core Appliance (HP DL360 G7-8GB)","DL360G7 // offer 18042011",1229,"HP (HEWLETT-PACKARD)",1847.1,1,1,0,1847.1,1847.1,0,null,{"$f":"+SUMIF('Details sales deliv. to excl.'!F:F,A910,'Details sales deliv. to excl.'!H:H)","v":0},{"$f":"-SUMIF('Details purch. deliv. to excl.'!F:F,A910,'Details purch. deliv. to excl.'!H:H)","v":0},0,1,1847.1]
["S1061","4GB (1x4GB) Registered DDR3 PC3-10600  dual rank M","500658-B21/offer06062011",1229,"HP (HEWLETT-PACKARD)",104,0,null,0,0,0,0,"",{"$f":"+SUMIF('Details sales deliv. to excl.'!F:F,A911,'Details sales deliv. to excl.'!H:H)","v":0},{"$f":"-SUMIF('Details purch. deliv. to excl.'!F:F,A911,'Details purch. deliv. to excl.'!H:H)","v":0},0,0,0]
["S1062","8GB (1x8GB) Registered DDR3 PC3-10600  dual rank M","500662-B21/offer06062011",1229,"HP (HEWLETT-PACKARD)",175,0,null,0,0,0,0,"",{"$f":"+SUMIF('Details sales deliv. to excl.'!F:F,A912,'Details sales deliv. to excl.'!H:H)","v":0},{"$f":"-SUMIF('Details purch. deliv. to excl.'!F:F,A912,'Details purch. deliv. to excl.'!H:H)","v":0},0,0,0]
["S1063","HP 8GB 1Rx4 PC3-12800R-11 Kit","647899-B21",1229,"HP (HEWLETT-PACKARD)",88.4,35,35,0,3094,3094,0,null,{"$f":"+SUMIF('Details sales deliv. to excl.'!F:F,A913,'Details sales deliv. to excl.'!H:H)","v":0},{"$f":"-SUMIF('Details purch. deliv. to excl.'!F:F,A913,'Details purch. deliv. to excl.'!H:H)","v":0},0,35,3094]
["S1065","DL360 G7 - 4*500GB","DL360G7(4*500)//offer 11052011",1229,"HP (HEWLETT-PACKARD)",1971.68,0,null,0,0,0,0,"",{"$f":"+SUMIF('Details sales deliv. to excl.'!F:F,A914,'Details sales deliv. to excl.'!H:H)","v":0},{"$f":"-SUMIF('Details purch. deliv. to excl.'!F:F,A914,'Details purch. deliv. to excl.'!H:H)","v":0},0,0,0]
["S1070","ESCAUX Core Appliance (HP DL360 G7-4GB)","DL360G7 w/ 1CPU+2GB Mem",1229,"HP (HEWLETT-PACKARD)",1308.94,0,null,0,0,0,0,"",{"$f":"+SUMIF('Details sales deliv. to excl.'!F:F,A915,'Details sales deliv. to excl.'!H:H)","v":0},{"$f":"-SUMIF('Details purch. deliv. to excl.'!F:F,A915,'Details purch. deliv. to excl.'!H:H)","v":0},0,0,0]
["S1075","ESCAUX Core Appliance (HP DL360 G8/2_100)","DL360G7 w/ 1CPU+2GB Mem",1229,"HP (HEWLETT-PACKARD)",0,0,null,0,0,0,0,"",{"$f":"+SUMIF('Details sales deliv. to excl.'!F:F,A916,'Details sales deliv. to excl.'!H:H)","v":0},{"$f":"-SUMIF('Details purch. deliv. to excl.'!F:F,A916,'Details purch. deliv. to excl.'!H:H)","v":0},0,0,0]
["S1078","ESCAUX Core Appliance (HP DL360p G8)","DL360p G8",1229,"HP (HEWLETT-PACKARD)",2094.44,1,1,0,2094.44,2094.44,0,null,{"$f":"+SUMIF('Details sales deliv. to excl.'!F:F,A917,'Details sales deliv. to excl.'!H:H)","v":0},{"$f":"-SUMIF('Details purch. deliv. to excl.'!F:F,A917,'Details purch. deliv. to excl.'!H:H)","v":0},0,1,2094.44]
["S1079","Core Appliance (HP DL360p G8 with 64GB RAM)","8401-23374-01",1229,"HP (HEWLETT-PACKARD)",3081.99,0,null,0,0,0,0,"",{"$f":"+SUMIF('Details sales deliv. to excl.'!F:F,A918,'Details sales deliv. to excl.'!H:H)","v":0},{"$f":"-SUMIF('Details purch. deliv. to excl.'!F:F,A918,'Details purch. deliv. to excl.'!H:H)","v":0},0,0,0]
["S1080","ESCAUX Core Appliance (HP DL360p G8 w/ 128 GB RAM)","DL360p G8 128GB RAM",1229,"HP (HEWLETT-PACKARD)",3508.84,0,null,0,0,0,0,"",{"$f":"+SUMIF('Details sales deliv. to excl.'!F:F,A919,'Details sales deliv. to excl.'!H:H)","v":0},{"$f":"-SUMIF('Details purch. deliv. to excl.'!F:F,A919,'Details purch. deliv. to excl.'!H:H)","v":0},0,0,0]
["S1088","ESCAUX Core Appliance (HP DL360 G9)","8401-62243-00",10618,"SYSTEM SOLUTIONS",1659.08,15,15,0,24886.199999999997,24886.199999999997,0,null,{"$f":"+SUMIF('Details sales deliv. to excl.'!F:F,A920,'Details sales deliv. to excl.'!H:H)","v":0},{"$f":"-SUMIF('Details purch. deliv. to excl.'!F:F,A920,'Details purch. deliv. to excl.'!H:H)","v":0},0,15,24886.199999999997]
["S1089","HP DL360 G9 (2CPU)","8401-57550-00",1229,"HP (HEWLETT-PACKARD)",2849.99,0,null,0,0,0,0,"",{"$f":"+SUMIF('Details sales deliv. to excl.'!F:F,A921,'Details sales deliv. to excl.'!H:H)","v":0},{"$f":"-SUMIF('Details purch. deliv. to excl.'!F:F,A921,'Details purch. deliv. to excl.'!H:H)","v":0},0,0,0]
["S1090","ESCAUX vSOP Host Server (HP DL360 G9)","8401-57148-00",10618,"SYSTEM SOLUTIONS",3624.34,4,4,0,14497.36,14497.36,0,null,{"$f":"+SUMIF('Details sales deliv. to excl.'!F:F,A922,'Details sales deliv. to excl.'!H:H)","v":0},{"$f":"-SUMIF('Details purch. deliv. to excl.'!F:F,A922,'Details purch. deliv. to excl.'!H:H)","v":0},0,4,14497.36]
["S1091","HP DL rails (short)","775612-B21",10618,"SYSTEM SOLUTIONS",63,15,15,0,945,945,0,null,{"$f":"+SUMIF('Details sales deliv. to excl.'!F:F,A923,'Details sales deliv. to excl.'!H:H)","v":0},{"$f":"-SUMIF('Details purch. deliv. to excl.'!F:F,A923,'Details purch. deliv. to excl.'!H:H)","v":0},0,15,945]
["S1092","HP DL rails (long)","727604-B21",10618,"SYSTEM SOLUTIONS",63,47,47,0,2961,2961,0,null,{"$f":"+SUMIF('Details sales deliv. to excl.'!F:F,A924,'Details sales deliv. to excl.'!H:H)","v":0},{"$f":"-SUMIF('Details purch. deliv. to excl.'!F:F,A924,'Details purch. deliv. to excl.'!H:H)","v":0},0,47,2961]
["S1100","TTEC Calleo Server 1120","PJ-203386N-D",1093,"TTEC COMPUTERS B.V.",545,2,2,0,1090,1090,0,null,{"$f":"+SUMIF('Details sales deliv. to excl.'!F:F,A925,'Details sales deliv. to excl.'!H:H)","v":0},{"$f":"-SUMIF('Details purch. deliv. to excl.'!F:F,A925,'Details purch. deliv. to excl.'!H:H)","v":0},0,2,1090]
["S2001","net.PBX SOP - Rack 4 - 110V & 230V","PJ-203338BA + FSP400-60GLN",1093,"TTEC COMPUTERS B.V.",574,0,null,0,0,0,0,"",{"$f":"+SUMIF('Details sales deliv. to excl.'!F:F,A926,'Details sales deliv. to excl.'!H:H)","v":0},{"$f":"-SUMIF('Details purch. deliv. to excl.'!F:F,A926,'Details purch. deliv. to excl.'!H:H)","v":0},0,0,0]
["SH1000","HP Hard drive 300GB for DL360","652564-B21",464,"TECHDATA",218.01,3,3,0,654.03,654.03,0,null,{"$f":"+SUMIF('Details sales deliv. to excl.'!F:F,A927,'Details sales deliv. to excl.'!H:H)","v":0},{"$f":"-SUMIF('Details purch. deliv. to excl.'!F:F,A927,'Details purch. deliv. to excl.'!H:H)","v":0},0,3,654.03]
["SH1001","HP Hard drive 300GB for DL360 (Top Value)",null,464,"TECHDATA",168.42,0,null,0,0,0,0,"",{"$f":"+SUMIF('Details sales deliv. to excl.'!F:F,A928,'Details sales deliv. to excl.'!H:H)","v":0},{"$f":"-SUMIF('Details purch. deliv. to excl.'!F:F,A928,'Details purch. deliv. to excl.'!H:H)","v":0},0,0,0]
["SH1002","HP Hard drive 500GB for DL360","652745-B21",1229,"HP (HEWLETT-PACKARD)",186.37,0,null,0,0,0,0,"",{"$f":"+SUMIF('Details sales deliv. to excl.'!F:F,A929,'Details sales deliv. to excl.'!H:H)","v":0},{"$f":"-SUMIF('Details purch. deliv. to excl.'!F:F,A929,'Details purch. deliv. to excl.'!H:H)","v":0},0,0,0]
["SH1010","HP Hard drive 900GB for DL360","652589-B21",1229,"HP (HEWLETT-PACKARD)",318.7,0,null,0,0,0,0,"",{"$f":"+SUMIF('Details sales deliv. to excl.'!F:F,A930,'Details sales deliv. to excl.'!H:H)","v":0},{"$f":"-SUMIF('Details purch. deliv. to excl.'!F:F,A930,'Details purch. deliv. to excl.'!H:H)","v":0},0,0,0]
["SH1011","HP Hard drive 1TB for DL360","652749-B21",1229,"HP (HEWLETT-PACKARD)",262.18,0,null,0,0,0,0,"",{"$f":"+SUMIF('Details sales deliv. to excl.'!F:F,A931,'Details sales deliv. to excl.'!H:H)","v":0},{"$f":"-SUMIF('Details purch. deliv. to excl.'!F:F,A931,'Details purch. deliv. to excl.'!H:H)","v":0},0,0,0]
["SH1012","HP Hard drive 1.2TB for DL360","718162-B21",1229,"HP (HEWLETT-PACKARD)",303.41000000000003,1,1,0,303.41000000000003,303.41000000000003,0,null,{"$f":"+SUMIF('Details sales deliv. to excl.'!F:F,A932,'Details sales deliv. to excl.'!H:H)","v":0},{"$f":"-SUMIF('Details purch. deliv. to excl.'!F:F,A932,'Details purch. deliv. to excl.'!H:H)","v":0},0,1,303.41000000000003]
["SI0998","DIGIUM Interface ISDN 1PRI v1","T100P",467,"TELAPPLIANT",281.93,0,null,0,0,0,0,"",{"$f":"+SUMIF('Details sales deliv. to excl.'!F:F,A933,'Details sales deliv. to excl.'!H:H)","v":0},{"$f":"-SUMIF('Details purch. deliv. to excl.'!F:F,A933,'Details purch. deliv. to excl.'!H:H)","v":0},0,0,0]
["SI0999","DIGIUM Interface ISDN 1PRI v2","TE122P",467,"TELAPPLIANT",281.93,0,null,0,0,0,0,"",{"$f":"+SUMIF('Details sales deliv. to excl.'!F:F,A934,'Details sales deliv. to excl.'!H:H)","v":0},{"$f":"-SUMIF('Details purch. deliv. to excl.'!F:F,A934,'Details purch. deliv. to excl.'!H:H)","v":0},0,0,0]
["SI1000","DIGIUM Interface ISDN 1PRI v3","TE110P",467,"TELAPPLIANT",281.93,0,null,0,0,0,0,"",{"$f":"+SUMIF('Details sales deliv. to excl.'!F:F,A935,'Details sales deliv. to excl.'!H:H)","v":0},{"$f":"-SUMIF('Details purch. deliv. to excl.'!F:F,A935,'Details purch. deliv. to excl.'!H:H)","v":0},0,0,0]
["SI1001","1PRI PCI Interface (DIGIUM)","DIGTE122BF",467,"TELAPPLIANT",409.74,0,null,0,0,0,0,"",{"$f":"+SUMIF('Details sales deliv. to excl.'!F:F,A936,'Details sales deliv. to excl.'!H:H)","v":0},{"$f":"-SUMIF('Details purch. deliv. to excl.'!F:F,A936,'Details purch. deliv. to excl.'!H:H)","v":0},0,0,0]
["SI1001r","DIGIUM Interface ISDN 1PRI EC (RMA)","TE122B",467,"TELAPPLIANT",478.8,0,null,0,0,0,0,"",{"$f":"+SUMIF('Details sales deliv. to excl.'!F:F,A937,'Details sales deliv. to excl.'!H:H)","v":0},{"$f":"-SUMIF('Details purch. deliv. to excl.'!F:F,A937,'Details purch. deliv. to excl.'!H:H)","v":0},0,0,0]
["SI1001s","DIGIUM Interface ISDN 1PRI EC (2nd hand)","TE122B",467,"TELAPPLIANT",478.8,0,null,0,0,0,0,"",{"$f":"+SUMIF('Details sales deliv. to excl.'!F:F,A938,'Details sales deliv. to excl.'!H:H)","v":0},{"$f":"-SUMIF('Details purch. deliv. to excl.'!F:F,A938,'Details purch. deliv. to excl.'!H:H)","v":0},0,0,0]
["SI1003","DIGIUM Interface ISDN 1PRI-PCI Express with EC","TE121BF",736,"TIPTEL",467.5,0,null,0,0,0,0,"",{"$f":"+SUMIF('Details sales deliv. to excl.'!F:F,A939,'Details sales deliv. to excl.'!H:H)","v":0},{"$f":"-SUMIF('Details purch. deliv. to excl.'!F:F,A939,'Details purch. deliv. to excl.'!H:H)","v":0},0,0,0]
["SI1005","DIGIUM Interface ISDN 2PRI","TE205P",467,"TELAPPLIANT",628.33000000000004,0,null,0,0,0,0,"",{"$f":"+SUMIF('Details sales deliv. to excl.'!F:F,A940,'Details sales deliv. to excl.'!H:H)","v":0},{"$f":"-SUMIF('Details purch. deliv. to excl.'!F:F,A940,'Details purch. deliv. to excl.'!H:H)","v":0},0,0,0]
["SI1006","2PRI PCI Interface (DIGIUM)","TE207BF",467,"TELAPPLIANT",773.1,5,5,0,3865.5,3865.5,0,null,{"$f":"+SUMIF('Details sales deliv. to excl.'!F:F,A941,'Details sales deliv. to excl.'!H:H)","v":0},{"$f":"-SUMIF('Details purch. deliv. to excl.'!F:F,A941,'Details purch. deliv. to excl.'!H:H)","v":0},0,5,3865.5]
["SI1006r","DIGIUM Interface ISDN 2PRI EC (RMA)","TE207P",467,"TELAPPLIANT",773.1,0,null,0,0,0,0,"",{"$f":"+SUMIF('Details sales deliv. to excl.'!F:F,A942,'Details sales deliv. to excl.'!H:H)","v":0},{"$f":"-SUMIF('Details purch. deliv. to excl.'!F:F,A942,'Details purch. deliv. to excl.'!H:H)","v":0},0,0,0]
["SI1006s","DIGIUM Interface ISDN 2PRI EC (2nd hand)","TE207P",467,"TELAPPLIANT",773.1,0,null,0,0,0,0,"",{"$f":"+SUMIF('Details sales deliv. to excl.'!F:F,A943,'Details sales deliv. to excl.'!H:H)","v":0},{"$f":"-SUMIF('Details purch. deliv. to excl.'!F:F,A943,'Details purch. deliv. to excl.'!H:H)","v":0},0,0,0]
["SI1008","DIGIUM Port T1/E1 PCI Express Asterisk Interface","TE220B",467,"TELAPPLIANT",785,0,null,0,0,0,0,"",{"$f":"+SUMIF('Details sales deliv. to excl.'!F:F,A944,'Details sales deliv. to excl.'!H:H)","v":0},{"$f":"-SUMIF('Details purch. deliv. to excl.'!F:F,A944,'Details purch. deliv. to excl.'!H:H)","v":0},0,0,0]
["SI1010","4PRI-Voice interface","TE405P",467,"TELAPPLIANT",963.95,0,null,0,0,0,0,"",{"$f":"+SUMIF('Details sales deliv. to excl.'!F:F,A945,'Details sales deliv. to excl.'!H:H)","v":0},{"$f":"-SUMIF('Details purch. deliv. to excl.'!F:F,A945,'Details purch. deliv. to excl.'!H:H)","v":0},0,0,0]
["SI1011","4PRI PCI Interface (DIGIUM)","TE407BF",467,"TELAPPLIANT",1380,5,5,0,6900,6900,0,null,{"$f":"+SUMIF('Details sales deliv. to excl.'!F:F,A946,'Details sales deliv. to excl.'!H:H)","v":0},{"$f":"-SUMIF('Details purch. deliv. to excl.'!F:F,A946,'Details purch. deliv. to excl.'!H:H)","v":0},0,5,6900]
["SI1011r","DIGIUM Interface ISDN 4PRI EC (RMA)","TE407P",467,"TELAPPLIANT",1380,0,null,0,0,0,0,"",{"$f":"+SUMIF('Details sales deliv. to excl.'!F:F,A947,'Details sales deliv. to excl.'!H:H)","v":0},{"$f":"-SUMIF('Details purch. deliv. to excl.'!F:F,A947,'Details purch. deliv. to excl.'!H:H)","v":0},0,0,0]
["SI1011s","DIGIUM Interface ISDN 4PRI EC (2nd hand)","TE407P",467,"TELAPPLIANT",1380,0,null,0,0,0,0,"",{"$f":"+SUMIF('Details sales deliv. to excl.'!F:F,A948,'Details sales deliv. to excl.'!H:H)","v":0},{"$f":"-SUMIF('Details purch. deliv. to excl.'!F:F,A948,'Details purch. deliv. to excl.'!H:H)","v":0},0,0,0]
["SI1012","EICON  4PRI Voice interface - DUPLICATE","TE407P",467,"TELAPPLIANT",1380,0,null,0,0,0,0,"",{"$f":"+SUMIF('Details sales deliv. to excl.'!F:F,A949,'Details sales deliv. to excl.'!H:H)","v":0},{"$f":"-SUMIF('Details purch. deliv. to excl.'!F:F,A949,'Details purch. deliv. to excl.'!H:H)","v":0},0,0,0]
["SI1013","DIGIUM 4Port T1/E1 PCI Express Asterisk Interface","TE420B",467,"TELAPPLIANT",1385,0,null,0,0,0,0,"",{"$f":"+SUMIF('Details sales deliv. to excl.'!F:F,A950,'Details sales deliv. to excl.'!H:H)","v":0},{"$f":"-SUMIF('Details purch. deliv. to excl.'!F:F,A950,'Details purch. deliv. to excl.'!H:H)","v":0},0,0,0]
["SI1020","1BRI PCI Interface (DIALOGIC)","ref. EICON 306-162",480,"KONING & HARTMAN",450,1,1,0,450,450,0,null,{"$f":"+SUMIF('Details sales deliv. to excl.'!F:F,A951,'Details sales deliv. to excl.'!H:H)","v":0},{"$f":"-SUMIF('Details purch. deliv. to excl.'!F:F,A951,'Details purch. deliv. to excl.'!H:H)","v":0},0,1,450]
["SI1020r","EICON Interface ISDN 1BRI (RMA","ref. EICON 306-162",480,"KONING & HARTMAN",349.17,0,null,0,0,0,0,"",{"$f":"+SUMIF('Details sales deliv. to excl.'!F:F,A952,'Details sales deliv. to excl.'!H:H)","v":0},{"$f":"-SUMIF('Details purch. deliv. to excl.'!F:F,A952,'Details purch. deliv. to excl.'!H:H)","v":0},0,0,0]
["SI1020s","EICON Interface ISDN 1BRI (2nd hand)","ref. EICON 306-162",480,"KONING & HARTMAN",349.17,0,null,0,0,0,0,"",{"$f":"+SUMIF('Details sales deliv. to excl.'!F:F,A953,'Details sales deliv. to excl.'!H:H)","v":0},{"$f":"-SUMIF('Details purch. deliv. to excl.'!F:F,A953,'Details purch. deliv. to excl.'!H:H)","v":0},0,0,0]
["SI1021","EICON Interface ISDN V-1BRI","ref. EICON 306-219",480,"KONING & HARTMAN",326.43,0,null,0,0,0,0,"",{"$f":"+SUMIF('Details sales deliv. to excl.'!F:F,A954,'Details sales deliv. to excl.'!H:H)","v":0},{"$f":"-SUMIF('Details purch. deliv. to excl.'!F:F,A954,'Details purch. deliv. to excl.'!H:H)","v":0},0,0,0]
["SI1025","1BRI-Voice interface","HFC1S0",611,"BERONET",19,0,null,0,0,0,0,"",{"$f":"+SUMIF('Details sales deliv. to excl.'!F:F,A955,'Details sales deliv. to excl.'!H:H)","v":0},{"$f":"-SUMIF('Details purch. deliv. to excl.'!F:F,A955,'Details purch. deliv. to excl.'!H:H)","v":0},0,0,0]
["SI1030","EICON Interface ISDN 4BRI","ref. EICON 305-486",480,"KONING & HARTMAN",1100,0,null,0,0,0,0,"",{"$f":"+SUMIF('Details sales deliv. to excl.'!F:F,A956,'Details sales deliv. to excl.'!H:H)","v":0},{"$f":"-SUMIF('Details purch. deliv. to excl.'!F:F,A956,'Details purch. deliv. to excl.'!H:H)","v":0},0,0,0]
["SI1031","EICON Interface ISDN V-4BRI","ref. EICON 306-218",480,"KONING & HARTMAN",716.8,0,null,0,0,0,0,"",{"$f":"+SUMIF('Details sales deliv. to excl.'!F:F,A957,'Details sales deliv. to excl.'!H:H)","v":0},{"$f":"-SUMIF('Details purch. deliv. to excl.'!F:F,A957,'Details purch. deliv. to excl.'!H:H)","v":0},0,0,0]
["SI1032","4BRI PCI Interface (DIALOGIC)","306-379",480,"KONING & HARTMAN",892,0,null,0,0,0,0,"",{"$f":"+SUMIF('Details sales deliv. to excl.'!F:F,A958,'Details sales deliv. to excl.'!H:H)","v":0},{"$f":"-SUMIF('Details purch. deliv. to excl.'!F:F,A958,'Details purch. deliv. to excl.'!H:H)","v":0},0,0,0]
["SI1032r","Interface Diva UM-4BRI-8 (RMA)","306-379",480,"KONING & HARTMAN",803,0,null,0,0,0,0,"",{"$f":"+SUMIF('Details sales deliv. to excl.'!F:F,A959,'Details sales deliv. to excl.'!H:H)","v":0},{"$f":"-SUMIF('Details purch. deliv. to excl.'!F:F,A959,'Details purch. deliv. to excl.'!H:H)","v":0},0,0,0]
["SI1032s","Interface Diva UM-4BRI-8 (2nd hand)","306-379",480,"KONING & HARTMAN",803,0,null,0,0,0,0,"",{"$f":"+SUMIF('Details sales deliv. to excl.'!F:F,A960,'Details sales deliv. to excl.'!H:H)","v":0},{"$f":"-SUMIF('Details purch. deliv. to excl.'!F:F,A960,'Details purch. deliv. to excl.'!H:H)","v":0},0,0,0]
["SI1040","DIGIUM 4FXS interface TDM40B","TDM40B",467,"TELAPPLIANT",169,0,null,0,0,0,0,"",{"$f":"+SUMIF('Details sales deliv. to excl.'!F:F,A961,'Details sales deliv. to excl.'!H:H)","v":0},{"$f":"-SUMIF('Details purch. deliv. to excl.'!F:F,A961,'Details purch. deliv. to excl.'!H:H)","v":0},0,0,0]
["SI1041","4FXS PCI Interface (DIGIUM)","TDM440BF",467,"TELAPPLIANT",224.25,1,1,0,224.25,224.25,0,null,{"$f":"+SUMIF('Details sales deliv. to excl.'!F:F,A962,'Details sales deliv. to excl.'!H:H)","v":0},{"$f":"-SUMIF('Details purch. deliv. to excl.'!F:F,A962,'Details purch. deliv. to excl.'!H:H)","v":0},0,1,224.25]
["SI1045","4FXS PCI-E Interface (DIGIUM)","DIGAEX440B",467,"TELAPPLIANT",265.01,6,6,0,1590.06,1590.06,0,null,{"$f":"+SUMIF('Details sales deliv. to excl.'!F:F,A963,'Details sales deliv. to excl.'!H:H)","v":0},{"$f":"-SUMIF('Details purch. deliv. to excl.'!F:F,A963,'Details purch. deliv. to excl.'!H:H)","v":0},0,6,1590.06]
["SI1047","8FXS PCI-E Interface (DIGIUM)","DIGAEX880B",467,"TELAPPLIANT",459.16,5,5,{"$f":"H964-G964","v":0},{"$f":"G964*F964","v":2295.8000000000002},{"$f":"H964*F964","v":2295.8000000000002},{"$f":"I964*F964","v":0},null,{"$f":"+SUMIF('Details sales deliv. to excl.'!F:F,A964,'Details sales deliv. to excl.'!H:H)","v":0},{"$f":"-SUMIF('Details purch. deliv. to excl.'!F:F,A964,'Details purch. deliv. to excl.'!H:H)","v":0},{"$f":"I964+N964+O964","v":0},{"$f":"G964+P964","v":5},{"$f":"Q964*F964","v":2295.8000000000002}]
["SI1050","2FXS interface TDM20B","Digium TA-TDM20B",467,"TELAPPLIANT",126.15,0,null,0,0,0,0,{"$f":"IF(ABS(L965)>500,\"check\",\"\")","v":""},{"$f":"+SUMIF('Details sales deliv. to excl.'!F:F,A965,'Details sales deliv. to excl.'!H:H)","v":0},{"$f":"-SUMIF('Details purch. deliv. to excl.'!F:F,A965,'Details purch. deliv. to excl.'!H:H)","v":0},0,0,0]
["SI1051","2FXS PCI Interface (DIGIUM)","DIGTDM420BF",467,"TELAPPLIANT",185.55,12,12,0,2226.6000000000004,2226.6000000000004,0,null,{"$f":"+SUMIF('Details sales deliv. to excl.'!F:F,A966,'Details sales deliv. to excl.'!H:H)","v":0},{"$f":"-SUMIF('Details purch. deliv. to excl.'!F:F,A966,'Details purch. deliv. to excl.'!H:H)","v":0},0,12,2226.6000000000004]
["SI1052","1FXS interface V2","DIGTDM410BF",467,"TELAPPLIANT",121,0,null,0,0,0,0,"",{"$f":"+SUMIF('Details sales deliv. to excl.'!F:F,A967,'Details sales deliv. to excl.'!H:H)","v":0},{"$f":"-SUMIF('Details purch. deliv. to excl.'!F:F,A967,'Details purch. deliv. to excl.'!H:H)","v":0},0,0,0]
["SI1060","1PRI-QSIG PCI Interface (DIALOGIC)","306-214 / Diva V-PRI/E1-30",480,"KONING & HARTMAN",3696,0,null,0,0,0,0,"",{"$f":"+SUMIF('Details sales deliv. to excl.'!F:F,A968,'Details sales deliv. to excl.'!H:H)","v":0},{"$f":"-SUMIF('Details purch. deliv. to excl.'!F:F,A968,'Details purch. deliv. to excl.'!H:H)","v":0},0,0,0]
["SI1060r","EICON Interface QSIG (RMA)","306-214 / Diva V-PRI/E1-30",480,"KONING & HARTMAN",3696,0,null,0,0,0,0,"",{"$f":"+SUMIF('Details sales deliv. to excl.'!F:F,A969,'Details sales deliv. to excl.'!H:H)","v":0},{"$f":"-SUMIF('Details purch. deliv. to excl.'!F:F,A969,'Details purch. deliv. to excl.'!H:H)","v":0},0,0,0]
["SI1060s","EICON Interface QSIG","306-214 / Diva V-PRI/E1-30",480,"KONING & HARTMAN",3696,0,null,0,0,0,0,"",{"$f":"+SUMIF('Details sales deliv. to excl.'!F:F,A970,'Details sales deliv. to excl.'!H:H)","v":0},{"$f":"-SUMIF('Details purch. deliv. to excl.'!F:F,A970,'Details purch. deliv. to excl.'!H:H)","v":0},0,0,0]
["SI1110","4FX0-DSP-interface (DIALOGIC)","Dialogic 306-232",480,"KONING & HARTMAN",989.79,1,1,0,989.79,989.79,0,null,{"$f":"+SUMIF('Details sales deliv. to excl.'!F:F,A971,'Details sales deliv. to excl.'!H:H)","v":0},{"$f":"-SUMIF('Details purch. deliv. to excl.'!F:F,A971,'Details purch. deliv. to excl.'!H:H)","v":0},0,1,989.79]
["SI1111","4FX0 PCI Interface (DIGIUM)","TDM404B",467,"TELAPPLIANT",245,0,null,0,0,0,0,"",{"$f":"+SUMIF('Details sales deliv. to excl.'!F:F,A972,'Details sales deliv. to excl.'!H:H)","v":0},{"$f":"-SUMIF('Details purch. deliv. to excl.'!F:F,A972,'Details purch. deliv. to excl.'!H:H)","v":0},0,0,0]
["SI1115","2 FXO interface - Digium","TDM02B",467,"TELAPPLIANT",0,0,null,0,0,0,0,"",{"$f":"+SUMIF('Details sales deliv. to excl.'!F:F,A973,'Details sales deliv. to excl.'!H:H)","v":0},{"$f":"-SUMIF('Details purch. deliv. to excl.'!F:F,A973,'Details purch. deliv. to excl.'!H:H)","v":0},0,0,0]
["SI1120","FXS2 + BRI2","B710100D",1045,"SANGOMA TECHNOLOGIES INC.",275.25,0,null,0,0,0,0,"",{"$f":"+SUMIF('Details sales deliv. to excl.'!F:F,A974,'Details sales deliv. to excl.'!H:H)","v":0},{"$f":"-SUMIF('Details purch. deliv. to excl.'!F:F,A974,'Details purch. deliv. to excl.'!H:H)","v":0},0,0,0]
["SI1121","FXS module","A200-S",1045,"SANGOMA TECHNOLOGIES INC.",65.62,0,null,0,0,0,0,"",{"$f":"+SUMIF('Details sales deliv. to excl.'!F:F,A975,'Details sales deliv. to excl.'!H:H)","v":0},{"$f":"-SUMIF('Details purch. deliv. to excl.'!F:F,A975,'Details purch. deliv. to excl.'!H:H)","v":0},0,0,0]
["SI1122","BRI module","A500-S",1045,"SANGOMA TECHNOLOGIES INC.",108.46,0,null,0,0,0,0,"",{"$f":"+SUMIF('Details sales deliv. to excl.'!F:F,A976,'Details sales deliv. to excl.'!H:H)","v":0},{"$f":"-SUMIF('Details purch. deliv. to excl.'!F:F,A976,'Details purch. deliv. to excl.'!H:H)","v":0},0,0,0]
["SI1123","BRI cable","CABL-634",1045,"SANGOMA TECHNOLOGIES INC.",6.38,0,null,0,0,0,0,"",{"$f":"+SUMIF('Details sales deliv. to excl.'!F:F,A977,'Details sales deliv. to excl.'!H:H)","v":0},{"$f":"-SUMIF('Details purch. deliv. to excl.'!F:F,A977,'Details purch. deliv. to excl.'!H:H)","v":0},0,0,0]
["SI1124","FXS cable","CABL-643",1045,"SANGOMA TECHNOLOGIES INC.",6.38,0,null,0,0,0,0,"",{"$f":"+SUMIF('Details sales deliv. to excl.'!F:F,A978,'Details sales deliv. to excl.'!H:H)","v":0},{"$f":"-SUMIF('Details purch. deliv. to excl.'!F:F,A978,'Details purch. deliv. to excl.'!H:H)","v":0},0,0,0]
["SI1125","2BRI-2FXS PCI-E Interface (SANGOMA)","B710100DE",1045,"SANGOMA TECHNOLOGIES INC.",275.25,7,7,0,1926.75,1926.75,0,null,{"$f":"+SUMIF('Details sales deliv. to excl.'!F:F,A979,'Details sales deliv. to excl.'!H:H)","v":0},{"$f":"-SUMIF('Details purch. deliv. to excl.'!F:F,A979,'Details purch. deliv. to excl.'!H:H)","v":0},0,7,1926.75]
["SI1126","Cable for the A108","CABL-630",1045,"SANGOMA TECHNOLOGIES INC.",4.5599999999999996,30,30,0,136.79999999999998,136.79999999999998,0,null,{"$f":"+SUMIF('Details sales deliv. to excl.'!F:F,A980,'Details sales deliv. to excl.'!H:H)","v":0},{"$f":"-SUMIF('Details purch. deliv. to excl.'!F:F,A980,'Details purch. deliv. to excl.'!H:H)","v":0},0,30,136.79999999999998]
["SI1127","2BRI PCI-E Interface (no FXS) (SANGOMA)","B710100DE",1045,"SANGOMA TECHNOLOGIES INC.",302,0,null,0,0,0,0,"",{"$f":"+SUMIF('Details sales deliv. to excl.'!F:F,A981,'Details sales deliv. to excl.'!H:H)","v":0},{"$f":"-SUMIF('Details purch. deliv. to excl.'!F:F,A981,'Details purch. deliv. to excl.'!H:H)","v":0},0,0,0]
["SI1130","4BRI-2FXS PCI-E Interface (SANGOMA) - B700","B720100DE",1045,"SANGOMA TECHNOLOGIES INC.",328.11,9,9,0,2952.9900000000002,2952.9900000000002,0,null,{"$f":"+SUMIF('Details sales deliv. to excl.'!F:F,A982,'Details sales deliv. to excl.'!H:H)","v":0},{"$f":"-SUMIF('Details purch. deliv. to excl.'!F:F,A982,'Details purch. deliv. to excl.'!H:H)","v":0},0,9,2952.9900000000002]
["SI1131","4BRI PCI-E Interface (no FXS) (SANGOMA) - B700","B720100DE",1045,"SANGOMA TECHNOLOGIES INC.",360,0,null,0,0,0,0,"",{"$f":"+SUMIF('Details sales deliv. to excl.'!F:F,A983,'Details sales deliv. to excl.'!H:H)","v":0},{"$f":"-SUMIF('Details purch. deliv. to excl.'!F:F,A983,'Details purch. deliv. to excl.'!H:H)","v":0},0,0,0]
["SI1140","2 FXS PCI-E (SANGOMA)","A20100DE",1045,"SANGOMA TECHNOLOGIES INC.",290.74,9,9,0,2616.66,2616.66,0,null,{"$f":"+SUMIF('Details sales deliv. to excl.'!F:F,A984,'Details sales deliv. to excl.'!H:H)","v":0},{"$f":"-SUMIF('Details purch. deliv. to excl.'!F:F,A984,'Details purch. deliv. to excl.'!H:H)","v":0},0,9,2616.66]
["SI1145","4 FXS PCI-E (SANGOMA)","A20200DE",1045,"SANGOMA TECHNOLOGIES INC.",270.69,19,19,0,5143.1099999999997,5143.1099999999997,0,null,{"$f":"+SUMIF('Details sales deliv. to excl.'!F:F,A985,'Details sales deliv. to excl.'!H:H)","v":0},{"$f":"-SUMIF('Details purch. deliv. to excl.'!F:F,A985,'Details purch. deliv. to excl.'!H:H)","v":0},0,19,5143.1099999999997]
["SI1150","1PRI PCI-E Interface (SANGOMA)","A101DE",1045,"SANGOMA TECHNOLOGIES INC.",349.07,5,5,0,1745.35,1745.35,0,null,{"$f":"+SUMIF('Details sales deliv. to excl.'!F:F,A986,'Details sales deliv. to excl.'!H:H)","v":0},{"$f":"-SUMIF('Details purch. deliv. to excl.'!F:F,A986,'Details purch. deliv. to excl.'!H:H)","v":0},0,5,1745.35]
["SI1152","2PRI PCI-E Interface (SANGOMA)","A102DE",1045,"SANGOMA TECHNOLOGIES INC.",656.22,4,4,0,2624.88,2624.88,0,null,{"$f":"+SUMIF('Details sales deliv. to excl.'!F:F,A987,'Details sales deliv. to excl.'!H:H)","v":0},{"$f":"-SUMIF('Details purch. deliv. to excl.'!F:F,A987,'Details purch. deliv. to excl.'!H:H)","v":0},0,4,2624.88]
["SI1155","4PRI PCI-E Interface (SANGOMA)","A104DE",1045,"SANGOMA TECHNOLOGIES INC.",1107.3599999999999,6,6,0,6644.16,6644.16,0,null,{"$f":"+SUMIF('Details sales deliv. to excl.'!F:F,A988,'Details sales deliv. to excl.'!H:H)","v":0},{"$f":"-SUMIF('Details purch. deliv. to excl.'!F:F,A988,'Details purch. deliv. to excl.'!H:H)","v":0},0,6,6644.16]
["SI1160","4BRI PCI-E Interface (SANGOMA) - B500","B502DE",1045,"SANGOMA TECHNOLOGIES INC.",285.27,4,4,0,1141.08,1141.08,0,null,{"$f":"+SUMIF('Details sales deliv. to excl.'!F:F,A989,'Details sales deliv. to excl.'!H:H)","v":0},{"$f":"-SUMIF('Details purch. deliv. to excl.'!F:F,A989,'Details purch. deliv. to excl.'!H:H)","v":0},0,4,1141.08]
["SI1200","Daugther board expand 12FXS to 24FXS","A400RA",1045,"SANGOMA TECHNOLOGIES INC.",185.93,3,3,0,557.79,557.79,0,null,{"$f":"+SUMIF('Details sales deliv. to excl.'!F:F,A990,'Details sales deliv. to excl.'!H:H)","v":0},{"$f":"-SUMIF('Details purch. deliv. to excl.'!F:F,A990,'Details purch. deliv. to excl.'!H:H)","v":0},0,3,557.79]
["SI1203","DB25 HardWireCable","SKU cabl 631",1045,"SANGOMA TECHNOLOGIES INC.",38.28,0,null,0,0,0,0,"",{"$f":"+SUMIF('Details sales deliv. to excl.'!F:F,A991,'Details sales deliv. to excl.'!H:H)","v":0},{"$f":"-SUMIF('Details purch. deliv. to excl.'!F:F,A991,'Details purch. deliv. to excl.'!H:H)","v":0},0,0,0]
["SI1205","SKU FXS Module","A200FXS",1045,"SANGOMA TECHNOLOGIES INC.",62.89,0,null,0,0,0,0,"",{"$f":"+SUMIF('Details sales deliv. to excl.'!F:F,A992,'Details sales deliv. to excl.'!H:H)","v":0},{"$f":"-SUMIF('Details purch. deliv. to excl.'!F:F,A992,'Details purch. deliv. to excl.'!H:H)","v":0},0,0,0]
["SI1207","Dual synch Cable","SKU Cabl 633A",1045,"SANGOMA TECHNOLOGIES INC.",4.5599999999999996,0,null,0,0,0,0,"",{"$f":"+SUMIF('Details sales deliv. to excl.'!F:F,A993,'Details sales deliv. to excl.'!H:H)","v":0},{"$f":"-SUMIF('Details purch. deliv. to excl.'!F:F,A993,'Details purch. deliv. to excl.'!H:H)","v":0},0,0,0]
["SI1210","SKU for an A400 w/o EC with 24FXS Ports","A41200E",1045,"SANGOMA TECHNOLOGIES INC.",855.81,2,2,0,1711.62,1711.62,0,null,{"$f":"+SUMIF('Details sales deliv. to excl.'!F:F,A994,'Details sales deliv. to excl.'!H:H)","v":0},{"$f":"-SUMIF('Details purch. deliv. to excl.'!F:F,A994,'Details purch. deliv. to excl.'!H:H)","v":0},0,2,1711.62]
["SI1212","24 FXO analog card w/ EC HW","A40012DE",1045,"SANGOMA TECHNOLOGIES INC.",905.03,0,null,0,0,0,0,"",{"$f":"+SUMIF('Details sales deliv. to excl.'!F:F,A995,'Details sales deliv. to excl.'!H:H)","v":0},{"$f":"-SUMIF('Details purch. deliv. to excl.'!F:F,A995,'Details purch. deliv. to excl.'!H:H)","v":0},0,0,0]
["SI1213","cable for A400","cabl 632 - dual DB25",1045,"SANGOMA TECHNOLOGIES INC.",24.61,0,null,0,0,0,0,"",{"$f":"+SUMIF('Details sales deliv. to excl.'!F:F,A996,'Details sales deliv. to excl.'!H:H)","v":0},{"$f":"-SUMIF('Details purch. deliv. to excl.'!F:F,A996,'Details purch. deliv. to excl.'!H:H)","v":0},0,0,0]
["SI1220","Patch Pannel (STPP24)","STPP24",1045,"SANGOMA TECHNOLOGIES INC.",118.48,1,1,0,118.48,118.48,0,null,{"$f":"+SUMIF('Details sales deliv. to excl.'!F:F,A997,'Details sales deliv. to excl.'!H:H)","v":0},{"$f":"-SUMIF('Details purch. deliv. to excl.'!F:F,A997,'Details purch. deliv. to excl.'!H:H)","v":0},0,1,118.48]
["SI1225","PANDUIT Patch Pannel 24FXS","VP24382TV25Y",473,"REXEL",111.09,9,9,0,999.81000000000006,999.81000000000006,0,null,{"$f":"+SUMIF('Details sales deliv. to excl.'!F:F,A998,'Details sales deliv. to excl.'!H:H)","v":0},{"$f":"-SUMIF('Details purch. deliv. to excl.'!F:F,A998,'Details purch. deliv. to excl.'!H:H)","v":0},0,9,999.81000000000006]
["SI1226","VIDEK RJ21 M-M cable","VIDEK 1513 RJ21 M-M cable",1470,"FARNELL",16.5,17,17,0,280.5,280.5,0,null,{"$f":"+SUMIF('Details sales deliv. to excl.'!F:F,A999,'Details sales deliv. to excl.'!H:H)","v":0},{"$f":"-SUMIF('Details purch. deliv. to excl.'!F:F,A999,'Details purch. deliv. to excl.'!H:H)","v":0},0,17,280.5]
["SI1230","4BRI-2FXO PCI-E Interface (SANGOMA)","B720001DE",1045,"SANGOMA TECHNOLOGIES INC.",328.11,0,null,0,0,0,0,"",{"$f":"+SUMIF('Details sales deliv. to excl.'!F:F,A1000,'Details sales deliv. to excl.'!H:H)","v":0},{"$f":"-SUMIF('Details purch. deliv. to excl.'!F:F,A1000,'Details purch. deliv. to excl.'!H:H)","v":0},0,0,0]
["SI1233","4 FXS analog card w/ EC HW (SANGOMA)","A40200DE",1045,"SANGOMA TECHNOLOGIES INC.",355.45,2,2,0,710.9,710.9,0,null,{"$f":"+SUMIF('Details sales deliv. to excl.'!F:F,A1001,'Details sales deliv. to excl.'!H:H)","v":0},{"$f":"-SUMIF('Details purch. deliv. to excl.'!F:F,A1001,'Details purch. deliv. to excl.'!H:H)","v":0},0,2,710.9]
["SI1250","STM-1/OC-3 to E1/T1 multiplexer appliance 64x PRI (SANGOMA)","STM1MUX",1045,"SANGOMA TECHNOLOGIES INC.",2664.05,0,null,0,0,0,0,"",{"$f":"+SUMIF('Details sales deliv. to excl.'!F:F,A1002,'Details sales deliv. to excl.'!H:H)","v":0},{"$f":"-SUMIF('Details purch. deliv. to excl.'!F:F,A1002,'Details purch. deliv. to excl.'!H:H)","v":0},0,0,0]
["SI1270","SANGOMA Vega50 4FXO","VS119",1045,"SANGOMA TECHNOLOGIES INC.",319,0,null,0,0,0,0,"",{"$f":"+SUMIF('Details sales deliv. to excl.'!F:F,A1003,'Details sales deliv. to excl.'!H:H)","v":0},{"$f":"-SUMIF('Details purch. deliv. to excl.'!F:F,A1003,'Details purch. deliv. to excl.'!H:H)","v":0},0,0,0]
["SI1280","SANGOMA Vega5000 50FXS+2FXO","VEGA-05K-5002KIT",1045,"SANGOMA TECHNOLOGIES INC.",1815,0,null,0,0,0,0,"",{"$f":"+SUMIF('Details sales deliv. to excl.'!F:F,A1004,'Details sales deliv. to excl.'!H:H)","v":0},{"$f":"-SUMIF('Details purch. deliv. to excl.'!F:F,A1004,'Details purch. deliv. to excl.'!H:H)","v":0},0,0,0]
["SI1281","SANGOMA Vega3000G 24FXS","VEGA-03K-2400KIT",1045,"SANGOMA TECHNOLOGIES INC.",1004.37,10,10,0,10043.700000000001,10043.700000000001,0,null,{"$f":"+SUMIF('Details sales deliv. to excl.'!F:F,A1005,'Details sales deliv. to excl.'!H:H)","v":0},{"$f":"-SUMIF('Details purch. deliv. to excl.'!F:F,A1005,'Details purch. deliv. to excl.'!H:H)","v":0},0,10,10043.700000000001]
["SI1290","SANGOMA Vega3000 ATA 24 RJ45-FXS ports (1RU)","VEGA-03K-2400KIT",501,"ESCAUX NV",1131.96,0,null,0,0,0,0,"",{"$f":"+SUMIF('Details sales deliv. to excl.'!F:F,A1006,'Details sales deliv. to excl.'!H:H)","v":0},{"$f":"-SUMIF('Details purch. deliv. to excl.'!F:F,A1006,'Details purch. deliv. to excl.'!H:H)","v":0},0,0,0]
["SI1300","16-Span T1/E1/J1 Board with H/W Echo Cancellation (SANGOMA)","A116DE",1045,"SANGOMA TECHNOLOGIES INC.",2664.05,1,1,0,2664.05,2664.05,0,null,{"$f":"+SUMIF('Details sales deliv. to excl.'!F:F,A1007,'Details sales deliv. to excl.'!H:H)","v":0},{"$f":"-SUMIF('Details purch. deliv. to excl.'!F:F,A1007,'Details purch. deliv. to excl.'!H:H)","v":0},0,1,2664.05]
["SI1305","Breakout Panel + 6-feet Connector Cable (SANGOMA)","SPEC-A116-PNLKIT",1045,"SANGOMA TECHNOLOGIES INC.",121.22,0,null,0,0,0,0,"",{"$f":"+SUMIF('Details sales deliv. to excl.'!F:F,A1008,'Details sales deliv. to excl.'!H:H)","v":0},{"$f":"-SUMIF('Details purch. deliv. to excl.'!F:F,A1008,'Details purch. deliv. to excl.'!H:H)","v":0},0,0,0]
["SI1310","Open-ended Cable with SCSI Type Connector to Panel (6 ft) (SANGOMA)","CABL-649",1045,"SANGOMA TECHNOLOGIES INC.",92.96,0,null,0,0,0,0,"",{"$f":"+SUMIF('Details sales deliv. to excl.'!F:F,A1009,'Details sales deliv. to excl.'!H:H)","v":0},{"$f":"-SUMIF('Details purch. deliv. to excl.'!F:F,A1009,'Details purch. deliv. to excl.'!H:H)","v":0},0,0,0]
["SI2000","Ethernet card Intel PRO/1000GT Desktop Adapter PCI","PWLA8391GT",463,"TTEC",26,0,null,0,0,0,0,"",{"$f":"+SUMIF('Details sales deliv. to excl.'!F:F,A1010,'Details sales deliv. to excl.'!H:H)","v":0},{"$f":"-SUMIF('Details purch. deliv. to excl.'!F:F,A1010,'Details purch. deliv. to excl.'!H:H)","v":0},0,0,0]
["SI2001","Ethernet card Intel PRO/1000PT Desktop PCI-Express","EXPI9300PT",463,"TTEC",34,0,null,0,0,0,0,"",{"$f":"+SUMIF('Details sales deliv. to excl.'!F:F,A1011,'Details sales deliv. to excl.'!H:H)","v":0},{"$f":"-SUMIF('Details purch. deliv. to excl.'!F:F,A1011,'Details purch. deliv. to excl.'!H:H)","v":0},0,0,0]
["SI2100","network card (for 2U- TTEC)","PWLA8490MT",1093,"TTEC COMPUTERS B.V.",110,0,null,0,0,0,0,"",{"$f":"+SUMIF('Details sales deliv. to excl.'!F:F,A1012,'Details sales deliv. to excl.'!H:H)","v":0},{"$f":"-SUMIF('Details purch. deliv. to excl.'!F:F,A1012,'Details purch. deliv. to excl.'!H:H)","v":0},0,0,0]
["SI2105","network card (for 2U - TTEC)","PWLA8492MT",1093,"TTEC COMPUTERS B.V.",135,22,22,0,2970,2970,0,null,{"$f":"+SUMIF('Details sales deliv. to excl.'!F:F,A1013,'Details sales deliv. to excl.'!H:H)","v":0},{"$f":"-SUMIF('Details purch. deliv. to excl.'!F:F,A1013,'Details purch. deliv. to excl.'!H:H)","v":0},0,22,2970]
["SI2110","Cheetah disk (for 2U - TTEC)","ST3300657SS",1093,"TTEC COMPUTERS B.V.",172,0,null,0,0,0,0,"",{"$f":"+SUMIF('Details sales deliv. to excl.'!F:F,A1014,'Details sales deliv. to excl.'!H:H)","v":0},{"$f":"-SUMIF('Details purch. deliv. to excl.'!F:F,A1014,'Details purch. deliv. to excl.'!H:H)","v":0},0,0,0]
["SI2115","Cheetah disk (for 2U - TTEC)","T3302I300S15",1093,"TTEC COMPUTERS B.V.",165,16,16,0,2640,2640,0,null,{"$f":"+SUMIF('Details sales deliv. to excl.'!F:F,A1015,'Details sales deliv. to excl.'!H:H)","v":0},{"$f":"-SUMIF('Details purch. deliv. to excl.'!F:F,A1015,'Details purch. deliv. to excl.'!H:H)","v":0},0,16,2640]
["SI2200","KIT, SS7LDH4 & SS7SBLDISUPK2 LICENSE SCCP","310-946",480,"KONING & HARTMAN",5290.74,0,null,0,0,0,0,"",{"$f":"+SUMIF('Details sales deliv. to excl.'!F:F,A1016,'Details sales deliv. to excl.'!H:H)","v":0},{"$f":"-SUMIF('Details purch. deliv. to excl.'!F:F,A1016,'Details purch. deliv. to excl.'!H:H)","v":0},0,0,0]
["SI2210","Connectionless host protocol license","852-879",480,"KONING & HARTMAN",1205.3399999999999,0,null,0,0,0,0,"",{"$f":"+SUMIF('Details sales deliv. to excl.'!F:F,A1017,'Details sales deliv. to excl.'!H:H)","v":0},{"$f":"-SUMIF('Details purch. deliv. to excl.'!F:F,A1017,'Details purch. deliv. to excl.'!H:H)","v":0},0,0,0]
["SI2212","Tcap host protocol license","852-881",480,"KONING & HARTMAN",2251.1799999999998,0,null,0,0,0,0,"",{"$f":"+SUMIF('Details sales deliv. to excl.'!F:F,A1018,'Details sales deliv. to excl.'!H:H)","v":0},{"$f":"-SUMIF('Details purch. deliv. to excl.'!F:F,A1018,'Details purch. deliv. to excl.'!H:H)","v":0},0,0,0]
["SI2214","Inap host protocol license","852-884",480,"KONING & HARTMAN",2412.96,0,null,0,0,0,0,"",{"$f":"+SUMIF('Details sales deliv. to excl.'!F:F,A1019,'Details sales deliv. to excl.'!H:H)","v":0},{"$f":"-SUMIF('Details purch. deliv. to excl.'!F:F,A1019,'Details purch. deliv. to excl.'!H:H)","v":0},0,0,0]
["SL3001","HP iLO Advanced 3yr 24x7 Support E-LTU (E6U64)","E6U64ABE",1229,"HP (HEWLETT-PACKARD)",247.5,50,50,0,12375,12375,0,null,{"$f":"+SUMIF('Details sales deliv. to excl.'!F:F,A1020,'Details sales deliv. to excl.'!H:H)","v":0},{"$f":"-SUMIF('Details purch. deliv. to excl.'!F:F,A1020,'Details purch. deliv. to excl.'!H:H)","v":0},0,50,12375]
["SMP001","Dedicated SMP EU 50 - 10000 Service",null,0,null,5132,0,null,0,0,0,0,"",{"$f":"+SUMIF('Details sales deliv. to excl.'!F:F,A1021,'Details sales deliv. to excl.'!H:H)","v":0},{"$f":"-SUMIF('Details purch. deliv. to excl.'!F:F,A1021,'Details purch. deliv. to excl.'!H:H)","v":0},0,0,0]
["SMP002","Dedicated SMP SP 250 - 40000 Service",null,463,"TTEC",5132,0,null,0,0,0,0,"",{"$f":"+SUMIF('Details sales deliv. to excl.'!F:F,A1022,'Details sales deliv. to excl.'!H:H)","v":0},{"$f":"-SUMIF('Details purch. deliv. to excl.'!F:F,A1022,'Details purch. deliv. to excl.'!H:H)","v":0},0,0,0]
["SMP003","Dedicated SMP SP 125 - 20000 Service",null,0,null,5132,0,null,0,0,0,0,"",{"$f":"+SUMIF('Details sales deliv. to excl.'!F:F,A1023,'Details sales deliv. to excl.'!H:H)","v":0},{"$f":"-SUMIF('Details purch. deliv. to excl.'!F:F,A1023,'Details purch. deliv. to excl.'!H:H)","v":0},0,0,0]
["SMP1010","Dedicated SMP",null,463,"TTEC",0,0,null,0,0,0,0,"",{"$f":"+SUMIF('Details sales deliv. to excl.'!F:F,A1024,'Details sales deliv. to excl.'!H:H)","v":0},{"$f":"-SUMIF('Details purch. deliv. to excl.'!F:F,A1024,'Details purch. deliv. to excl.'!H:H)","v":0},0,0,0]
["SR1001","256 Mb RAM - TTEC","D333I256-D",463,"TTEC",40,0,null,0,0,0,0,"",{"$f":"+SUMIF('Details sales deliv. to excl.'!F:F,A1025,'Details sales deliv. to excl.'!H:H)","v":0},{"$f":"-SUMIF('Details purch. deliv. to excl.'!F:F,A1025,'Details purch. deliv. to excl.'!H:H)","v":0},0,0,0]
["SR1002","512 Mb RAM - TTEC","D333I512-E",463,"TTEC",65,0,null,0,0,0,0,"",{"$f":"+SUMIF('Details sales deliv. to excl.'!F:F,A1026,'Details sales deliv. to excl.'!H:H)","v":0},{"$f":"-SUMIF('Details purch. deliv. to excl.'!F:F,A1026,'Details purch. deliv. to excl.'!H:H)","v":0},0,0,0]
["SR1003","1 Gb RAM - TTEC","D333T1GB-E",463,"TTEC",95,0,null,0,0,0,0,"",{"$f":"+SUMIF('Details sales deliv. to excl.'!F:F,A1027,'Details sales deliv. to excl.'!H:H)","v":0},{"$f":"-SUMIF('Details purch. deliv. to excl.'!F:F,A1027,'Details purch. deliv. to excl.'!H:H)","v":0},0,0,0]
["SR1004","2 Gb RAM - TTEC","D267R2GDL-SA",463,"TTEC",115,0,null,{"$f":"H1028-G1028","v":0},{"$f":"G1028*F1028","v":0},{"$f":"H1028*F1028","v":0},{"$f":"I1028*F1028","v":0},"",{"$f":"+SUMIF('Details sales deliv. to excl.'!F:F,A1028,'Details sales deliv. to excl.'!H:H)","v":0},{"$f":"-SUMIF('Details purch. deliv. to excl.'!F:F,A1028,'Details purch. deliv. to excl.'!H:H)","v":0},{"$f":"I1028+N1028+O1028","v":0},{"$f":"G1028+P1028","v":0},{"$f":"Q1028*F1028","v":0}]
["SR1005","Intel Pro/1000 GT desktop ethernet card",18588,0,null,31.69,0,null,0,0,0,0,{"$f":"IF(ABS(L1029)>500,\"check\",\"\")","v":""},{"$f":"+SUMIF('Details sales deliv. to excl.'!F:F,A1029,'Details sales deliv. to excl.'!H:H)","v":0},{"$f":"-SUMIF('Details purch. deliv. to excl.'!F:F,A1029,'Details purch. deliv. to excl.'!H:H)","v":0},0,0,0]
["SR1010","IPMI 2.0 cards with Serial-Virtual Media over LAN","AOC-SIMLCR2",463,"TTEC",30,0,null,0,0,0,0,"",{"$f":"+SUMIF('Details sales deliv. to excl.'!F:F,A1030,'Details sales deliv. to excl.'!H:H)","v":0},{"$f":"-SUMIF('Details purch. deliv. to excl.'!F:F,A1030,'Details purch. deliv. to excl.'!H:H)","v":0},0,0,0]
["SR1012","IPMI 2.0 cards with Virtual Media","AOC-SIM1U+",463,"TTEC",30,0,null,0,0,0,0,"",{"$f":"+SUMIF('Details sales deliv. to excl.'!F:F,A1031,'Details sales deliv. to excl.'!H:H)","v":0},{"$f":"-SUMIF('Details purch. deliv. to excl.'!F:F,A1031,'Details purch. deliv. to excl.'!H:H)","v":0},0,0,0]
["SR1020","Rails for TTEC 2U RAID SERVERS","MCP-290-RAIL",463,"TTEC",65,0,null,0,0,0,0,"",{"$f":"+SUMIF('Details sales deliv. to excl.'!F:F,A1032,'Details sales deliv. to excl.'!H:H)","v":0},{"$f":"-SUMIF('Details purch. deliv. to excl.'!F:F,A1032,'Details purch. deliv. to excl.'!H:H)","v":0},0,0,0]
["SR1021","Rails for TTEC 4U RAID SERVERS","MCP ???",463,"TTEC",65,0,null,0,0,0,0,"",{"$f":"+SUMIF('Details sales deliv. to excl.'!F:F,A1033,'Details sales deliv. to excl.'!H:H)","v":0},{"$f":"-SUMIF('Details purch. deliv. to excl.'!F:F,A1033,'Details purch. deliv. to excl.'!H:H)","v":0},0,0,0]
["SR1030","RITTAL VR Tablet 19\" 1U, adjustable depth 600-900",5501665,1279,"RITTAL",68.33,0,null,0,0,0,0,"",{"$f":"+SUMIF('Details sales deliv. to excl.'!F:F,A1034,'Details sales deliv. to excl.'!H:H)","v":0},{"$f":"-SUMIF('Details purch. deliv. to excl.'!F:F,A1034,'Details purch. deliv. to excl.'!H:H)","v":0},0,0,0]
["ST1010","ESCAUX 4BRI-2FXO Survivability App (Corp Ed only)",null,0,null,950,0,null,0,0,0,0,"",{"$f":"+SUMIF('Details sales deliv. to excl.'!F:F,A1035,'Details sales deliv. to excl.'!H:H)","v":0},{"$f":"-SUMIF('Details purch. deliv. to excl.'!F:F,A1035,'Details purch. deliv. to excl.'!H:H)","v":0},0,0,0]
["ST1011","Remote Patton  Gateway 2BRI",null,0,null,95,0,null,0,0,0,0,"",{"$f":"+SUMIF('Details sales deliv. to excl.'!F:F,A1036,'Details sales deliv. to excl.'!H:H)","v":0},{"$f":"-SUMIF('Details purch. deliv. to excl.'!F:F,A1036,'Details purch. deliv. to excl.'!H:H)","v":0},0,0,0]
["ST1020","Office Appliance +FXS2+BRI2",null,0,null,95,0,null,0,0,0,0,"",{"$f":"+SUMIF('Details sales deliv. to excl.'!F:F,A1037,'Details sales deliv. to excl.'!H:H)","v":0},{"$f":"-SUMIF('Details purch. deliv. to excl.'!F:F,A1037,'Details purch. deliv. to excl.'!H:H)","v":0},0,0,0]
["ST2020","ESCAUX Edge Appliance+FXS2+BRI4",null,0,null,853.11,0,null,0,0,0,0,"",{"$f":"+SUMIF('Details sales deliv. to excl.'!F:F,A1038,'Details sales deliv. to excl.'!H:H)","v":0},{"$f":"-SUMIF('Details purch. deliv. to excl.'!F:F,A1038,'Details purch. deliv. to excl.'!H:H)","v":0},0,0,0]
["ST2025","ESCAUX Edge Appliance+FXS2+BRI2",null,0,null,800.25,0,null,0,0,0,0,"",{"$f":"+SUMIF('Details sales deliv. to excl.'!F:F,A1039,'Details sales deliv. to excl.'!H:H)","v":0},{"$f":"-SUMIF('Details purch. deliv. to excl.'!F:F,A1039,'Details purch. deliv. to excl.'!H:H)","v":0},0,0,0]
["ST2030","ESCAUX Office Appliance+FXS2+BRI4",null,0,null,623.11,0,null,0,0,0,0,"",{"$f":"+SUMIF('Details sales deliv. to excl.'!F:F,A1040,'Details sales deliv. to excl.'!H:H)","v":0},{"$f":"-SUMIF('Details purch. deliv. to excl.'!F:F,A1040,'Details purch. deliv. to excl.'!H:H)","v":0},0,0,0]
["ST2035","ESCAUX Office Appliance+FXS2+BRI2",null,0,null,570.25,0,null,0,0,0,0,"",{"$f":"+SUMIF('Details sales deliv. to excl.'!F:F,A1041,'Details sales deliv. to excl.'!H:H)","v":0},{"$f":"-SUMIF('Details purch. deliv. to excl.'!F:F,A1041,'Details purch. deliv. to excl.'!H:H)","v":0},0,0,0]
["ST2040","ESCAUX Edge Appliance+FXS4+PRI1",null,0,null,1158.99,0,null,0,0,0,0,"",{"$f":"+SUMIF('Details sales deliv. to excl.'!F:F,A1042,'Details sales deliv. to excl.'!H:H)","v":0},{"$f":"-SUMIF('Details purch. deliv. to excl.'!F:F,A1042,'Details purch. deliv. to excl.'!H:H)","v":0},0,0,0]
["ST2041","ESCAUX Edge Appliance+4E1+1SS7 Controller",null,0,null,1158.99,0,null,0,0,0,0,"",{"$f":"+SUMIF('Details sales deliv. to excl.'!F:F,A1043,'Details sales deliv. to excl.'!H:H)","v":0},{"$f":"-SUMIF('Details purch. deliv. to excl.'!F:F,A1043,'Details purch. deliv. to excl.'!H:H)","v":0},0,0,0]
["ST2045","ESCAUX Office Appliance+FXS4+PRI1",null,0,null,928.99,0,null,0,0,0,0,"",{"$f":"+SUMIF('Details sales deliv. to excl.'!F:F,A1044,'Details sales deliv. to excl.'!H:H)","v":0},{"$f":"-SUMIF('Details purch. deliv. to excl.'!F:F,A1044,'Details purch. deliv. to excl.'!H:H)","v":0},0,0,0]
["ST20677","Customer Owned Server",null,501,"ESCAUX NV",928.99,0,null,0,0,0,0,"",{"$f":"+SUMIF('Details sales deliv. to excl.'!F:F,A1045,'Details sales deliv. to excl.'!H:H)","v":0},{"$f":"-SUMIF('Details purch. deliv. to excl.'!F:F,A1045,'Details purch. deliv. to excl.'!H:H)","v":0},0,0,0]
["ST2120","ESCAUX Edge Appliance HP DL120 +FXS2+BRI4",null,0,null,791.12,0,null,0,0,0,0,"",{"$f":"+SUMIF('Details sales deliv. to excl.'!F:F,A1046,'Details sales deliv. to excl.'!H:H)","v":0},{"$f":"-SUMIF('Details purch. deliv. to excl.'!F:F,A1046,'Details purch. deliv. to excl.'!H:H)","v":0},0,0,0]
["ST2125","ESCAUX Edge Appliance HP DL120 +FXS2+BRI2",null,0,null,738.26,0,null,0,0,0,0,"",{"$f":"+SUMIF('Details sales deliv. to excl.'!F:F,A1047,'Details sales deliv. to excl.'!H:H)","v":0},{"$f":"-SUMIF('Details purch. deliv. to excl.'!F:F,A1047,'Details purch. deliv. to excl.'!H:H)","v":0},0,0,0]
["ST2130","ESCAUX Office Appliance HP ML110 +FXS2+BRI4",null,0,null,601.55999999999995,0,null,0,0,0,0,"",{"$f":"+SUMIF('Details sales deliv. to excl.'!F:F,A1048,'Details sales deliv. to excl.'!H:H)","v":0},{"$f":"-SUMIF('Details purch. deliv. to excl.'!F:F,A1048,'Details purch. deliv. to excl.'!H:H)","v":0},0,0,0]
["ST2135","ESCAUX Office Appliance HP ML110 +FXS2+BRI2",null,0,null,548.70000000000005,0,null,0,0,0,0,"",{"$f":"+SUMIF('Details sales deliv. to excl.'!F:F,A1049,'Details sales deliv. to excl.'!H:H)","v":0},{"$f":"-SUMIF('Details purch. deliv. to excl.'!F:F,A1049,'Details purch. deliv. to excl.'!H:H)","v":0},0,0,0]
["ST2140","ESCAUX Edge Appliance HP DL120 +FXS4+PRI1",null,0,null,1082.77,0,null,0,0,0,0,"",{"$f":"+SUMIF('Details sales deliv. to excl.'!F:F,A1050,'Details sales deliv. to excl.'!H:H)","v":0},{"$f":"-SUMIF('Details purch. deliv. to excl.'!F:F,A1050,'Details purch. deliv. to excl.'!H:H)","v":0},0,0,0]
["ST2145","ESCAUX Office Appliance HP ML110 +FXS4+PRI1",null,0,null,893.21,0,null,0,0,0,0,"",{"$f":"+SUMIF('Details sales deliv. to excl.'!F:F,A1051,'Details sales deliv. to excl.'!H:H)","v":0},{"$f":"-SUMIF('Details purch. deliv. to excl.'!F:F,A1051,'Details purch. deliv. to excl.'!H:H)","v":0},0,0,0]
["ST2220","ESCAUX Edge Appliance HP DL120 (G7) +4BRI-2FXS",null,0,null,0,0,null,0,0,0,0,"",{"$f":"+SUMIF('Details sales deliv. to excl.'!F:F,A1052,'Details sales deliv. to excl.'!H:H)","v":0},{"$f":"-SUMIF('Details purch. deliv. to excl.'!F:F,A1052,'Details purch. deliv. to excl.'!H:H)","v":0},0,0,0]
["ST2225","ESCAUX Edge Appliance HP DL120 (G7) +2BRI-2FXS",null,0,null,763.37,0,null,0,0,0,0,"",{"$f":"+SUMIF('Details sales deliv. to excl.'!F:F,A1053,'Details sales deliv. to excl.'!H:H)","v":0},{"$f":"-SUMIF('Details purch. deliv. to excl.'!F:F,A1053,'Details purch. deliv. to excl.'!H:H)","v":0},0,0,0]
["ST2230","ESCAUX Office Appliance HP ML110 (G7) +4BRI-2FXS",null,0,null,625.29999999999995,0,null,0,0,0,0,"",{"$f":"+SUMIF('Details sales deliv. to excl.'!F:F,A1054,'Details sales deliv. to excl.'!H:H)","v":0},{"$f":"-SUMIF('Details purch. deliv. to excl.'!F:F,A1054,'Details purch. deliv. to excl.'!H:H)","v":0},0,0,0]
["ST2235","ESCAUX Office Appliance HP ML110 (G7) +2BRI-2FXS",null,0,null,572.44000000000005,0,null,0,0,0,0,"",{"$f":"+SUMIF('Details sales deliv. to excl.'!F:F,A1055,'Details sales deliv. to excl.'!H:H)","v":0},{"$f":"-SUMIF('Details purch. deliv. to excl.'!F:F,A1055,'Details purch. deliv. to excl.'!H:H)","v":0},0,0,0]
["ST2240","ESCAUX Edge Appliance HP DL120 (G7) +4FXS+1PRI",null,0,null,0,0,null,0,0,0,0,"",{"$f":"+SUMIF('Details sales deliv. to excl.'!F:F,A1056,'Details sales deliv. to excl.'!H:H)","v":0},{"$f":"-SUMIF('Details purch. deliv. to excl.'!F:F,A1056,'Details purch. deliv. to excl.'!H:H)","v":0},0,0,0]
["ST2245","ESCAUX Office Appliance HP ML110 (G7) +4FXS+1PRI",null,0,null,916.95,0,null,0,0,0,0,"",{"$f":"+SUMIF('Details sales deliv. to excl.'!F:F,A1057,'Details sales deliv. to excl.'!H:H)","v":0},{"$f":"-SUMIF('Details purch. deliv. to excl.'!F:F,A1057,'Details purch. deliv. to excl.'!H:H)","v":0},0,0,0]
["ST2250","ESCAUX Edge Appliance HP DL120 (G7) +1PRI",null,0,null,837.19,0,null,0,0,0,0,"",{"$f":"+SUMIF('Details sales deliv. to excl.'!F:F,A1058,'Details sales deliv. to excl.'!H:H)","v":0},{"$f":"-SUMIF('Details purch. deliv. to excl.'!F:F,A1058,'Details purch. deliv. to excl.'!H:H)","v":0},0,0,0]
["ST2252","ESCAUX Edge Appliance HP DL120 (G7) +2PRI",null,0,null,1144.3399999999999,0,null,0,0,0,0,"",{"$f":"+SUMIF('Details sales deliv. to excl.'!F:F,A1059,'Details sales deliv. to excl.'!H:H)","v":0},{"$f":"-SUMIF('Details purch. deliv. to excl.'!F:F,A1059,'Details purch. deliv. to excl.'!H:H)","v":0},0,0,0]
["ST2254","ESCAUX Edge Appliance HP DL120 (G7) +4PRI",null,0,null,1595.48,0,null,0,0,0,0,"",{"$f":"+SUMIF('Details sales deliv. to excl.'!F:F,A1060,'Details sales deliv. to excl.'!H:H)","v":0},{"$f":"-SUMIF('Details purch. deliv. to excl.'!F:F,A1060,'Details purch. deliv. to excl.'!H:H)","v":0},0,0,0]
["ST2301","ESCAUX Edge Appliance HP DL +4BRI",null,0,null,1062.46,0,null,0,0,0,0,"",{"$f":"+SUMIF('Details sales deliv. to excl.'!F:F,A1061,'Details sales deliv. to excl.'!H:H)","v":0},{"$f":"-SUMIF('Details purch. deliv. to excl.'!F:F,A1061,'Details purch. deliv. to excl.'!H:H)","v":0},0,0,0]
["ST2302","ESCAUX Edge Appliance HP DL +1PRI",null,0,null,1126.26,0,null,0,0,0,0,"",{"$f":"+SUMIF('Details sales deliv. to excl.'!F:F,A1062,'Details sales deliv. to excl.'!H:H)","v":0},{"$f":"-SUMIF('Details purch. deliv. to excl.'!F:F,A1062,'Details purch. deliv. to excl.'!H:H)","v":0},0,0,0]
["ST2303","ESCAUX Edge Appliance HP DL +2PRI",null,0,null,1433.41,0,null,0,0,0,0,"",{"$f":"+SUMIF('Details sales deliv. to excl.'!F:F,A1063,'Details sales deliv. to excl.'!H:H)","v":0},{"$f":"-SUMIF('Details purch. deliv. to excl.'!F:F,A1063,'Details purch. deliv. to excl.'!H:H)","v":0},0,0,0]
["ST2304","ESCAUX Edge Appliance HP DL + 4PRI",null,0,null,1884.55,0,null,0,0,0,0,"",{"$f":"+SUMIF('Details sales deliv. to excl.'!F:F,A1064,'Details sales deliv. to excl.'!H:H)","v":0},{"$f":"-SUMIF('Details purch. deliv. to excl.'!F:F,A1064,'Details purch. deliv. to excl.'!H:H)","v":0},0,0,0]
["SW1001","HP 2530-48G-PoE + Switch","J9772A",10618,"SYSTEM SOLUTIONS",1380.18,2,2,0,2760.36,2760.36,0,null,{"$f":"+SUMIF('Details sales deliv. to excl.'!F:F,A1065,'Details sales deliv. to excl.'!H:H)","v":0},{"$f":"-SUMIF('Details purch. deliv. to excl.'!F:F,A1065,'Details purch. deliv. to excl.'!H:H)","v":0},0,2,2760.36]
["SW1002","HP 2530-8G-PoE + Switch","J9774A",1229,"HP (HEWLETT-PACKARD)",343.49,6,6,0,2060.94,2060.94,0,null,{"$f":"+SUMIF('Details sales deliv. to excl.'!F:F,A1066,'Details sales deliv. to excl.'!H:H)","v":0},{"$f":"-SUMIF('Details purch. deliv. to excl.'!F:F,A1066,'Details purch. deliv. to excl.'!H:H)","v":0},0,6,2060.94]
["SW1003","HP 2530-24G Switch","J9776A",1229,"HP (HEWLETT-PACKARD)",354.59,0,null,0,0,0,0,"",{"$f":"+SUMIF('Details sales deliv. to excl.'!F:F,A1067,'Details sales deliv. to excl.'!H:H)","v":0},{"$f":"-SUMIF('Details purch. deliv. to excl.'!F:F,A1067,'Details purch. deliv. to excl.'!H:H)","v":0},0,0,0]
["SW1004","HP 205 Instant 802.11ac (WW) AP","JL184A",1229,"HP (HEWLETT-PACKARD)",317.98,0,null,0,0,0,0,"",{"$f":"+SUMIF('Details sales deliv. to excl.'!F:F,A1068,'Details sales deliv. to excl.'!H:H)","v":0},{"$f":"-SUMIF('Details purch. deliv. to excl.'!F:F,A1068,'Details purch. deliv. to excl.'!H:H)","v":0},0,0,0]
["SW1005","HP 1920-24G-PoE + (180W) Switch","JG925A",1229,"HP (HEWLETT-PACKARD)",350.55,0,null,0,0,0,0,"",{"$f":"+SUMIF('Details sales deliv. to excl.'!F:F,A1069,'Details sales deliv. to excl.'!H:H)","v":0},{"$f":"-SUMIF('Details purch. deliv. to excl.'!F:F,A1069,'Details purch. deliv. to excl.'!H:H)","v":0},0,0,0]
["SW1006","HP 2920-48G-PoE + Switch","J9729A",1229,"HP (HEWLETT-PACKARD)",1613.75,0,null,0,0,0,0,"",{"$f":"+SUMIF('Details sales deliv. to excl.'!F:F,A1070,'Details sales deliv. to excl.'!H:H)","v":0},{"$f":"-SUMIF('Details purch. deliv. to excl.'!F:F,A1070,'Details purch. deliv. to excl.'!H:H)","v":0},0,0,0]
["SW1007","HP X121 1G SFP LC SX Transceiver","J4858C",1229,"HP (HEWLETT-PACKARD)",89.55,0,null,0,0,0,0,"",{"$f":"+SUMIF('Details sales deliv. to excl.'!F:F,A1071,'Details sales deliv. to excl.'!H:H)","v":0},{"$f":"-SUMIF('Details purch. deliv. to excl.'!F:F,A1071,'Details purch. deliv. to excl.'!H:H)","v":0},0,0,0]
["SW1009","HP X121 1G SFP LC LX Transceiver","J4859C",1229,"HP (HEWLETT-PACKARD)",188.55,0,null,0,0,0,0,"",{"$f":"+SUMIF('Details sales deliv. to excl.'!F:F,A1072,'Details sales deliv. to excl.'!H:H)","v":0},{"$f":"-SUMIF('Details purch. deliv. to excl.'!F:F,A1072,'Details purch. deliv. to excl.'!H:H)","v":0},0,0,0]
[null,"HP 2530-24G-PoE + Switch","J9773A",10618,"SYSTEM SOLUTIONS",690,3,3,0,2070,2070,0,null,{"$f":"+SUMIF('Details sales deliv. to excl.'!F:F,A1073,'Details sales deliv. to excl.'!H:H)","v":0},{"$f":"-SUMIF('Details purch. deliv. to excl.'!F:F,A1073,'Details purch. deliv. to excl.'!H:H)","v":0},0,3,2070]
["SW2001","ARUBA Instant IAP-205 Wireless Access Point","JW212A",10618,"SYSTEM SOLUTIONS",263.63,3,3,0,790.89,790.89,0,null,{"$f":"+SUMIF('Details sales deliv. to excl.'!F:F,A1074,'Details sales deliv. to excl.'!H:H)","v":0},{"$f":"-SUMIF('Details purch. deliv. to excl.'!F:F,A1074,'Details purch. deliv. to excl.'!H:H)","v":0},0,3,790.89]
["SW2003","ARUBA Access Point Mount Kit (basic, flat surface)","AP-220-MNT-W1W",10618,"SYSTEM SOLUTIONS",25,1,1,0,25,25,0,null,{"$f":"+SUMIF('Details sales deliv. to excl.'!F:F,A1075,'Details sales deliv. to excl.'!H:H)","v":0},{"$f":"-SUMIF('Details purch. deliv. to excl.'!F:F,A1075,'Details purch. deliv. to excl.'!H:H)","v":0},0,1,25]
["SW3001","CYBEROAM Firewall 50ING",null,1486,"TECH IT",1380,0,null,0,0,0,0,"",{"$f":"+SUMIF('Details sales deliv. to excl.'!F:F,A1076,'Details sales deliv. to excl.'!H:H)","v":0},{"$f":"-SUMIF('Details purch. deliv. to excl.'!F:F,A1076,'Details purch. deliv. to excl.'!H:H)","v":0},0,0,0]
["T1000","COLT TELECOM ISDN Access 4 BRI SDSL",null,460,"COLT TECHNOLOGY SERVICES N.V.",1163,0,null,0,0,0,0,"",{"$f":"+SUMIF('Details sales deliv. to excl.'!F:F,A1077,'Details sales deliv. to excl.'!H:H)","v":0},{"$f":"-SUMIF('Details purch. deliv. to excl.'!F:F,A1077,'Details purch. deliv. to excl.'!H:H)","v":0},0,0,0]
["T1001","COLT TELECOM 10 DDI range",null,460,"COLT TECHNOLOGY SERVICES N.V.",0,0,null,0,0,0,0,"",{"$f":"+SUMIF('Details sales deliv. to excl.'!F:F,A1078,'Details sales deliv. to excl.'!H:H)","v":0},{"$f":"-SUMIF('Details purch. deliv. to excl.'!F:F,A1078,'Details purch. deliv. to excl.'!H:H)","v":0},0,0,0]
["T1005","COLT Site Survey",null,501,"ESCAUX NV",0,0,null,0,0,0,0,"",{"$f":"+SUMIF('Details sales deliv. to excl.'!F:F,A1079,'Details sales deliv. to excl.'!H:H)","v":0},{"$f":"-SUMIF('Details purch. deliv. to excl.'!F:F,A1079,'Details purch. deliv. to excl.'!H:H)","v":0},0,0,0]
["T1007","COLT Fast Track",null,460,"COLT TECHNOLOGY SERVICES N.V.",3000,0,null,0,0,0,0,"",{"$f":"+SUMIF('Details sales deliv. to excl.'!F:F,A1080,'Details sales deliv. to excl.'!H:H)","v":0},{"$f":"-SUMIF('Details purch. deliv. to excl.'!F:F,A1080,'Details purch. deliv. to excl.'!H:H)","v":0},0,0,0]
["T1008","Internal Cabling",null,460,"COLT TECHNOLOGY SERVICES N.V.",3000,0,null,0,0,0,0,"",{"$f":"+SUMIF('Details sales deliv. to excl.'!F:F,A1081,'Details sales deliv. to excl.'!H:H)","v":0},{"$f":"-SUMIF('Details purch. deliv. to excl.'!F:F,A1081,'Details purch. deliv. to excl.'!H:H)","v":0},0,0,0]
["T1010","COLT TELECOM Internet Access SDSL 128/1024","Inter ACCESS 128/1024",460,"COLT TECHNOLOGY SERVICES N.V.",0,0,null,0,0,0,0,"",{"$f":"+SUMIF('Details sales deliv. to excl.'!F:F,A1082,'Details sales deliv. to excl.'!H:H)","v":0},{"$f":"-SUMIF('Details purch. deliv. to excl.'!F:F,A1082,'Details purch. deliv. to excl.'!H:H)","v":0},0,0,0]
["T1020","COLT TELECOM Internet Access SDSL 512/1024","Inter ACCESS 512/1024",460,"COLT TECHNOLOGY SERVICES N.V.",0,0,null,0,0,0,0,"",{"$f":"+SUMIF('Details sales deliv. to excl.'!F:F,A1083,'Details sales deliv. to excl.'!H:H)","v":0},{"$f":"-SUMIF('Details purch. deliv. to excl.'!F:F,A1083,'Details purch. deliv. to excl.'!H:H)","v":0},0,0,0]
["T1030","COLT TELECOM Internet Access SDSL 128/2048","Inter ACCESS 128/2048",460,"COLT TECHNOLOGY SERVICES N.V.",0,0,null,0,0,0,0,"",{"$f":"+SUMIF('Details sales deliv. to excl.'!F:F,A1084,'Details sales deliv. to excl.'!H:H)","v":0},{"$f":"-SUMIF('Details purch. deliv. to excl.'!F:F,A1084,'Details purch. deliv. to excl.'!H:H)","v":0},0,0,0]
["T1040","COLT TELECOM Internet Access SDSL 256/2048","Inter ACCESS 256/2048",460,"COLT TECHNOLOGY SERVICES N.V.",0,0,null,0,0,0,0,"",{"$f":"+SUMIF('Details sales deliv. to excl.'!F:F,A1085,'Details sales deliv. to excl.'!H:H)","v":0},{"$f":"-SUMIF('Details purch. deliv. to excl.'!F:F,A1085,'Details purch. deliv. to excl.'!H:H)","v":0},0,0,0]
["T1050","COLT TELECOM Internet Access SDSL 512/2048","Inter ACCESS 512/2048",460,"COLT TECHNOLOGY SERVICES N.V.",0,0,null,0,0,0,0,"",{"$f":"+SUMIF('Details sales deliv. to excl.'!F:F,A1086,'Details sales deliv. to excl.'!H:H)","v":0},{"$f":"-SUMIF('Details purch. deliv. to excl.'!F:F,A1086,'Details purch. deliv. to excl.'!H:H)","v":0},0,0,0]
["T1060","COLT TELECOM Internet Access SDSL 1024/2048","Inter ACCESS 1024/2048",460,"COLT TECHNOLOGY SERVICES N.V.",0,0,null,0,0,0,0,"",{"$f":"+SUMIF('Details sales deliv. to excl.'!F:F,A1087,'Details sales deliv. to excl.'!H:H)","v":0},{"$f":"-SUMIF('Details purch. deliv. to excl.'!F:F,A1087,'Details purch. deliv. to excl.'!H:H)","v":0},0,0,0]
["T1070","COLT TELECOM Internet Access SDSL 2048/2048","Inter ACCESS 2048/2048",460,"COLT TECHNOLOGY SERVICES N.V.",0,0,null,0,0,0,0,"",{"$f":"+SUMIF('Details sales deliv. to excl.'!F:F,A1088,'Details sales deliv. to excl.'!H:H)","v":0},{"$f":"-SUMIF('Details purch. deliv. to excl.'!F:F,A1088,'Details purch. deliv. to excl.'!H:H)","v":0},0,0,0]
["T1080","COLT TELECOM Internet Access SDSL 256/1024","Inter ACCES 256/1024",460,"COLT TECHNOLOGY SERVICES N.V.",0,0,null,0,0,0,0,"",{"$f":"+SUMIF('Details sales deliv. to excl.'!F:F,A1089,'Details sales deliv. to excl.'!H:H)","v":0},{"$f":"-SUMIF('Details purch. deliv. to excl.'!F:F,A1089,'Details purch. deliv. to excl.'!H:H)","v":0},0,0,0]
["T1110","COLT IP Access ULL EFM 1MB/1MB",null,460,"COLT TECHNOLOGY SERVICES N.V.",0,0,null,0,0,0,0,"",{"$f":"+SUMIF('Details sales deliv. to excl.'!F:F,A1090,'Details sales deliv. to excl.'!H:H)","v":0},{"$f":"-SUMIF('Details purch. deliv. to excl.'!F:F,A1090,'Details purch. deliv. to excl.'!H:H)","v":0},0,0,0]
["T1112","COLT IP Access ULL EFM 2MB/2MB",null,460,"COLT TECHNOLOGY SERVICES N.V.",0,0,null,0,0,0,0,"",{"$f":"+SUMIF('Details sales deliv. to excl.'!F:F,A1091,'Details sales deliv. to excl.'!H:H)","v":0},{"$f":"-SUMIF('Details purch. deliv. to excl.'!F:F,A1091,'Details purch. deliv. to excl.'!H:H)","v":0},0,0,0]
["T1114","COLT IP Access ULL EFM 4MB/4MB",null,460,"COLT TECHNOLOGY SERVICES N.V.",0,0,null,{"$f":"H1092-G1092","v":0},{"$f":"G1092*F1092","v":0},{"$f":"H1092*F1092","v":0},{"$f":"I1092*F1092","v":0},"",{"$f":"+SUMIF('Details sales deliv. to excl.'!F:F,A1092,'Details sales deliv. to excl.'!H:H)","v":0},{"$f":"-SUMIF('Details purch. deliv. to excl.'!F:F,A1092,'Details purch. deliv. to excl.'!H:H)","v":0},{"$f":"I1092+N1092+O1092","v":0},{"$f":"G1092+P1092","v":0},{"$f":"Q1092*F1092","v":0}]
["T1116","COLT IP Access ULL EFM 6MB/6MB",null,460,"COLT TECHNOLOGY SERVICES N.V.",0,0,null,0,0,0,0,{"$f":"IF(ABS(L1093)>500,\"check\",\"\")","v":""},{"$f":"+SUMIF('Details sales deliv. to excl.'!F:F,A1093,'Details sales deliv. to excl.'!H:H)","v":0},{"$f":"-SUMIF('Details purch. deliv. to excl.'!F:F,A1093,'Details purch. deliv. to excl.'!H:H)","v":0},0,0,0]
["T1118","COLT IP Access ULL EFM 8MB/8MB",null,460,"COLT TECHNOLOGY SERVICES N.V.",0,0,null,0,0,0,0,"",{"$f":"+SUMIF('Details sales deliv. to excl.'!F:F,A1094,'Details sales deliv. to excl.'!H:H)","v":0},{"$f":"-SUMIF('Details purch. deliv. to excl.'!F:F,A1094,'Details purch. deliv. to excl.'!H:H)","v":0},0,0,0]
["T1120","COLT IP Access ULL EFM 10MB/10MB",null,460,"COLT TECHNOLOGY SERVICES N.V.",0,0,null,0,0,0,0,"",{"$f":"+SUMIF('Details sales deliv. to excl.'!F:F,A1095,'Details sales deliv. to excl.'!H:H)","v":0},{"$f":"-SUMIF('Details purch. deliv. to excl.'!F:F,A1095,'Details purch. deliv. to excl.'!H:H)","v":0},0,0,0]
["T1122","COLT IP Access ULL EFM 12MB/12MB",null,460,"COLT TECHNOLOGY SERVICES N.V.",0,0,null,0,0,0,0,"",{"$f":"+SUMIF('Details sales deliv. to excl.'!F:F,A1096,'Details sales deliv. to excl.'!H:H)","v":0},{"$f":"-SUMIF('Details purch. deliv. to excl.'!F:F,A1096,'Details purch. deliv. to excl.'!H:H)","v":0},0,0,0]
["T1124","COLT IP Access ULL EFM 14MB/14MB",null,460,"COLT TECHNOLOGY SERVICES N.V.",0,0,null,0,0,0,0,"",{"$f":"+SUMIF('Details sales deliv. to excl.'!F:F,A1097,'Details sales deliv. to excl.'!H:H)","v":0},{"$f":"-SUMIF('Details purch. deliv. to excl.'!F:F,A1097,'Details purch. deliv. to excl.'!H:H)","v":0},0,0,0]
["T1126","COLT IP Access ULL EFM 16MB/16MB",null,460,"COLT TECHNOLOGY SERVICES N.V.",0,0,null,0,0,0,0,"",{"$f":"+SUMIF('Details sales deliv. to excl.'!F:F,A1098,'Details sales deliv. to excl.'!H:H)","v":0},{"$f":"-SUMIF('Details purch. deliv. to excl.'!F:F,A1098,'Details purch. deliv. to excl.'!H:H)","v":0},0,0,0]
["T1128","COLT IP Access ULL EFM 18MB/18MB",null,460,"COLT TECHNOLOGY SERVICES N.V.",0,0,null,0,0,0,0,"",{"$f":"+SUMIF('Details sales deliv. to excl.'!F:F,A1099,'Details sales deliv. to excl.'!H:H)","v":0},{"$f":"-SUMIF('Details purch. deliv. to excl.'!F:F,A1099,'Details purch. deliv. to excl.'!H:H)","v":0},0,0,0]
["T1130","COLT IP Access ULL EFM 20MB/20MB",null,460,"COLT TECHNOLOGY SERVICES N.V.",0,0,null,0,0,0,0,"",{"$f":"+SUMIF('Details sales deliv. to excl.'!F:F,A1100,'Details sales deliv. to excl.'!H:H)","v":0},{"$f":"-SUMIF('Details purch. deliv. to excl.'!F:F,A1100,'Details purch. deliv. to excl.'!H:H)","v":0},0,0,0]
["T1140","COLT IP Access ULL EFM 30MB/30MB",null,460,"COLT TECHNOLOGY SERVICES N.V.",0,0,null,0,0,0,0,"",{"$f":"+SUMIF('Details sales deliv. to excl.'!F:F,A1101,'Details sales deliv. to excl.'!H:H)","v":0},{"$f":"-SUMIF('Details purch. deliv. to excl.'!F:F,A1101,'Details purch. deliv. to excl.'!H:H)","v":0},0,0,0]
["T1150","COLT IP Access ULL EFM 40MB/40MB",null,460,"COLT TECHNOLOGY SERVICES N.V.",0,0,null,0,0,0,0,"",{"$f":"+SUMIF('Details sales deliv. to excl.'!F:F,A1102,'Details sales deliv. to excl.'!H:H)","v":0},{"$f":"-SUMIF('Details purch. deliv. to excl.'!F:F,A1102,'Details purch. deliv. to excl.'!H:H)","v":0},0,0,0]
["T2000","COLT TELECOM Fix National (h)",null,460,"COLT TECHNOLOGY SERVICES N.V.",0,0,null,0,0,0,0,"",{"$f":"+SUMIF('Details sales deliv. to excl.'!F:F,A1103,'Details sales deliv. to excl.'!H:H)","v":0},{"$f":"-SUMIF('Details purch. deliv. to excl.'!F:F,A1103,'Details purch. deliv. to excl.'!H:H)","v":0},0,0,0]
["T2010","COLT TELECOM Mobile National (h)",null,460,"COLT TECHNOLOGY SERVICES N.V.",0,0,null,0,0,0,0,"",{"$f":"+SUMIF('Details sales deliv. to excl.'!F:F,A1104,'Details sales deliv. to excl.'!H:H)","v":0},{"$f":"-SUMIF('Details purch. deliv. to excl.'!F:F,A1104,'Details purch. deliv. to excl.'!H:H)","v":0},0,0,0]
["T2020","COLT TELECOM Fix International (h)",null,460,"COLT TECHNOLOGY SERVICES N.V.",0,0,null,0,0,0,0,"",{"$f":"+SUMIF('Details sales deliv. to excl.'!F:F,A1105,'Details sales deliv. to excl.'!H:H)","v":0},{"$f":"-SUMIF('Details purch. deliv. to excl.'!F:F,A1105,'Details purch. deliv. to excl.'!H:H)","v":0},0,0,0]
["T2030","COLT TELECOM Mobile International (h)",null,460,"COLT TECHNOLOGY SERVICES N.V.",0,0,null,0,0,0,0,"",{"$f":"+SUMIF('Details sales deliv. to excl.'!F:F,A1106,'Details sales deliv. to excl.'!H:H)","v":0},{"$f":"-SUMIF('Details purch. deliv. to excl.'!F:F,A1106,'Details purch. deliv. to excl.'!H:H)","v":0},0,0,0]
["T2040","COLT Fix calls package (Appendix A) (h)",null,460,"COLT TECHNOLOGY SERVICES N.V.",0,0,null,0,0,0,0,"",{"$f":"+SUMIF('Details sales deliv. to excl.'!F:F,A1107,'Details sales deliv. to excl.'!H:H)","v":0},{"$f":"-SUMIF('Details purch. deliv. to excl.'!F:F,A1107,'Details purch. deliv. to excl.'!H:H)","v":0},0,0,0]
["T2045","COLT Mobile calls package (Appendix A) (h)",null,460,"COLT TECHNOLOGY SERVICES N.V.",0,0,null,0,0,0,0,"",{"$f":"+SUMIF('Details sales deliv. to excl.'!F:F,A1108,'Details sales deliv. to excl.'!H:H)","v":0},{"$f":"-SUMIF('Details purch. deliv. to excl.'!F:F,A1108,'Details purch. deliv. to excl.'!H:H)","v":0},0,0,0]
["T2100","COLT Forwarding Service",null,460,"COLT TECHNOLOGY SERVICES N.V.",0,0,null,0,0,0,0,"",{"$f":"+SUMIF('Details sales deliv. to excl.'!F:F,A1109,'Details sales deliv. to excl.'!H:H)","v":0},{"$f":"-SUMIF('Details purch. deliv. to excl.'!F:F,A1109,'Details purch. deliv. to excl.'!H:H)","v":0},0,0,0]
["T3000","International incoming DDI",null,714,"VOXBONE",0,0,null,0,0,0,0,"",{"$f":"+SUMIF('Details sales deliv. to excl.'!F:F,A1110,'Details sales deliv. to excl.'!H:H)","v":0},{"$f":"-SUMIF('Details purch. deliv. to excl.'!F:F,A1110,'Details purch. deliv. to excl.'!H:H)","v":0},0,0,0]
["T3500","COLT Dedicated VoIP Access - 256Kb",null,460,"COLT TECHNOLOGY SERVICES N.V.",0,0,null,0,0,0,0,"",{"$f":"+SUMIF('Details sales deliv. to excl.'!F:F,A1111,'Details sales deliv. to excl.'!H:H)","v":0},{"$f":"-SUMIF('Details purch. deliv. to excl.'!F:F,A1111,'Details purch. deliv. to excl.'!H:H)","v":0},0,0,0]
["T3501","COLT Dedicated VoIP Access - 512Kb",null,460,"COLT TECHNOLOGY SERVICES N.V.",0,0,null,0,0,0,0,"",{"$f":"+SUMIF('Details sales deliv. to excl.'!F:F,A1112,'Details sales deliv. to excl.'!H:H)","v":0},{"$f":"-SUMIF('Details purch. deliv. to excl.'!F:F,A1112,'Details purch. deliv. to excl.'!H:H)","v":0},0,0,0]
["T3502","COLT Dedicated VoIP Access - 1M",null,460,"COLT TECHNOLOGY SERVICES N.V.",0,0,null,0,0,0,0,"",{"$f":"+SUMIF('Details sales deliv. to excl.'!F:F,A1113,'Details sales deliv. to excl.'!H:H)","v":0},{"$f":"-SUMIF('Details purch. deliv. to excl.'!F:F,A1113,'Details purch. deliv. to excl.'!H:H)","v":0},0,0,0]
["T3503","COLT Dedicated VoIP Access - 2M",null,460,"COLT TECHNOLOGY SERVICES N.V.",0,0,null,0,0,0,0,"",{"$f":"+SUMIF('Details sales deliv. to excl.'!F:F,A1114,'Details sales deliv. to excl.'!H:H)","v":0},{"$f":"-SUMIF('Details purch. deliv. to excl.'!F:F,A1114,'Details purch. deliv. to excl.'!H:H)","v":0},0,0,0]
["T3504","COLT Dedicated VoIP Access - 4M",null,460,"COLT TECHNOLOGY SERVICES N.V.",0,0,null,0,0,0,0,"",{"$f":"+SUMIF('Details sales deliv. to excl.'!F:F,A1115,'Details sales deliv. to excl.'!H:H)","v":0},{"$f":"-SUMIF('Details purch. deliv. to excl.'!F:F,A1115,'Details purch. deliv. to excl.'!H:H)","v":0},0,0,0]
["T3505","COLT Dedicated VoIP Access - 5M",null,460,"COLT TECHNOLOGY SERVICES N.V.",0,0,null,0,0,0,0,"",{"$f":"+SUMIF('Details sales deliv. to excl.'!F:F,A1116,'Details sales deliv. to excl.'!H:H)","v":0},{"$f":"-SUMIF('Details purch. deliv. to excl.'!F:F,A1116,'Details purch. deliv. to excl.'!H:H)","v":0},0,0,0]
["T3506","COLT Dedicated VoIP Access - 6M",null,460,"COLT TECHNOLOGY SERVICES N.V.",0,0,null,0,0,0,0,"",{"$f":"+SUMIF('Details sales deliv. to excl.'!F:F,A1117,'Details sales deliv. to excl.'!H:H)","v":0},{"$f":"-SUMIF('Details purch. deliv. to excl.'!F:F,A1117,'Details purch. deliv. to excl.'!H:H)","v":0},0,0,0]
["T3507","COLT Dedicated VoIP Access - 7M",null,460,"COLT TECHNOLOGY SERVICES N.V.",0,0,null,0,0,0,0,"",{"$f":"+SUMIF('Details sales deliv. to excl.'!F:F,A1118,'Details sales deliv. to excl.'!H:H)","v":0},{"$f":"-SUMIF('Details purch. deliv. to excl.'!F:F,A1118,'Details purch. deliv. to excl.'!H:H)","v":0},0,0,0]
["T3508","COLT Dedicated VoIP Access - 8M",null,460,"COLT TECHNOLOGY SERVICES N.V.",0,0,null,0,0,0,0,"",{"$f":"+SUMIF('Details sales deliv. to excl.'!F:F,A1119,'Details sales deliv. to excl.'!H:H)","v":0},{"$f":"-SUMIF('Details purch. deliv. to excl.'!F:F,A1119,'Details purch. deliv. to excl.'!H:H)","v":0},0,0,0]
["T3509","COLT Dedicated VoIP Access - 9M",null,460,"COLT TECHNOLOGY SERVICES N.V.",0,0,null,0,0,0,0,"",{"$f":"+SUMIF('Details sales deliv. to excl.'!F:F,A1120,'Details sales deliv. to excl.'!H:H)","v":0},{"$f":"-SUMIF('Details purch. deliv. to excl.'!F:F,A1120,'Details purch. deliv. to excl.'!H:H)","v":0},0,0,0]
["T35090","COLT Dedicated VoIP Access - 10M",null,460,"COLT TECHNOLOGY SERVICES N.V.",0,0,null,0,0,0,0,"",{"$f":"+SUMIF('Details sales deliv. to excl.'!F:F,A1121,'Details sales deliv. to excl.'!H:H)","v":0},{"$f":"-SUMIF('Details purch. deliv. to excl.'!F:F,A1121,'Details purch. deliv. to excl.'!H:H)","v":0},0,0,0]
["T35091","COLT Dedicated VoIP Access - 20M",null,460,"COLT TECHNOLOGY SERVICES N.V.",0,0,null,0,0,0,0,"",{"$f":"+SUMIF('Details sales deliv. to excl.'!F:F,A1122,'Details sales deliv. to excl.'!H:H)","v":0},{"$f":"-SUMIF('Details purch. deliv. to excl.'!F:F,A1122,'Details purch. deliv. to excl.'!H:H)","v":0},0,0,0]
["T35092","COLT Dedicated VoIP Access - 50M",null,460,"COLT TECHNOLOGY SERVICES N.V.",0,0,null,0,0,0,0,"",{"$f":"+SUMIF('Details sales deliv. to excl.'!F:F,A1123,'Details sales deliv. to excl.'!H:H)","v":0},{"$f":"-SUMIF('Details purch. deliv. to excl.'!F:F,A1123,'Details purch. deliv. to excl.'!H:H)","v":0},0,0,0]
["T35093","COLT Dedicated VoIP Access - 60M",null,460,"COLT TECHNOLOGY SERVICES N.V.",0,0,null,0,0,0,0,"",{"$f":"+SUMIF('Details sales deliv. to excl.'!F:F,A1124,'Details sales deliv. to excl.'!H:H)","v":0},{"$f":"-SUMIF('Details purch. deliv. to excl.'!F:F,A1124,'Details purch. deliv. to excl.'!H:H)","v":0},0,0,0]
["T35094","COLT Dedicated VoIP Access - 80M",null,460,"COLT TECHNOLOGY SERVICES N.V.",0,0,null,0,0,0,0,"",{"$f":"+SUMIF('Details sales deliv. to excl.'!F:F,A1125,'Details sales deliv. to excl.'!H:H)","v":0},{"$f":"-SUMIF('Details purch. deliv. to excl.'!F:F,A1125,'Details purch. deliv. to excl.'!H:H)","v":0},0,0,0]
["T3510","COLT VoIP Access Disaster Recovery",null,460,"COLT TECHNOLOGY SERVICES N.V.",0,0,null,0,0,0,0,"",{"$f":"+SUMIF('Details sales deliv. to excl.'!F:F,A1126,'Details sales deliv. to excl.'!H:H)","v":0},{"$f":"-SUMIF('Details purch. deliv. to excl.'!F:F,A1126,'Details purch. deliv. to excl.'!H:H)","v":0},0,0,0]
["T3520","COLT VoIP Access via Colt Ethernet Private Network",null,460,"COLT TECHNOLOGY SERVICES N.V.",0,0,null,0,0,0,0,"",{"$f":"+SUMIF('Details sales deliv. to excl.'!F:F,A1127,'Details sales deliv. to excl.'!H:H)","v":0},{"$f":"-SUMIF('Details purch. deliv. to excl.'!F:F,A1127,'Details purch. deliv. to excl.'!H:H)","v":0},0,0,0]
["T3530","COLT VoIP Access via Colt IP VPN",null,460,"COLT TECHNOLOGY SERVICES N.V.",0,0,null,0,0,0,0,"",{"$f":"+SUMIF('Details sales deliv. to excl.'!F:F,A1128,'Details sales deliv. to excl.'!H:H)","v":0},{"$f":"-SUMIF('Details purch. deliv. to excl.'!F:F,A1128,'Details purch. deliv. to excl.'!H:H)","v":0},0,0,0]
["T3540","COLT VoIP Access via Internet Connection",null,460,"COLT TECHNOLOGY SERVICES N.V.",0,0,null,0,0,0,0,"",{"$f":"+SUMIF('Details sales deliv. to excl.'!F:F,A1129,'Details sales deliv. to excl.'!H:H)","v":0},{"$f":"-SUMIF('Details purch. deliv. to excl.'!F:F,A1129,'Details purch. deliv. to excl.'!H:H)","v":0},0,0,0]
["T3553","COLT VoIP Access Converge 6 channels",null,460,"COLT TECHNOLOGY SERVICES N.V.",0,0,null,0,0,0,0,"",{"$f":"+SUMIF('Details sales deliv. to excl.'!F:F,A1130,'Details sales deliv. to excl.'!H:H)","v":0},{"$f":"-SUMIF('Details purch. deliv. to excl.'!F:F,A1130,'Details purch. deliv. to excl.'!H:H)","v":0},0,0,0]
["T3554","COLT VoIP Access Converge 8 channels",null,460,"COLT TECHNOLOGY SERVICES N.V.",0,0,null,0,0,0,0,"",{"$f":"+SUMIF('Details sales deliv. to excl.'!F:F,A1131,'Details sales deliv. to excl.'!H:H)","v":0},{"$f":"-SUMIF('Details purch. deliv. to excl.'!F:F,A1131,'Details purch. deliv. to excl.'!H:H)","v":0},0,0,0]
["T3555","COLT VoIP Access Converge 10 channels",null,460,"COLT TECHNOLOGY SERVICES N.V.",0,0,null,0,0,0,0,"",{"$f":"+SUMIF('Details sales deliv. to excl.'!F:F,A1132,'Details sales deliv. to excl.'!H:H)","v":0},{"$f":"-SUMIF('Details purch. deliv. to excl.'!F:F,A1132,'Details purch. deliv. to excl.'!H:H)","v":0},0,0,0]
["T3557","COLT VoIP Access Converge 14 channels",null,460,"COLT TECHNOLOGY SERVICES N.V.",0,0,null,0,0,0,0,"",{"$f":"+SUMIF('Details sales deliv. to excl.'!F:F,A1133,'Details sales deliv. to excl.'!H:H)","v":0},{"$f":"-SUMIF('Details purch. deliv. to excl.'!F:F,A1133,'Details purch. deliv. to excl.'!H:H)","v":0},0,0,0]
["T3559","COLT VoIP Access Converge 18 channels",null,460,"COLT TECHNOLOGY SERVICES N.V.",0,0,null,0,0,0,0,"",{"$f":"+SUMIF('Details sales deliv. to excl.'!F:F,A1134,'Details sales deliv. to excl.'!H:H)","v":0},{"$f":"-SUMIF('Details purch. deliv. to excl.'!F:F,A1134,'Details purch. deliv. to excl.'!H:H)","v":0},0,0,0]
["T3562","COLT VoIP Access Converge 22 channels",null,460,"COLT TECHNOLOGY SERVICES N.V.",0,0,null,0,0,0,0,"",{"$f":"+SUMIF('Details sales deliv. to excl.'!F:F,A1135,'Details sales deliv. to excl.'!H:H)","v":0},{"$f":"-SUMIF('Details purch. deliv. to excl.'!F:F,A1135,'Details purch. deliv. to excl.'!H:H)","v":0},0,0,0]
["T3565","COLT VoIP Access Converge 26 channels",null,460,"COLT TECHNOLOGY SERVICES N.V.",0,0,null,0,0,0,0,"",{"$f":"+SUMIF('Details sales deliv. to excl.'!F:F,A1136,'Details sales deliv. to excl.'!H:H)","v":0},{"$f":"-SUMIF('Details purch. deliv. to excl.'!F:F,A1136,'Details purch. deliv. to excl.'!H:H)","v":0},0,0,0]
["T3567","COLT VoIP Access Converge 30 channels",null,460,"COLT TECHNOLOGY SERVICES N.V.",0,0,null,0,0,0,0,"",{"$f":"+SUMIF('Details sales deliv. to excl.'!F:F,A1137,'Details sales deliv. to excl.'!H:H)","v":0},{"$f":"-SUMIF('Details purch. deliv. to excl.'!F:F,A1137,'Details purch. deliv. to excl.'!H:H)","v":0},0,0,0]
["T3568","COLT VoIP Access Converge 34 channels",null,460,"COLT TECHNOLOGY SERVICES N.V.",0,0,null,0,0,0,0,"",{"$f":"+SUMIF('Details sales deliv. to excl.'!F:F,A1138,'Details sales deliv. to excl.'!H:H)","v":0},{"$f":"-SUMIF('Details purch. deliv. to excl.'!F:F,A1138,'Details purch. deliv. to excl.'!H:H)","v":0},0,0,0]
["T3569","COLT VoIP Access Converge 38 channels",null,460,"COLT TECHNOLOGY SERVICES N.V.",0,0,null,0,0,0,0,"",{"$f":"+SUMIF('Details sales deliv. to excl.'!F:F,A1139,'Details sales deliv. to excl.'!H:H)","v":0},{"$f":"-SUMIF('Details purch. deliv. to excl.'!F:F,A1139,'Details purch. deliv. to excl.'!H:H)","v":0},0,0,0]
["T3570","COLT VoIP Access Converge 42 channels",null,460,"COLT TECHNOLOGY SERVICES N.V.",0,0,null,0,0,0,0,"",{"$f":"+SUMIF('Details sales deliv. to excl.'!F:F,A1140,'Details sales deliv. to excl.'!H:H)","v":0},{"$f":"-SUMIF('Details purch. deliv. to excl.'!F:F,A1140,'Details purch. deliv. to excl.'!H:H)","v":0},0,0,0]
["T3571","COLT VoIP Access Converge 46 channels",null,460,"COLT TECHNOLOGY SERVICES N.V.",0,0,null,0,0,0,0,"",{"$f":"+SUMIF('Details sales deliv. to excl.'!F:F,A1141,'Details sales deliv. to excl.'!H:H)","v":0},{"$f":"-SUMIF('Details purch. deliv. to excl.'!F:F,A1141,'Details purch. deliv. to excl.'!H:H)","v":0},0,0,0]
["T3572","COLT VoIP Access Converge 50 channels",null,460,"COLT TECHNOLOGY SERVICES N.V.",0,0,null,0,0,0,0,"",{"$f":"+SUMIF('Details sales deliv. to excl.'!F:F,A1142,'Details sales deliv. to excl.'!H:H)","v":0},{"$f":"-SUMIF('Details purch. deliv. to excl.'!F:F,A1142,'Details purch. deliv. to excl.'!H:H)","v":0},0,0,0]
["T3573","COLT VoIP Access Converge 55 channels",null,460,"COLT TECHNOLOGY SERVICES N.V.",0,0,null,0,0,0,0,"",{"$f":"+SUMIF('Details sales deliv. to excl.'!F:F,A1143,'Details sales deliv. to excl.'!H:H)","v":0},{"$f":"-SUMIF('Details purch. deliv. to excl.'!F:F,A1143,'Details purch. deliv. to excl.'!H:H)","v":0},0,0,0]
["T3574","COLT VoIP Access Converge 60 channels",null,460,"COLT TECHNOLOGY SERVICES N.V.",0,0,null,0,0,0,0,"",{"$f":"+SUMIF('Details sales deliv. to excl.'!F:F,A1144,'Details sales deliv. to excl.'!H:H)","v":0},{"$f":"-SUMIF('Details purch. deliv. to excl.'!F:F,A1144,'Details purch. deliv. to excl.'!H:H)","v":0},0,0,0]
["T3600","COLT IP Access wDSL 1MB/1MB (managed CPE incl.)",null,460,"COLT TECHNOLOGY SERVICES N.V.",0,0,null,0,0,0,0,"",{"$f":"+SUMIF('Details sales deliv. to excl.'!F:F,A1145,'Details sales deliv. to excl.'!H:H)","v":0},{"$f":"-SUMIF('Details purch. deliv. to excl.'!F:F,A1145,'Details purch. deliv. to excl.'!H:H)","v":0},0,0,0]
["T3602","COLT IP Access wDSL 2MB/2MB (managed CPE incl.)",null,460,"COLT TECHNOLOGY SERVICES N.V.",0,0,null,0,0,0,0,"",{"$f":"+SUMIF('Details sales deliv. to excl.'!F:F,A1146,'Details sales deliv. to excl.'!H:H)","v":0},{"$f":"-SUMIF('Details purch. deliv. to excl.'!F:F,A1146,'Details purch. deliv. to excl.'!H:H)","v":0},0,0,0]
["T4001","COLT bundle 2MB+1/2PRI",null,460,"COLT TECHNOLOGY SERVICES N.V.",0,0,null,0,0,0,0,"",{"$f":"+SUMIF('Details sales deliv. to excl.'!F:F,A1147,'Details sales deliv. to excl.'!H:H)","v":0},{"$f":"-SUMIF('Details purch. deliv. to excl.'!F:F,A1147,'Details purch. deliv. to excl.'!H:H)","v":0},0,0,0]
["T4003","COLT bundle 4MB+1PRI",null,460,"COLT TECHNOLOGY SERVICES N.V.",0,0,null,0,0,0,0,"",{"$f":"+SUMIF('Details sales deliv. to excl.'!F:F,A1148,'Details sales deliv. to excl.'!H:H)","v":0},{"$f":"-SUMIF('Details purch. deliv. to excl.'!F:F,A1148,'Details purch. deliv. to excl.'!H:H)","v":0},0,0,0]
["T4005","COLT IP Access E.SHDSL 1MB/1MB (managed CPE incl.)",null,460,"COLT TECHNOLOGY SERVICES N.V.",0,0,null,0,0,0,0,"",{"$f":"+SUMIF('Details sales deliv. to excl.'!F:F,A1149,'Details sales deliv. to excl.'!H:H)","v":0},{"$f":"-SUMIF('Details purch. deliv. to excl.'!F:F,A1149,'Details purch. deliv. to excl.'!H:H)","v":0},0,0,0]
["T4006","COLT bundle 10MB+1 or 2PRI",null,460,"COLT TECHNOLOGY SERVICES N.V.",0,0,null,0,0,0,0,"",{"$f":"+SUMIF('Details sales deliv. to excl.'!F:F,A1150,'Details sales deliv. to excl.'!H:H)","v":0},{"$f":"-SUMIF('Details purch. deliv. to excl.'!F:F,A1150,'Details purch. deliv. to excl.'!H:H)","v":0},0,0,0]
["T4010","COLT IP Access E.SHDSL 2MB/2MB (managed CPE incl.)",null,460,"COLT TECHNOLOGY SERVICES N.V.",0,0,null,0,0,0,0,"",{"$f":"+SUMIF('Details sales deliv. to excl.'!F:F,A1151,'Details sales deliv. to excl.'!H:H)","v":0},{"$f":"-SUMIF('Details purch. deliv. to excl.'!F:F,A1151,'Details purch. deliv. to excl.'!H:H)","v":0},0,0,0]
["T4013","COLT IP Access E.SHDSL 4MB/4MB (managed CPE incl.)",null,460,"COLT TECHNOLOGY SERVICES N.V.",0,0,null,0,0,0,0,"",{"$f":"+SUMIF('Details sales deliv. to excl.'!F:F,A1152,'Details sales deliv. to excl.'!H:H)","v":0},{"$f":"-SUMIF('Details purch. deliv. to excl.'!F:F,A1152,'Details purch. deliv. to excl.'!H:H)","v":0},0,0,0]
["T4016","COLT IP Access E.SHDSL 6MB/6MB (managed CPE incl.)",null,460,"COLT TECHNOLOGY SERVICES N.V.",0,0,null,0,0,0,0,"",{"$f":"+SUMIF('Details sales deliv. to excl.'!F:F,A1153,'Details sales deliv. to excl.'!H:H)","v":0},{"$f":"-SUMIF('Details purch. deliv. to excl.'!F:F,A1153,'Details purch. deliv. to excl.'!H:H)","v":0},0,0,0]
["T4019","COLT IP Access E.SHDSL 8MB/8MB (managed CPE incl.)",null,460,"COLT TECHNOLOGY SERVICES N.V.",0,0,null,0,0,0,0,"",{"$f":"+SUMIF('Details sales deliv. to excl.'!F:F,A1154,'Details sales deliv. to excl.'!H:H)","v":0},{"$f":"-SUMIF('Details purch. deliv. to excl.'!F:F,A1154,'Details purch. deliv. to excl.'!H:H)","v":0},0,0,0]
["T4022","COLT IP Access E.SHDSL 10MB/10MB (managed CPE incl.)",null,460,"COLT TECHNOLOGY SERVICES N.V.",0,0,null,0,0,0,0,"",{"$f":"+SUMIF('Details sales deliv. to excl.'!F:F,A1155,'Details sales deliv. to excl.'!H:H)","v":0},{"$f":"-SUMIF('Details purch. deliv. to excl.'!F:F,A1155,'Details purch. deliv. to excl.'!H:H)","v":0},0,0,0]
["T4024","COLT IP Access E.SHDSL 16MB/16MB (managed CPE incl.)",null,460,"COLT TECHNOLOGY SERVICES N.V.",0,0,null,{"$f":"H1156-G1156","v":0},{"$f":"G1156*F1156","v":0},{"$f":"H1156*F1156","v":0},{"$f":"I1156*F1156","v":0},"",{"$f":"+SUMIF('Details sales deliv. to excl.'!F:F,A1156,'Details sales deliv. to excl.'!H:H)","v":0},{"$f":"-SUMIF('Details purch. deliv. to excl.'!F:F,A1156,'Details purch. deliv. to excl.'!H:H)","v":0},{"$f":"I1156+N1156+O1156","v":0},{"$f":"G1156+P1156","v":0},{"$f":"Q1156*F1156","v":0}]
["T4026","COLT IP Access E.SHDSL 20MB/20MB (managed CPE incl.)",null,460,"COLT TECHNOLOGY SERVICES N.V.",0,0,null,0,0,0,0,{"$f":"IF(ABS(L1157)>500,\"check\",\"\")","v":""},{"$f":"+SUMIF('Details sales deliv. to excl.'!F:F,A1157,'Details sales deliv. to excl.'!H:H)","v":0},{"$f":"-SUMIF('Details purch. deliv. to excl.'!F:F,A1157,'Details purch. deliv. to excl.'!H:H)","v":0},0,0,0]
["T4028","COLT IP Access E.SHDSL 26MB/26MB (managed CPE incl.)",null,460,"COLT TECHNOLOGY SERVICES N.V.",0,0,null,0,0,0,0,"",{"$f":"+SUMIF('Details sales deliv. to excl.'!F:F,A1158,'Details sales deliv. to excl.'!H:H)","v":0},{"$f":"-SUMIF('Details purch. deliv. to excl.'!F:F,A1158,'Details purch. deliv. to excl.'!H:H)","v":0},0,0,0]
["T4029","COLT IP Access E.SHDSL 30MB/30MB (managed CPE incl.)",null,460,"COLT TECHNOLOGY SERVICES N.V.",0,0,null,0,0,0,0,"",{"$f":"+SUMIF('Details sales deliv. to excl.'!F:F,A1159,'Details sales deliv. to excl.'!H:H)","v":0},{"$f":"-SUMIF('Details purch. deliv. to excl.'!F:F,A1159,'Details purch. deliv. to excl.'!H:H)","v":0},0,0,0]
["T4030","COLT Voiceline 1PRI (DSL or Fiber)",null,460,"COLT TECHNOLOGY SERVICES N.V.",0,0,null,0,0,0,0,"",{"$f":"+SUMIF('Details sales deliv. to excl.'!F:F,A1160,'Details sales deliv. to excl.'!H:H)","v":0},{"$f":"-SUMIF('Details purch. deliv. to excl.'!F:F,A1160,'Details purch. deliv. to excl.'!H:H)","v":0},0,0,0]
["T4031","COLT IP Access E.SHDSL 34MB/34MB (managed CPE incl.)",null,460,"COLT TECHNOLOGY SERVICES N.V.",0,0,null,0,0,0,0,"",{"$f":"+SUMIF('Details sales deliv. to excl.'!F:F,A1161,'Details sales deliv. to excl.'!H:H)","v":0},{"$f":"-SUMIF('Details purch. deliv. to excl.'!F:F,A1161,'Details purch. deliv. to excl.'!H:H)","v":0},0,0,0]
["T4032","COLT IP Access E.SHDSL 40MB/40MB (managed vCPE incl.)",null,460,"COLT TECHNOLOGY SERVICES N.V.",0,0,null,0,0,0,0,"",{"$f":"+SUMIF('Details sales deliv. to excl.'!F:F,A1162,'Details sales deliv. to excl.'!H:H)","v":0},{"$f":"-SUMIF('Details purch. deliv. to excl.'!F:F,A1162,'Details purch. deliv. to excl.'!H:H)","v":0},0,0,0]
["T4045","COLT IP Access Fiber 1MB/1MB (managed vCPE incl.)",null,460,"COLT TECHNOLOGY SERVICES N.V.",0,0,null,0,0,0,0,"",{"$f":"+SUMIF('Details sales deliv. to excl.'!F:F,A1163,'Details sales deliv. to excl.'!H:H)","v":0},{"$f":"-SUMIF('Details purch. deliv. to excl.'!F:F,A1163,'Details purch. deliv. to excl.'!H:H)","v":0},0,0,0]
["T4050","COLT IP Access Fiber 2MB/2MB (managed vCPE incl.)",null,460,"COLT TECHNOLOGY SERVICES N.V.",0,0,null,0,0,0,0,"",{"$f":"+SUMIF('Details sales deliv. to excl.'!F:F,A1164,'Details sales deliv. to excl.'!H:H)","v":0},{"$f":"-SUMIF('Details purch. deliv. to excl.'!F:F,A1164,'Details purch. deliv. to excl.'!H:H)","v":0},0,0,0]
["T4053","COLT IP Access Fiber 4MB/4MB (managed vCPE incl.)",null,460,"COLT TECHNOLOGY SERVICES N.V.",0,0,null,0,0,0,0,"",{"$f":"+SUMIF('Details sales deliv. to excl.'!F:F,A1165,'Details sales deliv. to excl.'!H:H)","v":0},{"$f":"-SUMIF('Details purch. deliv. to excl.'!F:F,A1165,'Details purch. deliv. to excl.'!H:H)","v":0},0,0,0]
["T4056","COLT IP Access Fiber 6MB/6MB (managed vCPE incl.)",null,460,"COLT TECHNOLOGY SERVICES N.V.",0,0,null,0,0,0,0,"",{"$f":"+SUMIF('Details sales deliv. to excl.'!F:F,A1166,'Details sales deliv. to excl.'!H:H)","v":0},{"$f":"-SUMIF('Details purch. deliv. to excl.'!F:F,A1166,'Details purch. deliv. to excl.'!H:H)","v":0},0,0,0]
["T4059","COLT IP Access Fiber 8MB/8MB (managed vCPE incl.)",null,460,"COLT TECHNOLOGY SERVICES N.V.",0,0,null,0,0,0,0,"",{"$f":"+SUMIF('Details sales deliv. to excl.'!F:F,A1167,'Details sales deliv. to excl.'!H:H)","v":0},{"$f":"-SUMIF('Details purch. deliv. to excl.'!F:F,A1167,'Details purch. deliv. to excl.'!H:H)","v":0},0,0,0]
["T4062","COLT IP Access Fiber 10MB/10MB (managed vCPE incl.)",null,460,"COLT TECHNOLOGY SERVICES N.V.",0,0,null,0,0,0,0,"",{"$f":"+SUMIF('Details sales deliv. to excl.'!F:F,A1168,'Details sales deliv. to excl.'!H:H)","v":0},{"$f":"-SUMIF('Details purch. deliv. to excl.'!F:F,A1168,'Details purch. deliv. to excl.'!H:H)","v":0},0,0,0]
["T4064","COLT IP Access Fiber 16MB/16MB (managed vCPE incl.)",null,460,"COLT TECHNOLOGY SERVICES N.V.",0,0,null,0,0,0,0,"",{"$f":"+SUMIF('Details sales deliv. to excl.'!F:F,A1169,'Details sales deliv. to excl.'!H:H)","v":0},{"$f":"-SUMIF('Details purch. deliv. to excl.'!F:F,A1169,'Details purch. deliv. to excl.'!H:H)","v":0},0,0,0]
["T4066","COLT IP Access Fiber 20MB/20MB (managed vCPE incl.)",null,460,"COLT TECHNOLOGY SERVICES N.V.",0,0,null,0,0,0,0,"",{"$f":"+SUMIF('Details sales deliv. to excl.'!F:F,A1170,'Details sales deliv. to excl.'!H:H)","v":0},{"$f":"-SUMIF('Details purch. deliv. to excl.'!F:F,A1170,'Details purch. deliv. to excl.'!H:H)","v":0},0,0,0]
["T4068","COLT IP Access Fiber 26MB/26MB (managed vCPE incl.)",null,460,"COLT TECHNOLOGY SERVICES N.V.",0,0,null,0,0,0,0,"",{"$f":"+SUMIF('Details sales deliv. to excl.'!F:F,A1171,'Details sales deliv. to excl.'!H:H)","v":0},{"$f":"-SUMIF('Details purch. deliv. to excl.'!F:F,A1171,'Details purch. deliv. to excl.'!H:H)","v":0},0,0,0]
["T4069","COLT IP Access Fiber 30MB/30MB (managed vCPE incl.)",null,460,"COLT TECHNOLOGY SERVICES N.V.",0,0,null,0,0,0,0,"",{"$f":"+SUMIF('Details sales deliv. to excl.'!F:F,A1172,'Details sales deliv. to excl.'!H:H)","v":0},{"$f":"-SUMIF('Details purch. deliv. to excl.'!F:F,A1172,'Details purch. deliv. to excl.'!H:H)","v":0},0,0,0]
["T4071","COLT IP Access Fiber 34MB/34MB (managed vCPE incl.)",null,460,"COLT TECHNOLOGY SERVICES N.V.",0,0,null,0,0,0,0,"",{"$f":"+SUMIF('Details sales deliv. to excl.'!F:F,A1173,'Details sales deliv. to excl.'!H:H)","v":0},{"$f":"-SUMIF('Details purch. deliv. to excl.'!F:F,A1173,'Details purch. deliv. to excl.'!H:H)","v":0},0,0,0]
["T4072","COLT IP Access Fiber 40MB/40MB (managed vCPE incl.)",null,460,"COLT TECHNOLOGY SERVICES N.V.",0,0,null,0,0,0,0,"",{"$f":"+SUMIF('Details sales deliv. to excl.'!F:F,A1174,'Details sales deliv. to excl.'!H:H)","v":0},{"$f":"-SUMIF('Details purch. deliv. to excl.'!F:F,A1174,'Details purch. deliv. to excl.'!H:H)","v":0},0,0,0]
["T4073","COLT IP Access Fiber 60MB/60MB (managed vCPE incl.)",null,460,"COLT TECHNOLOGY SERVICES N.V.",0,0,null,0,0,0,0,"",{"$f":"+SUMIF('Details sales deliv. to excl.'!F:F,A1175,'Details sales deliv. to excl.'!H:H)","v":0},{"$f":"-SUMIF('Details purch. deliv. to excl.'!F:F,A1175,'Details purch. deliv. to excl.'!H:H)","v":0},0,0,0]
["T4074","COLT IP Access Fiber 80MB/80MB (managed vCPE incl.)",null,460,"COLT TECHNOLOGY SERVICES N.V.",0,0,null,0,0,0,0,"",{"$f":"+SUMIF('Details sales deliv. to excl.'!F:F,A1176,'Details sales deliv. to excl.'!H:H)","v":0},{"$f":"-SUMIF('Details purch. deliv. to excl.'!F:F,A1176,'Details purch. deliv. to excl.'!H:H)","v":0},0,0,0]
["T4075","COLT IP Access Fiber 100MB/100MB (managed vCPE incl.)",null,460,"COLT TECHNOLOGY SERVICES N.V.",0,0,null,0,0,0,0,"",{"$f":"+SUMIF('Details sales deliv. to excl.'!F:F,A1177,'Details sales deliv. to excl.'!H:H)","v":0},{"$f":"-SUMIF('Details purch. deliv. to excl.'!F:F,A1177,'Details purch. deliv. to excl.'!H:H)","v":0},0,0,0]
["T4076","COLT IP Access Fiber 200MB/200MB (managed vCPE incl.)",null,460,"COLT TECHNOLOGY SERVICES N.V.",0,0,null,0,0,0,0,"",{"$f":"+SUMIF('Details sales deliv. to excl.'!F:F,A1178,'Details sales deliv. to excl.'!H:H)","v":0},{"$f":"-SUMIF('Details purch. deliv. to excl.'!F:F,A1178,'Details purch. deliv. to excl.'!H:H)","v":0},0,0,0]
["T4077","COLT IP Access Fiber 300MB/300MB (managed vCPE incl.)",null,460,"COLT TECHNOLOGY SERVICES N.V.",0,0,null,0,0,0,0,"",{"$f":"+SUMIF('Details sales deliv. to excl.'!F:F,A1179,'Details sales deliv. to excl.'!H:H)","v":0},{"$f":"-SUMIF('Details purch. deliv. to excl.'!F:F,A1179,'Details purch. deliv. to excl.'!H:H)","v":0},0,0,0]
["T4078","COLT IP Access Fiber 50MB/50MB (managed vCPE incl.)",null,460,"COLT TECHNOLOGY SERVICES N.V.",0,0,null,0,0,0,0,"",{"$f":"+SUMIF('Details sales deliv. to excl.'!F:F,A1180,'Details sales deliv. to excl.'!H:H)","v":0},{"$f":"-SUMIF('Details purch. deliv. to excl.'!F:F,A1180,'Details purch. deliv. to excl.'!H:H)","v":0},0,0,0]
["T4100","COLT bundle wDSL 1MB + 2BA",null,460,"COLT TECHNOLOGY SERVICES N.V.",0,0,null,0,0,0,0,"",{"$f":"+SUMIF('Details sales deliv. to excl.'!F:F,A1181,'Details sales deliv. to excl.'!H:H)","v":0},{"$f":"-SUMIF('Details purch. deliv. to excl.'!F:F,A1181,'Details purch. deliv. to excl.'!H:H)","v":0},0,0,0]
["T4102","COLT bundle wDSL 2MB + 8BA",null,460,"COLT TECHNOLOGY SERVICES N.V.",0,0,null,0,0,0,0,"",{"$f":"+SUMIF('Details sales deliv. to excl.'!F:F,A1182,'Details sales deliv. to excl.'!H:H)","v":0},{"$f":"-SUMIF('Details purch. deliv. to excl.'!F:F,A1182,'Details purch. deliv. to excl.'!H:H)","v":0},0,0,0]
["T4104","COLT bundle E.SHDSL 1MB + 2BA",null,460,"COLT TECHNOLOGY SERVICES N.V.",0,0,null,0,0,0,0,"",{"$f":"+SUMIF('Details sales deliv. to excl.'!F:F,A1183,'Details sales deliv. to excl.'!H:H)","v":0},{"$f":"-SUMIF('Details purch. deliv. to excl.'!F:F,A1183,'Details purch. deliv. to excl.'!H:H)","v":0},0,0,0]
["T4106","COLT bundle E.SHDSL 2MB + 8BA",null,460,"COLT TECHNOLOGY SERVICES N.V.",0,0,null,0,0,0,0,"",{"$f":"+SUMIF('Details sales deliv. to excl.'!F:F,A1184,'Details sales deliv. to excl.'!H:H)","v":0},{"$f":"-SUMIF('Details purch. deliv. to excl.'!F:F,A1184,'Details purch. deliv. to excl.'!H:H)","v":0},0,0,0]
["T4108","COLT bundle E.SHDSL 4MB + 1PRA",null,460,"COLT TECHNOLOGY SERVICES N.V.",0,0,null,0,0,0,0,"",{"$f":"+SUMIF('Details sales deliv. to excl.'!F:F,A1185,'Details sales deliv. to excl.'!H:H)","v":0},{"$f":"-SUMIF('Details purch. deliv. to excl.'!F:F,A1185,'Details purch. deliv. to excl.'!H:H)","v":0},0,0,0]
["T4110","COLT bundle E.SHDSL 10MB + 2PRA",null,460,"COLT TECHNOLOGY SERVICES N.V.",0,0,null,0,0,0,0,"",{"$f":"+SUMIF('Details sales deliv. to excl.'!F:F,A1186,'Details sales deliv. to excl.'!H:H)","v":0},{"$f":"-SUMIF('Details purch. deliv. to excl.'!F:F,A1186,'Details purch. deliv. to excl.'!H:H)","v":0},0,0,0]
["T4111","COLT bundle E.SHDSL 20MB + 2PRA",null,460,"COLT TECHNOLOGY SERVICES N.V.",0,0,null,0,0,0,0,"",{"$f":"+SUMIF('Details sales deliv. to excl.'!F:F,A1187,'Details sales deliv. to excl.'!H:H)","v":0},{"$f":"-SUMIF('Details purch. deliv. to excl.'!F:F,A1187,'Details purch. deliv. to excl.'!H:H)","v":0},0,0,0]
["T4112","COLT bundle Fiber 1MB + 2BA",null,460,"COLT TECHNOLOGY SERVICES N.V.",0,0,null,0,0,0,0,"",{"$f":"+SUMIF('Details sales deliv. to excl.'!F:F,A1188,'Details sales deliv. to excl.'!H:H)","v":0},{"$f":"-SUMIF('Details purch. deliv. to excl.'!F:F,A1188,'Details purch. deliv. to excl.'!H:H)","v":0},0,0,0]
["T4114","COLT bundle Fiber 2MB + 8BA/1PRA",null,460,"COLT TECHNOLOGY SERVICES N.V.",0,0,null,0,0,0,0,"",{"$f":"+SUMIF('Details sales deliv. to excl.'!F:F,A1189,'Details sales deliv. to excl.'!H:H)","v":0},{"$f":"-SUMIF('Details purch. deliv. to excl.'!F:F,A1189,'Details purch. deliv. to excl.'!H:H)","v":0},0,0,0]
["T4116","COLT bundle Fiber 4MB + 8BA/1PRA",null,460,"COLT TECHNOLOGY SERVICES N.V.",0,0,null,0,0,0,0,"",{"$f":"+SUMIF('Details sales deliv. to excl.'!F:F,A1190,'Details sales deliv. to excl.'!H:H)","v":0},{"$f":"-SUMIF('Details purch. deliv. to excl.'!F:F,A1190,'Details purch. deliv. to excl.'!H:H)","v":0},0,0,0]
["T4118","COLT bundle Fiber 10MB + 2PRA",null,460,"COLT TECHNOLOGY SERVICES N.V.",0,0,null,0,0,0,0,"",{"$f":"+SUMIF('Details sales deliv. to excl.'!F:F,A1191,'Details sales deliv. to excl.'!H:H)","v":0},{"$f":"-SUMIF('Details purch. deliv. to excl.'!F:F,A1191,'Details purch. deliv. to excl.'!H:H)","v":0},0,0,0]
["T4120","COLT bundle Fiber 20MB + 2PRA",null,460,"COLT TECHNOLOGY SERVICES N.V.",0,0,null,0,0,0,0,"",{"$f":"+SUMIF('Details sales deliv. to excl.'!F:F,A1192,'Details sales deliv. to excl.'!H:H)","v":0},{"$f":"-SUMIF('Details purch. deliv. to excl.'!F:F,A1192,'Details purch. deliv. to excl.'!H:H)","v":0},0,0,0]
["T4122","COLT bundle Fiber 40MB + 2PRA",null,460,"COLT TECHNOLOGY SERVICES N.V.",0,0,null,0,0,0,0,"",{"$f":"+SUMIF('Details sales deliv. to excl.'!F:F,A1193,'Details sales deliv. to excl.'!H:H)","v":0},{"$f":"-SUMIF('Details purch. deliv. to excl.'!F:F,A1193,'Details purch. deliv. to excl.'!H:H)","v":0},0,0,0]
["T4201","COLT ethernet Private Network",null,460,"COLT TECHNOLOGY SERVICES N.V.",0,0,null,0,0,0,0,"",{"$f":"+SUMIF('Details sales deliv. to excl.'!F:F,A1194,'Details sales deliv. to excl.'!H:H)","v":0},{"$f":"-SUMIF('Details purch. deliv. to excl.'!F:F,A1194,'Details purch. deliv. to excl.'!H:H)","v":0},0,0,0]
["T4211","COLT FastNet Ultra",null,460,"COLT TECHNOLOGY SERVICES N.V.",0,0,null,0,0,0,0,"",{"$f":"+SUMIF('Details sales deliv. to excl.'!F:F,A1195,'Details sales deliv. to excl.'!H:H)","v":0},{"$f":"-SUMIF('Details purch. deliv. to excl.'!F:F,A1195,'Details purch. deliv. to excl.'!H:H)","v":0},0,0,0]
["T4221","COLT LANLink Hub & Spoke",null,460,"COLT TECHNOLOGY SERVICES N.V.",0,0,null,0,0,0,0,"",{"$f":"+SUMIF('Details sales deliv. to excl.'!F:F,A1196,'Details sales deliv. to excl.'!H:H)","v":0},{"$f":"-SUMIF('Details purch. deliv. to excl.'!F:F,A1196,'Details purch. deliv. to excl.'!H:H)","v":0},0,0,0]
["T4225","COLT LANLink Point to Point",null,460,"COLT TECHNOLOGY SERVICES N.V.",0,0,null,0,0,0,0,"",{"$f":"+SUMIF('Details sales deliv. to excl.'!F:F,A1197,'Details sales deliv. to excl.'!H:H)","v":0},{"$f":"-SUMIF('Details purch. deliv. to excl.'!F:F,A1197,'Details purch. deliv. to excl.'!H:H)","v":0},0,0,0]
["T4301","COLT IP VPN Access",null,460,"COLT TECHNOLOGY SERVICES N.V.",0,0,null,0,0,0,0,"",{"$f":"+SUMIF('Details sales deliv. to excl.'!F:F,A1198,'Details sales deliv. to excl.'!H:H)","v":0},{"$f":"-SUMIF('Details purch. deliv. to excl.'!F:F,A1198,'Details purch. deliv. to excl.'!H:H)","v":0},0,0,0]
["T4303","COLT IP VPN Plus",null,460,"COLT TECHNOLOGY SERVICES N.V.",0,0,null,0,0,0,0,"",{"$f":"+SUMIF('Details sales deliv. to excl.'!F:F,A1199,'Details sales deliv. to excl.'!H:H)","v":0},{"$f":"-SUMIF('Details purch. deliv. to excl.'!F:F,A1199,'Details purch. deliv. to excl.'!H:H)","v":0},0,0,0]
["T4305","COLT IP VPN Mobility Audit for net.Buzz",null,460,"COLT TECHNOLOGY SERVICES N.V.",0,0,null,0,0,0,0,"",{"$f":"+SUMIF('Details sales deliv. to excl.'!F:F,A1200,'Details sales deliv. to excl.'!H:H)","v":0},{"$f":"-SUMIF('Details purch. deliv. to excl.'!F:F,A1200,'Details purch. deliv. to excl.'!H:H)","v":0},0,0,0]
["T4311","Site IP VPN Connection to Fuzer DC 1MB - Fiber",null,460,"COLT TECHNOLOGY SERVICES N.V.",0,0,null,0,0,0,0,"",{"$f":"+SUMIF('Details sales deliv. to excl.'!F:F,A1201,'Details sales deliv. to excl.'!H:H)","v":0},{"$f":"-SUMIF('Details purch. deliv. to excl.'!F:F,A1201,'Details purch. deliv. to excl.'!H:H)","v":0},0,0,0]
["T4313","Site IP VPN Connection to Fuzer DC 2MB - Fiber",null,460,"COLT TECHNOLOGY SERVICES N.V.",0,0,null,0,0,0,0,"",{"$f":"+SUMIF('Details sales deliv. to excl.'!F:F,A1202,'Details sales deliv. to excl.'!H:H)","v":0},{"$f":"-SUMIF('Details purch. deliv. to excl.'!F:F,A1202,'Details purch. deliv. to excl.'!H:H)","v":0},0,0,0]
["T4315","Site IP VPN Connection to Fuzer DC 4MB - Fiber",null,460,"COLT TECHNOLOGY SERVICES N.V.",0,0,null,0,0,0,0,"",{"$f":"+SUMIF('Details sales deliv. to excl.'!F:F,A1203,'Details sales deliv. to excl.'!H:H)","v":0},{"$f":"-SUMIF('Details purch. deliv. to excl.'!F:F,A1203,'Details purch. deliv. to excl.'!H:H)","v":0},0,0,0]
["T4317","Site IP VPN Connection to Fuzer DC 8MB - Fiber",null,460,"COLT TECHNOLOGY SERVICES N.V.",0,0,null,0,0,0,0,"",{"$f":"+SUMIF('Details sales deliv. to excl.'!F:F,A1204,'Details sales deliv. to excl.'!H:H)","v":0},{"$f":"-SUMIF('Details purch. deliv. to excl.'!F:F,A1204,'Details purch. deliv. to excl.'!H:H)","v":0},0,0,0]
["T4321","Site IP VPN Connection to Fuzer DC 1MB - OLO",null,460,"COLT TECHNOLOGY SERVICES N.V.",0,0,null,0,0,0,0,"",{"$f":"+SUMIF('Details sales deliv. to excl.'!F:F,A1205,'Details sales deliv. to excl.'!H:H)","v":0},{"$f":"-SUMIF('Details purch. deliv. to excl.'!F:F,A1205,'Details purch. deliv. to excl.'!H:H)","v":0},0,0,0]
["T4323","Site IP VPN Connection to Fuzer DC 2MB - OLO",null,460,"COLT TECHNOLOGY SERVICES N.V.",0,0,null,0,0,0,0,"",{"$f":"+SUMIF('Details sales deliv. to excl.'!F:F,A1206,'Details sales deliv. to excl.'!H:H)","v":0},{"$f":"-SUMIF('Details purch. deliv. to excl.'!F:F,A1206,'Details purch. deliv. to excl.'!H:H)","v":0},0,0,0]
["T4325","Site IP VPN Connection to Fuzer DC 4MB - OLO",null,460,"COLT TECHNOLOGY SERVICES N.V.",0,0,null,0,0,0,0,"",{"$f":"+SUMIF('Details sales deliv. to excl.'!F:F,A1207,'Details sales deliv. to excl.'!H:H)","v":0},{"$f":"-SUMIF('Details purch. deliv. to excl.'!F:F,A1207,'Details purch. deliv. to excl.'!H:H)","v":0},0,0,0]
["T4327","Site IP VPN Connection to Fuzer DC 8MB - OLO",null,460,"COLT TECHNOLOGY SERVICES N.V.",0,0,null,0,0,0,0,"",{"$f":"+SUMIF('Details sales deliv. to excl.'!F:F,A1208,'Details sales deliv. to excl.'!H:H)","v":0},{"$f":"-SUMIF('Details purch. deliv. to excl.'!F:F,A1208,'Details purch. deliv. to excl.'!H:H)","v":0},0,0,0]
["T4331","Site IP VPN Connection to Fuzer DC 1MB - DSL",null,460,"COLT TECHNOLOGY SERVICES N.V.",0,0,null,0,0,0,0,"",{"$f":"+SUMIF('Details sales deliv. to excl.'!F:F,A1209,'Details sales deliv. to excl.'!H:H)","v":0},{"$f":"-SUMIF('Details purch. deliv. to excl.'!F:F,A1209,'Details purch. deliv. to excl.'!H:H)","v":0},0,0,0]
["T4333","Site IP VPN Connection to Fuzer DC 2MB - DSL",null,460,"COLT TECHNOLOGY SERVICES N.V.",0,0,null,0,0,0,0,"",{"$f":"+SUMIF('Details sales deliv. to excl.'!F:F,A1210,'Details sales deliv. to excl.'!H:H)","v":0},{"$f":"-SUMIF('Details purch. deliv. to excl.'!F:F,A1210,'Details purch. deliv. to excl.'!H:H)","v":0},0,0,0]
["T4335","Site IP VPN Connection to Fuzer DC 4MB - DSL",null,460,"COLT TECHNOLOGY SERVICES N.V.",0,0,null,0,0,0,0,"",{"$f":"+SUMIF('Details sales deliv. to excl.'!F:F,A1211,'Details sales deliv. to excl.'!H:H)","v":0},{"$f":"-SUMIF('Details purch. deliv. to excl.'!F:F,A1211,'Details purch. deliv. to excl.'!H:H)","v":0},0,0,0]
["T4337","Site IP VPN Connection to Fuzer DC 8MB - DSL",null,460,"COLT TECHNOLOGY SERVICES N.V.",0,0,null,0,0,0,0,"",{"$f":"+SUMIF('Details sales deliv. to excl.'!F:F,A1212,'Details sales deliv. to excl.'!H:H)","v":0},{"$f":"-SUMIF('Details purch. deliv. to excl.'!F:F,A1212,'Details purch. deliv. to excl.'!H:H)","v":0},0,0,0]
["T4401","COLT Data Hall Service",null,460,"COLT TECHNOLOGY SERVICES N.V.",0,0,null,0,0,0,0,"",{"$f":"+SUMIF('Details sales deliv. to excl.'!F:F,A1213,'Details sales deliv. to excl.'!H:H)","v":0},{"$f":"-SUMIF('Details purch. deliv. to excl.'!F:F,A1213,'Details purch. deliv. to excl.'!H:H)","v":0},0,0,0]
["T4402","COLT Dark Fibre International",null,460,"COLT TECHNOLOGY SERVICES N.V.",0,0,null,0,0,0,0,"",{"$f":"+SUMIF('Details sales deliv. to excl.'!F:F,A1214,'Details sales deliv. to excl.'!H:H)","v":0},{"$f":"-SUMIF('Details purch. deliv. to excl.'!F:F,A1214,'Details purch. deliv. to excl.'!H:H)","v":0},0,0,0]
["T4403","COLT Dark Fibre Metro",null,460,"COLT TECHNOLOGY SERVICES N.V.",0,0,null,0,0,0,0,"",{"$f":"+SUMIF('Details sales deliv. to excl.'!F:F,A1215,'Details sales deliv. to excl.'!H:H)","v":0},{"$f":"-SUMIF('Details purch. deliv. to excl.'!F:F,A1215,'Details purch. deliv. to excl.'!H:H)","v":0},0,0,0]
["T4404","COLT Dark Fibre National",null,460,"COLT TECHNOLOGY SERVICES N.V.",0,0,null,0,0,0,0,"",{"$f":"+SUMIF('Details sales deliv. to excl.'!F:F,A1216,'Details sales deliv. to excl.'!H:H)","v":0},{"$f":"-SUMIF('Details purch. deliv. to excl.'!F:F,A1216,'Details purch. deliv. to excl.'!H:H)","v":0},0,0,0]
["T4405","COLT High Speed Service",null,460,"COLT TECHNOLOGY SERVICES N.V.",0,0,null,0,0,0,0,"",{"$f":"+SUMIF('Details sales deliv. to excl.'!F:F,A1217,'Details sales deliv. to excl.'!H:H)","v":0},{"$f":"-SUMIF('Details purch. deliv. to excl.'!F:F,A1217,'Details purch. deliv. to excl.'!H:H)","v":0},0,0,0]
["T4406","COLT Link Point to Multi Point",null,460,"COLT TECHNOLOGY SERVICES N.V.",0,0,null,0,0,0,0,"",{"$f":"+SUMIF('Details sales deliv. to excl.'!F:F,A1218,'Details sales deliv. to excl.'!H:H)","v":0},{"$f":"-SUMIF('Details purch. deliv. to excl.'!F:F,A1218,'Details purch. deliv. to excl.'!H:H)","v":0},0,0,0]
["T4407","COLT Link Point to Point",null,460,"COLT TECHNOLOGY SERVICES N.V.",0,0,null,0,0,0,0,"",{"$f":"+SUMIF('Details sales deliv. to excl.'!F:F,A1219,'Details sales deliv. to excl.'!H:H)","v":0},{"$f":"-SUMIF('Details purch. deliv. to excl.'!F:F,A1219,'Details purch. deliv. to excl.'!H:H)","v":0},0,0,0]
["T4408","COLT SANLink Metro",null,460,"COLT TECHNOLOGY SERVICES N.V.",0,0,null,{"$f":"H1220-G1220","v":0},{"$f":"G1220*F1220","v":0},{"$f":"H1220*F1220","v":0},{"$f":"I1220*F1220","v":0},"",{"$f":"+SUMIF('Details sales deliv. to excl.'!F:F,A1220,'Details sales deliv. to excl.'!H:H)","v":0},{"$f":"-SUMIF('Details purch. deliv. to excl.'!F:F,A1220,'Details purch. deliv. to excl.'!H:H)","v":0},{"$f":"I1220+N1220+O1220","v":0},{"$f":"G1220+P1220","v":0},{"$f":"Q1220*F1220","v":0}]
["T4409","COLT Wavelength International",null,460,"COLT TECHNOLOGY SERVICES N.V.",0,0,null,0,0,0,0,{"$f":"IF(ABS(L1221)>500,\"check\",\"\")","v":""},{"$f":"+SUMIF('Details sales deliv. to excl.'!F:F,A1221,'Details sales deliv. to excl.'!H:H)","v":0},{"$f":"-SUMIF('Details purch. deliv. to excl.'!F:F,A1221,'Details purch. deliv. to excl.'!H:H)","v":0},0,0,0]
["T4410","COLT Wavelength Metro",null,460,"COLT TECHNOLOGY SERVICES N.V.",0,0,null,0,0,0,0,"",{"$f":"+SUMIF('Details sales deliv. to excl.'!F:F,A1222,'Details sales deliv. to excl.'!H:H)","v":0},{"$f":"-SUMIF('Details purch. deliv. to excl.'!F:F,A1222,'Details purch. deliv. to excl.'!H:H)","v":0},0,0,0]
["T4411","COLT Wavelength National",null,460,"COLT TECHNOLOGY SERVICES N.V.",0,0,null,0,0,0,0,"",{"$f":"+SUMIF('Details sales deliv. to excl.'!F:F,A1223,'Details sales deliv. to excl.'!H:H)","v":0},{"$f":"-SUMIF('Details purch. deliv. to excl.'!F:F,A1223,'Details purch. deliv. to excl.'!H:H)","v":0},0,0,0]
["T4412","COLT Broadcast",null,460,"COLT TECHNOLOGY SERVICES N.V.",0,0,null,0,0,0,0,"",{"$f":"+SUMIF('Details sales deliv. to excl.'!F:F,A1224,'Details sales deliv. to excl.'!H:H)","v":0},{"$f":"-SUMIF('Details purch. deliv. to excl.'!F:F,A1224,'Details purch. deliv. to excl.'!H:H)","v":0},0,0,0]
["T4413","COLT Fax Divert on DDI (Colt Total add-on)",null,460,"COLT TECHNOLOGY SERVICES N.V.",0,0,null,0,0,0,0,"",{"$f":"+SUMIF('Details sales deliv. to excl.'!F:F,A1225,'Details sales deliv. to excl.'!H:H)","v":0},{"$f":"-SUMIF('Details purch. deliv. to excl.'!F:F,A1225,'Details purch. deliv. to excl.'!H:H)","v":0},0,0,0]
["T4414","COLT Fax2Mail (Colt Total add-on)",null,460,"COLT TECHNOLOGY SERVICES N.V.",0,0,null,0,0,0,0,"",{"$f":"+SUMIF('Details sales deliv. to excl.'!F:F,A1226,'Details sales deliv. to excl.'!H:H)","v":0},{"$f":"-SUMIF('Details purch. deliv. to excl.'!F:F,A1226,'Details purch. deliv. to excl.'!H:H)","v":0},0,0,0]
["T4415","COLT Router Based Firewall (Colt Total add-on)",null,460,"COLT TECHNOLOGY SERVICES N.V.",0,0,null,0,0,0,0,"",{"$f":"+SUMIF('Details sales deliv. to excl.'!F:F,A1227,'Details sales deliv. to excl.'!H:H)","v":0},{"$f":"-SUMIF('Details purch. deliv. to excl.'!F:F,A1227,'Details purch. deliv. to excl.'!H:H)","v":0},0,0,0]
["T4416","COLT Colocation Bandwidth",null,460,"COLT TECHNOLOGY SERVICES N.V.",0,0,null,0,0,0,0,"",{"$f":"+SUMIF('Details sales deliv. to excl.'!F:F,A1228,'Details sales deliv. to excl.'!H:H)","v":0},{"$f":"-SUMIF('Details purch. deliv. to excl.'!F:F,A1228,'Details purch. deliv. to excl.'!H:H)","v":0},0,0,0]
["T44162","COLT Colocation Bandwidth 2M",null,460,"COLT TECHNOLOGY SERVICES N.V.",0,0,null,0,0,0,0,"",{"$f":"+SUMIF('Details sales deliv. to excl.'!F:F,A1229,'Details sales deliv. to excl.'!H:H)","v":0},{"$f":"-SUMIF('Details purch. deliv. to excl.'!F:F,A1229,'Details purch. deliv. to excl.'!H:H)","v":0},0,0,0]
["T44164","COLT Colocation Bandwidth 4M",null,460,"COLT TECHNOLOGY SERVICES N.V.",0,0,null,0,0,0,0,"",{"$f":"+SUMIF('Details sales deliv. to excl.'!F:F,A1230,'Details sales deliv. to excl.'!H:H)","v":0},{"$f":"-SUMIF('Details purch. deliv. to excl.'!F:F,A1230,'Details purch. deliv. to excl.'!H:H)","v":0},0,0,0]
["T44166","COLT Colocation Bandwidth 10M",null,460,"COLT TECHNOLOGY SERVICES N.V.",0,0,null,0,0,0,0,"",{"$f":"+SUMIF('Details sales deliv. to excl.'!F:F,A1231,'Details sales deliv. to excl.'!H:H)","v":0},{"$f":"-SUMIF('Details purch. deliv. to excl.'!F:F,A1231,'Details purch. deliv. to excl.'!H:H)","v":0},0,0,0]
["T44168","COLT Colocation Bandwidth 20M",null,460,"COLT TECHNOLOGY SERVICES N.V.",0,0,null,0,0,0,0,"",{"$f":"+SUMIF('Details sales deliv. to excl.'!F:F,A1232,'Details sales deliv. to excl.'!H:H)","v":0},{"$f":"-SUMIF('Details purch. deliv. to excl.'!F:F,A1232,'Details purch. deliv. to excl.'!H:H)","v":0},0,0,0]
["T44169","COLT Colocation Bandwidth 30M",null,460,"COLT TECHNOLOGY SERVICES N.V.",0,0,null,0,0,0,0,"",{"$f":"+SUMIF('Details sales deliv. to excl.'!F:F,A1233,'Details sales deliv. to excl.'!H:H)","v":0},{"$f":"-SUMIF('Details purch. deliv. to excl.'!F:F,A1233,'Details purch. deliv. to excl.'!H:H)","v":0},0,0,0]
["T4417","COLT Colocation Cage",null,460,"COLT TECHNOLOGY SERVICES N.V.",0,0,null,0,0,0,0,"",{"$f":"+SUMIF('Details sales deliv. to excl.'!F:F,A1234,'Details sales deliv. to excl.'!H:H)","v":0},{"$f":"-SUMIF('Details purch. deliv. to excl.'!F:F,A1234,'Details purch. deliv. to excl.'!H:H)","v":0},0,0,0]
["T44170","COLT Colocation Bandwidth 40M",null,460,"COLT TECHNOLOGY SERVICES N.V.",0,0,null,0,0,0,0,"",{"$f":"+SUMIF('Details sales deliv. to excl.'!F:F,A1235,'Details sales deliv. to excl.'!H:H)","v":0},{"$f":"-SUMIF('Details purch. deliv. to excl.'!F:F,A1235,'Details purch. deliv. to excl.'!H:H)","v":0},0,0,0]
["T44171","COLT Colocation Bandwidth 50M",null,460,"COLT TECHNOLOGY SERVICES N.V.",0,0,null,0,0,0,0,"",{"$f":"+SUMIF('Details sales deliv. to excl.'!F:F,A1236,'Details sales deliv. to excl.'!H:H)","v":0},{"$f":"-SUMIF('Details purch. deliv. to excl.'!F:F,A1236,'Details purch. deliv. to excl.'!H:H)","v":0},0,0,0]
["T44172","COLT Colocation Bandwidth 60M",null,460,"COLT TECHNOLOGY SERVICES N.V.",0,0,null,0,0,0,0,"",{"$f":"+SUMIF('Details sales deliv. to excl.'!F:F,A1237,'Details sales deliv. to excl.'!H:H)","v":0},{"$f":"-SUMIF('Details purch. deliv. to excl.'!F:F,A1237,'Details purch. deliv. to excl.'!H:H)","v":0},0,0,0]
["T44173","COLT Colocation Bandwidth 70M",null,460,"COLT TECHNOLOGY SERVICES N.V.",0,0,null,0,0,0,0,"",{"$f":"+SUMIF('Details sales deliv. to excl.'!F:F,A1238,'Details sales deliv. to excl.'!H:H)","v":0},{"$f":"-SUMIF('Details purch. deliv. to excl.'!F:F,A1238,'Details purch. deliv. to excl.'!H:H)","v":0},0,0,0]
["T44174","COLT Colocation Bandwidth 80M",null,460,"COLT TECHNOLOGY SERVICES N.V.",0,0,null,0,0,0,0,"",{"$f":"+SUMIF('Details sales deliv. to excl.'!F:F,A1239,'Details sales deliv. to excl.'!H:H)","v":0},{"$f":"-SUMIF('Details purch. deliv. to excl.'!F:F,A1239,'Details purch. deliv. to excl.'!H:H)","v":0},0,0,0]
["T44175","COLT Colocation Bandwidth 90M",null,460,"COLT TECHNOLOGY SERVICES N.V.",0,0,null,0,0,0,0,"",{"$f":"+SUMIF('Details sales deliv. to excl.'!F:F,A1240,'Details sales deliv. to excl.'!H:H)","v":0},{"$f":"-SUMIF('Details purch. deliv. to excl.'!F:F,A1240,'Details purch. deliv. to excl.'!H:H)","v":0},0,0,0]
["T44176","COLT Colocation Bandwidth 100M",null,460,"COLT TECHNOLOGY SERVICES N.V.",0,0,null,0,0,0,0,"",{"$f":"+SUMIF('Details sales deliv. to excl.'!F:F,A1241,'Details sales deliv. to excl.'!H:H)","v":0},{"$f":"-SUMIF('Details purch. deliv. to excl.'!F:F,A1241,'Details purch. deliv. to excl.'!H:H)","v":0},0,0,0]
["T44177","COLT Colocation Bandwidth 200M",null,460,"COLT TECHNOLOGY SERVICES N.V.",0,0,null,0,0,0,0,"",{"$f":"+SUMIF('Details sales deliv. to excl.'!F:F,A1242,'Details sales deliv. to excl.'!H:H)","v":0},{"$f":"-SUMIF('Details purch. deliv. to excl.'!F:F,A1242,'Details purch. deliv. to excl.'!H:H)","v":0},0,0,0]
["T4418","COLT Colocation Power",null,460,"COLT TECHNOLOGY SERVICES N.V.",0,0,null,0,0,0,0,"",{"$f":"+SUMIF('Details sales deliv. to excl.'!F:F,A1243,'Details sales deliv. to excl.'!H:H)","v":0},{"$f":"-SUMIF('Details purch. deliv. to excl.'!F:F,A1243,'Details purch. deliv. to excl.'!H:H)","v":0},0,0,0]
["T4419","COLT Colocation Rack (in DC Nossegem) - 16 amp",null,460,"COLT TECHNOLOGY SERVICES N.V.",0,0,null,0,0,0,0,"",{"$f":"+SUMIF('Details sales deliv. to excl.'!F:F,A1244,'Details sales deliv. to excl.'!H:H)","v":0},{"$f":"-SUMIF('Details purch. deliv. to excl.'!F:F,A1244,'Details purch. deliv. to excl.'!H:H)","v":0},0,0,0]
["T4420","COLT Managed Exchange -Dedicated",null,460,"COLT TECHNOLOGY SERVICES N.V.",0,0,null,0,0,0,0,"",{"$f":"+SUMIF('Details sales deliv. to excl.'!F:F,A1245,'Details sales deliv. to excl.'!H:H)","v":0},{"$f":"-SUMIF('Details purch. deliv. to excl.'!F:F,A1245,'Details purch. deliv. to excl.'!H:H)","v":0},0,0,0]
["T4421","COLT Managed Hosting Solution",null,460,"COLT TECHNOLOGY SERVICES N.V.",0,0,null,0,0,0,0,"",{"$f":"+SUMIF('Details sales deliv. to excl.'!F:F,A1246,'Details sales deliv. to excl.'!H:H)","v":0},{"$f":"-SUMIF('Details purch. deliv. to excl.'!F:F,A1246,'Details purch. deliv. to excl.'!H:H)","v":0},0,0,0]
["T4422","COLT Managed MySQL",null,460,"COLT TECHNOLOGY SERVICES N.V.",0,0,null,0,0,0,0,"",{"$f":"+SUMIF('Details sales deliv. to excl.'!F:F,A1247,'Details sales deliv. to excl.'!H:H)","v":0},{"$f":"-SUMIF('Details purch. deliv. to excl.'!F:F,A1247,'Details purch. deliv. to excl.'!H:H)","v":0},0,0,0]
["T4423","COLT Managed Oracle",null,460,"COLT TECHNOLOGY SERVICES N.V.",0,0,null,0,0,0,0,"",{"$f":"+SUMIF('Details sales deliv. to excl.'!F:F,A1248,'Details sales deliv. to excl.'!H:H)","v":0},{"$f":"-SUMIF('Details purch. deliv. to excl.'!F:F,A1248,'Details purch. deliv. to excl.'!H:H)","v":0},0,0,0]
["T4424","COLT Managed SQL",null,460,"COLT TECHNOLOGY SERVICES N.V.",0,0,null,0,0,0,0,"",{"$f":"+SUMIF('Details sales deliv. to excl.'!F:F,A1249,'Details sales deliv. to excl.'!H:H)","v":0},{"$f":"-SUMIF('Details purch. deliv. to excl.'!F:F,A1249,'Details purch. deliv. to excl.'!H:H)","v":0},0,0,0]
["T4425","COLT Managed Load Balancer",null,460,"COLT TECHNOLOGY SERVICES N.V.",0,0,null,0,0,0,0,"",{"$f":"+SUMIF('Details sales deliv. to excl.'!F:F,A1250,'Details sales deliv. to excl.'!H:H)","v":0},{"$f":"-SUMIF('Details purch. deliv. to excl.'!F:F,A1250,'Details purch. deliv. to excl.'!H:H)","v":0},0,0,0]
["T4426","COLT Managed Server",null,460,"COLT TECHNOLOGY SERVICES N.V.",0,0,null,0,0,0,0,"",{"$f":"+SUMIF('Details sales deliv. to excl.'!F:F,A1251,'Details sales deliv. to excl.'!H:H)","v":0},{"$f":"-SUMIF('Details purch. deliv. to excl.'!F:F,A1251,'Details purch. deliv. to excl.'!H:H)","v":0},0,0,0]
["T4427","COLT Managed Switch",null,460,"COLT TECHNOLOGY SERVICES N.V.",0,0,null,0,0,0,0,"",{"$f":"+SUMIF('Details sales deliv. to excl.'!F:F,A1252,'Details sales deliv. to excl.'!H:H)","v":0},{"$f":"-SUMIF('Details purch. deliv. to excl.'!F:F,A1252,'Details purch. deliv. to excl.'!H:H)","v":0},0,0,0]
["T4428","COLT Managed Virtual Servers",null,460,"COLT TECHNOLOGY SERVICES N.V.",0,0,null,0,0,0,0,"",{"$f":"+SUMIF('Details sales deliv. to excl.'!F:F,A1253,'Details sales deliv. to excl.'!H:H)","v":0},{"$f":"-SUMIF('Details purch. deliv. to excl.'!F:F,A1253,'Details purch. deliv. to excl.'!H:H)","v":0},0,0,0]
["T4429","COLT Managed Jboss",null,460,"COLT TECHNOLOGY SERVICES N.V.",0,0,null,0,0,0,0,"",{"$f":"+SUMIF('Details sales deliv. to excl.'!F:F,A1254,'Details sales deliv. to excl.'!H:H)","v":0},{"$f":"-SUMIF('Details purch. deliv. to excl.'!F:F,A1254,'Details purch. deliv. to excl.'!H:H)","v":0},0,0,0]
["T4430","COLT Managed Tomcat",null,460,"COLT TECHNOLOGY SERVICES N.V.",0,0,null,0,0,0,0,"",{"$f":"+SUMIF('Details sales deliv. to excl.'!F:F,A1255,'Details sales deliv. to excl.'!H:H)","v":0},{"$f":"-SUMIF('Details purch. deliv. to excl.'!F:F,A1255,'Details purch. deliv. to excl.'!H:H)","v":0},0,0,0]
["T4431","COLT Managed Hosted Firewall",null,460,"COLT TECHNOLOGY SERVICES N.V.",0,0,null,0,0,0,0,"",{"$f":"+SUMIF('Details sales deliv. to excl.'!F:F,A1256,'Details sales deliv. to excl.'!H:H)","v":0},{"$f":"-SUMIF('Details purch. deliv. to excl.'!F:F,A1256,'Details purch. deliv. to excl.'!H:H)","v":0},0,0,0]
["T4432","COLT Managed Hosting IDS",null,460,"COLT TECHNOLOGY SERVICES N.V.",0,0,null,0,0,0,0,"",{"$f":"+SUMIF('Details sales deliv. to excl.'!F:F,A1257,'Details sales deliv. to excl.'!H:H)","v":0},{"$f":"-SUMIF('Details purch. deliv. to excl.'!F:F,A1257,'Details purch. deliv. to excl.'!H:H)","v":0},0,0,0]
["T4433","COLT Managed PC Backup",null,460,"COLT TECHNOLOGY SERVICES N.V.",0,0,null,0,0,0,0,"",{"$f":"+SUMIF('Details sales deliv. to excl.'!F:F,A1258,'Details sales deliv. to excl.'!H:H)","v":0},{"$f":"-SUMIF('Details purch. deliv. to excl.'!F:F,A1258,'Details purch. deliv. to excl.'!H:H)","v":0},0,0,0]
["T4434","COLT Managed Server Backup",null,460,"COLT TECHNOLOGY SERVICES N.V.",0,0,null,0,0,0,0,"",{"$f":"+SUMIF('Details sales deliv. to excl.'!F:F,A1259,'Details sales deliv. to excl.'!H:H)","v":0},{"$f":"-SUMIF('Details purch. deliv. to excl.'!F:F,A1259,'Details purch. deliv. to excl.'!H:H)","v":0},0,0,0]
["T4435","COLT Managed Storage",null,460,"COLT TECHNOLOGY SERVICES N.V.",0,0,null,0,0,0,0,"",{"$f":"+SUMIF('Details sales deliv. to excl.'!F:F,A1260,'Details sales deliv. to excl.'!H:H)","v":0},{"$f":"-SUMIF('Details purch. deliv. to excl.'!F:F,A1260,'Details purch. deliv. to excl.'!H:H)","v":0},0,0,0]
["T4436","COLT Managed Shared Storage",null,460,"COLT TECHNOLOGY SERVICES N.V.",0,0,null,0,0,0,0,"",{"$f":"+SUMIF('Details sales deliv. to excl.'!F:F,A1261,'Details sales deliv. to excl.'!H:H)","v":0},{"$f":"-SUMIF('Details purch. deliv. to excl.'!F:F,A1261,'Details purch. deliv. to excl.'!H:H)","v":0},0,0,0]
["T4437","COLT Managed Apache",null,460,"COLT TECHNOLOGY SERVICES N.V.",0,0,null,0,0,0,0,"",{"$f":"+SUMIF('Details sales deliv. to excl.'!F:F,A1262,'Details sales deliv. to excl.'!H:H)","v":0},{"$f":"-SUMIF('Details purch. deliv. to excl.'!F:F,A1262,'Details purch. deliv. to excl.'!H:H)","v":0},0,0,0]
["T4438","COLT Managed IIS",null,460,"COLT TECHNOLOGY SERVICES N.V.",0,0,null,0,0,0,0,"",{"$f":"+SUMIF('Details sales deliv. to excl.'!F:F,A1263,'Details sales deliv. to excl.'!H:H)","v":0},{"$f":"-SUMIF('Details purch. deliv. to excl.'!F:F,A1263,'Details purch. deliv. to excl.'!H:H)","v":0},0,0,0]
["T4439","COLT Managed Colocation Bandwidth",null,460,"COLT TECHNOLOGY SERVICES N.V.",0,0,null,0,0,0,0,"",{"$f":"+SUMIF('Details sales deliv. to excl.'!F:F,A1264,'Details sales deliv. to excl.'!H:H)","v":0},{"$f":"-SUMIF('Details purch. deliv. to excl.'!F:F,A1264,'Details purch. deliv. to excl.'!H:H)","v":0},0,0,0]
["T4440","COLT Managed Colocation Cage",null,460,"COLT TECHNOLOGY SERVICES N.V.",0,0,null,0,0,0,0,"",{"$f":"+SUMIF('Details sales deliv. to excl.'!F:F,A1265,'Details sales deliv. to excl.'!H:H)","v":0},{"$f":"-SUMIF('Details purch. deliv. to excl.'!F:F,A1265,'Details purch. deliv. to excl.'!H:H)","v":0},0,0,0]
["T4441","COLT Managed Colocation Rack",null,460,"COLT TECHNOLOGY SERVICES N.V.",0,0,null,0,0,0,0,"",{"$f":"+SUMIF('Details sales deliv. to excl.'!F:F,A1266,'Details sales deliv. to excl.'!H:H)","v":0},{"$f":"-SUMIF('Details purch. deliv. to excl.'!F:F,A1266,'Details purch. deliv. to excl.'!H:H)","v":0},0,0,0]
["T4442","COLT Managed Colocation Service",null,460,"COLT TECHNOLOGY SERVICES N.V.",0,0,null,0,0,0,0,"",{"$f":"+SUMIF('Details sales deliv. to excl.'!F:F,A1267,'Details sales deliv. to excl.'!H:H)","v":0},{"$f":"-SUMIF('Details purch. deliv. to excl.'!F:F,A1267,'Details purch. deliv. to excl.'!H:H)","v":0},0,0,0]
["T4443","COLT Professional Services",null,460,"COLT TECHNOLOGY SERVICES N.V.",0,0,null,0,0,0,0,"",{"$f":"+SUMIF('Details sales deliv. to excl.'!F:F,A1268,'Details sales deliv. to excl.'!H:H)","v":0},{"$f":"-SUMIF('Details purch. deliv. to excl.'!F:F,A1268,'Details purch. deliv. to excl.'!H:H)","v":0},0,0,0]
["T4444","COLT Managed Utility Computing",null,460,"COLT TECHNOLOGY SERVICES N.V.",0,0,null,0,0,0,0,"",{"$f":"+SUMIF('Details sales deliv. to excl.'!F:F,A1269,'Details sales deliv. to excl.'!H:H)","v":0},{"$f":"-SUMIF('Details purch. deliv. to excl.'!F:F,A1269,'Details purch. deliv. to excl.'!H:H)","v":0},0,0,0]
["T4445","COLT Cloud Infrastructure Service PBU",null,460,"COLT TECHNOLOGY SERVICES N.V.",0,0,null,0,0,0,0,"",{"$f":"+SUMIF('Details sales deliv. to excl.'!F:F,A1270,'Details sales deliv. to excl.'!H:H)","v":0},{"$f":"-SUMIF('Details purch. deliv. to excl.'!F:F,A1270,'Details purch. deliv. to excl.'!H:H)","v":0},0,0,0]
["T4446","COLT enterprise vCloud",null,460,"COLT TECHNOLOGY SERVICES N.V.",0,0,null,0,0,0,0,"",{"$f":"+SUMIF('Details sales deliv. to excl.'!F:F,A1271,'Details sales deliv. to excl.'!H:H)","v":0},{"$f":"-SUMIF('Details purch. deliv. to excl.'!F:F,A1271,'Details purch. deliv. to excl.'!H:H)","v":0},0,0,0]
["T4447","COLT Managed Grid Extension",null,460,"COLT TECHNOLOGY SERVICES N.V.",0,0,null,0,0,0,0,"",{"$f":"+SUMIF('Details sales deliv. to excl.'!F:F,A1272,'Details sales deliv. to excl.'!H:H)","v":0},{"$f":"-SUMIF('Details purch. deliv. to excl.'!F:F,A1272,'Details purch. deliv. to excl.'!H:H)","v":0},0,0,0]
["T4448","COLT Managed Secure Authentication",null,460,"COLT TECHNOLOGY SERVICES N.V.",0,0,null,0,0,0,0,"",{"$f":"+SUMIF('Details sales deliv. to excl.'!F:F,A1273,'Details sales deliv. to excl.'!H:H)","v":0},{"$f":"-SUMIF('Details purch. deliv. to excl.'!F:F,A1273,'Details purch. deliv. to excl.'!H:H)","v":0},0,0,0]
["T4449","COLT Cloud Infrastructure Services",null,460,"COLT TECHNOLOGY SERVICES N.V.",0,0,null,0,0,0,0,"",{"$f":"+SUMIF('Details sales deliv. to excl.'!F:F,A1274,'Details sales deliv. to excl.'!H:H)","v":0},{"$f":"-SUMIF('Details purch. deliv. to excl.'!F:F,A1274,'Details purch. deliv. to excl.'!H:H)","v":0},0,0,0]
["T4450","COLT IP Webspace",null,460,"COLT TECHNOLOGY SERVICES N.V.",0,0,null,0,0,0,0,"",{"$f":"+SUMIF('Details sales deliv. to excl.'!F:F,A1275,'Details sales deliv. to excl.'!H:H)","v":0},{"$f":"-SUMIF('Details purch. deliv. to excl.'!F:F,A1275,'Details purch. deliv. to excl.'!H:H)","v":0},0,0,0]
["T4451","COLT System and Software Library",null,460,"COLT TECHNOLOGY SERVICES N.V.",0,0,null,0,0,0,0,"",{"$f":"+SUMIF('Details sales deliv. to excl.'!F:F,A1276,'Details sales deliv. to excl.'!H:H)","v":0},{"$f":"-SUMIF('Details purch. deliv. to excl.'!F:F,A1276,'Details purch. deliv. to excl.'!H:H)","v":0},0,0,0]
["T4452","COLT IP Mail",null,460,"COLT TECHNOLOGY SERVICES N.V.",0,0,null,0,0,0,0,"",{"$f":"+SUMIF('Details sales deliv. to excl.'!F:F,A1277,'Details sales deliv. to excl.'!H:H)","v":0},{"$f":"-SUMIF('Details purch. deliv. to excl.'!F:F,A1277,'Details purch. deliv. to excl.'!H:H)","v":0},0,0,0]
["T4453","COLT Dedicated Exchange 2010",null,460,"COLT TECHNOLOGY SERVICES N.V.",0,0,null,0,0,0,0,"",{"$f":"+SUMIF('Details sales deliv. to excl.'!F:F,A1278,'Details sales deliv. to excl.'!H:H)","v":0},{"$f":"-SUMIF('Details purch. deliv. to excl.'!F:F,A1278,'Details purch. deliv. to excl.'!H:H)","v":0},0,0,0]
["T4454","COLT Managed Email Archiving",null,460,"COLT TECHNOLOGY SERVICES N.V.",0,0,null,0,0,0,0,"",{"$f":"+SUMIF('Details sales deliv. to excl.'!F:F,A1279,'Details sales deliv. to excl.'!H:H)","v":0},{"$f":"-SUMIF('Details purch. deliv. to excl.'!F:F,A1279,'Details purch. deliv. to excl.'!H:H)","v":0},0,0,0]
["T4455","COLT Managed Email Security",null,460,"COLT TECHNOLOGY SERVICES N.V.",0,0,null,0,0,0,0,"",{"$f":"+SUMIF('Details sales deliv. to excl.'!F:F,A1280,'Details sales deliv. to excl.'!H:H)","v":0},{"$f":"-SUMIF('Details purch. deliv. to excl.'!F:F,A1280,'Details purch. deliv. to excl.'!H:H)","v":0},0,0,0]
["T4456","COLT Dedicated Lync 2010",null,460,"COLT TECHNOLOGY SERVICES N.V.",0,0,null,0,0,0,0,"",{"$f":"+SUMIF('Details sales deliv. to excl.'!F:F,A1281,'Details sales deliv. to excl.'!H:H)","v":0},{"$f":"-SUMIF('Details purch. deliv. to excl.'!F:F,A1281,'Details purch. deliv. to excl.'!H:H)","v":0},0,0,0]
["T4457","COLT Conferencing",null,460,"COLT TECHNOLOGY SERVICES N.V.",0,0,null,0,0,0,0,"",{"$f":"+SUMIF('Details sales deliv. to excl.'!F:F,A1282,'Details sales deliv. to excl.'!H:H)","v":0},{"$f":"-SUMIF('Details purch. deliv. to excl.'!F:F,A1282,'Details purch. deliv. to excl.'!H:H)","v":0},0,0,0]
["T4458","COLT Freephone",null,460,"COLT TECHNOLOGY SERVICES N.V.",0,0,null,0,0,0,0,"",{"$f":"+SUMIF('Details sales deliv. to excl.'!F:F,A1283,'Details sales deliv. to excl.'!H:H)","v":0},{"$f":"-SUMIF('Details purch. deliv. to excl.'!F:F,A1283,'Details purch. deliv. to excl.'!H:H)","v":0},0,0,0]
["T4459","COLT Full Rate Number",null,460,"COLT TECHNOLOGY SERVICES N.V.",0,0,null,{"$f":"H1284-G1284","v":0},{"$f":"G1284*F1284","v":0},{"$f":"H1284*F1284","v":0},{"$f":"I1284*F1284","v":0},"",{"$f":"+SUMIF('Details sales deliv. to excl.'!F:F,A1284,'Details sales deliv. to excl.'!H:H)","v":0},{"$f":"-SUMIF('Details purch. deliv. to excl.'!F:F,A1284,'Details purch. deliv. to excl.'!H:H)","v":0},{"$f":"I1284+N1284+O1284","v":0},{"$f":"G1284+P1284","v":0},{"$f":"Q1284*F1284","v":0}]
["T4461","COLT IN GEO Carrier VOIP",null,460,"COLT TECHNOLOGY SERVICES N.V.",0,0,null,0,0,0,0,{"$f":"IF(ABS(L1285)>500,\"check\",\"\")","v":""},{"$f":"+SUMIF('Details sales deliv. to excl.'!F:F,A1285,'Details sales deliv. to excl.'!H:H)","v":0},{"$f":"-SUMIF('Details purch. deliv. to excl.'!F:F,A1285,'Details purch. deliv. to excl.'!H:H)","v":0},0,0,0]
["T4462","COLT IN GEO Standard",null,460,"COLT TECHNOLOGY SERVICES N.V.",0,0,null,0,0,0,0,"",{"$f":"+SUMIF('Details sales deliv. to excl.'!F:F,A1286,'Details sales deliv. to excl.'!H:H)","v":0},{"$f":"-SUMIF('Details purch. deliv. to excl.'!F:F,A1286,'Details purch. deliv. to excl.'!H:H)","v":0},0,0,0]
["T4463","COLT Shared Cost / Revenue Share Reseller",null,460,"COLT TECHNOLOGY SERVICES N.V.",0,0,null,0,0,0,0,"",{"$f":"+SUMIF('Details sales deliv. to excl.'!F:F,A1287,'Details sales deliv. to excl.'!H:H)","v":0},{"$f":"-SUMIF('Details purch. deliv. to excl.'!F:F,A1287,'Details purch. deliv. to excl.'!H:H)","v":0},0,0,0]
["T4464","COLT Shared Cost / Revenue Share Standard",null,460,"COLT TECHNOLOGY SERVICES N.V.",0,0,null,0,0,0,0,"",{"$f":"+SUMIF('Details sales deliv. to excl.'!F:F,A1288,'Details sales deliv. to excl.'!H:H)","v":0},{"$f":"-SUMIF('Details purch. deliv. to excl.'!F:F,A1288,'Details purch. deliv. to excl.'!H:H)","v":0},0,0,0]
["T4465","COLT Active Reports (add on IN services)",null,460,"COLT TECHNOLOGY SERVICES N.V.",0,0,null,0,0,0,0,"",{"$f":"+SUMIF('Details sales deliv. to excl.'!F:F,A1289,'Details sales deliv. to excl.'!H:H)","v":0},{"$f":"-SUMIF('Details purch. deliv. to excl.'!F:F,A1289,'Details purch. deliv. to excl.'!H:H)","v":0},0,0,0]
["T4466","COLT Route Activator (add on IN services)",null,460,"COLT TECHNOLOGY SERVICES N.V.",0,0,null,0,0,0,0,"",{"$f":"+SUMIF('Details sales deliv. to excl.'!F:F,A1290,'Details sales deliv. to excl.'!H:H)","v":0},{"$f":"-SUMIF('Details purch. deliv. to excl.'!F:F,A1290,'Details purch. deliv. to excl.'!H:H)","v":0},0,0,0]
["T4467","COLT Audio Conferencing (UC Service)",null,460,"COLT TECHNOLOGY SERVICES N.V.",0,0,null,0,0,0,0,"",{"$f":"+SUMIF('Details sales deliv. to excl.'!F:F,A1291,'Details sales deliv. to excl.'!H:H)","v":0},{"$f":"-SUMIF('Details purch. deliv. to excl.'!F:F,A1291,'Details purch. deliv. to excl.'!H:H)","v":0},0,0,0]
["T4468","COLT Webex (UC Service)",null,460,"COLT TECHNOLOGY SERVICES N.V.",0,0,null,0,0,0,0,"",{"$f":"+SUMIF('Details sales deliv. to excl.'!F:F,A1292,'Details sales deliv. to excl.'!H:H)","v":0},{"$f":"-SUMIF('Details purch. deliv. to excl.'!F:F,A1292,'Details purch. deliv. to excl.'!H:H)","v":0},0,0,0]
["T4469","COLT IP Domain (Belgium)",null,460,"COLT TECHNOLOGY SERVICES N.V.",0,0,null,0,0,0,0,"",{"$f":"+SUMIF('Details sales deliv. to excl.'!F:F,A1293,'Details sales deliv. to excl.'!H:H)","v":0},{"$f":"-SUMIF('Details purch. deliv. to excl.'!F:F,A1293,'Details purch. deliv. to excl.'!H:H)","v":0},0,0,0]
["T4501","FUZER Fiber IP Access 100MB",null,460,"COLT TECHNOLOGY SERVICES N.V.",0,0,null,0,0,0,0,"",{"$f":"+SUMIF('Details sales deliv. to excl.'!F:F,A1294,'Details sales deliv. to excl.'!H:H)","v":0},{"$f":"-SUMIF('Details purch. deliv. to excl.'!F:F,A1294,'Details purch. deliv. to excl.'!H:H)","v":0},0,0,0]
["T4502","FUZER Fiber IP Access 200MB",null,460,"COLT TECHNOLOGY SERVICES N.V.",0,0,null,0,0,0,0,"",{"$f":"+SUMIF('Details sales deliv. to excl.'!F:F,A1295,'Details sales deliv. to excl.'!H:H)","v":0},{"$f":"-SUMIF('Details purch. deliv. to excl.'!F:F,A1295,'Details purch. deliv. to excl.'!H:H)","v":0},0,0,0]
["T4503","FUZER Fiber IP Access 300MB",null,460,"COLT TECHNOLOGY SERVICES N.V.",0,0,null,0,0,0,0,"",{"$f":"+SUMIF('Details sales deliv. to excl.'!F:F,A1296,'Details sales deliv. to excl.'!H:H)","v":0},{"$f":"-SUMIF('Details purch. deliv. to excl.'!F:F,A1296,'Details purch. deliv. to excl.'!H:H)","v":0},0,0,0]
["T4601","Fuzer Fiber IP VPN 100MB",null,460,"COLT TECHNOLOGY SERVICES N.V.",0,0,null,0,0,0,0,"",{"$f":"+SUMIF('Details sales deliv. to excl.'!F:F,A1297,'Details sales deliv. to excl.'!H:H)","v":0},{"$f":"-SUMIF('Details purch. deliv. to excl.'!F:F,A1297,'Details purch. deliv. to excl.'!H:H)","v":0},0,0,0]
["T5001","Number Hosting (Belgium)",null,460,"COLT TECHNOLOGY SERVICES N.V.",0,0,null,0,0,0,0,"",{"$f":"+SUMIF('Details sales deliv. to excl.'!F:F,A1298,'Details sales deliv. to excl.'!H:H)","v":0},{"$f":"-SUMIF('Details purch. deliv. to excl.'!F:F,A1298,'Details purch. deliv. to excl.'!H:H)","v":0},0,0,0]
["T5003","Number Hosting (France)",null,460,"COLT TECHNOLOGY SERVICES N.V.",0,0,null,0,0,0,0,"",{"$f":"+SUMIF('Details sales deliv. to excl.'!F:F,A1299,'Details sales deliv. to excl.'!H:H)","v":0},{"$f":"-SUMIF('Details purch. deliv. to excl.'!F:F,A1299,'Details purch. deliv. to excl.'!H:H)","v":0},0,0,0]
["T5005","Number Hosting (Nederland)",null,460,"COLT TECHNOLOGY SERVICES N.V.",0,0,null,0,0,0,0,"",{"$f":"+SUMIF('Details sales deliv. to excl.'!F:F,A1300,'Details sales deliv. to excl.'!H:H)","v":0},{"$f":"-SUMIF('Details purch. deliv. to excl.'!F:F,A1300,'Details purch. deliv. to excl.'!H:H)","v":0},0,0,0]
["T5007","Number Hosting (Italia)",null,460,"COLT TECHNOLOGY SERVICES N.V.",0,0,null,0,0,0,0,"",{"$f":"+SUMIF('Details sales deliv. to excl.'!F:F,A1301,'Details sales deliv. to excl.'!H:H)","v":0},{"$f":"-SUMIF('Details purch. deliv. to excl.'!F:F,A1301,'Details purch. deliv. to excl.'!H:H)","v":0},0,0,0]
["T5009","Number Hosting (Espana)",null,460,"COLT TECHNOLOGY SERVICES N.V.",0,0,null,0,0,0,0,"",{"$f":"+SUMIF('Details sales deliv. to excl.'!F:F,A1302,'Details sales deliv. to excl.'!H:H)","v":0},{"$f":"-SUMIF('Details purch. deliv. to excl.'!F:F,A1302,'Details purch. deliv. to excl.'!H:H)","v":0},0,0,0]
["T5011","Number Hosting (Deutschland)",null,460,"COLT TECHNOLOGY SERVICES N.V.",0,0,null,0,0,0,0,"",{"$f":"+SUMIF('Details sales deliv. to excl.'!F:F,A1303,'Details sales deliv. to excl.'!H:H)","v":0},{"$f":"-SUMIF('Details purch. deliv. to excl.'!F:F,A1303,'Details purch. deliv. to excl.'!H:H)","v":0},0,0,0]
["T5015","Number Hosting (UK)",null,460,"COLT TECHNOLOGY SERVICES N.V.",0,0,null,0,0,0,0,"",{"$f":"+SUMIF('Details sales deliv. to excl.'!F:F,A1304,'Details sales deliv. to excl.'!H:H)","v":0},{"$f":"-SUMIF('Details purch. deliv. to excl.'!F:F,A1304,'Details purch. deliv. to excl.'!H:H)","v":0},0,0,0]
["test","test",null,460,"COLT TECHNOLOGY SERVICES N.V.",0,0,null,0,0,0,0,"",{"$f":"+SUMIF('Details sales deliv. to excl.'!F:F,A1305,'Details sales deliv. to excl.'!H:H)","v":0},{"$f":"-SUMIF('Details purch. deliv. to excl.'!F:F,A1305,'Details purch. deliv. to excl.'!H:H)","v":0},0,0,0]
["UCC1001","One time setup cost for a dedicated COLT branded UCaaS solution",null,0,null,0,0,null,0,0,0,0,"",{"$f":"+SUMIF('Details sales deliv. to excl.'!F:F,A1306,'Details sales deliv. to excl.'!H:H)","v":0},{"$f":"-SUMIF('Details purch. deliv. to excl.'!F:F,A1306,'Details purch. deliv. to excl.'!H:H)","v":0},0,0,0]
["UCC1010","Standard Telephony (incl 3rd line Helpdesk)",null,0,null,0,0,null,0,0,0,0,"",{"$f":"+SUMIF('Details sales deliv. to excl.'!F:F,A1307,'Details sales deliv. to excl.'!H:H)","v":0},{"$f":"-SUMIF('Details purch. deliv. to excl.'!F:F,A1307,'Details purch. deliv. to excl.'!H:H)","v":0},0,0,0]
["UCC1012","Standard Telephony (incl 2nd and 3rd line Helpdesk)",null,0,null,0,0,null,0,0,0,0,"",{"$f":"+SUMIF('Details sales deliv. to excl.'!F:F,A1308,'Details sales deliv. to excl.'!H:H)","v":0},{"$f":"-SUMIF('Details purch. deliv. to excl.'!F:F,A1308,'Details purch. deliv. to excl.'!H:H)","v":0},0,0,0]
["UCC1014","Standard Telephony with net.Buzz (incl 3rd line Helpdesk)",null,0,null,0,0,null,0,0,0,0,"",{"$f":"+SUMIF('Details sales deliv. to excl.'!F:F,A1309,'Details sales deliv. to excl.'!H:H)","v":0},{"$f":"-SUMIF('Details purch. deliv. to excl.'!F:F,A1309,'Details purch. deliv. to excl.'!H:H)","v":0},0,0,0]
["UCC1016","Standard Telephony with net.Buzz (incl 3rd line Helpdesk)",null,0,null,0,0,null,0,0,0,0,"",{"$f":"+SUMIF('Details sales deliv. to excl.'!F:F,A1310,'Details sales deliv. to excl.'!H:H)","v":0},{"$f":"-SUMIF('Details purch. deliv. to excl.'!F:F,A1310,'Details purch. deliv. to excl.'!H:H)","v":0},0,0,0]
["UCC1018","Receptionist (incl 3rd line Helpdesk)",null,0,null,0,0,null,0,0,0,0,"",{"$f":"+SUMIF('Details sales deliv. to excl.'!F:F,A1311,'Details sales deliv. to excl.'!H:H)","v":0},{"$f":"-SUMIF('Details purch. deliv. to excl.'!F:F,A1311,'Details purch. deliv. to excl.'!H:H)","v":0},0,0,0]
["UCC1020","Receptionist (incl 2nd and 3rd line Helpdesk)",null,0,null,0,0,null,0,0,0,0,"",{"$f":"+SUMIF('Details sales deliv. to excl.'!F:F,A1312,'Details sales deliv. to excl.'!H:H)","v":0},{"$f":"-SUMIF('Details purch. deliv. to excl.'!F:F,A1312,'Details purch. deliv. to excl.'!H:H)","v":0},0,0,0]
["UCC1030","Standard Telephony & UC/user (Audio + IM) (incl 3rd line Helpdesk)",null,0,null,0,0,null,0,0,0,0,"",{"$f":"+SUMIF('Details sales deliv. to excl.'!F:F,A1313,'Details sales deliv. to excl.'!H:H)","v":0},{"$f":"-SUMIF('Details purch. deliv. to excl.'!F:F,A1313,'Details purch. deliv. to excl.'!H:H)","v":0},0,0,0]
["UCC1032","Standard Telephony & UC/user (Audio + IM) (incl 2nd and 3rd line Helpdesk)",null,0,null,0,0,null,0,0,0,0,"",{"$f":"+SUMIF('Details sales deliv. to excl.'!F:F,A1314,'Details sales deliv. to excl.'!H:H)","v":0},{"$f":"-SUMIF('Details purch. deliv. to excl.'!F:F,A1314,'Details purch. deliv. to excl.'!H:H)","v":0},0,0,0]
["UCC1034","Std Telephony & UC/user (Audio+IM+Video+Screensh.) (incl 3rd line HD)",null,0,null,0,0,null,0,0,0,0,"",{"$f":"+SUMIF('Details sales deliv. to excl.'!F:F,A1315,'Details sales deliv. to excl.'!H:H)","v":0},{"$f":"-SUMIF('Details purch. deliv. to excl.'!F:F,A1315,'Details purch. deliv. to excl.'!H:H)","v":0},0,0,0]
["UCC1036","Std Tel.&UC/user (Audio+IM+Video+Screensh.) (incl 2nd and 3rd line HD)",null,0,null,0,0,null,0,0,0,0,"",{"$f":"+SUMIF('Details sales deliv. to excl.'!F:F,A1316,'Details sales deliv. to excl.'!H:H)","v":0},{"$f":"-SUMIF('Details purch. deliv. to excl.'!F:F,A1316,'Details purch. deliv. to excl.'!H:H)","v":0},0,0,0]
["UCC1040","Std Tel & UC/user (Audio + IM) on 3rd party PABX (incl 3rd line HD)",null,0,null,0,0,null,0,0,0,0,"",{"$f":"+SUMIF('Details sales deliv. to excl.'!F:F,A1317,'Details sales deliv. to excl.'!H:H)","v":0},{"$f":"-SUMIF('Details purch. deliv. to excl.'!F:F,A1317,'Details purch. deliv. to excl.'!H:H)","v":0},0,0,0]
["UCC1042","Std Tel & UC/user (Audio + IM) on 3rd party PABX (incl 2nd/3rd line HD)",null,0,null,0,0,null,0,0,0,0,"",{"$f":"+SUMIF('Details sales deliv. to excl.'!F:F,A1318,'Details sales deliv. to excl.'!H:H)","v":0},{"$f":"-SUMIF('Details purch. deliv. to excl.'!F:F,A1318,'Details purch. deliv. to excl.'!H:H)","v":0},0,0,0]
["UCC1044","Std Tel&UC/user(Audio+IM+Video+Screensh.)on 3rd party PBX(incl 3rd line HD)",null,0,null,0,0,null,0,0,0,0,"",{"$f":"+SUMIF('Details sales deliv. to excl.'!F:F,A1319,'Details sales deliv. to excl.'!H:H)","v":0},{"$f":"-SUMIF('Details purch. deliv. to excl.'!F:F,A1319,'Details purch. deliv. to excl.'!H:H)","v":0},0,0,0]
["UCC1046","Std Tel&UC/user(Audio+IM+Video+Screensh.)-3rd party PBX(incl 2nd3rd line HD)",null,0,null,0,0,null,0,0,0,0,"",{"$f":"+SUMIF('Details sales deliv. to excl.'!F:F,A1320,'Details sales deliv. to excl.'!H:H)","v":0},{"$f":"-SUMIF('Details purch. deliv. to excl.'!F:F,A1320,'Details purch. deliv. to excl.'!H:H)","v":0},0,0,0]
["UCC1060","Active directory configuration per LDAP (incl 3rd line HD)",null,0,null,0,0,null,0,0,0,0,"",{"$f":"+SUMIF('Details sales deliv. to excl.'!F:F,A1321,'Details sales deliv. to excl.'!H:H)","v":0},{"$f":"-SUMIF('Details purch. deliv. to excl.'!F:F,A1321,'Details purch. deliv. to excl.'!H:H)","v":0},0,0,0]
["UCC1062","Active directory configuration per LDAP (incl 2nd and 3rd line HD)",null,0,null,0,0,null,0,0,0,0,"",{"$f":"+SUMIF('Details sales deliv. to excl.'!F:F,A1322,'Details sales deliv. to excl.'!H:H)","v":0},{"$f":"-SUMIF('Details purch. deliv. to excl.'!F:F,A1322,'Details purch. deliv. to excl.'!H:H)","v":0},0,0,0]
["UCC1064","Multiple SIP trunks/complex routing per Sip Trunk (incl 3rd line HD)",null,0,null,0,0,null,0,0,0,0,"",{"$f":"+SUMIF('Details sales deliv. to excl.'!F:F,A1323,'Details sales deliv. to excl.'!H:H)","v":0},{"$f":"-SUMIF('Details purch. deliv. to excl.'!F:F,A1323,'Details purch. deliv. to excl.'!H:H)","v":0},0,0,0]
["UCC1066","Multiple SIP trunks/complex routing per Sip Trunk (incl 2nd and 3rd line HD)",null,0,null,0,0,null,0,0,0,0,"",{"$f":"+SUMIF('Details sales deliv. to excl.'!F:F,A1324,'Details sales deliv. to excl.'!H:H)","v":0},{"$f":"-SUMIF('Details purch. deliv. to excl.'!F:F,A1324,'Details purch. deliv. to excl.'!H:H)","v":0},0,0,0]
["UCC1068","SOP on premise per SOP (backup on 2nd SIP trunk/ISDN) (incl 3rd line HD)",null,0,null,0,0,null,0,0,0,0,"",{"$f":"+SUMIF('Details sales deliv. to excl.'!F:F,A1325,'Details sales deliv. to excl.'!H:H)","v":0},{"$f":"-SUMIF('Details purch. deliv. to excl.'!F:F,A1325,'Details purch. deliv. to excl.'!H:H)","v":0},0,0,0]
["UCC1070","SOP on premise per SOP (backup on 2nd SIP trunk/ISDN) (incl 2nd/3rd line HD)",null,0,null,0,0,null,0,0,0,0,"",{"$f":"+SUMIF('Details sales deliv. to excl.'!F:F,A1326,'Details sales deliv. to excl.'!H:H)","v":0},{"$f":"-SUMIF('Details purch. deliv. to excl.'!F:F,A1326,'Details purch. deliv. to excl.'!H:H)","v":0},0,0,0]
["UCC1072","API Integration with IT backoffice (incl 2nd line HD)",null,0,null,0,0,null,0,0,0,0,"",{"$f":"+SUMIF('Details sales deliv. to excl.'!F:F,A1327,'Details sales deliv. to excl.'!H:H)","v":0},{"$f":"-SUMIF('Details purch. deliv. to excl.'!F:F,A1327,'Details purch. deliv. to excl.'!H:H)","v":0},0,0,0]
["UCC1074","API Integration with IT backoffice (incl 2nd/3rd line HD)",null,0,null,0,0,null,0,0,0,0,"",{"$f":"+SUMIF('Details sales deliv. to excl.'!F:F,A1328,'Details sales deliv. to excl.'!H:H)","v":0},{"$f":"-SUMIF('Details purch. deliv. to excl.'!F:F,A1328,'Details purch. deliv. to excl.'!H:H)","v":0},0,0,0]
["UCC1101","CallCentre",null,0,null,0,0,null,0,0,0,0,"",{"$f":"+SUMIF('Details sales deliv. to excl.'!F:F,A1329,'Details sales deliv. to excl.'!H:H)","v":0},{"$f":"-SUMIF('Details purch. deliv. to excl.'!F:F,A1329,'Details purch. deliv. to excl.'!H:H)","v":0},0,0,0]
["UCC1103","Adaptations to service template",null,0,null,0,0,null,0,0,0,0,"",{"$f":"+SUMIF('Details sales deliv. to excl.'!F:F,A1330,'Details sales deliv. to excl.'!H:H)","v":0},{"$f":"-SUMIF('Details purch. deliv. to excl.'!F:F,A1330,'Details purch. deliv. to excl.'!H:H)","v":0},0,0,0]
["UCC1106","Adaptations to standard network architecture",null,0,null,0,0,null,0,0,0,0,"",{"$f":"+SUMIF('Details sales deliv. to excl.'!F:F,A1331,'Details sales deliv. to excl.'!H:H)","v":0},{"$f":"-SUMIF('Details purch. deliv. to excl.'!F:F,A1331,'Details purch. deliv. to excl.'!H:H)","v":0},0,0,0]
["UCC1109","Integration of doorphones/other IP phones",null,0,null,0,0,null,0,0,0,0,"",{"$f":"+SUMIF('Details sales deliv. to excl.'!F:F,A1332,'Details sales deliv. to excl.'!H:H)","v":0},{"$f":"-SUMIF('Details purch. deliv. to excl.'!F:F,A1332,'Details purch. deliv. to excl.'!H:H)","v":0},0,0,0]
["UCC1112","Integration with external archiving, storage, search solutions",null,0,null,0,0,null,0,0,0,0,"",{"$f":"+SUMIF('Details sales deliv. to excl.'!F:F,A1333,'Details sales deliv. to excl.'!H:H)","v":0},{"$f":"-SUMIF('Details purch. deliv. to excl.'!F:F,A1333,'Details purch. deliv. to excl.'!H:H)","v":0},0,0,0]
["UCC1115","Debugging customer LAN/WAN",null,0,null,0,0,null,0,0,0,0,"",{"$f":"+SUMIF('Details sales deliv. to excl.'!F:F,A1334,'Details sales deliv. to excl.'!H:H)","v":0},{"$f":"-SUMIF('Details purch. deliv. to excl.'!F:F,A1334,'Details purch. deliv. to excl.'!H:H)","v":0},0,0,0]
["UCC1120","Optional installation & training onsite (incl. travel) per full day",null,0,null,0,0,null,0,0,0,0,"",{"$f":"+SUMIF('Details sales deliv. to excl.'!F:F,A1335,'Details sales deliv. to excl.'!H:H)","v":0},{"$f":"-SUMIF('Details purch. deliv. to excl.'!F:F,A1335,'Details purch. deliv. to excl.'!H:H)","v":0},0,0,0]
["UCC1125","Technical integrations (provisioning, ticketting, monitoring,..) with BackOffice",null,0,null,0,0,null,0,0,0,0,"",{"$f":"+SUMIF('Details sales deliv. to excl.'!F:F,A1336,'Details sales deliv. to excl.'!H:H)","v":0},{"$f":"-SUMIF('Details purch. deliv. to excl.'!F:F,A1336,'Details purch. deliv. to excl.'!H:H)","v":0},0,0,0]
["UCC1130","NOC integration",null,0,null,0,0,null,0,0,0,0,"",{"$f":"+SUMIF('Details sales deliv. to excl.'!F:F,A1337,'Details sales deliv. to excl.'!H:H)","v":0},{"$f":"-SUMIF('Details purch. deliv. to excl.'!F:F,A1337,'Details purch. deliv. to excl.'!H:H)","v":0},0,0,0]
["UCC1135","CDR delivery & mediation",null,0,null,0,0,null,0,0,0,0,"",{"$f":"+SUMIF('Details sales deliv. to excl.'!F:F,A1338,'Details sales deliv. to excl.'!H:H)","v":0},{"$f":"-SUMIF('Details purch. deliv. to excl.'!F:F,A1338,'Details purch. deliv. to excl.'!H:H)","v":0},0,0,0]
["UCC1140","Technical Project Management per day",null,0,null,0,0,null,0,0,0,0,"",{"$f":"+SUMIF('Details sales deliv. to excl.'!F:F,A1339,'Details sales deliv. to excl.'!H:H)","v":0},{"$f":"-SUMIF('Details purch. deliv. to excl.'!F:F,A1339,'Details purch. deliv. to excl.'!H:H)","v":0},0,0,0]
["UCC1142","Design Architecture per day",null,0,null,0,0,null,0,0,0,0,"",{"$f":"+SUMIF('Details sales deliv. to excl.'!F:F,A1340,'Details sales deliv. to excl.'!H:H)","v":0},{"$f":"-SUMIF('Details purch. deliv. to excl.'!F:F,A1340,'Details purch. deliv. to excl.'!H:H)","v":0},0,0,0]
["UCC1144","Senior Developper per day",null,0,null,0,0,null,0,0,0,0,"",{"$f":"+SUMIF('Details sales deliv. to excl.'!F:F,A1341,'Details sales deliv. to excl.'!H:H)","v":0},{"$f":"-SUMIF('Details purch. deliv. to excl.'!F:F,A1341,'Details purch. deliv. to excl.'!H:H)","v":0},0,0,0]
["UCC1146","Configuration & Support Engineer per day",null,0,null,0,0,null,0,0,0,0,"",{"$f":"+SUMIF('Details sales deliv. to excl.'!F:F,A1342,'Details sales deliv. to excl.'!H:H)","v":0},{"$f":"-SUMIF('Details purch. deliv. to excl.'!F:F,A1342,'Details purch. deliv. to excl.'!H:H)","v":0},0,0,0]
["UCC1200","Extra language add-on by Escaux (prompts, end-user interfaces/documentation)",null,0,null,0,0,null,0,0,0,0,"",{"$f":"+SUMIF('Details sales deliv. to excl.'!F:F,A1343,'Details sales deliv. to excl.'!H:H)","v":0},{"$f":"-SUMIF('Details purch. deliv. to excl.'!F:F,A1343,'Details purch. deliv. to excl.'!H:H)","v":0},0,0,0]
["UCC1205","Extra language add-on by Colt (prompts, end-user interfaces/documentation)",null,0,null,0,0,null,0,0,0,0,"",{"$f":"+SUMIF('Details sales deliv. to excl.'!F:F,A1344,'Details sales deliv. to excl.'!H:H)","v":0},{"$f":"-SUMIF('Details purch. deliv. to excl.'!F:F,A1344,'Details purch. deliv. to excl.'!H:H)","v":0},0,0,0]
["UCC1220","Training first line Helpdesk (with exercises / max 12 p.) 2 days",null,0,null,0,0,null,0,0,0,0,"",{"$f":"+SUMIF('Details sales deliv. to excl.'!F:F,A1345,'Details sales deliv. to excl.'!H:H)","v":0},{"$f":"-SUMIF('Details purch. deliv. to excl.'!F:F,A1345,'Details purch. deliv. to excl.'!H:H)","v":0},0,0,0]
["UCC1222","Advanced training  (2nd line Helpdesk) (with exercises / max 12 p.) 2 days",null,0,null,0,0,null,0,0,0,0,"",{"$f":"+SUMIF('Details sales deliv. to excl.'!F:F,A1346,'Details sales deliv. to excl.'!H:H)","v":0},{"$f":"-SUMIF('Details purch. deliv. to excl.'!F:F,A1346,'Details purch. deliv. to excl.'!H:H)","v":0},0,0,0]
["UCC1224","Expert training (with exercises / max 12 p.) 3 days",null,0,null,0,0,null,0,0,0,0,"",{"$f":"+SUMIF('Details sales deliv. to excl.'!F:F,A1347,'Details sales deliv. to excl.'!H:H)","v":0},{"$f":"-SUMIF('Details purch. deliv. to excl.'!F:F,A1347,'Details purch. deliv. to excl.'!H:H)","v":0},0,0,0]
["UCC1226","Presales training (max 12 p.) 1 day",null,0,null,0,0,null,{"$f":"H1348-G1348","v":0},{"$f":"G1348*F1348","v":0},{"$f":"H1348*F1348","v":0},{"$f":"I1348*F1348","v":0},"",{"$f":"+SUMIF('Details sales deliv. to excl.'!F:F,A1348,'Details sales deliv. to excl.'!H:H)","v":0},{"$f":"-SUMIF('Details purch. deliv. to excl.'!F:F,A1348,'Details purch. deliv. to excl.'!H:H)","v":0},{"$f":"I1348+N1348+O1348","v":0},{"$f":"G1348+P1348","v":0},{"$f":"Q1348*F1348","v":0}]
["UNKN004","ESCAUX T38 Fax Appliance",null,0,null,0,0,null,0,0,0,0,{"$f":"IF(ABS(L1349)>500,\"check\",\"\")","v":""},{"$f":"+SUMIF('Details sales deliv. to excl.'!F:F,A1349,'Details sales deliv. to excl.'!H:H)","v":0},{"$f":"-SUMIF('Details purch. deliv. to excl.'!F:F,A1349,'Details purch. deliv. to excl.'!H:H)","v":0},0,0,0]
["UNKN1000","8BRI ISDN Access",null,0,null,0,0,null,0,0,0,0,"",{"$f":"+SUMIF('Details sales deliv. to excl.'!F:F,A1350,'Details sales deliv. to excl.'!H:H)","v":0},{"$f":"-SUMIF('Details purch. deliv. to excl.'!F:F,A1350,'Details purch. deliv. to excl.'!H:H)","v":0},0,0,0]
["UNKN889","Polycom IP321 with Pwr Cable",null,0,null,0,0,null,0,0,0,0,"",{"$f":"+SUMIF('Details sales deliv. to excl.'!F:F,A1351,'Details sales deliv. to excl.'!H:H)","v":0},{"$f":"-SUMIF('Details purch. deliv. to excl.'!F:F,A1351,'Details purch. deliv. to excl.'!H:H)","v":0},0,0,0]
["UNKN901","Internet Access SDSL 128/1024",null,0,null,0,0,null,0,0,0,0,"",{"$f":"+SUMIF('Details sales deliv. to excl.'!F:F,A1352,'Details sales deliv. to excl.'!H:H)","v":0},{"$f":"-SUMIF('Details purch. deliv. to excl.'!F:F,A1352,'Details purch. deliv. to excl.'!H:H)","v":0},0,0,0]
["UNKN902","Internet Access SDSL 256/1024",null,0,null,0,0,null,0,0,0,0,"",{"$f":"+SUMIF('Details sales deliv. to excl.'!F:F,A1353,'Details sales deliv. to excl.'!H:H)","v":0},{"$f":"-SUMIF('Details purch. deliv. to excl.'!F:F,A1353,'Details purch. deliv. to excl.'!H:H)","v":0},0,0,0]
["UNKN903","Internet Access SDSL 512/1024",null,0,null,0,0,null,0,0,0,0,"",{"$f":"+SUMIF('Details sales deliv. to excl.'!F:F,A1354,'Details sales deliv. to excl.'!H:H)","v":0},{"$f":"-SUMIF('Details purch. deliv. to excl.'!F:F,A1354,'Details purch. deliv. to excl.'!H:H)","v":0},0,0,0]
["UNKN904","Internet Access SDSL 1024/1024",null,0,null,0,0,null,0,0,0,0,"",{"$f":"+SUMIF('Details sales deliv. to excl.'!F:F,A1355,'Details sales deliv. to excl.'!H:H)","v":0},{"$f":"-SUMIF('Details purch. deliv. to excl.'!F:F,A1355,'Details purch. deliv. to excl.'!H:H)","v":0},0,0,0]
["UNKN905","Internet Access SDSL 256/2048",null,0,null,0,0,null,0,0,0,0,"",{"$f":"+SUMIF('Details sales deliv. to excl.'!F:F,A1356,'Details sales deliv. to excl.'!H:H)","v":0},{"$f":"-SUMIF('Details purch. deliv. to excl.'!F:F,A1356,'Details purch. deliv. to excl.'!H:H)","v":0},0,0,0]
["UNKN906","Internet Access SDSL 512/2048",null,0,null,0,0,null,0,0,0,0,"",{"$f":"+SUMIF('Details sales deliv. to excl.'!F:F,A1357,'Details sales deliv. to excl.'!H:H)","v":0},{"$f":"-SUMIF('Details purch. deliv. to excl.'!F:F,A1357,'Details purch. deliv. to excl.'!H:H)","v":0},0,0,0]
["UNKN907","Internet Access SDSL 1024/2048",null,0,null,0,0,null,0,0,0,0,"",{"$f":"+SUMIF('Details sales deliv. to excl.'!F:F,A1358,'Details sales deliv. to excl.'!H:H)","v":0},{"$f":"-SUMIF('Details purch. deliv. to excl.'!F:F,A1358,'Details purch. deliv. to excl.'!H:H)","v":0},0,0,0]
["UNKN908","Internet Access SDSL 2048/2048",null,0,null,0,0,null,0,0,0,0,"",{"$f":"+SUMIF('Details sales deliv. to excl.'!F:F,A1359,'Details sales deliv. to excl.'!H:H)","v":0},{"$f":"-SUMIF('Details purch. deliv. to excl.'!F:F,A1359,'Details purch. deliv. to excl.'!H:H)","v":0},0,0,0]
["UNKN909","Internet Access SDSL 4MB/4MB",null,0,null,0,0,null,0,0,0,0,"",{"$f":"+SUMIF('Details sales deliv. to excl.'!F:F,A1360,'Details sales deliv. to excl.'!H:H)","v":0},{"$f":"-SUMIF('Details purch. deliv. to excl.'!F:F,A1360,'Details purch. deliv. to excl.'!H:H)","v":0},0,0,0]
["UNKN910","Internet Access SDSL 6MB/6MB",null,0,null,0,0,null,0,0,0,0,"",{"$f":"+SUMIF('Details sales deliv. to excl.'!F:F,A1361,'Details sales deliv. to excl.'!H:H)","v":0},{"$f":"-SUMIF('Details purch. deliv. to excl.'!F:F,A1361,'Details purch. deliv. to excl.'!H:H)","v":0},0,0,0]
["UNKN911","Internet Access SDSL 8MB/8MB",null,0,null,0,0,null,0,0,0,0,"",{"$f":"+SUMIF('Details sales deliv. to excl.'!F:F,A1362,'Details sales deliv. to excl.'!H:H)","v":0},{"$f":"-SUMIF('Details purch. deliv. to excl.'!F:F,A1362,'Details purch. deliv. to excl.'!H:H)","v":0},0,0,0]
["UNKN912","Internet Access SDSL 10MB/10MB",null,0,null,0,0,null,0,0,0,0,"",{"$f":"+SUMIF('Details sales deliv. to excl.'!F:F,A1363,'Details sales deliv. to excl.'!H:H)","v":0},{"$f":"-SUMIF('Details purch. deliv. to excl.'!F:F,A1363,'Details purch. deliv. to excl.'!H:H)","v":0},0,0,0]
["UNKN913","PRI ISDN Access",null,0,null,0,0,null,0,0,0,0,"",{"$f":"+SUMIF('Details sales deliv. to excl.'!F:F,A1364,'Details sales deliv. to excl.'!H:H)","v":0},{"$f":"-SUMIF('Details purch. deliv. to excl.'!F:F,A1364,'Details purch. deliv. to excl.'!H:H)","v":0},0,0,0]
["UNKN914","10 DDI (Direct Numbers)",null,0,null,0,0,null,0,0,0,0,"",{"$f":"+SUMIF('Details sales deliv. to excl.'!F:F,A1365,'Details sales deliv. to excl.'!H:H)","v":0},{"$f":"-SUMIF('Details purch. deliv. to excl.'!F:F,A1365,'Details purch. deliv. to excl.'!H:H)","v":0},0,0,0]
["UNKN915","International Inbound DDI via VOIP",null,0,null,0,0,null,0,0,0,0,"",{"$f":"+SUMIF('Details sales deliv. to excl.'!F:F,A1366,'Details sales deliv. to excl.'!H:H)","v":0},{"$f":"-SUMIF('Details purch. deliv. to excl.'!F:F,A1366,'Details purch. deliv. to excl.'!H:H)","v":0},0,0,0]
["UNKN916","COLT Total 1 (1MB. 2BRI)",null,0,null,0,0,null,0,0,0,0,"",{"$f":"+SUMIF('Details sales deliv. to excl.'!F:F,A1367,'Details sales deliv. to excl.'!H:H)","v":0},{"$f":"-SUMIF('Details purch. deliv. to excl.'!F:F,A1367,'Details purch. deliv. to excl.'!H:H)","v":0},0,0,0]
["UNKN917","COLT Total 2 (2MB. 4BRI)",null,0,null,0,0,null,0,0,0,0,"",{"$f":"+SUMIF('Details sales deliv. to excl.'!F:F,A1368,'Details sales deliv. to excl.'!H:H)","v":0},{"$f":"-SUMIF('Details purch. deliv. to excl.'!F:F,A1368,'Details purch. deliv. to excl.'!H:H)","v":0},0,0,0]
["UNKN918","COLT Total 3 (2MB. 8BRI)",null,0,null,0,0,null,0,0,0,0,"",{"$f":"+SUMIF('Details sales deliv. to excl.'!F:F,A1369,'Details sales deliv. to excl.'!H:H)","v":0},{"$f":"-SUMIF('Details purch. deliv. to excl.'!F:F,A1369,'Details purch. deliv. to excl.'!H:H)","v":0},0,0,0]
["UNKN919","COLT Total 3 (2MB. 1PRI)",null,0,null,0,0,null,0,0,0,0,"",{"$f":"+SUMIF('Details sales deliv. to excl.'!F:F,A1370,'Details sales deliv. to excl.'!H:H)","v":0},{"$f":"-SUMIF('Details purch. deliv. to excl.'!F:F,A1370,'Details purch. deliv. to excl.'!H:H)","v":0},0,0,0]
["UNKN920","COLT Total 4 (4MB. 1PRI)",null,0,null,0,0,null,0,0,0,0,"",{"$f":"+SUMIF('Details sales deliv. to excl.'!F:F,A1371,'Details sales deliv. to excl.'!H:H)","v":0},{"$f":"-SUMIF('Details purch. deliv. to excl.'!F:F,A1371,'Details purch. deliv. to excl.'!H:H)","v":0},0,0,0]
["UNKN921","COLT Total 4 (4MB. 2PRI)",null,0,null,0,0,null,0,0,0,0,"",{"$f":"+SUMIF('Details sales deliv. to excl.'!F:F,A1372,'Details sales deliv. to excl.'!H:H)","v":0},{"$f":"-SUMIF('Details purch. deliv. to excl.'!F:F,A1372,'Details purch. deliv. to excl.'!H:H)","v":0},0,0,0]
["UNKN922","IP VPN 256 kbps",null,0,null,0,0,null,0,0,0,0,"",{"$f":"+SUMIF('Details sales deliv. to excl.'!F:F,A1373,'Details sales deliv. to excl.'!H:H)","v":0},{"$f":"-SUMIF('Details purch. deliv. to excl.'!F:F,A1373,'Details purch. deliv. to excl.'!H:H)","v":0},0,0,0]
["UNKN923","IP VPN 512 kbps",null,0,null,0,0,null,0,0,0,0,"",{"$f":"+SUMIF('Details sales deliv. to excl.'!F:F,A1374,'Details sales deliv. to excl.'!H:H)","v":0},{"$f":"-SUMIF('Details purch. deliv. to excl.'!F:F,A1374,'Details purch. deliv. to excl.'!H:H)","v":0},0,0,0]
["UNKN924","IP VPN 1024 kbps",null,0,null,0,0,null,0,0,0,0,"",{"$f":"+SUMIF('Details sales deliv. to excl.'!F:F,A1375,'Details sales deliv. to excl.'!H:H)","v":0},{"$f":"-SUMIF('Details purch. deliv. to excl.'!F:F,A1375,'Details purch. deliv. to excl.'!H:H)","v":0},0,0,0]
["UNKN925","IP VPN 2048 kbps",null,0,null,0,0,null,0,0,0,0,"",{"$f":"+SUMIF('Details sales deliv. to excl.'!F:F,A1376,'Details sales deliv. to excl.'!H:H)","v":0},{"$f":"-SUMIF('Details purch. deliv. to excl.'!F:F,A1376,'Details purch. deliv. to excl.'!H:H)","v":0},0,0,0]
["UNKN926","LAN Link 2MB",null,0,null,0,0,null,0,0,0,0,"",{"$f":"+SUMIF('Details sales deliv. to excl.'!F:F,A1377,'Details sales deliv. to excl.'!H:H)","v":0},{"$f":"-SUMIF('Details purch. deliv. to excl.'!F:F,A1377,'Details purch. deliv. to excl.'!H:H)","v":0},0,0,0]
["UNKN927","LAN Link 4 MB",null,0,null,0,0,null,0,0,0,0,"",{"$f":"+SUMIF('Details sales deliv. to excl.'!F:F,A1378,'Details sales deliv. to excl.'!H:H)","v":0},{"$f":"-SUMIF('Details purch. deliv. to excl.'!F:F,A1378,'Details purch. deliv. to excl.'!H:H)","v":0},0,0,0]
["UNKN928","COLT Total 5 (2MB. VOIP)",null,0,null,0,0,null,0,0,0,0,"",{"$f":"+SUMIF('Details sales deliv. to excl.'!F:F,A1379,'Details sales deliv. to excl.'!H:H)","v":0},{"$f":"-SUMIF('Details purch. deliv. to excl.'!F:F,A1379,'Details purch. deliv. to excl.'!H:H)","v":0},0,0,0]
["UNKN929","COLT Total 5 (1MB. VOIP)",null,0,null,0,0,null,0,0,0,0,"",{"$f":"+SUMIF('Details sales deliv. to excl.'!F:F,A1380,'Details sales deliv. to excl.'!H:H)","v":0},{"$f":"-SUMIF('Details purch. deliv. to excl.'!F:F,A1380,'Details purch. deliv. to excl.'!H:H)","v":0},0,0,0]
["UNKN950","750 IP Telephony Service Profiles",null,0,null,0,0,null,0,0,0,0,"",{"$f":"+SUMIF('Details sales deliv. to excl.'!F:F,A1381,'Details sales deliv. to excl.'!H:H)","v":0},{"$f":"-SUMIF('Details purch. deliv. to excl.'!F:F,A1381,'Details purch. deliv. to excl.'!H:H)","v":0},0,0,0]
["USB1000","KINGSTON USB stick 8GB (DataTraveler SE9)",2358736,464,"TECHDATA",3.38,287,287,0,970.06,970.06,0,null,{"$f":"+SUMIF('Details sales deliv. to excl.'!F:F,A1382,'Details sales deliv. to excl.'!H:H)","v":0},{"$f":"-SUMIF('Details purch. deliv. to excl.'!F:F,A1382,'Details purch. deliv. to excl.'!H:H)","v":0},0,287,970.06]
["WAN1000","Polycom Kirk IPDect Repeater 4ch/single cell","antennas 4941",472,"WESTCON GROUP EUROPEAN OPERATIONS LTD - BELGIUM BRANCH",10.28,0,null,0,0,0,0,"",{"$f":"+SUMIF('Details sales deliv. to excl.'!F:F,A1383,'Details sales deliv. to excl.'!H:H)","v":0},{"$f":"-SUMIF('Details purch. deliv. to excl.'!F:F,A1383,'Details purch. deliv. to excl.'!H:H)","v":0},0,0,0]
["WAN1010","Wifi ext.antenna ARUBA 2.4Ghz/3.5dBi downTilt","AP-ANT-5",565,"NOXS BELGIUM",108,0,null,0,0,0,0,"",{"$f":"+SUMIF('Details sales deliv. to excl.'!F:F,A1384,'Details sales deliv. to excl.'!H:H)","v":0},{"$f":"-SUMIF('Details purch. deliv. to excl.'!F:F,A1384,'Details purch. deliv. to excl.'!H:H)","v":0},0,0,0]
["WAN1011","Wifi ext.antenna ARUBA 2.4Ghz / 5.0dBi High-Gain","AP-ANT-8",565,"NOXS BELGIUM",135.19999999999999,0,null,0,0,0,0,"",{"$f":"+SUMIF('Details sales deliv. to excl.'!F:F,A1385,'Details sales deliv. to excl.'!H:H)","v":0},{"$f":"-SUMIF('Details purch. deliv. to excl.'!F:F,A1385,'Details purch. deliv. to excl.'!H:H)","v":0},0,0,0]
["WAN1012","Wifi antenna ARUBA 2.4Ghz / 8.0dBi High-Gain","AP-ANT-80",565,"NOXS BELGIUM",195.75,0,null,0,0,0,0,"",{"$f":"+SUMIF('Details sales deliv. to excl.'!F:F,A1386,'Details sales deliv. to excl.'!H:H)","v":0},{"$f":"-SUMIF('Details purch. deliv. to excl.'!F:F,A1386,'Details purch. deliv. to excl.'!H:H)","v":0},0,0,0]
["WAN1020","Aruba Outdoor Antenna Lightning Arrestor","AP-LAR-1",565,"NOXS BELGIUM",101.25,0,null,0,0,0,0,"",{"$f":"+SUMIF('Details sales deliv. to excl.'!F:F,A1387,'Details sales deliv. to excl.'!H:H)","v":0},{"$f":"-SUMIF('Details purch. deliv. to excl.'!F:F,A1387,'Details purch. deliv. to excl.'!H:H)","v":0},0,0,0]
["WAN1100","POLYCOM Kirk IPDect Repeater 4ch/single cell","KD02334600",736,"TIPTEL",140,0,null,0,0,0,0,"",{"$f":"+SUMIF('Details sales deliv. to excl.'!F:F,A1388,'Details sales deliv. to excl.'!H:H)","v":0},{"$f":"-SUMIF('Details purch. deliv. to excl.'!F:F,A1388,'Details purch. deliv. to excl.'!H:H)","v":0},0,0,0]
["WAN1101","POLYCOM Kirk IPDect Repeater 4ch/cell ceiling moun",null,736,"TIPTEL",140,0,null,0,0,0,0,"",{"$f":"+SUMIF('Details sales deliv. to excl.'!F:F,A1389,'Details sales deliv. to excl.'!H:H)","v":0},{"$f":"-SUMIF('Details purch. deliv. to excl.'!F:F,A1389,'Details purch. deliv. to excl.'!H:H)","v":0},0,0,0]
["WAN1102","POLYCOM IPDect Repeater 4ch Single Waterproof",null,736,"TIPTEL",350,0,null,0,0,0,0,"",{"$f":"+SUMIF('Details sales deliv. to excl.'!F:F,A1390,'Details sales deliv. to excl.'!H:H)","v":0},{"$f":"-SUMIF('Details purch. deliv. to excl.'!F:F,A1390,'Details purch. deliv. to excl.'!H:H)","v":0},0,0,0]
["WAN1110","Power supply for KIRK DECT wireless server 600v3","KD84642449",736,"TIPTEL",14.7,0,null,0,0,0,0,"",{"$f":"+SUMIF('Details sales deliv. to excl.'!F:F,A1391,'Details sales deliv. to excl.'!H:H)","v":0},{"$f":"-SUMIF('Details purch. deliv. to excl.'!F:F,A1391,'Details purch. deliv. to excl.'!H:H)","v":0},0,0,0]
["WAN1115","POLYCOM IPDect Repeater 4ch Multicell (for Kirk Srv600)","KD02334601",736,"TIPTEL",167.29,0,null,0,0,0,0,"",{"$f":"+SUMIF('Details sales deliv. to excl.'!F:F,A1392,'Details sales deliv. to excl.'!H:H)","v":0},{"$f":"-SUMIF('Details purch. deliv. to excl.'!F:F,A1392,'Details purch. deliv. to excl.'!H:H)","v":0},0,0,0]
["WAN1116","POLYCOM Kirk IPDect Repeater 4ch/multicell ceiling","KD02338401",736,"TIPTEL",148,0,null,0,0,0,0,"",{"$f":"+SUMIF('Details sales deliv. to excl.'!F:F,A1393,'Details sales deliv. to excl.'!H:H)","v":0},{"$f":"-SUMIF('Details purch. deliv. to excl.'!F:F,A1393,'Details purch. deliv. to excl.'!H:H)","v":0},0,0,0]
["WAN1117","POLYCOM IPDect Repeater 4ch Multicell Waterproof",null,736,"TIPTEL",358,0,null,0,0,0,0,"",{"$f":"+SUMIF('Details sales deliv. to excl.'!F:F,A1394,'Details sales deliv. to excl.'!H:H)","v":0},{"$f":"-SUMIF('Details purch. deliv. to excl.'!F:F,A1394,'Details purch. deliv. to excl.'!H:H)","v":0},0,0,0]
["WAN1120","KDECT REPEATER programming kit","KD02319508",736,"TIPTEL",105,0,null,0,0,0,0,"",{"$f":"+SUMIF('Details sales deliv. to excl.'!F:F,A1395,'Details sales deliv. to excl.'!H:H)","v":0},{"$f":"-SUMIF('Details purch. deliv. to excl.'!F:F,A1395,'Details purch. deliv. to excl.'!H:H)","v":0},0,0,0]
["WAN1130","KIRK Wireless Base station","KD02337300",736,"TIPTEL",374.54,0,null,0,0,0,0,"",{"$f":"+SUMIF('Details sales deliv. to excl.'!F:F,A1396,'Details sales deliv. to excl.'!H:H)","v":0},{"$f":"-SUMIF('Details purch. deliv. to excl.'!F:F,A1396,'Details purch. deliv. to excl.'!H:H)","v":0},0,0,0]
["WAN1131","Polycom Kirk KWS6000 BS Mounting Kit","KD02337300",736,"TIPTEL",29.5,0,null,0,0,0,0,"",{"$f":"+SUMIF('Details sales deliv. to excl.'!F:F,A1397,'Details sales deliv. to excl.'!H:H)","v":0},{"$f":"-SUMIF('Details purch. deliv. to excl.'!F:F,A1397,'Details purch. deliv. to excl.'!H:H)","v":0},0,0,0]
["WAP1000","CISCO WiFi 1231 Access Point","Cisco AP1231 (+ Antennas 4941)",604,"AB NETWORK",372.86,0,null,0,0,0,0,"",{"$f":"+SUMIF('Details sales deliv. to excl.'!F:F,A1398,'Details sales deliv. to excl.'!H:H)","v":0},{"$f":"-SUMIF('Details purch. deliv. to excl.'!F:F,A1398,'Details purch. deliv. to excl.'!H:H)","v":0},0,0,0]
["WAP1001","CISCO WiFi 1242 Access Point","Cisco AP1242",472,"WESTCON GROUP EUROPEAN OPERATIONS LTD - BELGIUM BRANCH",437,0,null,0,0,0,0,"",{"$f":"+SUMIF('Details sales deliv. to excl.'!F:F,A1399,'Details sales deliv. to excl.'!H:H)","v":0},{"$f":"-SUMIF('Details purch. deliv. to excl.'!F:F,A1399,'Details purch. deliv. to excl.'!H:H)","v":0},0,0,0]
["WAP10010","Linksys Wless Acces Point Router WAG54GS","Linksys WAG54GS",509,"ICS",83,0,null,0,0,0,0,"",{"$f":"+SUMIF('Details sales deliv. to excl.'!F:F,A1400,'Details sales deliv. to excl.'!H:H)","v":0},{"$f":"-SUMIF('Details purch. deliv. to excl.'!F:F,A1400,'Details purch. deliv. to excl.'!H:H)","v":0},0,0,0]
["WAP10011","Linksys Wless Acces Point Router WRT54GL","Linksys WRT54GL",509,"ICS",68.16,0,null,0,0,0,0,"",{"$f":"+SUMIF('Details sales deliv. to excl.'!F:F,A1401,'Details sales deliv. to excl.'!H:H)","v":0},{"$f":"-SUMIF('Details purch. deliv. to excl.'!F:F,A1401,'Details purch. deliv. to excl.'!H:H)","v":0},0,0,0]
["WAP1010","Wi-Fi Access Point ARUBA 61","AP-61 Aruba 61 Wireless AP",565,"NOXS BELGIUM",189.98,0,null,0,0,0,0,"",{"$f":"+SUMIF('Details sales deliv. to excl.'!F:F,A1402,'Details sales deliv. to excl.'!H:H)","v":0},{"$f":"-SUMIF('Details purch. deliv. to excl.'!F:F,A1402,'Details purch. deliv. to excl.'!H:H)","v":0},0,0,0]
["WAP1020","Wi-Fi Access Point ARUBA 60","AP-60 Aruba 60 Wireless AP",565,"NOXS BELGIUM",198.75,0,null,0,0,0,0,"",{"$f":"+SUMIF('Details sales deliv. to excl.'!F:F,A1403,'Details sales deliv. to excl.'!H:H)","v":0},{"$f":"-SUMIF('Details purch. deliv. to excl.'!F:F,A1403,'Details purch. deliv. to excl.'!H:H)","v":0},0,0,0]
["WAP1030","Wi-Fi AP Aruba 80 Master Outdoor","AP-80M",565,"NOXS BELGIUM",1211.25,0,null,0,0,0,0,"",{"$f":"+SUMIF('Details sales deliv. to excl.'!F:F,A1404,'Details sales deliv. to excl.'!H:H)","v":0},{"$f":"-SUMIF('Details purch. deliv. to excl.'!F:F,A1404,'Details purch. deliv. to excl.'!H:H)","v":0},0,0,0]
["WGS","Wless GAnnex Gateway SpeedBooster",null,509,"ICS",0,0,null,0,0,0,0,"",{"$f":"+SUMIF('Details sales deliv. to excl.'!F:F,A1405,'Details sales deliv. to excl.'!H:H)","v":0},{"$f":"-SUMIF('Details purch. deliv. to excl.'!F:F,A1405,'Details purch. deliv. to excl.'!H:H)","v":0},0,0,0]
["WSW1000","Wireless Switch ARUBA 2400","2400-48-AOS-STD",565,"NOXS BELGIUM",4677.3999999999996,0,null,0,0,0,0,"",{"$f":"+SUMIF('Details sales deliv. to excl.'!F:F,A1406,'Details sales deliv. to excl.'!H:H)","v":0},{"$f":"-SUMIF('Details purch. deliv. to excl.'!F:F,A1406,'Details purch. deliv. to excl.'!H:H)","v":0},0,0,0]
["WSW1001","Wireless Switch ARUBA 2400 -Stateful Firewall Serv","LIC-2400-SFS",565,"NOXS BELGIUM",1920,0,null,0,0,0,0,"",{"$f":"+SUMIF('Details sales deliv. to excl.'!F:F,A1407,'Details sales deliv. to excl.'!H:H)","v":0},{"$f":"-SUMIF('Details purch. deliv. to excl.'!F:F,A1407,'Details purch. deliv. to excl.'!H:H)","v":0},0,0,0]
["WSW1002","Wireless Switch ARUBA 2400 -WiFi Intrusion Protect","LIC-2400-WIP",565,"NOXS BELGIUM",1920,0,null,0,0,0,0,"",{"$f":"+SUMIF('Details sales deliv. to excl.'!F:F,A1408,'Details sales deliv. to excl.'!H:H)","v":0},{"$f":"-SUMIF('Details purch. deliv. to excl.'!F:F,A1408,'Details purch. deliv. to excl.'!H:H)","v":0},0,0,0]
["WSW1011","Wireless Switch ARUBA 200","200-6-AOS-STD",565,"NOXS BELGIUM",1102.5,0,null,0,0,0,0,"",{"$f":"+SUMIF('Details sales deliv. to excl.'!F:F,A1409,'Details sales deliv. to excl.'!H:H)","v":0},{"$f":"-SUMIF('Details purch. deliv. to excl.'!F:F,A1409,'Details purch. deliv. to excl.'!H:H)","v":0},0,0,0]
["WSW1012","Wireless Switch ARUBA 200 Status Firewall Serv","LIC-200-PEF",565,"NOXS BELGIUM",220.5,0,null,0,0,0,0,"",{"$f":"+SUMIF('Details sales deliv. to excl.'!F:F,A1410,'Details sales deliv. to excl.'!H:H)","v":0},{"$f":"-SUMIF('Details purch. deliv. to excl.'!F:F,A1410,'Details purch. deliv. to excl.'!H:H)","v":0},0,0,0]
["WSW1013","Wireless Switch ARUBA 200 -WiFi Intrusion Protect","LIC-200-WIP",565,"NOXS BELGIUM",220.5,0,null,0,0,0,0,"",{"$f":"+SUMIF('Details sales deliv. to excl.'!F:F,A1411,'Details sales deliv. to excl.'!H:H)","v":0},{"$f":"-SUMIF('Details purch. deliv. to excl.'!F:F,A1411,'Details purch. deliv. to excl.'!H:H)","v":0},0,0,0]
["XAAP01","External API Module",null,0,null,0,0,null,{"$f":"H1412-G1412","v":0},{"$f":"G1412*F1412","v":0},{"$f":"H1412*F1412","v":0},{"$f":"I1412*F1412","v":0},"",{"$f":"+SUMIF('Details sales deliv. to excl.'!F:F,A1412,'Details sales deliv. to excl.'!H:H)","v":0},{"$f":"-SUMIF('Details purch. deliv. to excl.'!F:F,A1412,'Details purch. deliv. to excl.'!H:H)","v":0},{"$f":"I1412+N1412+O1412","v":0},{"$f":"G1412+P1412","v":0},{"$f":"Q1412*F1412","v":0}]
["XAG001","G.729 Annex A Codec Appliance Module",null,0,null,0,0,null,0,0,0,0,{"$f":"IF(ABS(L1413)>500,\"check\",\"\")","v":""},{"$f":"+SUMIF('Details sales deliv. to excl.'!F:F,A1413,'Details sales deliv. to excl.'!H:H)","v":0},{"$f":"-SUMIF('Details purch. deliv. to excl.'!F:F,A1413,'Details purch. deliv. to excl.'!H:H)","v":0},0,0,0]
["XAG002","Virtual Fax Module",null,0,null,0,0,null,0,0,0,0,"",{"$f":"+SUMIF('Details sales deliv. to excl.'!F:F,A1414,'Details sales deliv. to excl.'!H:H)","v":0},{"$f":"-SUMIF('Details purch. deliv. to excl.'!F:F,A1414,'Details purch. deliv. to excl.'!H:H)","v":0},0,0,0]
["XAG003","Virtual Fax Channel Module",null,0,null,0,0,null,0,0,0,0,"",{"$f":"+SUMIF('Details sales deliv. to excl.'!F:F,A1415,'Details sales deliv. to excl.'!H:H)","v":0},{"$f":"-SUMIF('Details purch. deliv. to excl.'!F:F,A1415,'Details purch. deliv. to excl.'!H:H)","v":0},0,0,0]
["XAG005","KNX Gateway Module",null,0,null,0,0,null,0,0,0,0,"",{"$f":"+SUMIF('Details sales deliv. to excl.'!F:F,A1416,'Details sales deliv. to excl.'!H:H)","v":0},{"$f":"-SUMIF('Details purch. deliv. to excl.'!F:F,A1416,'Details purch. deliv. to excl.'!H:H)","v":0},0,0,0]
["XAG007","ESPA444 Gateway on 3rd-party appliance with 1 ESPA444 interface","ESPA444 interface + 1y maint.",10352,"NEW VOICE INTERNATIONAL AG",4248.0600000000004,0,null,0,0,0,0,"",{"$f":"+SUMIF('Details sales deliv. to excl.'!F:F,A1417,'Details sales deliv. to excl.'!H:H)","v":0},{"$f":"-SUMIF('Details purch. deliv. to excl.'!F:F,A1417,'Details purch. deliv. to excl.'!H:H)","v":0},0,0,0]
["XAG008","Optional license for 1 additional ESPA444 interface","licence",10352,"NEW VOICE INTERNATIONAL AG",1471.5,0,null,0,0,0,0,"",{"$f":"+SUMIF('Details sales deliv. to excl.'!F:F,A1418,'Details sales deliv. to excl.'!H:H)","v":0},{"$f":"-SUMIF('Details purch. deliv. to excl.'!F:F,A1418,'Details purch. deliv. to excl.'!H:H)","v":0},0,0,0]
["XANM01","net.Manager Appliance Module",null,0,null,0,0,null,0,0,0,0,"",{"$f":"+SUMIF('Details sales deliv. to excl.'!F:F,A1419,'Details sales deliv. to excl.'!H:H)","v":0},{"$f":"-SUMIF('Details purch. deliv. to excl.'!F:F,A1419,'Details purch. deliv. to excl.'!H:H)","v":0},0,0,0]
["XAOS01","External Monitoring Appliance Module",null,0,null,0,0,null,0,0,0,0,"",{"$f":"+SUMIF('Details sales deliv. to excl.'!F:F,A1420,'Details sales deliv. to excl.'!H:H)","v":0},{"$f":"-SUMIF('Details purch. deliv. to excl.'!F:F,A1420,'Details purch. deliv. to excl.'!H:H)","v":0},0,0,0]
["XAPU01","PUM Module",null,0,null,0,0,null,0,0,0,0,"",{"$f":"+SUMIF('Details sales deliv. to excl.'!F:F,A1421,'Details sales deliv. to excl.'!H:H)","v":0},{"$f":"-SUMIF('Details purch. deliv. to excl.'!F:F,A1421,'Details purch. deliv. to excl.'!H:H)","v":0},0,0,0]
["XAPU02","PUM Appliance Module (Entreprise Edition)",null,0,null,0,0,null,0,0,0,0,"",{"$f":"+SUMIF('Details sales deliv. to excl.'!F:F,A1422,'Details sales deliv. to excl.'!H:H)","v":0},{"$f":"-SUMIF('Details purch. deliv. to excl.'!F:F,A1422,'Details purch. deliv. to excl.'!H:H)","v":0},0,0,0]
["XAPU03","PUM Appliance Module (Professional Edition)",null,0,null,0,0,null,0,0,0,0,"",{"$f":"+SUMIF('Details sales deliv. to excl.'!F:F,A1423,'Details sales deliv. to excl.'!H:H)","v":0},{"$f":"-SUMIF('Details purch. deliv. to excl.'!F:F,A1423,'Details purch. deliv. to excl.'!H:H)","v":0},0,0,0]
["XAQ001","QoS call analyzer Appliance Module",null,0,null,0,0,null,0,0,0,0,"",{"$f":"+SUMIF('Details sales deliv. to excl.'!F:F,A1424,'Details sales deliv. to excl.'!H:H)","v":0},{"$f":"-SUMIF('Details purch. deliv. to excl.'!F:F,A1424,'Details purch. deliv. to excl.'!H:H)","v":0},0,0,0]
["XAQ005","VDI support",null,0,null,0,0,null,0,0,0,0,"",{"$f":"+SUMIF('Details sales deliv. to excl.'!F:F,A1425,'Details sales deliv. to excl.'!H:H)","v":0},{"$f":"-SUMIF('Details purch. deliv. to excl.'!F:F,A1425,'Details purch. deliv. to excl.'!H:H)","v":0},0,0,0]
["XAR001","SMS Appliance Module - Corporate Edition",null,0,null,0,0,null,0,0,0,0,"",{"$f":"+SUMIF('Details sales deliv. to excl.'!F:F,A1426,'Details sales deliv. to excl.'!H:H)","v":0},{"$f":"-SUMIF('Details purch. deliv. to excl.'!F:F,A1426,'Details purch. deliv. to excl.'!H:H)","v":0},0,0,0]
["XAR002","SMS Appliance Module - Entreprise Edition",null,0,null,0,0,null,0,0,0,0,"",{"$f":"+SUMIF('Details sales deliv. to excl.'!F:F,A1427,'Details sales deliv. to excl.'!H:H)","v":0},{"$f":"-SUMIF('Details purch. deliv. to excl.'!F:F,A1427,'Details purch. deliv. to excl.'!H:H)","v":0},0,0,0]
["XCR001","Recurring Support Credits (h/y)",null,0,null,0,0,null,0,0,0,0,"",{"$f":"+SUMIF('Details sales deliv. to excl.'!F:F,A1428,'Details sales deliv. to excl.'!H:H)","v":0},{"$f":"-SUMIF('Details purch. deliv. to excl.'!F:F,A1428,'Details purch. deliv. to excl.'!H:H)","v":0},0,0,0]
["XCR002","Business Application Integration Credits (h)",null,0,null,0,0,null,0,0,0,0,"",{"$f":"+SUMIF('Details sales deliv. to excl.'!F:F,A1429,'Details sales deliv. to excl.'!H:H)","v":0},{"$f":"-SUMIF('Details purch. deliv. to excl.'!F:F,A1429,'Details purch. deliv. to excl.'!H:H)","v":0},0,0,0]
["XCR003","Additional Support Credits (h)",null,0,null,0,0,null,0,0,0,0,"",{"$f":"+SUMIF('Details sales deliv. to excl.'!F:F,A1430,'Details sales deliv. to excl.'!H:H)","v":0},{"$f":"-SUMIF('Details purch. deliv. to excl.'!F:F,A1430,'Details purch. deliv. to excl.'!H:H)","v":0},0,0,0]
["XCR004","Project Management Credits (h)",null,0,null,0,0,null,0,0,0,0,"",{"$f":"+SUMIF('Details sales deliv. to excl.'!F:F,A1431,'Details sales deliv. to excl.'!H:H)","v":0},{"$f":"-SUMIF('Details purch. deliv. to excl.'!F:F,A1431,'Details purch. deliv. to excl.'!H:H)","v":0},0,0,0]
["XCR005","Configuration Credits (h)",null,0,null,0,0,null,0,0,0,0,"",{"$f":"+SUMIF('Details sales deliv. to excl.'!F:F,A1432,'Details sales deliv. to excl.'!H:H)","v":0},{"$f":"-SUMIF('Details purch. deliv. to excl.'!F:F,A1432,'Details purch. deliv. to excl.'!H:H)","v":0},0,0,0]
["XCR006","1/2 day Basic Admin. Training  (excl travel)",null,0,null,0,0,null,0,0,0,0,"",{"$f":"+SUMIF('Details sales deliv. to excl.'!F:F,A1433,'Details sales deliv. to excl.'!H:H)","v":0},{"$f":"-SUMIF('Details purch. deliv. to excl.'!F:F,A1433,'Details purch. deliv. to excl.'!H:H)","v":0},0,0,0]
["XCR0061","1/2 day Basic Admin Training (on-site, excl. travel)",null,0,null,0,0,null,0,0,0,0,"",{"$f":"+SUMIF('Details sales deliv. to excl.'!F:F,A1434,'Details sales deliv. to excl.'!H:H)","v":0},{"$f":"-SUMIF('Details purch. deliv. to excl.'!F:F,A1434,'Details purch. deliv. to excl.'!H:H)","v":0},0,0,0]
["XCR007","1/2 day net.Console Training (on-site, excl. travel)",null,0,null,0,0,null,0,0,0,0,"",{"$f":"+SUMIF('Details sales deliv. to excl.'!F:F,A1435,'Details sales deliv. to excl.'!H:H)","v":0},{"$f":"-SUMIF('Details purch. deliv. to excl.'!F:F,A1435,'Details purch. deliv. to excl.'!H:H)","v":0},0,0,0]
["XCR008","1/2 day Train the Trainer (on-site, excl. travel)",null,0,null,0,0,null,0,0,0,0,"",{"$f":"+SUMIF('Details sales deliv. to excl.'!F:F,A1436,'Details sales deliv. to excl.'!H:H)","v":0},{"$f":"-SUMIF('Details purch. deliv. to excl.'!F:F,A1436,'Details purch. deliv. to excl.'!H:H)","v":0},0,0,0]
["XCR009","1/2 day net.Supervisor training (on-site, excl. travel)",null,0,null,0,0,null,0,0,0,0,"",{"$f":"+SUMIF('Details sales deliv. to excl.'!F:F,A1437,'Details sales deliv. to excl.'!H:H)","v":0},{"$f":"-SUMIF('Details purch. deliv. to excl.'!F:F,A1437,'Details purch. deliv. to excl.'!H:H)","v":0},0,0,0]
["XCR010","2 day Fuzer UC Admin Training at Escaux - 1p.",null,0,null,0,0,null,0,0,0,0,"",{"$f":"+SUMIF('Details sales deliv. to excl.'!F:F,A1438,'Details sales deliv. to excl.'!H:H)","v":0},{"$f":"-SUMIF('Details purch. deliv. to excl.'!F:F,A1438,'Details purch. deliv. to excl.'!H:H)","v":0},0,0,0]
["XCR011","2 day Fuzer UC Admin Training at Escaux - 3 p.",null,0,null,0,0,null,0,0,0,0,"",{"$f":"+SUMIF('Details sales deliv. to excl.'!F:F,A1439,'Details sales deliv. to excl.'!H:H)","v":0},{"$f":"-SUMIF('Details purch. deliv. to excl.'!F:F,A1439,'Details purch. deliv. to excl.'!H:H)","v":0},0,0,0]
["XCR012","3 d. Expert Training at ESCAUX- 3p.",null,0,null,0,0,null,0,0,0,0,"",{"$f":"+SUMIF('Details sales deliv. to excl.'!F:F,A1440,'Details sales deliv. to excl.'!H:H)","v":0},{"$f":"-SUMIF('Details purch. deliv. to excl.'!F:F,A1440,'Details purch. deliv. to excl.'!H:H)","v":0},0,0,0]
["XCR013","3 d. Expert Training at ESCAUX- 1p.",null,0,null,0,0,null,0,0,0,0,"",{"$f":"+SUMIF('Details sales deliv. to excl.'!F:F,A1441,'Details sales deliv. to excl.'!H:H)","v":0},{"$f":"-SUMIF('Details purch. deliv. to excl.'!F:F,A1441,'Details purch. deliv. to excl.'!H:H)","v":0},0,0,0]
["XCR015","1 day API Training at Escaux - 1 person",null,0,null,0,0,null,0,0,0,0,"",{"$f":"+SUMIF('Details sales deliv. to excl.'!F:F,A1442,'Details sales deliv. to excl.'!H:H)","v":0},{"$f":"-SUMIF('Details purch. deliv. to excl.'!F:F,A1442,'Details purch. deliv. to excl.'!H:H)","v":0},0,0,0]
["XCR016","1/2 day Certification Expert at ESCAUX",null,0,null,0,0,null,0,0,0,0,"",{"$f":"+SUMIF('Details sales deliv. to excl.'!F:F,A1443,'Details sales deliv. to excl.'!H:H)","v":0},{"$f":"-SUMIF('Details purch. deliv. to excl.'!F:F,A1443,'Details purch. deliv. to excl.'!H:H)","v":0},0,0,0]
["XCR017","1/2 day Certification API at ESCAUX",null,0,null,0,0,null,0,0,0,0,"",{"$f":"+SUMIF('Details sales deliv. to excl.'!F:F,A1444,'Details sales deliv. to excl.'!H:H)","v":0},{"$f":"-SUMIF('Details purch. deliv. to excl.'!F:F,A1444,'Details purch. deliv. to excl.'!H:H)","v":0},0,0,0]
["XCR018","1 day API Training at Escaux - 3 persons",null,0,null,0,0,null,0,0,0,0,"",{"$f":"+SUMIF('Details sales deliv. to excl.'!F:F,A1445,'Details sales deliv. to excl.'!H:H)","v":0},{"$f":"-SUMIF('Details purch. deliv. to excl.'!F:F,A1445,'Details purch. deliv. to excl.'!H:H)","v":0},0,0,0]
["XCR019","Int. of new brand +1 type of phone",null,0,null,0,0,null,0,0,0,0,"",{"$f":"+SUMIF('Details sales deliv. to excl.'!F:F,A1446,'Details sales deliv. to excl.'!H:H)","v":0},{"$f":"-SUMIF('Details purch. deliv. to excl.'!F:F,A1446,'Details purch. deliv. to excl.'!H:H)","v":0},0,0,0]
["XCR020","Add phone to existing phone cat.",null,0,null,0,0,null,0,0,0,0,"",{"$f":"+SUMIF('Details sales deliv. to excl.'!F:F,A1447,'Details sales deliv. to excl.'!H:H)","v":0},{"$f":"-SUMIF('Details purch. deliv. to excl.'!F:F,A1447,'Details purch. deliv. to excl.'!H:H)","v":0},0,0,0]
["XCR025","Software development points",null,0,null,0,0,null,0,0,0,0,"",{"$f":"+SUMIF('Details sales deliv. to excl.'!F:F,A1448,'Details sales deliv. to excl.'!H:H)","v":0},{"$f":"-SUMIF('Details purch. deliv. to excl.'!F:F,A1448,'Details purch. deliv. to excl.'!H:H)","v":0},0,0,0]
["XCR030","979 netConsole : Phone status should take into acc",null,0,null,0,0,null,0,0,0,0,"",{"$f":"+SUMIF('Details sales deliv. to excl.'!F:F,A1449,'Details sales deliv. to excl.'!H:H)","v":0},{"$f":"-SUMIF('Details purch. deliv. to excl.'!F:F,A1449,'Details purch. deliv. to excl.'!H:H)","v":0},0,0,0]
["XCR040","1002 Sipura2102 : adding possibility to disable DH",null,0,null,0,0,null,0,0,0,0,"",{"$f":"+SUMIF('Details sales deliv. to excl.'!F:F,A1450,'Details sales deliv. to excl.'!H:H)","v":0},{"$f":"-SUMIF('Details purch. deliv. to excl.'!F:F,A1450,'Details purch. deliv. to excl.'!H:H)","v":0},0,0,0]
["XCR050","983 SMP:Bulk admin: possibility to manipulate subs",null,0,null,0,0,null,0,0,0,0,"",{"$f":"+SUMIF('Details sales deliv. to excl.'!F:F,A1451,'Details sales deliv. to excl.'!H:H)","v":0},{"$f":"-SUMIF('Details purch. deliv. to excl.'!F:F,A1451,'Details purch. deliv. to excl.'!H:H)","v":0},0,0,0]
["XCR053","984 SMP:Bulk admin: lock table after export",null,0,null,0,0,null,0,0,0,0,"",{"$f":"+SUMIF('Details sales deliv. to excl.'!F:F,A1452,'Details sales deliv. to excl.'!H:H)","v":0},{"$f":"-SUMIF('Details purch. deliv. to excl.'!F:F,A1452,'Details purch. deliv. to excl.'!H:H)","v":0},0,0,0]
["XCR060","Project Management Training",null,0,null,0,0,null,0,0,0,0,"",{"$f":"+SUMIF('Details sales deliv. to excl.'!F:F,A1453,'Details sales deliv. to excl.'!H:H)","v":0},{"$f":"-SUMIF('Details purch. deliv. to excl.'!F:F,A1453,'Details purch. deliv. to excl.'!H:H)","v":0},0,0,0]
["XCR065","3 days SIP Trunk Certification training",null,0,null,0,0,null,0,0,0,0,"",{"$f":"+SUMIF('Details sales deliv. to excl.'!F:F,A1454,'Details sales deliv. to excl.'!H:H)","v":0},{"$f":"-SUMIF('Details purch. deliv. to excl.'!F:F,A1454,'Details purch. deliv. to excl.'!H:H)","v":0},0,0,0]
["XCR070","2 days training 1st line helpdesk / 6p",null,0,null,0,0,null,0,0,0,0,"",{"$f":"+SUMIF('Details sales deliv. to excl.'!F:F,A1455,'Details sales deliv. to excl.'!H:H)","v":0},{"$f":"-SUMIF('Details purch. deliv. to excl.'!F:F,A1455,'Details purch. deliv. to excl.'!H:H)","v":0},0,0,0]
["XCR072","1 day sales training per 8 persons",null,0,null,0,0,null,0,0,0,0,"",{"$f":"+SUMIF('Details sales deliv. to excl.'!F:F,A1456,'Details sales deliv. to excl.'!H:H)","v":0},{"$f":"-SUMIF('Details purch. deliv. to excl.'!F:F,A1456,'Details purch. deliv. to excl.'!H:H)","v":0},0,0,0]
["XCR074","Pre-Sales Training",null,0,null,0,0,null,0,0,0,0,"",{"$f":"+SUMIF('Details sales deliv. to excl.'!F:F,A1457,'Details sales deliv. to excl.'!H:H)","v":0},{"$f":"-SUMIF('Details purch. deliv. to excl.'!F:F,A1457,'Details purch. deliv. to excl.'!H:H)","v":0},0,0,0]
["XCR076","Sales & Employee Training",null,0,null,0,0,null,0,0,0,0,"",{"$f":"+SUMIF('Details sales deliv. to excl.'!F:F,A1458,'Details sales deliv. to excl.'!H:H)","v":0},{"$f":"-SUMIF('Details purch. deliv. to excl.'!F:F,A1458,'Details purch. deliv. to excl.'!H:H)","v":0},0,0,0]
["XCR078","Call center Agent Training",null,0,null,0,0,null,0,0,0,0,"",{"$f":"+SUMIF('Details sales deliv. to excl.'!F:F,A1459,'Details sales deliv. to excl.'!H:H)","v":0},{"$f":"-SUMIF('Details purch. deliv. to excl.'!F:F,A1459,'Details purch. deliv. to excl.'!H:H)","v":0},0,0,0]
["XCR080","Call center Supervisor Training",null,0,null,0,0,null,0,0,0,0,"",{"$f":"+SUMIF('Details sales deliv. to excl.'!F:F,A1460,'Details sales deliv. to excl.'!H:H)","v":0},{"$f":"-SUMIF('Details purch. deliv. to excl.'!F:F,A1460,'Details purch. deliv. to excl.'!H:H)","v":0},0,0,0]
["XCR082","Call center Administrator Training",null,0,null,0,0,null,0,0,0,0,"",{"$f":"+SUMIF('Details sales deliv. to excl.'!F:F,A1461,'Details sales deliv. to excl.'!H:H)","v":0},{"$f":"-SUMIF('Details purch. deliv. to excl.'!F:F,A1461,'Details purch. deliv. to excl.'!H:H)","v":0},0,0,0]
["XCR1000","Project Management / day",null,0,null,0,0,null,0,0,0,0,"",{"$f":"+SUMIF('Details sales deliv. to excl.'!F:F,A1462,'Details sales deliv. to excl.'!H:H)","v":0},{"$f":"-SUMIF('Details purch. deliv. to excl.'!F:F,A1462,'Details purch. deliv. to excl.'!H:H)","v":0},0,0,0]
["XCR1003","Project Management / 40 days",null,0,null,0,0,null,0,0,0,0,"",{"$f":"+SUMIF('Details sales deliv. to excl.'!F:F,A1463,'Details sales deliv. to excl.'!H:H)","v":0},{"$f":"-SUMIF('Details purch. deliv. to excl.'!F:F,A1463,'Details purch. deliv. to excl.'!H:H)","v":0},0,0,0]
["XCR1010","Project Management / 120 days",null,0,null,0,0,null,0,0,0,0,"",{"$f":"+SUMIF('Details sales deliv. to excl.'!F:F,A1464,'Details sales deliv. to excl.'!H:H)","v":0},{"$f":"-SUMIF('Details purch. deliv. to excl.'!F:F,A1464,'Details purch. deliv. to excl.'!H:H)","v":0},0,0,0]
["XCR1015","Project Management / 200 days",null,0,null,0,0,null,0,0,0,0,"",{"$f":"+SUMIF('Details sales deliv. to excl.'!F:F,A1465,'Details sales deliv. to excl.'!H:H)","v":0},{"$f":"-SUMIF('Details purch. deliv. to excl.'!F:F,A1465,'Details purch. deliv. to excl.'!H:H)","v":0},0,0,0]
["XCR1025","Project Management / 300 days",null,0,null,0,0,null,0,0,0,0,"",{"$f":"+SUMIF('Details sales deliv. to excl.'!F:F,A1466,'Details sales deliv. to excl.'!H:H)","v":0},{"$f":"-SUMIF('Details purch. deliv. to excl.'!F:F,A1466,'Details purch. deliv. to excl.'!H:H)","v":0},0,0,0]
["XCR1100","Design architecture / day",null,0,null,0,0,null,0,0,0,0,"",{"$f":"+SUMIF('Details sales deliv. to excl.'!F:F,A1467,'Details sales deliv. to excl.'!H:H)","v":0},{"$f":"-SUMIF('Details purch. deliv. to excl.'!F:F,A1467,'Details purch. deliv. to excl.'!H:H)","v":0},0,0,0]
["XCR1103","Design architecture / 40 days",null,0,null,0,0,null,0,0,0,0,"",{"$f":"+SUMIF('Details sales deliv. to excl.'!F:F,A1468,'Details sales deliv. to excl.'!H:H)","v":0},{"$f":"-SUMIF('Details purch. deliv. to excl.'!F:F,A1468,'Details purch. deliv. to excl.'!H:H)","v":0},0,0,0]
["XCR1110","Design architecture / 120 days",null,0,null,0,0,null,0,0,0,0,"",{"$f":"+SUMIF('Details sales deliv. to excl.'!F:F,A1469,'Details sales deliv. to excl.'!H:H)","v":0},{"$f":"-SUMIF('Details purch. deliv. to excl.'!F:F,A1469,'Details purch. deliv. to excl.'!H:H)","v":0},0,0,0]
["XCR1115","Design architecture / 200 days",null,0,null,0,0,null,0,0,0,0,"",{"$f":"+SUMIF('Details sales deliv. to excl.'!F:F,A1470,'Details sales deliv. to excl.'!H:H)","v":0},{"$f":"-SUMIF('Details purch. deliv. to excl.'!F:F,A1470,'Details purch. deliv. to excl.'!H:H)","v":0},0,0,0]
["XCR1125","Design architecture / 300 days",null,0,null,0,0,null,0,0,0,0,"",{"$f":"+SUMIF('Details sales deliv. to excl.'!F:F,A1471,'Details sales deliv. to excl.'!H:H)","v":0},{"$f":"-SUMIF('Details purch. deliv. to excl.'!F:F,A1471,'Details purch. deliv. to excl.'!H:H)","v":0},0,0,0]
["XCR1200","Senior developer / day",null,0,null,0,0,null,0,0,0,0,"",{"$f":"+SUMIF('Details sales deliv. to excl.'!F:F,A1472,'Details sales deliv. to excl.'!H:H)","v":0},{"$f":"-SUMIF('Details purch. deliv. to excl.'!F:F,A1472,'Details purch. deliv. to excl.'!H:H)","v":0},0,0,0]
["XCR1203","Senior developer / 40 days",null,0,null,0,0,null,0,0,0,0,"",{"$f":"+SUMIF('Details sales deliv. to excl.'!F:F,A1473,'Details sales deliv. to excl.'!H:H)","v":0},{"$f":"-SUMIF('Details purch. deliv. to excl.'!F:F,A1473,'Details purch. deliv. to excl.'!H:H)","v":0},0,0,0]
["XCR1210","Senior developer / 120 days",null,0,null,0,0,null,0,0,0,0,"",{"$f":"+SUMIF('Details sales deliv. to excl.'!F:F,A1474,'Details sales deliv. to excl.'!H:H)","v":0},{"$f":"-SUMIF('Details purch. deliv. to excl.'!F:F,A1474,'Details purch. deliv. to excl.'!H:H)","v":0},0,0,0]
["XCR1215","Senior developer / 200 days",null,0,null,0,0,null,0,0,0,0,"",{"$f":"+SUMIF('Details sales deliv. to excl.'!F:F,A1475,'Details sales deliv. to excl.'!H:H)","v":0},{"$f":"-SUMIF('Details purch. deliv. to excl.'!F:F,A1475,'Details purch. deliv. to excl.'!H:H)","v":0},0,0,0]
["XCR1225","Senior developer / 300 days",null,0,null,0,0,null,{"$f":"H1476-G1476","v":0},{"$f":"G1476*F1476","v":0},{"$f":"H1476*F1476","v":0},{"$f":"I1476*F1476","v":0},"",{"$f":"+SUMIF('Details sales deliv. to excl.'!F:F,A1476,'Details sales deliv. to excl.'!H:H)","v":0},{"$f":"-SUMIF('Details purch. deliv. to excl.'!F:F,A1476,'Details purch. deliv. to excl.'!H:H)","v":0},{"$f":"I1476+N1476+O1476","v":0},{"$f":"G1476+P1476","v":0},{"$f":"Q1476*F1476","v":0}]
["XCR1300","Configuration & Support Engineer / day",null,0,null,0,0,null,0,0,0,0,{"$f":"IF(ABS(L1477)>500,\"check\",\"\")","v":""},{"$f":"+SUMIF('Details sales deliv. to excl.'!F:F,A1477,'Details sales deliv. to excl.'!H:H)","v":0},{"$f":"-SUMIF('Details purch. deliv. to excl.'!F:F,A1477,'Details purch. deliv. to excl.'!H:H)","v":0},0,0,0]
["XCR1303","Configuration & Support Engineer / 40 days",null,0,null,0,0,null,0,0,0,0,"",{"$f":"+SUMIF('Details sales deliv. to excl.'!F:F,A1478,'Details sales deliv. to excl.'!H:H)","v":0},{"$f":"-SUMIF('Details purch. deliv. to excl.'!F:F,A1478,'Details purch. deliv. to excl.'!H:H)","v":0},0,0,0]
["XCR1310","Configuration & Support Engineer / 120 days",null,0,null,0,0,null,0,0,0,0,"",{"$f":"+SUMIF('Details sales deliv. to excl.'!F:F,A1479,'Details sales deliv. to excl.'!H:H)","v":0},{"$f":"-SUMIF('Details purch. deliv. to excl.'!F:F,A1479,'Details purch. deliv. to excl.'!H:H)","v":0},0,0,0]
["XCR1315","Configuration & Support Engineer / 200 days",null,0,null,0,0,null,0,0,0,0,"",{"$f":"+SUMIF('Details sales deliv. to excl.'!F:F,A1480,'Details sales deliv. to excl.'!H:H)","v":0},{"$f":"-SUMIF('Details purch. deliv. to excl.'!F:F,A1480,'Details purch. deliv. to excl.'!H:H)","v":0},0,0,0]
["XCR1325","Configuration & Support Engineer / 300 days",null,0,null,0,0,null,0,0,0,0,"",{"$f":"+SUMIF('Details sales deliv. to excl.'!F:F,A1481,'Details sales deliv. to excl.'!H:H)","v":0},{"$f":"-SUMIF('Details purch. deliv. to excl.'!F:F,A1481,'Details purch. deliv. to excl.'!H:H)","v":0},0,0,0]
["XCR1500","Professional services / day",null,0,null,0,0,null,0,0,0,0,"",{"$f":"+SUMIF('Details sales deliv. to excl.'!F:F,A1482,'Details sales deliv. to excl.'!H:H)","v":0},{"$f":"-SUMIF('Details purch. deliv. to excl.'!F:F,A1482,'Details purch. deliv. to excl.'!H:H)","v":0},0,0,0]
["XOO001","Onsite installation - fee per visit",null,0,null,0,0,null,0,0,0,0,"",{"$f":"+SUMIF('Details sales deliv. to excl.'!F:F,A1483,'Details sales deliv. to excl.'!H:H)","v":0},{"$f":"-SUMIF('Details purch. deliv. to excl.'!F:F,A1483,'Details purch. deliv. to excl.'!H:H)","v":0},0,0,0]
["XOO002","Preconfiguration/stagging",null,0,null,0,0,null,0,0,0,0,"",{"$f":"+SUMIF('Details sales deliv. to excl.'!F:F,A1484,'Details sales deliv. to excl.'!H:H)","v":0},{"$f":"-SUMIF('Details purch. deliv. to excl.'!F:F,A1484,'Details purch. deliv. to excl.'!H:H)","v":0},0,0,0]
["XOO003","Onsite installation",null,0,null,0,0,null,0,0,0,0,"",{"$f":"+SUMIF('Details sales deliv. to excl.'!F:F,A1485,'Details sales deliv. to excl.'!H:H)","v":0},{"$f":"-SUMIF('Details purch. deliv. to excl.'!F:F,A1485,'Details purch. deliv. to excl.'!H:H)","v":0},0,0,0]
["XOO004","Administration cost",null,0,null,0,0,null,0,0,0,0,"",{"$f":"+SUMIF('Details sales deliv. to excl.'!F:F,A1486,'Details sales deliv. to excl.'!H:H)","v":0},{"$f":"-SUMIF('Details purch. deliv. to excl.'!F:F,A1486,'Details purch. deliv. to excl.'!H:H)","v":0},0,0,0]
["XOO005","Commission cost",null,0,null,0,0,null,0,0,0,0,"",{"$f":"+SUMIF('Details sales deliv. to excl.'!F:F,A1487,'Details sales deliv. to excl.'!H:H)","v":0},{"$f":"-SUMIF('Details purch. deliv. to excl.'!F:F,A1487,'Details purch. deliv. to excl.'!H:H)","v":0},0,0,0]
["XOO101","Change request",null,0,null,0,0,null,0,0,0,0,"",{"$f":"+SUMIF('Details sales deliv. to excl.'!F:F,A1488,'Details sales deliv. to excl.'!H:H)","v":0},{"$f":"-SUMIF('Details purch. deliv. to excl.'!F:F,A1488,'Details purch. deliv. to excl.'!H:H)","v":0},0,0,0]
["XPA001","External API Project Module",null,0,null,0,0,null,0,0,0,0,"",{"$f":"+SUMIF('Details sales deliv. to excl.'!F:F,A1489,'Details sales deliv. to excl.'!H:H)","v":0},{"$f":"-SUMIF('Details purch. deliv. to excl.'!F:F,A1489,'Details purch. deliv. to excl.'!H:H)","v":0},0,0,0]
["XPM001","External Monitoring Project Module",null,0,null,0,0,null,0,0,0,0,"",{"$f":"+SUMIF('Details sales deliv. to excl.'!F:F,A1490,'Details sales deliv. to excl.'!H:H)","v":0},{"$f":"-SUMIF('Details purch. deliv. to excl.'!F:F,A1490,'Details purch. deliv. to excl.'!H:H)","v":0},0,0,0]
["XPM002","Media & Signalling Securitisation Project Module",null,0,null,0,0,null,0,0,0,0,"",{"$f":"+SUMIF('Details sales deliv. to excl.'!F:F,A1491,'Details sales deliv. to excl.'!H:H)","v":0},{"$f":"-SUMIF('Details purch. deliv. to excl.'!F:F,A1491,'Details purch. deliv. to excl.'!H:H)","v":0},0,0,0]
["XPP001","PUM Project Module",null,0,null,0,0,null,0,0,0,0,"",{"$f":"+SUMIF('Details sales deliv. to excl.'!F:F,A1492,'Details sales deliv. to excl.'!H:H)","v":0},{"$f":"-SUMIF('Details purch. deliv. to excl.'!F:F,A1492,'Details purch. deliv. to excl.'!H:H)","v":0},0,0,0]
["XPP002","PUM Project Module (Entreprise Edition)",null,0,null,0,0,null,0,0,0,0,"",{"$f":"+SUMIF('Details sales deliv. to excl.'!F:F,A1493,'Details sales deliv. to excl.'!H:H)","v":0},{"$f":"-SUMIF('Details purch. deliv. to excl.'!F:F,A1493,'Details purch. deliv. to excl.'!H:H)","v":0},0,0,0]
["XPP003","PUM Project Module (Professional Edition)",null,0,null,0,0,null,0,0,0,0,"",{"$f":"+SUMIF('Details sales deliv. to excl.'!F:F,A1494,'Details sales deliv. to excl.'!H:H)","v":0},{"$f":"-SUMIF('Details purch. deliv. to excl.'!F:F,A1494,'Details purch. deliv. to excl.'!H:H)","v":0},0,0,0]
["XPQ001","QoS call analyzer Project Module",null,0,null,0,0,null,0,0,0,0,"",{"$f":"+SUMIF('Details sales deliv. to excl.'!F:F,A1495,'Details sales deliv. to excl.'!H:H)","v":0},{"$f":"-SUMIF('Details purch. deliv. to excl.'!F:F,A1495,'Details purch. deliv. to excl.'!H:H)","v":0},0,0,0]
["XPR001","Advanced Reporting Project Module",null,0,null,0,0,null,0,0,0,0,"",{"$f":"+SUMIF('Details sales deliv. to excl.'!F:F,A1496,'Details sales deliv. to excl.'!H:H)","v":0},{"$f":"-SUMIF('Details purch. deliv. to excl.'!F:F,A1496,'Details purch. deliv. to excl.'!H:H)","v":0},0,0,0]
["XPS001","24*7 Support Window",null,0,null,0,0,null,0,0,0,0,"",{"$f":"+SUMIF('Details sales deliv. to excl.'!F:F,A1497,'Details sales deliv. to excl.'!H:H)","v":0},{"$f":"-SUMIF('Details purch. deliv. to excl.'!F:F,A1497,'Details purch. deliv. to excl.'!H:H)","v":0},0,0,0]
["XPS0011","Business Hours Support Window",null,0,null,0,0,null,0,0,0,0,"",{"$f":"+SUMIF('Details sales deliv. to excl.'!F:F,A1498,'Details sales deliv. to excl.'!H:H)","v":0},{"$f":"-SUMIF('Details purch. deliv. to excl.'!F:F,A1498,'Details purch. deliv. to excl.'!H:H)","v":0},0,0,0]
["XPS002","Extended Support Window",null,0,null,0,0,null,0,0,0,0,"",{"$f":"+SUMIF('Details sales deliv. to excl.'!F:F,A1499,'Details sales deliv. to excl.'!H:H)","v":0},{"$f":"-SUMIF('Details purch. deliv. to excl.'!F:F,A1499,'Details purch. deliv. to excl.'!H:H)","v":0},0,0,0]
["XPS003","Hardware Maintenance Phones",null,0,null,0,0,null,0,0,0,0,"",{"$f":"+SUMIF('Details sales deliv. to excl.'!F:F,A1500,'Details sales deliv. to excl.'!H:H)","v":0},{"$f":"-SUMIF('Details purch. deliv. to excl.'!F:F,A1500,'Details purch. deliv. to excl.'!H:H)","v":0},0,0,0]
["XPS004","Premium Release Upgrades",null,0,null,0,0,null,0,0,0,0,"",{"$f":"+SUMIF('Details sales deliv. to excl.'!F:F,A1501,'Details sales deliv. to excl.'!H:H)","v":0},{"$f":"-SUMIF('Details purch. deliv. to excl.'!F:F,A1501,'Details purch. deliv. to excl.'!H:H)","v":0},0,0,0]
["XPS005","upgrade to Advanced SLA",null,0,null,0,0,null,0,0,0,0,"",{"$f":"+SUMIF('Details sales deliv. to excl.'!F:F,A1502,'Details sales deliv. to excl.'!H:H)","v":0},{"$f":"-SUMIF('Details purch. deliv. to excl.'!F:F,A1502,'Details purch. deliv. to excl.'!H:H)","v":0},0,0,0]
["XPS006","upgrade to Premium SLA",null,0,null,0,0,null,0,0,0,0,"",{"$f":"+SUMIF('Details sales deliv. to excl.'!F:F,A1503,'Details sales deliv. to excl.'!H:H)","v":0},{"$f":"-SUMIF('Details purch. deliv. to excl.'!F:F,A1503,'Details purch. deliv. to excl.'!H:H)","v":0},0,0,0]
["XPS007","Standard SLA",null,0,null,0,0,null,0,0,0,0,"",{"$f":"+SUMIF('Details sales deliv. to excl.'!F:F,A1504,'Details sales deliv. to excl.'!H:H)","v":0},{"$f":"-SUMIF('Details purch. deliv. to excl.'!F:F,A1504,'Details purch. deliv. to excl.'!H:H)","v":0},0,0,0]
["XPS008","Hardware Maintenance",null,0,null,0,0,null,0,0,0,0,"",{"$f":"+SUMIF('Details sales deliv. to excl.'!F:F,A1505,'Details sales deliv. to excl.'!H:H)","v":0},{"$f":"-SUMIF('Details purch. deliv. to excl.'!F:F,A1505,'Details purch. deliv. to excl.'!H:H)","v":0},0,0,0]
["XPS009","Corporate Edition Project Module",null,0,null,0,0,null,0,0,0,0,"",{"$f":"+SUMIF('Details sales deliv. to excl.'!F:F,A1506,'Details sales deliv. to excl.'!H:H)","v":0},{"$f":"-SUMIF('Details purch. deliv. to excl.'!F:F,A1506,'Details purch. deliv. to excl.'!H:H)","v":0},0,0,0]
["XPS010","Enterprise Edition Project Module",null,0,null,0,0,null,0,0,0,0,"",{"$f":"+SUMIF('Details sales deliv. to excl.'!F:F,A1507,'Details sales deliv. to excl.'!H:H)","v":0},{"$f":"-SUMIF('Details purch. deliv. to excl.'!F:F,A1507,'Details purch. deliv. to excl.'!H:H)","v":0},0,0,0]
["XPS011","Professional Edition Project Module",null,0,null,0,0,null,0,0,0,0,"",{"$f":"+SUMIF('Details sales deliv. to excl.'!F:F,A1508,'Details sales deliv. to excl.'!H:H)","v":0},{"$f":"-SUMIF('Details purch. deliv. to excl.'!F:F,A1508,'Details purch. deliv. to excl.'!H:H)","v":0},0,0,0]
["XPS012","Corporate Edition Appliance Module",null,0,null,0,0,null,0,0,0,0,"",{"$f":"+SUMIF('Details sales deliv. to excl.'!F:F,A1509,'Details sales deliv. to excl.'!H:H)","v":0},{"$f":"-SUMIF('Details purch. deliv. to excl.'!F:F,A1509,'Details purch. deliv. to excl.'!H:H)","v":0},0,0,0]
["XPS013","Enterprise Edition Appliance Module",null,0,null,0,0,null,0,0,0,0,"",{"$f":"+SUMIF('Details sales deliv. to excl.'!F:F,A1510,'Details sales deliv. to excl.'!H:H)","v":0},{"$f":"-SUMIF('Details purch. deliv. to excl.'!F:F,A1510,'Details purch. deliv. to excl.'!H:H)","v":0},0,0,0]
["XPS014","Professional Edition Appliance Module",null,0,null,0,0,null,0,0,0,0,"",{"$f":"+SUMIF('Details sales deliv. to excl.'!F:F,A1511,'Details sales deliv. to excl.'!H:H)","v":0},{"$f":"-SUMIF('Details purch. deliv. to excl.'!F:F,A1511,'Details purch. deliv. to excl.'!H:H)","v":0},0,0,0]
["XPS015","No project module - COLT only",null,0,null,0,0,null,0,0,0,0,"",{"$f":"+SUMIF('Details sales deliv. to excl.'!F:F,A1512,'Details sales deliv. to excl.'!H:H)","v":0},{"$f":"-SUMIF('Details purch. deliv. to excl.'!F:F,A1512,'Details purch. deliv. to excl.'!H:H)","v":0},0,0,0]
["XPS016","Project - Mobile CloudConnect",null,0,null,0,0,null,0,0,0,0,"",{"$f":"+SUMIF('Details sales deliv. to excl.'!F:F,A1513,'Details sales deliv. to excl.'!H:H)","v":0},{"$f":"-SUMIF('Details purch. deliv. to excl.'!F:F,A1513,'Details purch. deliv. to excl.'!H:H)","v":0},0,0,0]
["XPS017","Project - Colt UCaaS",null,0,null,0,0,null,0,0,0,0,"",{"$f":"+SUMIF('Details sales deliv. to excl.'!F:F,A1514,'Details sales deliv. to excl.'!H:H)","v":0},{"$f":"-SUMIF('Details purch. deliv. to excl.'!F:F,A1514,'Details purch. deliv. to excl.'!H:H)","v":0},0,0,0]
["XPS018","Standard Integration Complexity",null,0,null,0,0,null,0,0,0,0,"",{"$f":"+SUMIF('Details sales deliv. to excl.'!F:F,A1515,'Details sales deliv. to excl.'!H:H)","v":0},{"$f":"-SUMIF('Details purch. deliv. to excl.'!F:F,A1515,'Details purch. deliv. to excl.'!H:H)","v":0},0,0,0]
["XPS019","Advanced Integration Complexity",null,0,null,0,0,null,0,0,0,0,"",{"$f":"+SUMIF('Details sales deliv. to excl.'!F:F,A1516,'Details sales deliv. to excl.'!H:H)","v":0},{"$f":"-SUMIF('Details purch. deliv. to excl.'!F:F,A1516,'Details purch. deliv. to excl.'!H:H)","v":0},0,0,0]
["XPS020","Standard SLA extra extensions 2009-2010",null,0,null,0,0,null,0,0,0,0,"",{"$f":"+SUMIF('Details sales deliv. to excl.'!F:F,A1517,'Details sales deliv. to excl.'!H:H)","v":0},{"$f":"-SUMIF('Details purch. deliv. to excl.'!F:F,A1517,'Details purch. deliv. to excl.'!H:H)","v":0},0,0,0]
["XPS021","upgrade to Premium Plus SLA",null,0,null,0,0,null,0,0,0,0,"",{"$f":"+SUMIF('Details sales deliv. to excl.'!F:F,A1518,'Details sales deliv. to excl.'!H:H)","v":0},{"$f":"-SUMIF('Details purch. deliv. to excl.'!F:F,A1518,'Details purch. deliv. to excl.'!H:H)","v":0},0,0,0]
["XPS025","24/7 SLA for 2010",null,0,null,0,0,null,0,0,0,0,"",{"$f":"+SUMIF('Details sales deliv. to excl.'!F:F,A1519,'Details sales deliv. to excl.'!H:H)","v":0},{"$f":"-SUMIF('Details purch. deliv. to excl.'!F:F,A1519,'Details purch. deliv. to excl.'!H:H)","v":0},0,0,0]
["XPS100","L3 Support - 24/24",null,0,null,0,0,null,0,0,0,0,"",{"$f":"+SUMIF('Details sales deliv. to excl.'!F:F,A1520,'Details sales deliv. to excl.'!H:H)","v":0},{"$f":"-SUMIF('Details purch. deliv. to excl.'!F:F,A1520,'Details purch. deliv. to excl.'!H:H)","v":0},0,0,0]
["XPS105","Out of Office Support (L1,L2)",null,0,null,0,0,null,0,0,0,0,"",{"$f":"+SUMIF('Details sales deliv. to excl.'!F:F,A1521,'Details sales deliv. to excl.'!H:H)","v":0},{"$f":"-SUMIF('Details purch. deliv. to excl.'!F:F,A1521,'Details purch. deliv. to excl.'!H:H)","v":0},0,0,0]
["XPS201","24/7 Support for Fuzer Cloud Service",null,501,"ESCAUX NV",0,0,null,0,0,0,0,"",{"$f":"+SUMIF('Details sales deliv. to excl.'!F:F,A1522,'Details sales deliv. to excl.'!H:H)","v":0},{"$f":"-SUMIF('Details purch. deliv. to excl.'!F:F,A1522,'Details purch. deliv. to excl.'!H:H)","v":0},0,0,0]
["XPW001","net.Console X700 Project Module",null,0,null,0,0,null,0,0,0,0,"",{"$f":"+SUMIF('Details sales deliv. to excl.'!F:F,A1523,'Details sales deliv. to excl.'!H:H)","v":0},{"$f":"-SUMIF('Details purch. deliv. to excl.'!F:F,A1523,'Details purch. deliv. to excl.'!H:H)","v":0},0,0,0]
["XPW002","net.Console X900 Project Module",null,0,null,0,0,null,0,0,0,0,"",{"$f":"+SUMIF('Details sales deliv. to excl.'!F:F,A1524,'Details sales deliv. to excl.'!H:H)","v":0},{"$f":"-SUMIF('Details purch. deliv. to excl.'!F:F,A1524,'Details purch. deliv. to excl.'!H:H)","v":0},0,0,0]
["XPW003","net.Desktop X10x Project Module",null,0,null,0,0,null,0,0,0,0,"",{"$f":"+SUMIF('Details sales deliv. to excl.'!F:F,A1525,'Details sales deliv. to excl.'!H:H)","v":0},{"$f":"-SUMIF('Details purch. deliv. to excl.'!F:F,A1525,'Details purch. deliv. to excl.'!H:H)","v":0},0,0,0]
["XPW004","net.Desktop X30x Project Module",null,0,null,0,0,null,0,0,0,0,"",{"$f":"+SUMIF('Details sales deliv. to excl.'!F:F,A1526,'Details sales deliv. to excl.'!H:H)","v":0},{"$f":"-SUMIF('Details purch. deliv. to excl.'!F:F,A1526,'Details purch. deliv. to excl.'!H:H)","v":0},0,0,0]
["XPW0045","net.Desktop X35x Project Module",null,0,null,0,0,null,0,0,0,0,"",{"$f":"+SUMIF('Details sales deliv. to excl.'!F:F,A1527,'Details sales deliv. to excl.'!H:H)","v":0},{"$f":"-SUMIF('Details purch. deliv. to excl.'!F:F,A1527,'Details purch. deliv. to excl.'!H:H)","v":0},0,0,0]
["XPW005","net.Desktop X50x Project Module",null,0,null,0,0,null,0,0,0,0,"",{"$f":"+SUMIF('Details sales deliv. to excl.'!F:F,A1528,'Details sales deliv. to excl.'!H:H)","v":0},{"$f":"-SUMIF('Details purch. deliv. to excl.'!F:F,A1528,'Details purch. deliv. to excl.'!H:H)","v":0},0,0,0]
["XPW006","net.Agent Project Module",null,0,null,0,0,null,0,0,0,0,"",{"$f":"+SUMIF('Details sales deliv. to excl.'!F:F,A1529,'Details sales deliv. to excl.'!H:H)","v":0},{"$f":"-SUMIF('Details purch. deliv. to excl.'!F:F,A1529,'Details purch. deliv. to excl.'!H:H)","v":0},0,0,0]
["XPW007","net.Supervisor Project Module",null,0,null,0,0,null,0,0,0,0,"",{"$f":"+SUMIF('Details sales deliv. to excl.'!F:F,A1530,'Details sales deliv. to excl.'!H:H)","v":0},{"$f":"-SUMIF('Details purch. deliv. to excl.'!F:F,A1530,'Details purch. deliv. to excl.'!H:H)","v":0},0,0,0]
["XPW008","net.Manager Project Module",null,0,null,0,0,null,0,0,0,0,"",{"$f":"+SUMIF('Details sales deliv. to excl.'!F:F,A1531,'Details sales deliv. to excl.'!H:H)","v":0},{"$f":"-SUMIF('Details purch. deliv. to excl.'!F:F,A1531,'Details purch. deliv. to excl.'!H:H)","v":0},0,0,0]
["XPW009","m.Connect X10x Project Module",null,0,null,0,0,null,0,0,0,0,"",{"$f":"+SUMIF('Details sales deliv. to excl.'!F:F,A1532,'Details sales deliv. to excl.'!H:H)","v":0},{"$f":"-SUMIF('Details purch. deliv. to excl.'!F:F,A1532,'Details purch. deliv. to excl.'!H:H)","v":0},0,0,0]
["XPW010","m.Connect X30x Project Module",null,0,null,0,0,null,0,0,0,0,"",{"$f":"+SUMIF('Details sales deliv. to excl.'!F:F,A1533,'Details sales deliv. to excl.'!H:H)","v":0},{"$f":"-SUMIF('Details purch. deliv. to excl.'!F:F,A1533,'Details purch. deliv. to excl.'!H:H)","v":0},0,0,0]
["XPW011","ESCAUX Connect X100 Project Module",null,0,null,0,0,null,0,0,0,0,"",{"$f":"+SUMIF('Details sales deliv. to excl.'!F:F,A1534,'Details sales deliv. to excl.'!H:H)","v":0},{"$f":"-SUMIF('Details purch. deliv. to excl.'!F:F,A1534,'Details purch. deliv. to excl.'!H:H)","v":0},0,0,0]
["XPW013","ESCAUX Connect X300 Project Module",null,0,null,0,0,null,0,0,0,0,"",{"$f":"+SUMIF('Details sales deliv. to excl.'!F:F,A1535,'Details sales deliv. to excl.'!H:H)","v":0},{"$f":"-SUMIF('Details purch. deliv. to excl.'!F:F,A1535,'Details purch. deliv. to excl.'!H:H)","v":0},0,0,0]
["XPW015","ESCAUX Connect X500 Project Module",null,0,null,0,0,null,0,0,0,0,"",{"$f":"+SUMIF('Details sales deliv. to excl.'!F:F,A1536,'Details sales deliv. to excl.'!H:H)","v":0},{"$f":"-SUMIF('Details purch. deliv. to excl.'!F:F,A1536,'Details purch. deliv. to excl.'!H:H)","v":0},0,0,0]
["XPX001","Recording & Archiving Project module",null,0,null,0,0,null,0,0,0,0,"",{"$f":"+SUMIF('Details sales deliv. to excl.'!F:F,A1537,'Details sales deliv. to excl.'!H:H)","v":0},{"$f":"-SUMIF('Details purch. deliv. to excl.'!F:F,A1537,'Details purch. deliv. to excl.'!H:H)","v":0},0,0,0]
["XSA001","Anti-virus Appliance Module",null,0,null,0,0,null,0,0,0,0,"",{"$f":"+SUMIF('Details sales deliv. to excl.'!F:F,A1538,'Details sales deliv. to excl.'!H:H)","v":0},{"$f":"-SUMIF('Details purch. deliv. to excl.'!F:F,A1538,'Details purch. deliv. to excl.'!H:H)","v":0},0,0,0]
["XSC001","Microsoft Axapta connector",null,0,null,3500,0,null,0,0,0,0,"",{"$f":"+SUMIF('Details sales deliv. to excl.'!F:F,A1539,'Details sales deliv. to excl.'!H:H)","v":0},{"$f":"-SUMIF('Details purch. deliv. to excl.'!F:F,A1539,'Details purch. deliv. to excl.'!H:H)","v":0},0,0,0]
["XSC002","Microsoft Exchange connector",null,0,null,3500,0,null,{"$f":"H1540-G1540","v":0},{"$f":"G1540*F1540","v":0},{"$f":"H1540*F1540","v":0},{"$f":"I1540*F1540","v":0},"",{"$f":"+SUMIF('Details sales deliv. to excl.'!F:F,A1540,'Details sales deliv. to excl.'!H:H)","v":0},{"$f":"-SUMIF('Details purch. deliv. to excl.'!F:F,A1540,'Details purch. deliv. to excl.'!H:H)","v":0},{"$f":"I1540+N1540+O1540","v":0},{"$f":"G1540+P1540","v":0},{"$f":"Q1540*F1540","v":0}]
["XSC003","Microsoft Navision connector",null,0,null,3500,0,null,0,0,0,0,{"$f":"IF(ABS(L1541)>500,\"check\",\"\")","v":""},{"$f":"+SUMIF('Details sales deliv. to excl.'!F:F,A1541,'Details sales deliv. to excl.'!H:H)","v":0},{"$f":"-SUMIF('Details purch. deliv. to excl.'!F:F,A1541,'Details purch. deliv. to excl.'!H:H)","v":0},0,0,0]
["XSC004","Microsoft Outlook connector",null,0,null,0,0,null,0,0,0,0,"",{"$f":"+SUMIF('Details sales deliv. to excl.'!F:F,A1542,'Details sales deliv. to excl.'!H:H)","v":0},{"$f":"-SUMIF('Details purch. deliv. to excl.'!F:F,A1542,'Details purch. deliv. to excl.'!H:H)","v":0},0,0,0]
["XSC005","Connector on demand (approval required)",null,0,null,3500,0,null,0,0,0,0,"",{"$f":"+SUMIF('Details sales deliv. to excl.'!F:F,A1543,'Details sales deliv. to excl.'!H:H)","v":0},{"$f":"-SUMIF('Details purch. deliv. to excl.'!F:F,A1543,'Details purch. deliv. to excl.'!H:H)","v":0},0,0,0]
["XSC006","Sugar CRM connector",null,0,null,799,0,null,0,0,0,0,"",{"$f":"+SUMIF('Details sales deliv. to excl.'!F:F,A1544,'Details sales deliv. to excl.'!H:H)","v":0},{"$f":"-SUMIF('Details purch. deliv. to excl.'!F:F,A1544,'Details purch. deliv. to excl.'!H:H)","v":0},0,0,0]
["XSM001","Media & Signalling Securitisation - 200",null,0,null,0,0,null,0,0,0,0,"",{"$f":"+SUMIF('Details sales deliv. to excl.'!F:F,A1545,'Details sales deliv. to excl.'!H:H)","v":0},{"$f":"-SUMIF('Details purch. deliv. to excl.'!F:F,A1545,'Details purch. deliv. to excl.'!H:H)","v":0},0,0,0]
["XSM002","Media & Signalling Securitisation - 400",null,0,null,0,0,null,0,0,0,0,"",{"$f":"+SUMIF('Details sales deliv. to excl.'!F:F,A1546,'Details sales deliv. to excl.'!H:H)","v":0},{"$f":"-SUMIF('Details purch. deliv. to excl.'!F:F,A1546,'Details purch. deliv. to excl.'!H:H)","v":0},0,0,0]
["XSM003","Media & Signalling Securitisation - 800",null,0,null,0,0,null,0,0,0,0,"",{"$f":"+SUMIF('Details sales deliv. to excl.'!F:F,A1547,'Details sales deliv. to excl.'!H:H)","v":0},{"$f":"-SUMIF('Details purch. deliv. to excl.'!F:F,A1547,'Details purch. deliv. to excl.'!H:H)","v":0},0,0,0]
["XSM004","Media & Signalling Securitisation - 1000",null,0,null,0,0,null,0,0,0,0,"",{"$f":"+SUMIF('Details sales deliv. to excl.'!F:F,A1548,'Details sales deliv. to excl.'!H:H)","v":0},{"$f":"-SUMIF('Details purch. deliv. to excl.'!F:F,A1548,'Details purch. deliv. to excl.'!H:H)","v":0},0,0,0]
["XSM005","Media & Signalling Securitisation - 1400",null,0,null,0,0,null,0,0,0,0,"",{"$f":"+SUMIF('Details sales deliv. to excl.'!F:F,A1549,'Details sales deliv. to excl.'!H:H)","v":0},{"$f":"-SUMIF('Details purch. deliv. to excl.'!F:F,A1549,'Details purch. deliv. to excl.'!H:H)","v":0},0,0,0]
["XSM006","Media & Signalling Securitisation - 2000",null,0,null,0,0,null,0,0,0,0,"",{"$f":"+SUMIF('Details sales deliv. to excl.'!F:F,A1550,'Details sales deliv. to excl.'!H:H)","v":0},{"$f":"-SUMIF('Details purch. deliv. to excl.'!F:F,A1550,'Details purch. deliv. to excl.'!H:H)","v":0},0,0,0]
["XSQ001","CallQueue - 1",null,0,null,0,0,null,0,0,0,0,"",{"$f":"+SUMIF('Details sales deliv. to excl.'!F:F,A1551,'Details sales deliv. to excl.'!H:H)","v":0},{"$f":"-SUMIF('Details purch. deliv. to excl.'!F:F,A1551,'Details purch. deliv. to excl.'!H:H)","v":0},0,0,0]
["XSQ002","CallQueue - 2",null,0,null,0,0,null,0,0,0,0,"",{"$f":"+SUMIF('Details sales deliv. to excl.'!F:F,A1552,'Details sales deliv. to excl.'!H:H)","v":0},{"$f":"-SUMIF('Details purch. deliv. to excl.'!F:F,A1552,'Details purch. deliv. to excl.'!H:H)","v":0},0,0,0]
["XSQ003","CallQueue - 3",null,0,null,0,0,null,0,0,0,0,"",{"$f":"+SUMIF('Details sales deliv. to excl.'!F:F,A1553,'Details sales deliv. to excl.'!H:H)","v":0},{"$f":"-SUMIF('Details purch. deliv. to excl.'!F:F,A1553,'Details purch. deliv. to excl.'!H:H)","v":0},0,0,0]
["XSQ004","CallQueue - 5",null,0,null,0,0,null,0,0,0,0,"",{"$f":"+SUMIF('Details sales deliv. to excl.'!F:F,A1554,'Details sales deliv. to excl.'!H:H)","v":0},{"$f":"-SUMIF('Details purch. deliv. to excl.'!F:F,A1554,'Details purch. deliv. to excl.'!H:H)","v":0},0,0,0]
["XSQ005","CallQueue - 8",null,0,null,0,0,null,0,0,0,0,"",{"$f":"+SUMIF('Details sales deliv. to excl.'!F:F,A1555,'Details sales deliv. to excl.'!H:H)","v":0},{"$f":"-SUMIF('Details purch. deliv. to excl.'!F:F,A1555,'Details purch. deliv. to excl.'!H:H)","v":0},0,0,0]
["XSQ006","CallQueue - 10",null,0,null,0,0,null,0,0,0,0,"",{"$f":"+SUMIF('Details sales deliv. to excl.'!F:F,A1556,'Details sales deliv. to excl.'!H:H)","v":0},{"$f":"-SUMIF('Details purch. deliv. to excl.'!F:F,A1556,'Details purch. deliv. to excl.'!H:H)","v":0},0,0,0]
["XSQ007","CallQueue - 15",null,0,null,0,0,null,0,0,0,0,"",{"$f":"+SUMIF('Details sales deliv. to excl.'!F:F,A1557,'Details sales deliv. to excl.'!H:H)","v":0},{"$f":"-SUMIF('Details purch. deliv. to excl.'!F:F,A1557,'Details purch. deliv. to excl.'!H:H)","v":0},0,0,0]
["XSQ008","CallQueue - 20",null,0,null,0,0,null,0,0,0,0,"",{"$f":"+SUMIF('Details sales deliv. to excl.'!F:F,A1558,'Details sales deliv. to excl.'!H:H)","v":0},{"$f":"-SUMIF('Details purch. deliv. to excl.'!F:F,A1558,'Details purch. deliv. to excl.'!H:H)","v":0},0,0,0]
["XSQ009","CallQueue - 4",null,0,null,0,0,null,0,0,0,0,"",{"$f":"+SUMIF('Details sales deliv. to excl.'!F:F,A1559,'Details sales deliv. to excl.'!H:H)","v":0},{"$f":"-SUMIF('Details purch. deliv. to excl.'!F:F,A1559,'Details purch. deliv. to excl.'!H:H)","v":0},0,0,0]
["XSQ010","CallQueue - 50",null,0,null,0,0,null,0,0,0,0,"",{"$f":"+SUMIF('Details sales deliv. to excl.'!F:F,A1560,'Details sales deliv. to excl.'!H:H)","v":0},{"$f":"-SUMIF('Details purch. deliv. to excl.'!F:F,A1560,'Details purch. deliv. to excl.'!H:H)","v":0},0,0,0]
["XSR001","Advance Report - 10",null,0,null,0,0,null,0,0,0,0,"",{"$f":"+SUMIF('Details sales deliv. to excl.'!F:F,A1561,'Details sales deliv. to excl.'!H:H)","v":0},{"$f":"-SUMIF('Details purch. deliv. to excl.'!F:F,A1561,'Details purch. deliv. to excl.'!H:H)","v":0},0,0,0]
["XSR002","Advance Report - 100",null,0,null,0,0,null,0,0,0,0,"",{"$f":"+SUMIF('Details sales deliv. to excl.'!F:F,A1562,'Details sales deliv. to excl.'!H:H)","v":0},{"$f":"-SUMIF('Details purch. deliv. to excl.'!F:F,A1562,'Details purch. deliv. to excl.'!H:H)","v":0},0,0,0]
["XSR003","Advance Report - 20",null,0,null,0,0,null,0,0,0,0,"",{"$f":"+SUMIF('Details sales deliv. to excl.'!F:F,A1563,'Details sales deliv. to excl.'!H:H)","v":0},{"$f":"-SUMIF('Details purch. deliv. to excl.'!F:F,A1563,'Details purch. deliv. to excl.'!H:H)","v":0},0,0,0]
["XSR004","Advance Report - 30",null,0,null,0,0,null,0,0,0,0,"",{"$f":"+SUMIF('Details sales deliv. to excl.'!F:F,A1564,'Details sales deliv. to excl.'!H:H)","v":0},{"$f":"-SUMIF('Details purch. deliv. to excl.'!F:F,A1564,'Details purch. deliv. to excl.'!H:H)","v":0},0,0,0]
["XSR005","Advance Report - 40",null,0,null,0,0,null,0,0,0,0,"",{"$f":"+SUMIF('Details sales deliv. to excl.'!F:F,A1565,'Details sales deliv. to excl.'!H:H)","v":0},{"$f":"-SUMIF('Details purch. deliv. to excl.'!F:F,A1565,'Details purch. deliv. to excl.'!H:H)","v":0},0,0,0]
["XSR006","Advance Report - 5",null,0,null,0,0,null,0,0,0,0,"",{"$f":"+SUMIF('Details sales deliv. to excl.'!F:F,A1566,'Details sales deliv. to excl.'!H:H)","v":0},{"$f":"-SUMIF('Details purch. deliv. to excl.'!F:F,A1566,'Details purch. deliv. to excl.'!H:H)","v":0},0,0,0]
["XSR007","Advance Report - 50",null,0,null,0,0,null,0,0,0,0,"",{"$f":"+SUMIF('Details sales deliv. to excl.'!F:F,A1567,'Details sales deliv. to excl.'!H:H)","v":0},{"$f":"-SUMIF('Details purch. deliv. to excl.'!F:F,A1567,'Details purch. deliv. to excl.'!H:H)","v":0},0,0,0]
["XSR008","Advance Report - 75",null,0,null,0,0,null,0,0,0,0,"",{"$f":"+SUMIF('Details sales deliv. to excl.'!F:F,A1568,'Details sales deliv. to excl.'!H:H)","v":0},{"$f":"-SUMIF('Details purch. deliv. to excl.'!F:F,A1568,'Details purch. deliv. to excl.'!H:H)","v":0},0,0,0]
["XSR009","Advance Report - 3",null,0,null,0,0,null,0,0,0,0,"",{"$f":"+SUMIF('Details sales deliv. to excl.'!F:F,A1569,'Details sales deliv. to excl.'!H:H)","v":0},{"$f":"-SUMIF('Details purch. deliv. to excl.'!F:F,A1569,'Details purch. deliv. to excl.'!H:H)","v":0},0,0,0]
["XSR010","Advance Report - 8",null,0,null,0,0,null,0,0,0,0,"",{"$f":"+SUMIF('Details sales deliv. to excl.'!F:F,A1570,'Details sales deliv. to excl.'!H:H)","v":0},{"$f":"-SUMIF('Details purch. deliv. to excl.'!F:F,A1570,'Details purch. deliv. to excl.'!H:H)","v":0},0,0,0]
["XSW000","Phone license - 1",null,0,null,0,0,null,0,0,0,0,"",{"$f":"+SUMIF('Details sales deliv. to excl.'!F:F,A1571,'Details sales deliv. to excl.'!H:H)","v":0},{"$f":"-SUMIF('Details purch. deliv. to excl.'!F:F,A1571,'Details purch. deliv. to excl.'!H:H)","v":0},0,0,0]
["XSW001","Phones licenses - 10",null,0,null,0,0,null,0,0,0,0,"",{"$f":"+SUMIF('Details sales deliv. to excl.'!F:F,A1572,'Details sales deliv. to excl.'!H:H)","v":0},{"$f":"-SUMIF('Details purch. deliv. to excl.'!F:F,A1572,'Details purch. deliv. to excl.'!H:H)","v":0},0,0,0]
["XSW002","Phones licenses - 100",null,0,null,0,0,null,0,0,0,0,"",{"$f":"+SUMIF('Details sales deliv. to excl.'!F:F,A1573,'Details sales deliv. to excl.'!H:H)","v":0},{"$f":"-SUMIF('Details purch. deliv. to excl.'!F:F,A1573,'Details purch. deliv. to excl.'!H:H)","v":0},0,0,0]
["XSW003","Phones licenses - 1000",null,0,null,0,0,null,0,0,0,0,"",{"$f":"+SUMIF('Details sales deliv. to excl.'!F:F,A1574,'Details sales deliv. to excl.'!H:H)","v":0},{"$f":"-SUMIF('Details purch. deliv. to excl.'!F:F,A1574,'Details purch. deliv. to excl.'!H:H)","v":0},0,0,0]
["XSW004","Phones licenses - 1200",null,0,null,0,0,null,0,0,0,0,"",{"$f":"+SUMIF('Details sales deliv. to excl.'!F:F,A1575,'Details sales deliv. to excl.'!H:H)","v":0},{"$f":"-SUMIF('Details purch. deliv. to excl.'!F:F,A1575,'Details purch. deliv. to excl.'!H:H)","v":0},0,0,0]
["XSW005","Phones licenses - 125",null,0,null,0,0,null,0,0,0,0,"",{"$f":"+SUMIF('Details sales deliv. to excl.'!F:F,A1576,'Details sales deliv. to excl.'!H:H)","v":0},{"$f":"-SUMIF('Details purch. deliv. to excl.'!F:F,A1576,'Details purch. deliv. to excl.'!H:H)","v":0},0,0,0]
["XSW006","Phones licenses - 1400",null,0,null,0,0,null,0,0,0,0,"",{"$f":"+SUMIF('Details sales deliv. to excl.'!F:F,A1577,'Details sales deliv. to excl.'!H:H)","v":0},{"$f":"-SUMIF('Details purch. deliv. to excl.'!F:F,A1577,'Details purch. deliv. to excl.'!H:H)","v":0},0,0,0]
["XSW007","Phones licenses - 150",null,0,null,0,0,null,0,0,0,0,"",{"$f":"+SUMIF('Details sales deliv. to excl.'!F:F,A1578,'Details sales deliv. to excl.'!H:H)","v":0},{"$f":"-SUMIF('Details purch. deliv. to excl.'!F:F,A1578,'Details purch. deliv. to excl.'!H:H)","v":0},0,0,0]
["XSW008","Phones licenses - 1600",null,0,null,0,0,null,0,0,0,0,"",{"$f":"+SUMIF('Details sales deliv. to excl.'!F:F,A1579,'Details sales deliv. to excl.'!H:H)","v":0},{"$f":"-SUMIF('Details purch. deliv. to excl.'!F:F,A1579,'Details purch. deliv. to excl.'!H:H)","v":0},0,0,0]
["XSW009","Phones licenses - 175",null,0,null,0,0,null,0,0,0,0,"",{"$f":"+SUMIF('Details sales deliv. to excl.'!F:F,A1580,'Details sales deliv. to excl.'!H:H)","v":0},{"$f":"-SUMIF('Details purch. deliv. to excl.'!F:F,A1580,'Details purch. deliv. to excl.'!H:H)","v":0},0,0,0]
["XSW010","Phones licenses - 1800",null,0,null,0,0,null,0,0,0,0,"",{"$f":"+SUMIF('Details sales deliv. to excl.'!F:F,A1581,'Details sales deliv. to excl.'!H:H)","v":0},{"$f":"-SUMIF('Details purch. deliv. to excl.'!F:F,A1581,'Details purch. deliv. to excl.'!H:H)","v":0},0,0,0]
["XSW011","Phones licenses - 20",null,0,null,0,0,null,0,0,0,0,"",{"$f":"+SUMIF('Details sales deliv. to excl.'!F:F,A1582,'Details sales deliv. to excl.'!H:H)","v":0},{"$f":"-SUMIF('Details purch. deliv. to excl.'!F:F,A1582,'Details purch. deliv. to excl.'!H:H)","v":0},0,0,0]
["XSW012","Phones licenses - 200",null,0,null,0,0,null,0,0,0,0,"",{"$f":"+SUMIF('Details sales deliv. to excl.'!F:F,A1583,'Details sales deliv. to excl.'!H:H)","v":0},{"$f":"-SUMIF('Details purch. deliv. to excl.'!F:F,A1583,'Details purch. deliv. to excl.'!H:H)","v":0},0,0,0]
["XSW013","Phones licenses - 2000",null,0,null,0,0,null,0,0,0,0,"",{"$f":"+SUMIF('Details sales deliv. to excl.'!F:F,A1584,'Details sales deliv. to excl.'!H:H)","v":0},{"$f":"-SUMIF('Details purch. deliv. to excl.'!F:F,A1584,'Details purch. deliv. to excl.'!H:H)","v":0},0,0,0]
["XSW014","Phones licenses - 250",null,0,null,0,0,null,0,0,0,0,"",{"$f":"+SUMIF('Details sales deliv. to excl.'!F:F,A1585,'Details sales deliv. to excl.'!H:H)","v":0},{"$f":"-SUMIF('Details purch. deliv. to excl.'!F:F,A1585,'Details purch. deliv. to excl.'!H:H)","v":0},0,0,0]
["XSW015","Phones licenses - 2500",null,0,null,0,0,null,0,0,0,0,"",{"$f":"+SUMIF('Details sales deliv. to excl.'!F:F,A1586,'Details sales deliv. to excl.'!H:H)","v":0},{"$f":"-SUMIF('Details purch. deliv. to excl.'!F:F,A1586,'Details purch. deliv. to excl.'!H:H)","v":0},0,0,0]
["XSW016","Phones licenses - 30",null,0,null,0,0,null,0,0,0,0,"",{"$f":"+SUMIF('Details sales deliv. to excl.'!F:F,A1587,'Details sales deliv. to excl.'!H:H)","v":0},{"$f":"-SUMIF('Details purch. deliv. to excl.'!F:F,A1587,'Details purch. deliv. to excl.'!H:H)","v":0},0,0,0]
["XSW017","Phones licenses - 300",null,0,null,0,0,null,0,0,0,0,"",{"$f":"+SUMIF('Details sales deliv. to excl.'!F:F,A1588,'Details sales deliv. to excl.'!H:H)","v":0},{"$f":"-SUMIF('Details purch. deliv. to excl.'!F:F,A1588,'Details purch. deliv. to excl.'!H:H)","v":0},0,0,0]
["XSW018","Phones licenses - 3000",null,0,null,0,0,null,0,0,0,0,"",{"$f":"+SUMIF('Details sales deliv. to excl.'!F:F,A1589,'Details sales deliv. to excl.'!H:H)","v":0},{"$f":"-SUMIF('Details purch. deliv. to excl.'!F:F,A1589,'Details purch. deliv. to excl.'!H:H)","v":0},0,0,0]
["XSW019","Phones licenses - 350",null,0,null,0,0,null,0,0,0,0,"",{"$f":"+SUMIF('Details sales deliv. to excl.'!F:F,A1590,'Details sales deliv. to excl.'!H:H)","v":0},{"$f":"-SUMIF('Details purch. deliv. to excl.'!F:F,A1590,'Details purch. deliv. to excl.'!H:H)","v":0},0,0,0]
["XSW020","Phones licenses - 3500",null,0,null,0,0,null,0,0,0,0,"",{"$f":"+SUMIF('Details sales deliv. to excl.'!F:F,A1591,'Details sales deliv. to excl.'!H:H)","v":0},{"$f":"-SUMIF('Details purch. deliv. to excl.'!F:F,A1591,'Details purch. deliv. to excl.'!H:H)","v":0},0,0,0]
["XSW021","Phones licenses - 40",null,0,null,0,0,null,0,0,0,0,"",{"$f":"+SUMIF('Details sales deliv. to excl.'!F:F,A1592,'Details sales deliv. to excl.'!H:H)","v":0},{"$f":"-SUMIF('Details purch. deliv. to excl.'!F:F,A1592,'Details purch. deliv. to excl.'!H:H)","v":0},0,0,0]
["XSW022","Phones licenses - 400",null,0,null,0,0,null,0,0,0,0,"",{"$f":"+SUMIF('Details sales deliv. to excl.'!F:F,A1593,'Details sales deliv. to excl.'!H:H)","v":0},{"$f":"-SUMIF('Details purch. deliv. to excl.'!F:F,A1593,'Details purch. deliv. to excl.'!H:H)","v":0},0,0,0]
["XSW023","Phones licenses - 4000",null,0,null,0,0,null,0,0,0,0,"",{"$f":"+SUMIF('Details sales deliv. to excl.'!F:F,A1594,'Details sales deliv. to excl.'!H:H)","v":0},{"$f":"-SUMIF('Details purch. deliv. to excl.'!F:F,A1594,'Details purch. deliv. to excl.'!H:H)","v":0},0,0,0]
["XSW024","Phones licenses - 4500",null,0,null,0,0,null,0,0,0,0,"",{"$f":"+SUMIF('Details sales deliv. to excl.'!F:F,A1595,'Details sales deliv. to excl.'!H:H)","v":0},{"$f":"-SUMIF('Details purch. deliv. to excl.'!F:F,A1595,'Details purch. deliv. to excl.'!H:H)","v":0},0,0,0]
["XSW025","Phones licenses - 50",null,0,null,0,0,null,0,0,0,0,"",{"$f":"+SUMIF('Details sales deliv. to excl.'!F:F,A1596,'Details sales deliv. to excl.'!H:H)","v":0},{"$f":"-SUMIF('Details purch. deliv. to excl.'!F:F,A1596,'Details purch. deliv. to excl.'!H:H)","v":0},0,0,0]
["XSW026","Phones licenses - 500",null,0,null,0,0,null,0,0,0,0,"",{"$f":"+SUMIF('Details sales deliv. to excl.'!F:F,A1597,'Details sales deliv. to excl.'!H:H)","v":0},{"$f":"-SUMIF('Details purch. deliv. to excl.'!F:F,A1597,'Details purch. deliv. to excl.'!H:H)","v":0},0,0,0]
["XSW027","Phones licenses - 5000",null,0,null,0,0,null,0,0,0,0,"",{"$f":"+SUMIF('Details sales deliv. to excl.'!F:F,A1598,'Details sales deliv. to excl.'!H:H)","v":0},{"$f":"-SUMIF('Details purch. deliv. to excl.'!F:F,A1598,'Details purch. deliv. to excl.'!H:H)","v":0},0,0,0]
["XSW028","Phones licenses - 60",null,0,null,0,0,null,0,0,0,0,"",{"$f":"+SUMIF('Details sales deliv. to excl.'!F:F,A1599,'Details sales deliv. to excl.'!H:H)","v":0},{"$f":"-SUMIF('Details purch. deliv. to excl.'!F:F,A1599,'Details purch. deliv. to excl.'!H:H)","v":0},0,0,0]
["XSW029","Phones licenses - 650",null,0,null,0,0,null,0,0,0,0,"",{"$f":"+SUMIF('Details sales deliv. to excl.'!F:F,A1600,'Details sales deliv. to excl.'!H:H)","v":0},{"$f":"-SUMIF('Details purch. deliv. to excl.'!F:F,A1600,'Details purch. deliv. to excl.'!H:H)","v":0},0,0,0]
["XSW030","Phones licenses - 80",null,0,null,0,0,null,0,0,0,0,"",{"$f":"+SUMIF('Details sales deliv. to excl.'!F:F,A1601,'Details sales deliv. to excl.'!H:H)","v":0},{"$f":"-SUMIF('Details purch. deliv. to excl.'!F:F,A1601,'Details purch. deliv. to excl.'!H:H)","v":0},0,0,0]
["XSW031","Phones licenses - 800",null,0,null,0,0,null,0,0,0,0,"",{"$f":"+SUMIF('Details sales deliv. to excl.'!F:F,A1602,'Details sales deliv. to excl.'!H:H)","v":0},{"$f":"-SUMIF('Details purch. deliv. to excl.'!F:F,A1602,'Details purch. deliv. to excl.'!H:H)","v":0},0,0,0]
["XSW032","net.Console X700 - 1",null,0,null,0,0,null,0,0,0,0,"",{"$f":"+SUMIF('Details sales deliv. to excl.'!F:F,A1603,'Details sales deliv. to excl.'!H:H)","v":0},{"$f":"-SUMIF('Details purch. deliv. to excl.'!F:F,A1603,'Details purch. deliv. to excl.'!H:H)","v":0},0,0,0]
["XSW033","net.Console X700 - 10",null,0,null,0,0,null,{"$f":"H1604-G1604","v":0},{"$f":"G1604*F1604","v":0},{"$f":"H1604*F1604","v":0},{"$f":"I1604*F1604","v":0},"",{"$f":"+SUMIF('Details sales deliv. to excl.'!F:F,A1604,'Details sales deliv. to excl.'!H:H)","v":0},{"$f":"-SUMIF('Details purch. deliv. to excl.'!F:F,A1604,'Details purch. deliv. to excl.'!H:H)","v":0},{"$f":"I1604+N1604+O1604","v":0},{"$f":"G1604+P1604","v":0},{"$f":"Q1604*F1604","v":0}]
["XSW034","net.Console X700 - 2",null,0,null,0,0,null,0,0,0,0,{"$f":"IF(ABS(L1605)>500,\"check\",\"\")","v":""},{"$f":"+SUMIF('Details sales deliv. to excl.'!F:F,A1605,'Details sales deliv. to excl.'!H:H)","v":0},{"$f":"-SUMIF('Details purch. deliv. to excl.'!F:F,A1605,'Details purch. deliv. to excl.'!H:H)","v":0},0,0,0]
["XSW035","net.Console X700 - 20",null,0,null,0,0,null,0,0,0,0,"",{"$f":"+SUMIF('Details sales deliv. to excl.'!F:F,A1606,'Details sales deliv. to excl.'!H:H)","v":0},{"$f":"-SUMIF('Details purch. deliv. to excl.'!F:F,A1606,'Details purch. deliv. to excl.'!H:H)","v":0},0,0,0]
["XSW036","net.Console X700 - 3",null,0,null,0,0,null,0,0,0,0,"",{"$f":"+SUMIF('Details sales deliv. to excl.'!F:F,A1607,'Details sales deliv. to excl.'!H:H)","v":0},{"$f":"-SUMIF('Details purch. deliv. to excl.'!F:F,A1607,'Details purch. deliv. to excl.'!H:H)","v":0},0,0,0]
["XSW037","net.Console X700 - 30",null,0,null,0,0,null,0,0,0,0,"",{"$f":"+SUMIF('Details sales deliv. to excl.'!F:F,A1608,'Details sales deliv. to excl.'!H:H)","v":0},{"$f":"-SUMIF('Details purch. deliv. to excl.'!F:F,A1608,'Details purch. deliv. to excl.'!H:H)","v":0},0,0,0]
["XSW038","net.Console X700 - 4",null,0,null,0,0,null,0,0,0,0,"",{"$f":"+SUMIF('Details sales deliv. to excl.'!F:F,A1609,'Details sales deliv. to excl.'!H:H)","v":0},{"$f":"-SUMIF('Details purch. deliv. to excl.'!F:F,A1609,'Details purch. deliv. to excl.'!H:H)","v":0},0,0,0]
["XSW039","net.Console X700 - 5",null,0,null,0,0,null,0,0,0,0,"",{"$f":"+SUMIF('Details sales deliv. to excl.'!F:F,A1610,'Details sales deliv. to excl.'!H:H)","v":0},{"$f":"-SUMIF('Details purch. deliv. to excl.'!F:F,A1610,'Details purch. deliv. to excl.'!H:H)","v":0},0,0,0]
["XSW040","net.Console X700 - 6",null,0,null,0,0,null,0,0,0,0,"",{"$f":"+SUMIF('Details sales deliv. to excl.'!F:F,A1611,'Details sales deliv. to excl.'!H:H)","v":0},{"$f":"-SUMIF('Details purch. deliv. to excl.'!F:F,A1611,'Details purch. deliv. to excl.'!H:H)","v":0},0,0,0]
["XSW041","net.Console X700 - 7",null,0,null,0,0,null,0,0,0,0,"",{"$f":"+SUMIF('Details sales deliv. to excl.'!F:F,A1612,'Details sales deliv. to excl.'!H:H)","v":0},{"$f":"-SUMIF('Details purch. deliv. to excl.'!F:F,A1612,'Details purch. deliv. to excl.'!H:H)","v":0},0,0,0]
["XSW042","net.Console X700 - 8",null,0,null,0,0,null,0,0,0,0,"",{"$f":"+SUMIF('Details sales deliv. to excl.'!F:F,A1613,'Details sales deliv. to excl.'!H:H)","v":0},{"$f":"-SUMIF('Details purch. deliv. to excl.'!F:F,A1613,'Details purch. deliv. to excl.'!H:H)","v":0},0,0,0]
["XSW043","net.Console X700 - 9",null,0,null,0,0,null,0,0,0,0,"",{"$f":"+SUMIF('Details sales deliv. to excl.'!F:F,A1614,'Details sales deliv. to excl.'!H:H)","v":0},{"$f":"-SUMIF('Details purch. deliv. to excl.'!F:F,A1614,'Details purch. deliv. to excl.'!H:H)","v":0},0,0,0]
["XSW044","net.Console X900 - 1",null,0,null,0,0,null,0,0,0,0,"",{"$f":"+SUMIF('Details sales deliv. to excl.'!F:F,A1615,'Details sales deliv. to excl.'!H:H)","v":0},{"$f":"-SUMIF('Details purch. deliv. to excl.'!F:F,A1615,'Details purch. deliv. to excl.'!H:H)","v":0},0,0,0]
["XSW045","net.Console X900 - 10",null,0,null,0,0,null,0,0,0,0,"",{"$f":"+SUMIF('Details sales deliv. to excl.'!F:F,A1616,'Details sales deliv. to excl.'!H:H)","v":0},{"$f":"-SUMIF('Details purch. deliv. to excl.'!F:F,A1616,'Details purch. deliv. to excl.'!H:H)","v":0},0,0,0]
["XSW046","net.Console X900 - 2",null,0,null,0,0,null,0,0,0,0,"",{"$f":"+SUMIF('Details sales deliv. to excl.'!F:F,A1617,'Details sales deliv. to excl.'!H:H)","v":0},{"$f":"-SUMIF('Details purch. deliv. to excl.'!F:F,A1617,'Details purch. deliv. to excl.'!H:H)","v":0},0,0,0]
["XSW047","net.Console X900 - 20",null,0,null,0,0,null,0,0,0,0,"",{"$f":"+SUMIF('Details sales deliv. to excl.'!F:F,A1618,'Details sales deliv. to excl.'!H:H)","v":0},{"$f":"-SUMIF('Details purch. deliv. to excl.'!F:F,A1618,'Details purch. deliv. to excl.'!H:H)","v":0},0,0,0]
["XSW048","net.Console X900 - 3",null,0,null,0,0,null,0,0,0,0,"",{"$f":"+SUMIF('Details sales deliv. to excl.'!F:F,A1619,'Details sales deliv. to excl.'!H:H)","v":0},{"$f":"-SUMIF('Details purch. deliv. to excl.'!F:F,A1619,'Details purch. deliv. to excl.'!H:H)","v":0},0,0,0]
["XSW049","net.Console X900 - 30",null,0,null,0,0,null,0,0,0,0,"",{"$f":"+SUMIF('Details sales deliv. to excl.'!F:F,A1620,'Details sales deliv. to excl.'!H:H)","v":0},{"$f":"-SUMIF('Details purch. deliv. to excl.'!F:F,A1620,'Details purch. deliv. to excl.'!H:H)","v":0},0,0,0]
["XSW050","net.Console X900 - 4",null,0,null,0,0,null,0,0,0,0,"",{"$f":"+SUMIF('Details sales deliv. to excl.'!F:F,A1621,'Details sales deliv. to excl.'!H:H)","v":0},{"$f":"-SUMIF('Details purch. deliv. to excl.'!F:F,A1621,'Details purch. deliv. to excl.'!H:H)","v":0},0,0,0]
["XSW051","net.Console X900 - 5",null,0,null,0,0,null,0,0,0,0,"",{"$f":"+SUMIF('Details sales deliv. to excl.'!F:F,A1622,'Details sales deliv. to excl.'!H:H)","v":0},{"$f":"-SUMIF('Details purch. deliv. to excl.'!F:F,A1622,'Details purch. deliv. to excl.'!H:H)","v":0},0,0,0]
["XSW052","net.Console X900 - 6",null,0,null,0,0,null,0,0,0,0,"",{"$f":"+SUMIF('Details sales deliv. to excl.'!F:F,A1623,'Details sales deliv. to excl.'!H:H)","v":0},{"$f":"-SUMIF('Details purch. deliv. to excl.'!F:F,A1623,'Details purch. deliv. to excl.'!H:H)","v":0},0,0,0]
["XSW053","net.Console X900 - 7",null,0,null,0,0,null,0,0,0,0,"",{"$f":"+SUMIF('Details sales deliv. to excl.'!F:F,A1624,'Details sales deliv. to excl.'!H:H)","v":0},{"$f":"-SUMIF('Details purch. deliv. to excl.'!F:F,A1624,'Details purch. deliv. to excl.'!H:H)","v":0},0,0,0]
["XSW054","net.Console X900 - 8",null,0,null,0,0,null,0,0,0,0,"",{"$f":"+SUMIF('Details sales deliv. to excl.'!F:F,A1625,'Details sales deliv. to excl.'!H:H)","v":0},{"$f":"-SUMIF('Details purch. deliv. to excl.'!F:F,A1625,'Details purch. deliv. to excl.'!H:H)","v":0},0,0,0]
["XSW055","net.Console X900 - 9",null,0,null,0,0,null,0,0,0,0,"",{"$f":"+SUMIF('Details sales deliv. to excl.'!F:F,A1626,'Details sales deliv. to excl.'!H:H)","v":0},{"$f":"-SUMIF('Details purch. deliv. to excl.'!F:F,A1626,'Details purch. deliv. to excl.'!H:H)","v":0},0,0,0]
["XSW056","net.Desktop X100 - 10",null,0,null,0,0,null,0,0,0,0,"",{"$f":"+SUMIF('Details sales deliv. to excl.'!F:F,A1627,'Details sales deliv. to excl.'!H:H)","v":0},{"$f":"-SUMIF('Details purch. deliv. to excl.'!F:F,A1627,'Details purch. deliv. to excl.'!H:H)","v":0},0,0,0]
["XSW057","net.Desktop X100 - 100",null,0,null,0,0,null,0,0,0,0,"",{"$f":"+SUMIF('Details sales deliv. to excl.'!F:F,A1628,'Details sales deliv. to excl.'!H:H)","v":0},{"$f":"-SUMIF('Details purch. deliv. to excl.'!F:F,A1628,'Details purch. deliv. to excl.'!H:H)","v":0},0,0,0]
["XSW058","net.Desktop X100 - 1000",null,0,null,0,0,null,0,0,0,0,"",{"$f":"+SUMIF('Details sales deliv. to excl.'!F:F,A1629,'Details sales deliv. to excl.'!H:H)","v":0},{"$f":"-SUMIF('Details purch. deliv. to excl.'!F:F,A1629,'Details purch. deliv. to excl.'!H:H)","v":0},0,0,0]
["XSW059","net.Desktop X100 - 1200",null,0,null,0,0,null,0,0,0,0,"",{"$f":"+SUMIF('Details sales deliv. to excl.'!F:F,A1630,'Details sales deliv. to excl.'!H:H)","v":0},{"$f":"-SUMIF('Details purch. deliv. to excl.'!F:F,A1630,'Details purch. deliv. to excl.'!H:H)","v":0},0,0,0]
["XSW060","net.Desktop X100 - 125",null,0,null,0,0,null,0,0,0,0,"",{"$f":"+SUMIF('Details sales deliv. to excl.'!F:F,A1631,'Details sales deliv. to excl.'!H:H)","v":0},{"$f":"-SUMIF('Details purch. deliv. to excl.'!F:F,A1631,'Details purch. deliv. to excl.'!H:H)","v":0},0,0,0]
["XSW061","net.Desktop X100 - 1400",null,0,null,0,0,null,0,0,0,0,"",{"$f":"+SUMIF('Details sales deliv. to excl.'!F:F,A1632,'Details sales deliv. to excl.'!H:H)","v":0},{"$f":"-SUMIF('Details purch. deliv. to excl.'!F:F,A1632,'Details purch. deliv. to excl.'!H:H)","v":0},0,0,0]
["XSW062","net.Desktop X100 - 150",null,0,null,0,0,null,0,0,0,0,"",{"$f":"+SUMIF('Details sales deliv. to excl.'!F:F,A1633,'Details sales deliv. to excl.'!H:H)","v":0},{"$f":"-SUMIF('Details purch. deliv. to excl.'!F:F,A1633,'Details purch. deliv. to excl.'!H:H)","v":0},0,0,0]
["XSW063","net.Desktop X100 - 1600",null,0,null,0,0,null,0,0,0,0,"",{"$f":"+SUMIF('Details sales deliv. to excl.'!F:F,A1634,'Details sales deliv. to excl.'!H:H)","v":0},{"$f":"-SUMIF('Details purch. deliv. to excl.'!F:F,A1634,'Details purch. deliv. to excl.'!H:H)","v":0},0,0,0]
["XSW064","net.Desktop X100 - 175",null,0,null,0,0,null,0,0,0,0,"",{"$f":"+SUMIF('Details sales deliv. to excl.'!F:F,A1635,'Details sales deliv. to excl.'!H:H)","v":0},{"$f":"-SUMIF('Details purch. deliv. to excl.'!F:F,A1635,'Details purch. deliv. to excl.'!H:H)","v":0},0,0,0]
["XSW065","net.Desktop X100 - 1800",null,0,null,0,0,null,0,0,0,0,"",{"$f":"+SUMIF('Details sales deliv. to excl.'!F:F,A1636,'Details sales deliv. to excl.'!H:H)","v":0},{"$f":"-SUMIF('Details purch. deliv. to excl.'!F:F,A1636,'Details purch. deliv. to excl.'!H:H)","v":0},0,0,0]
["XSW066","net.Desktop X100 - 20",null,0,null,0,0,null,0,0,0,0,"",{"$f":"+SUMIF('Details sales deliv. to excl.'!F:F,A1637,'Details sales deliv. to excl.'!H:H)","v":0},{"$f":"-SUMIF('Details purch. deliv. to excl.'!F:F,A1637,'Details purch. deliv. to excl.'!H:H)","v":0},0,0,0]
["XSW067","net.Desktop X100 - 200",null,0,null,0,0,null,0,0,0,0,"",{"$f":"+SUMIF('Details sales deliv. to excl.'!F:F,A1638,'Details sales deliv. to excl.'!H:H)","v":0},{"$f":"-SUMIF('Details purch. deliv. to excl.'!F:F,A1638,'Details purch. deliv. to excl.'!H:H)","v":0},0,0,0]
["XSW068","net.Desktop X100 - 2000",null,0,null,0,0,null,0,0,0,0,"",{"$f":"+SUMIF('Details sales deliv. to excl.'!F:F,A1639,'Details sales deliv. to excl.'!H:H)","v":0},{"$f":"-SUMIF('Details purch. deliv. to excl.'!F:F,A1639,'Details purch. deliv. to excl.'!H:H)","v":0},0,0,0]
["XSW069","net.Desktop X100 - 250",null,0,null,0,0,null,0,0,0,0,"",{"$f":"+SUMIF('Details sales deliv. to excl.'!F:F,A1640,'Details sales deliv. to excl.'!H:H)","v":0},{"$f":"-SUMIF('Details purch. deliv. to excl.'!F:F,A1640,'Details purch. deliv. to excl.'!H:H)","v":0},0,0,0]
["XSW070","net.Desktop X100 - 2500",null,0,null,0,0,null,0,0,0,0,"",{"$f":"+SUMIF('Details sales deliv. to excl.'!F:F,A1641,'Details sales deliv. to excl.'!H:H)","v":0},{"$f":"-SUMIF('Details purch. deliv. to excl.'!F:F,A1641,'Details purch. deliv. to excl.'!H:H)","v":0},0,0,0]
["XSW071","net.Desktop X100 - 30",null,0,null,0,0,null,0,0,0,0,"",{"$f":"+SUMIF('Details sales deliv. to excl.'!F:F,A1642,'Details sales deliv. to excl.'!H:H)","v":0},{"$f":"-SUMIF('Details purch. deliv. to excl.'!F:F,A1642,'Details purch. deliv. to excl.'!H:H)","v":0},0,0,0]
["XSW072","net.Desktop X100 - 300",null,0,null,0,0,null,0,0,0,0,"",{"$f":"+SUMIF('Details sales deliv. to excl.'!F:F,A1643,'Details sales deliv. to excl.'!H:H)","v":0},{"$f":"-SUMIF('Details purch. deliv. to excl.'!F:F,A1643,'Details purch. deliv. to excl.'!H:H)","v":0},0,0,0]
["XSW073","net.Desktop X100 - 3000",null,0,null,0,0,null,0,0,0,0,"",{"$f":"+SUMIF('Details sales deliv. to excl.'!F:F,A1644,'Details sales deliv. to excl.'!H:H)","v":0},{"$f":"-SUMIF('Details purch. deliv. to excl.'!F:F,A1644,'Details purch. deliv. to excl.'!H:H)","v":0},0,0,0]
["XSW074","net.Desktop X100 - 350",null,0,null,0,0,null,0,0,0,0,"",{"$f":"+SUMIF('Details sales deliv. to excl.'!F:F,A1645,'Details sales deliv. to excl.'!H:H)","v":0},{"$f":"-SUMIF('Details purch. deliv. to excl.'!F:F,A1645,'Details purch. deliv. to excl.'!H:H)","v":0},0,0,0]
["XSW075","net.Desktop X100 - 3500",null,0,null,0,0,null,0,0,0,0,"",{"$f":"+SUMIF('Details sales deliv. to excl.'!F:F,A1646,'Details sales deliv. to excl.'!H:H)","v":0},{"$f":"-SUMIF('Details purch. deliv. to excl.'!F:F,A1646,'Details purch. deliv. to excl.'!H:H)","v":0},0,0,0]
["XSW076","net.Desktop X100 - 40",null,0,null,0,0,null,0,0,0,0,"",{"$f":"+SUMIF('Details sales deliv. to excl.'!F:F,A1647,'Details sales deliv. to excl.'!H:H)","v":0},{"$f":"-SUMIF('Details purch. deliv. to excl.'!F:F,A1647,'Details purch. deliv. to excl.'!H:H)","v":0},0,0,0]
["XSW077","net.Desktop X100 - 400",null,0,null,0,0,null,0,0,0,0,"",{"$f":"+SUMIF('Details sales deliv. to excl.'!F:F,A1648,'Details sales deliv. to excl.'!H:H)","v":0},{"$f":"-SUMIF('Details purch. deliv. to excl.'!F:F,A1648,'Details purch. deliv. to excl.'!H:H)","v":0},0,0,0]
["XSW078","net.Desktop X100 - 4000",null,0,null,0,0,null,0,0,0,0,"",{"$f":"+SUMIF('Details sales deliv. to excl.'!F:F,A1649,'Details sales deliv. to excl.'!H:H)","v":0},{"$f":"-SUMIF('Details purch. deliv. to excl.'!F:F,A1649,'Details purch. deliv. to excl.'!H:H)","v":0},0,0,0]
["XSW079","net.Desktop X100 - 4500",null,0,null,0,0,null,0,0,0,0,"",{"$f":"+SUMIF('Details sales deliv. to excl.'!F:F,A1650,'Details sales deliv. to excl.'!H:H)","v":0},{"$f":"-SUMIF('Details purch. deliv. to excl.'!F:F,A1650,'Details purch. deliv. to excl.'!H:H)","v":0},0,0,0]
["XSW080","net.Desktop X100 - 50",null,0,null,0,0,null,0,0,0,0,"",{"$f":"+SUMIF('Details sales deliv. to excl.'!F:F,A1651,'Details sales deliv. to excl.'!H:H)","v":0},{"$f":"-SUMIF('Details purch. deliv. to excl.'!F:F,A1651,'Details purch. deliv. to excl.'!H:H)","v":0},0,0,0]
["XSW081","net.Desktop X100 - 500",null,0,null,0,0,null,0,0,0,0,"",{"$f":"+SUMIF('Details sales deliv. to excl.'!F:F,A1652,'Details sales deliv. to excl.'!H:H)","v":0},{"$f":"-SUMIF('Details purch. deliv. to excl.'!F:F,A1652,'Details purch. deliv. to excl.'!H:H)","v":0},0,0,0]
["XSW082","net.Desktop X100 - 5000",null,0,null,0,0,null,0,0,0,0,"",{"$f":"+SUMIF('Details sales deliv. to excl.'!F:F,A1653,'Details sales deliv. to excl.'!H:H)","v":0},{"$f":"-SUMIF('Details purch. deliv. to excl.'!F:F,A1653,'Details purch. deliv. to excl.'!H:H)","v":0},0,0,0]
["XSW083","net.Desktop X100 - 60",null,0,null,0,0,null,0,0,0,0,"",{"$f":"+SUMIF('Details sales deliv. to excl.'!F:F,A1654,'Details sales deliv. to excl.'!H:H)","v":0},{"$f":"-SUMIF('Details purch. deliv. to excl.'!F:F,A1654,'Details purch. deliv. to excl.'!H:H)","v":0},0,0,0]
["XSW084","net.Desktop X100 - 650",null,0,null,0,0,null,0,0,0,0,"",{"$f":"+SUMIF('Details sales deliv. to excl.'!F:F,A1655,'Details sales deliv. to excl.'!H:H)","v":0},{"$f":"-SUMIF('Details purch. deliv. to excl.'!F:F,A1655,'Details purch. deliv. to excl.'!H:H)","v":0},0,0,0]
["XSW085","net.Desktop X100 - 80",null,0,null,0,0,null,0,0,0,0,"",{"$f":"+SUMIF('Details sales deliv. to excl.'!F:F,A1656,'Details sales deliv. to excl.'!H:H)","v":0},{"$f":"-SUMIF('Details purch. deliv. to excl.'!F:F,A1656,'Details purch. deliv. to excl.'!H:H)","v":0},0,0,0]
["XSW086","net.Desktop X100 - 800",null,0,null,0,0,null,0,0,0,0,"",{"$f":"+SUMIF('Details sales deliv. to excl.'!F:F,A1657,'Details sales deliv. to excl.'!H:H)","v":0},{"$f":"-SUMIF('Details purch. deliv. to excl.'!F:F,A1657,'Details purch. deliv. to excl.'!H:H)","v":0},0,0,0]
["XSW087","net.Desktop X300 - 10",null,0,null,0,0,null,0,0,0,0,"",{"$f":"+SUMIF('Details sales deliv. to excl.'!F:F,A1658,'Details sales deliv. to excl.'!H:H)","v":0},{"$f":"-SUMIF('Details purch. deliv. to excl.'!F:F,A1658,'Details purch. deliv. to excl.'!H:H)","v":0},0,0,0]
["XSW088","net.Desktop X300 - 100",null,0,null,0,0,null,0,0,0,0,"",{"$f":"+SUMIF('Details sales deliv. to excl.'!F:F,A1659,'Details sales deliv. to excl.'!H:H)","v":0},{"$f":"-SUMIF('Details purch. deliv. to excl.'!F:F,A1659,'Details purch. deliv. to excl.'!H:H)","v":0},0,0,0]
["XSW089","net.Desktop X300 - 1000",null,0,null,0,0,null,0,0,0,0,"",{"$f":"+SUMIF('Details sales deliv. to excl.'!F:F,A1660,'Details sales deliv. to excl.'!H:H)","v":0},{"$f":"-SUMIF('Details purch. deliv. to excl.'!F:F,A1660,'Details purch. deliv. to excl.'!H:H)","v":0},0,0,0]
["XSW090","net.Desktop X300 - 1200",null,0,null,0,0,null,0,0,0,0,"",{"$f":"+SUMIF('Details sales deliv. to excl.'!F:F,A1661,'Details sales deliv. to excl.'!H:H)","v":0},{"$f":"-SUMIF('Details purch. deliv. to excl.'!F:F,A1661,'Details purch. deliv. to excl.'!H:H)","v":0},0,0,0]
["XSW091","net.Desktop X300 - 125",null,0,null,0,0,null,0,0,0,0,"",{"$f":"+SUMIF('Details sales deliv. to excl.'!F:F,A1662,'Details sales deliv. to excl.'!H:H)","v":0},{"$f":"-SUMIF('Details purch. deliv. to excl.'!F:F,A1662,'Details purch. deliv. to excl.'!H:H)","v":0},0,0,0]
["XSW092","net.Desktop X300 - 1400",null,0,null,0,0,null,0,0,0,0,"",{"$f":"+SUMIF('Details sales deliv. to excl.'!F:F,A1663,'Details sales deliv. to excl.'!H:H)","v":0},{"$f":"-SUMIF('Details purch. deliv. to excl.'!F:F,A1663,'Details purch. deliv. to excl.'!H:H)","v":0},0,0,0]
["XSW093","net.Desktop X300 - 150",null,0,null,0,0,null,0,0,0,0,"",{"$f":"+SUMIF('Details sales deliv. to excl.'!F:F,A1664,'Details sales deliv. to excl.'!H:H)","v":0},{"$f":"-SUMIF('Details purch. deliv. to excl.'!F:F,A1664,'Details purch. deliv. to excl.'!H:H)","v":0},0,0,0]
["XSW094","net.Desktop X300 - 1600",null,0,null,0,0,null,0,0,0,0,"",{"$f":"+SUMIF('Details sales deliv. to excl.'!F:F,A1665,'Details sales deliv. to excl.'!H:H)","v":0},{"$f":"-SUMIF('Details purch. deliv. to excl.'!F:F,A1665,'Details purch. deliv. to excl.'!H:H)","v":0},0,0,0]
["XSW095","net.Desktop X300 - 175",null,0,null,0,0,null,0,0,0,0,"",{"$f":"+SUMIF('Details sales deliv. to excl.'!F:F,A1666,'Details sales deliv. to excl.'!H:H)","v":0},{"$f":"-SUMIF('Details purch. deliv. to excl.'!F:F,A1666,'Details purch. deliv. to excl.'!H:H)","v":0},0,0,0]
["XSW096","net.Desktop X300 - 1800",null,0,null,0,0,null,0,0,0,0,"",{"$f":"+SUMIF('Details sales deliv. to excl.'!F:F,A1667,'Details sales deliv. to excl.'!H:H)","v":0},{"$f":"-SUMIF('Details purch. deliv. to excl.'!F:F,A1667,'Details purch. deliv. to excl.'!H:H)","v":0},0,0,0]
["XSW097","net.Desktop X300 - 20",null,0,null,0,0,null,{"$f":"H1668-G1668","v":0},{"$f":"G1668*F1668","v":0},{"$f":"H1668*F1668","v":0},{"$f":"I1668*F1668","v":0},"",{"$f":"+SUMIF('Details sales deliv. to excl.'!F:F,A1668,'Details sales deliv. to excl.'!H:H)","v":0},{"$f":"-SUMIF('Details purch. deliv. to excl.'!F:F,A1668,'Details purch. deliv. to excl.'!H:H)","v":0},{"$f":"I1668+N1668+O1668","v":0},{"$f":"G1668+P1668","v":0},{"$f":"Q1668*F1668","v":0}]
["XSW098","net.Desktop X300 - 200",null,0,null,0,0,null,0,0,0,0,{"$f":"IF(ABS(L1669)>500,\"check\",\"\")","v":""},{"$f":"+SUMIF('Details sales deliv. to excl.'!F:F,A1669,'Details sales deliv. to excl.'!H:H)","v":0},{"$f":"-SUMIF('Details purch. deliv. to excl.'!F:F,A1669,'Details purch. deliv. to excl.'!H:H)","v":0},0,0,0]
["XSW099","net.Desktop X300 - 2000",null,0,null,0,0,null,0,0,0,0,"",{"$f":"+SUMIF('Details sales deliv. to excl.'!F:F,A1670,'Details sales deliv. to excl.'!H:H)","v":0},{"$f":"-SUMIF('Details purch. deliv. to excl.'!F:F,A1670,'Details purch. deliv. to excl.'!H:H)","v":0},0,0,0]
["XSW100","net.Desktop X300 - 250",null,0,null,0,0,null,0,0,0,0,"",{"$f":"+SUMIF('Details sales deliv. to excl.'!F:F,A1671,'Details sales deliv. to excl.'!H:H)","v":0},{"$f":"-SUMIF('Details purch. deliv. to excl.'!F:F,A1671,'Details purch. deliv. to excl.'!H:H)","v":0},0,0,0]
["XSW101","net.Desktop X300 - 2500",null,0,null,0,0,null,0,0,0,0,"",{"$f":"+SUMIF('Details sales deliv. to excl.'!F:F,A1672,'Details sales deliv. to excl.'!H:H)","v":0},{"$f":"-SUMIF('Details purch. deliv. to excl.'!F:F,A1672,'Details purch. deliv. to excl.'!H:H)","v":0},0,0,0]
["XSW102","net.Desktop X300 - 30",null,0,null,0,0,null,0,0,0,0,"",{"$f":"+SUMIF('Details sales deliv. to excl.'!F:F,A1673,'Details sales deliv. to excl.'!H:H)","v":0},{"$f":"-SUMIF('Details purch. deliv. to excl.'!F:F,A1673,'Details purch. deliv. to excl.'!H:H)","v":0},0,0,0]
["XSW103","net.Desktop X300 - 300",null,0,null,0,0,null,0,0,0,0,"",{"$f":"+SUMIF('Details sales deliv. to excl.'!F:F,A1674,'Details sales deliv. to excl.'!H:H)","v":0},{"$f":"-SUMIF('Details purch. deliv. to excl.'!F:F,A1674,'Details purch. deliv. to excl.'!H:H)","v":0},0,0,0]
["XSW104","net.Desktop X300 - 3000",null,0,null,0,0,null,0,0,0,0,"",{"$f":"+SUMIF('Details sales deliv. to excl.'!F:F,A1675,'Details sales deliv. to excl.'!H:H)","v":0},{"$f":"-SUMIF('Details purch. deliv. to excl.'!F:F,A1675,'Details purch. deliv. to excl.'!H:H)","v":0},0,0,0]
["XSW105","net.Desktop X300 - 350",null,0,null,0,0,null,0,0,0,0,"",{"$f":"+SUMIF('Details sales deliv. to excl.'!F:F,A1676,'Details sales deliv. to excl.'!H:H)","v":0},{"$f":"-SUMIF('Details purch. deliv. to excl.'!F:F,A1676,'Details purch. deliv. to excl.'!H:H)","v":0},0,0,0]
["XSW106","net.Desktop X300 - 3500",null,0,null,0,0,null,0,0,0,0,"",{"$f":"+SUMIF('Details sales deliv. to excl.'!F:F,A1677,'Details sales deliv. to excl.'!H:H)","v":0},{"$f":"-SUMIF('Details purch. deliv. to excl.'!F:F,A1677,'Details purch. deliv. to excl.'!H:H)","v":0},0,0,0]
["XSW107","net.Desktop X300 - 40",null,0,null,0,0,null,0,0,0,0,"",{"$f":"+SUMIF('Details sales deliv. to excl.'!F:F,A1678,'Details sales deliv. to excl.'!H:H)","v":0},{"$f":"-SUMIF('Details purch. deliv. to excl.'!F:F,A1678,'Details purch. deliv. to excl.'!H:H)","v":0},0,0,0]
["XSW108","net.Desktop X300 - 400",null,0,null,0,0,null,0,0,0,0,"",{"$f":"+SUMIF('Details sales deliv. to excl.'!F:F,A1679,'Details sales deliv. to excl.'!H:H)","v":0},{"$f":"-SUMIF('Details purch. deliv. to excl.'!F:F,A1679,'Details purch. deliv. to excl.'!H:H)","v":0},0,0,0]
["XSW109","net.Desktop X300 - 4000",null,0,null,0,0,null,0,0,0,0,"",{"$f":"+SUMIF('Details sales deliv. to excl.'!F:F,A1680,'Details sales deliv. to excl.'!H:H)","v":0},{"$f":"-SUMIF('Details purch. deliv. to excl.'!F:F,A1680,'Details purch. deliv. to excl.'!H:H)","v":0},0,0,0]
["XSW110","net.Desktop X300 - 4500",null,0,null,0,0,null,0,0,0,0,"",{"$f":"+SUMIF('Details sales deliv. to excl.'!F:F,A1681,'Details sales deliv. to excl.'!H:H)","v":0},{"$f":"-SUMIF('Details purch. deliv. to excl.'!F:F,A1681,'Details purch. deliv. to excl.'!H:H)","v":0},0,0,0]
["XSW1100","Phones licenses - 1100",null,0,null,0,0,null,0,0,0,0,"",{"$f":"+SUMIF('Details sales deliv. to excl.'!F:F,A1682,'Details sales deliv. to excl.'!H:H)","v":0},{"$f":"-SUMIF('Details purch. deliv. to excl.'!F:F,A1682,'Details purch. deliv. to excl.'!H:H)","v":0},0,0,0]
["XSW111","net.Desktop X300 - 50",null,0,null,0,0,null,0,0,0,0,"",{"$f":"+SUMIF('Details sales deliv. to excl.'!F:F,A1683,'Details sales deliv. to excl.'!H:H)","v":0},{"$f":"-SUMIF('Details purch. deliv. to excl.'!F:F,A1683,'Details purch. deliv. to excl.'!H:H)","v":0},0,0,0]
["XSW112","net.Desktop X300 - 500",null,0,null,0,0,null,0,0,0,0,"",{"$f":"+SUMIF('Details sales deliv. to excl.'!F:F,A1684,'Details sales deliv. to excl.'!H:H)","v":0},{"$f":"-SUMIF('Details purch. deliv. to excl.'!F:F,A1684,'Details purch. deliv. to excl.'!H:H)","v":0},0,0,0]
["XSW113","net.Desktop X300 - 5000",null,0,null,0,0,null,0,0,0,0,"",{"$f":"+SUMIF('Details sales deliv. to excl.'!F:F,A1685,'Details sales deliv. to excl.'!H:H)","v":0},{"$f":"-SUMIF('Details purch. deliv. to excl.'!F:F,A1685,'Details purch. deliv. to excl.'!H:H)","v":0},0,0,0]
["XSW114","net.Desktop X300 - 60",null,0,null,0,0,null,0,0,0,0,"",{"$f":"+SUMIF('Details sales deliv. to excl.'!F:F,A1686,'Details sales deliv. to excl.'!H:H)","v":0},{"$f":"-SUMIF('Details purch. deliv. to excl.'!F:F,A1686,'Details purch. deliv. to excl.'!H:H)","v":0},0,0,0]
["XSW115","net.Desktop X300 - 650",null,0,null,0,0,null,0,0,0,0,"",{"$f":"+SUMIF('Details sales deliv. to excl.'!F:F,A1687,'Details sales deliv. to excl.'!H:H)","v":0},{"$f":"-SUMIF('Details purch. deliv. to excl.'!F:F,A1687,'Details purch. deliv. to excl.'!H:H)","v":0},0,0,0]
["XSW116","net.Desktop X300 - 80",null,0,null,0,0,null,0,0,0,0,"",{"$f":"+SUMIF('Details sales deliv. to excl.'!F:F,A1688,'Details sales deliv. to excl.'!H:H)","v":0},{"$f":"-SUMIF('Details purch. deliv. to excl.'!F:F,A1688,'Details purch. deliv. to excl.'!H:H)","v":0},0,0,0]
["XSW117","net.Desktop X300 - 800",null,0,null,0,0,null,0,0,0,0,"",{"$f":"+SUMIF('Details sales deliv. to excl.'!F:F,A1689,'Details sales deliv. to excl.'!H:H)","v":0},{"$f":"-SUMIF('Details purch. deliv. to excl.'!F:F,A1689,'Details purch. deliv. to excl.'!H:H)","v":0},0,0,0]
["XSW118","net.Desktop X500 - 10",null,0,null,0,0,null,0,0,0,0,"",{"$f":"+SUMIF('Details sales deliv. to excl.'!F:F,A1690,'Details sales deliv. to excl.'!H:H)","v":0},{"$f":"-SUMIF('Details purch. deliv. to excl.'!F:F,A1690,'Details purch. deliv. to excl.'!H:H)","v":0},0,0,0]
["XSW119","net.Desktop X500 - 100",null,0,null,0,0,null,0,0,0,0,"",{"$f":"+SUMIF('Details sales deliv. to excl.'!F:F,A1691,'Details sales deliv. to excl.'!H:H)","v":0},{"$f":"-SUMIF('Details purch. deliv. to excl.'!F:F,A1691,'Details purch. deliv. to excl.'!H:H)","v":0},0,0,0]
["XSW120","net.Desktop X500 - 1000",null,0,null,0,0,null,0,0,0,0,"",{"$f":"+SUMIF('Details sales deliv. to excl.'!F:F,A1692,'Details sales deliv. to excl.'!H:H)","v":0},{"$f":"-SUMIF('Details purch. deliv. to excl.'!F:F,A1692,'Details purch. deliv. to excl.'!H:H)","v":0},0,0,0]
["XSW121","net.Desktop X500 - 1200",null,0,null,0,0,null,0,0,0,0,"",{"$f":"+SUMIF('Details sales deliv. to excl.'!F:F,A1693,'Details sales deliv. to excl.'!H:H)","v":0},{"$f":"-SUMIF('Details purch. deliv. to excl.'!F:F,A1693,'Details purch. deliv. to excl.'!H:H)","v":0},0,0,0]
["XSW122","net.Desktop X500 - 125",null,0,null,0,0,null,0,0,0,0,"",{"$f":"+SUMIF('Details sales deliv. to excl.'!F:F,A1694,'Details sales deliv. to excl.'!H:H)","v":0},{"$f":"-SUMIF('Details purch. deliv. to excl.'!F:F,A1694,'Details purch. deliv. to excl.'!H:H)","v":0},0,0,0]
["XSW123","net.Desktop X500 - 1400",null,0,null,0,0,null,0,0,0,0,"",{"$f":"+SUMIF('Details sales deliv. to excl.'!F:F,A1695,'Details sales deliv. to excl.'!H:H)","v":0},{"$f":"-SUMIF('Details purch. deliv. to excl.'!F:F,A1695,'Details purch. deliv. to excl.'!H:H)","v":0},0,0,0]
["XSW124","net.Desktop X500 - 150",null,0,null,0,0,null,0,0,0,0,"",{"$f":"+SUMIF('Details sales deliv. to excl.'!F:F,A1696,'Details sales deliv. to excl.'!H:H)","v":0},{"$f":"-SUMIF('Details purch. deliv. to excl.'!F:F,A1696,'Details purch. deliv. to excl.'!H:H)","v":0},0,0,0]
["XSW125","net.Desktop X500 - 1600",null,0,null,0,0,null,0,0,0,0,"",{"$f":"+SUMIF('Details sales deliv. to excl.'!F:F,A1697,'Details sales deliv. to excl.'!H:H)","v":0},{"$f":"-SUMIF('Details purch. deliv. to excl.'!F:F,A1697,'Details purch. deliv. to excl.'!H:H)","v":0},0,0,0]
["XSW126","net.Desktop X500 - 175",null,0,null,0,0,null,0,0,0,0,"",{"$f":"+SUMIF('Details sales deliv. to excl.'!F:F,A1698,'Details sales deliv. to excl.'!H:H)","v":0},{"$f":"-SUMIF('Details purch. deliv. to excl.'!F:F,A1698,'Details purch. deliv. to excl.'!H:H)","v":0},0,0,0]
["XSW127","net.Desktop X500 - 1800",null,0,null,0,0,null,0,0,0,0,"",{"$f":"+SUMIF('Details sales deliv. to excl.'!F:F,A1699,'Details sales deliv. to excl.'!H:H)","v":0},{"$f":"-SUMIF('Details purch. deliv. to excl.'!F:F,A1699,'Details purch. deliv. to excl.'!H:H)","v":0},0,0,0]
["XSW128","net.Desktop X500 - 20",null,0,null,0,0,null,0,0,0,0,"",{"$f":"+SUMIF('Details sales deliv. to excl.'!F:F,A1700,'Details sales deliv. to excl.'!H:H)","v":0},{"$f":"-SUMIF('Details purch. deliv. to excl.'!F:F,A1700,'Details purch. deliv. to excl.'!H:H)","v":0},0,0,0]
["XSW129","net.Desktop X500 - 200",null,0,null,0,0,null,0,0,0,0,"",{"$f":"+SUMIF('Details sales deliv. to excl.'!F:F,A1701,'Details sales deliv. to excl.'!H:H)","v":0},{"$f":"-SUMIF('Details purch. deliv. to excl.'!F:F,A1701,'Details purch. deliv. to excl.'!H:H)","v":0},0,0,0]
["XSW130","net.Desktop X500 - 2000",null,0,null,0,0,null,0,0,0,0,"",{"$f":"+SUMIF('Details sales deliv. to excl.'!F:F,A1702,'Details sales deliv. to excl.'!H:H)","v":0},{"$f":"-SUMIF('Details purch. deliv. to excl.'!F:F,A1702,'Details purch. deliv. to excl.'!H:H)","v":0},0,0,0]
["XSW131","net.Desktop X500 - 250",null,0,null,0,0,null,0,0,0,0,"",{"$f":"+SUMIF('Details sales deliv. to excl.'!F:F,A1703,'Details sales deliv. to excl.'!H:H)","v":0},{"$f":"-SUMIF('Details purch. deliv. to excl.'!F:F,A1703,'Details purch. deliv. to excl.'!H:H)","v":0},0,0,0]
["XSW132","net.Desktop X500 - 2500",null,0,null,0,0,null,0,0,0,0,"",{"$f":"+SUMIF('Details sales deliv. to excl.'!F:F,A1704,'Details sales deliv. to excl.'!H:H)","v":0},{"$f":"-SUMIF('Details purch. deliv. to excl.'!F:F,A1704,'Details purch. deliv. to excl.'!H:H)","v":0},0,0,0]
["XSW133","net.Desktop X500 - 30",null,0,null,0,0,null,0,0,0,0,"",{"$f":"+SUMIF('Details sales deliv. to excl.'!F:F,A1705,'Details sales deliv. to excl.'!H:H)","v":0},{"$f":"-SUMIF('Details purch. deliv. to excl.'!F:F,A1705,'Details purch. deliv. to excl.'!H:H)","v":0},0,0,0]
["XSW134","net.Desktop X500 - 300",null,0,null,0,0,null,0,0,0,0,"",{"$f":"+SUMIF('Details sales deliv. to excl.'!F:F,A1706,'Details sales deliv. to excl.'!H:H)","v":0},{"$f":"-SUMIF('Details purch. deliv. to excl.'!F:F,A1706,'Details purch. deliv. to excl.'!H:H)","v":0},0,0,0]
["XSW135","net.Desktop X500 - 3000",null,0,null,0,0,null,0,0,0,0,"",{"$f":"+SUMIF('Details sales deliv. to excl.'!F:F,A1707,'Details sales deliv. to excl.'!H:H)","v":0},{"$f":"-SUMIF('Details purch. deliv. to excl.'!F:F,A1707,'Details purch. deliv. to excl.'!H:H)","v":0},0,0,0]
["XSW136","net.Desktop X500 - 350",null,0,null,0,0,null,0,0,0,0,"",{"$f":"+SUMIF('Details sales deliv. to excl.'!F:F,A1708,'Details sales deliv. to excl.'!H:H)","v":0},{"$f":"-SUMIF('Details purch. deliv. to excl.'!F:F,A1708,'Details purch. deliv. to excl.'!H:H)","v":0},0,0,0]
["XSW137","net.Desktop X500 - 3500",null,0,null,0,0,null,0,0,0,0,"",{"$f":"+SUMIF('Details sales deliv. to excl.'!F:F,A1709,'Details sales deliv. to excl.'!H:H)","v":0},{"$f":"-SUMIF('Details purch. deliv. to excl.'!F:F,A1709,'Details purch. deliv. to excl.'!H:H)","v":0},0,0,0]
["XSW138","net.Desktop X500 - 40",null,0,null,0,0,null,0,0,0,0,"",{"$f":"+SUMIF('Details sales deliv. to excl.'!F:F,A1710,'Details sales deliv. to excl.'!H:H)","v":0},{"$f":"-SUMIF('Details purch. deliv. to excl.'!F:F,A1710,'Details purch. deliv. to excl.'!H:H)","v":0},0,0,0]
["XSW139","net.Desktop X500 - 400",null,0,null,0,0,null,0,0,0,0,"",{"$f":"+SUMIF('Details sales deliv. to excl.'!F:F,A1711,'Details sales deliv. to excl.'!H:H)","v":0},{"$f":"-SUMIF('Details purch. deliv. to excl.'!F:F,A1711,'Details purch. deliv. to excl.'!H:H)","v":0},0,0,0]
["XSW140","net.Desktop X500 - 4000",null,0,null,0,0,null,0,0,0,0,"",{"$f":"+SUMIF('Details sales deliv. to excl.'!F:F,A1712,'Details sales deliv. to excl.'!H:H)","v":0},{"$f":"-SUMIF('Details purch. deliv. to excl.'!F:F,A1712,'Details purch. deliv. to excl.'!H:H)","v":0},0,0,0]
["XSW141","net.Desktop X500 - 4500",null,0,null,0,0,null,0,0,0,0,"",{"$f":"+SUMIF('Details sales deliv. to excl.'!F:F,A1713,'Details sales deliv. to excl.'!H:H)","v":0},{"$f":"-SUMIF('Details purch. deliv. to excl.'!F:F,A1713,'Details purch. deliv. to excl.'!H:H)","v":0},0,0,0]
["XSW142","net.Desktop X500 - 50",null,0,null,0,0,null,0,0,0,0,"",{"$f":"+SUMIF('Details sales deliv. to excl.'!F:F,A1714,'Details sales deliv. to excl.'!H:H)","v":0},{"$f":"-SUMIF('Details purch. deliv. to excl.'!F:F,A1714,'Details purch. deliv. to excl.'!H:H)","v":0},0,0,0]
["XSW143","net.Desktop X500 - 500",null,0,null,0,0,null,0,0,0,0,"",{"$f":"+SUMIF('Details sales deliv. to excl.'!F:F,A1715,'Details sales deliv. to excl.'!H:H)","v":0},{"$f":"-SUMIF('Details purch. deliv. to excl.'!F:F,A1715,'Details purch. deliv. to excl.'!H:H)","v":0},0,0,0]
["XSW144","net.Desktop X500 - 5000",null,0,null,0,0,null,0,0,0,0,"",{"$f":"+SUMIF('Details sales deliv. to excl.'!F:F,A1716,'Details sales deliv. to excl.'!H:H)","v":0},{"$f":"-SUMIF('Details purch. deliv. to excl.'!F:F,A1716,'Details purch. deliv. to excl.'!H:H)","v":0},0,0,0]
["XSW145","net.Desktop X500 - 60",null,0,null,0,0,null,0,0,0,0,"",{"$f":"+SUMIF('Details sales deliv. to excl.'!F:F,A1717,'Details sales deliv. to excl.'!H:H)","v":0},{"$f":"-SUMIF('Details purch. deliv. to excl.'!F:F,A1717,'Details purch. deliv. to excl.'!H:H)","v":0},0,0,0]
["XSW146","net.Desktop X500 - 650",null,0,null,0,0,null,0,0,0,0,"",{"$f":"+SUMIF('Details sales deliv. to excl.'!F:F,A1718,'Details sales deliv. to excl.'!H:H)","v":0},{"$f":"-SUMIF('Details purch. deliv. to excl.'!F:F,A1718,'Details purch. deliv. to excl.'!H:H)","v":0},0,0,0]
["XSW147","net.Desktop X500 - 80",null,0,null,0,0,null,0,0,0,0,"",{"$f":"+SUMIF('Details sales deliv. to excl.'!F:F,A1719,'Details sales deliv. to excl.'!H:H)","v":0},{"$f":"-SUMIF('Details purch. deliv. to excl.'!F:F,A1719,'Details purch. deliv. to excl.'!H:H)","v":0},0,0,0]
["XSW148","net.Desktop X500 - 800",null,0,null,0,0,null,0,0,0,0,"",{"$f":"+SUMIF('Details sales deliv. to excl.'!F:F,A1720,'Details sales deliv. to excl.'!H:H)","v":0},{"$f":"-SUMIF('Details purch. deliv. to excl.'!F:F,A1720,'Details purch. deliv. to excl.'!H:H)","v":0},0,0,0]
["XSW149","net.Agent - 10",null,0,null,0,0,null,0,0,0,0,"",{"$f":"+SUMIF('Details sales deliv. to excl.'!F:F,A1721,'Details sales deliv. to excl.'!H:H)","v":0},{"$f":"-SUMIF('Details purch. deliv. to excl.'!F:F,A1721,'Details purch. deliv. to excl.'!H:H)","v":0},0,0,0]
["XSW150","net.Agent - 100",null,0,null,0,0,null,0,0,0,0,"",{"$f":"+SUMIF('Details sales deliv. to excl.'!F:F,A1722,'Details sales deliv. to excl.'!H:H)","v":0},{"$f":"-SUMIF('Details purch. deliv. to excl.'!F:F,A1722,'Details purch. deliv. to excl.'!H:H)","v":0},0,0,0]
["XSW151","net.Agent - 125",null,0,null,0,0,null,0,0,0,0,"",{"$f":"+SUMIF('Details sales deliv. to excl.'!F:F,A1723,'Details sales deliv. to excl.'!H:H)","v":0},{"$f":"-SUMIF('Details purch. deliv. to excl.'!F:F,A1723,'Details purch. deliv. to excl.'!H:H)","v":0},0,0,0]
["XSW152","net.Agent - 150",null,0,null,0,0,null,0,0,0,0,"",{"$f":"+SUMIF('Details sales deliv. to excl.'!F:F,A1724,'Details sales deliv. to excl.'!H:H)","v":0},{"$f":"-SUMIF('Details purch. deliv. to excl.'!F:F,A1724,'Details purch. deliv. to excl.'!H:H)","v":0},0,0,0]
["XSW153","net.Agent - 175",null,0,null,0,0,null,0,0,0,0,"",{"$f":"+SUMIF('Details sales deliv. to excl.'!F:F,A1725,'Details sales deliv. to excl.'!H:H)","v":0},{"$f":"-SUMIF('Details purch. deliv. to excl.'!F:F,A1725,'Details purch. deliv. to excl.'!H:H)","v":0},0,0,0]
["XSW154","net.Agent - 20",null,0,null,0,0,null,0,0,0,0,"",{"$f":"+SUMIF('Details sales deliv. to excl.'!F:F,A1726,'Details sales deliv. to excl.'!H:H)","v":0},{"$f":"-SUMIF('Details purch. deliv. to excl.'!F:F,A1726,'Details purch. deliv. to excl.'!H:H)","v":0},0,0,0]
["XSW155","net.Agent - 200",null,0,null,0,0,null,0,0,0,0,"",{"$f":"+SUMIF('Details sales deliv. to excl.'!F:F,A1727,'Details sales deliv. to excl.'!H:H)","v":0},{"$f":"-SUMIF('Details purch. deliv. to excl.'!F:F,A1727,'Details purch. deliv. to excl.'!H:H)","v":0},0,0,0]
["XSW156","net.Agent - 225",null,0,null,0,0,null,0,0,0,0,"",{"$f":"+SUMIF('Details sales deliv. to excl.'!F:F,A1728,'Details sales deliv. to excl.'!H:H)","v":0},{"$f":"-SUMIF('Details purch. deliv. to excl.'!F:F,A1728,'Details purch. deliv. to excl.'!H:H)","v":0},0,0,0]
["XSW157","net.Agent - 250",null,0,null,0,0,null,0,0,0,0,"",{"$f":"+SUMIF('Details sales deliv. to excl.'!F:F,A1729,'Details sales deliv. to excl.'!H:H)","v":0},{"$f":"-SUMIF('Details purch. deliv. to excl.'!F:F,A1729,'Details purch. deliv. to excl.'!H:H)","v":0},0,0,0]
["XSW158","net.Agent - 30",null,0,null,0,0,null,0,0,0,0,"",{"$f":"+SUMIF('Details sales deliv. to excl.'!F:F,A1730,'Details sales deliv. to excl.'!H:H)","v":0},{"$f":"-SUMIF('Details purch. deliv. to excl.'!F:F,A1730,'Details purch. deliv. to excl.'!H:H)","v":0},0,0,0]
["XSW159","net.Agent - 40",null,0,null,0,0,null,0,0,0,0,"",{"$f":"+SUMIF('Details sales deliv. to excl.'!F:F,A1731,'Details sales deliv. to excl.'!H:H)","v":0},{"$f":"-SUMIF('Details purch. deliv. to excl.'!F:F,A1731,'Details purch. deliv. to excl.'!H:H)","v":0},0,0,0]
["XSW160","net.Agent - 50",null,0,null,0,0,null,{"$f":"H1732-G1732","v":0},{"$f":"G1732*F1732","v":0},{"$f":"H1732*F1732","v":0},{"$f":"I1732*F1732","v":0},"",{"$f":"+SUMIF('Details sales deliv. to excl.'!F:F,A1732,'Details sales deliv. to excl.'!H:H)","v":0},{"$f":"-SUMIF('Details purch. deliv. to excl.'!F:F,A1732,'Details purch. deliv. to excl.'!H:H)","v":0},{"$f":"I1732+N1732+O1732","v":0},{"$f":"G1732+P1732","v":0},{"$f":"Q1732*F1732","v":0}]
["XSW161","net.Agent - 60",null,0,null,0,0,null,0,0,0,0,{"$f":"IF(ABS(L1733)>500,\"check\",\"\")","v":""},{"$f":"+SUMIF('Details sales deliv. to excl.'!F:F,A1733,'Details sales deliv. to excl.'!H:H)","v":0},{"$f":"-SUMIF('Details purch. deliv. to excl.'!F:F,A1733,'Details purch. deliv. to excl.'!H:H)","v":0},0,0,0]
["XSW162","net.Agent - 80",null,0,null,0,0,null,0,0,0,0,"",{"$f":"+SUMIF('Details sales deliv. to excl.'!F:F,A1734,'Details sales deliv. to excl.'!H:H)","v":0},{"$f":"-SUMIF('Details purch. deliv. to excl.'!F:F,A1734,'Details purch. deliv. to excl.'!H:H)","v":0},0,0,0]
["XSW163","net.Supervisor - 1",null,0,null,0,0,null,0,0,0,0,"",{"$f":"+SUMIF('Details sales deliv. to excl.'!F:F,A1735,'Details sales deliv. to excl.'!H:H)","v":0},{"$f":"-SUMIF('Details purch. deliv. to excl.'!F:F,A1735,'Details purch. deliv. to excl.'!H:H)","v":0},0,0,0]
["XSW164","net.Supervisor - 10",null,0,null,0,0,null,0,0,0,0,"",{"$f":"+SUMIF('Details sales deliv. to excl.'!F:F,A1736,'Details sales deliv. to excl.'!H:H)","v":0},{"$f":"-SUMIF('Details purch. deliv. to excl.'!F:F,A1736,'Details purch. deliv. to excl.'!H:H)","v":0},0,0,0]
["XSW165","net.Supervisor - 2",null,0,null,0,0,null,0,0,0,0,"",{"$f":"+SUMIF('Details sales deliv. to excl.'!F:F,A1737,'Details sales deliv. to excl.'!H:H)","v":0},{"$f":"-SUMIF('Details purch. deliv. to excl.'!F:F,A1737,'Details purch. deliv. to excl.'!H:H)","v":0},0,0,0]
["XSW166","net.Supervisor - 20",null,0,null,0,0,null,0,0,0,0,"",{"$f":"+SUMIF('Details sales deliv. to excl.'!F:F,A1738,'Details sales deliv. to excl.'!H:H)","v":0},{"$f":"-SUMIF('Details purch. deliv. to excl.'!F:F,A1738,'Details purch. deliv. to excl.'!H:H)","v":0},0,0,0]
["XSW167","net.Supervisor - 3",null,0,null,0,0,null,0,0,0,0,"",{"$f":"+SUMIF('Details sales deliv. to excl.'!F:F,A1739,'Details sales deliv. to excl.'!H:H)","v":0},{"$f":"-SUMIF('Details purch. deliv. to excl.'!F:F,A1739,'Details purch. deliv. to excl.'!H:H)","v":0},0,0,0]
["XSW168","net.Supervisor - 4",null,0,null,0,0,null,0,0,0,0,"",{"$f":"+SUMIF('Details sales deliv. to excl.'!F:F,A1740,'Details sales deliv. to excl.'!H:H)","v":0},{"$f":"-SUMIF('Details purch. deliv. to excl.'!F:F,A1740,'Details purch. deliv. to excl.'!H:H)","v":0},0,0,0]
["XSW169","net.Supervisor - 5",null,0,null,0,0,null,0,0,0,0,"",{"$f":"+SUMIF('Details sales deliv. to excl.'!F:F,A1741,'Details sales deliv. to excl.'!H:H)","v":0},{"$f":"-SUMIF('Details purch. deliv. to excl.'!F:F,A1741,'Details purch. deliv. to excl.'!H:H)","v":0},0,0,0]
["XSW170","net.Supervisor - 6",null,0,null,0,0,null,0,0,0,0,"",{"$f":"+SUMIF('Details sales deliv. to excl.'!F:F,A1742,'Details sales deliv. to excl.'!H:H)","v":0},{"$f":"-SUMIF('Details purch. deliv. to excl.'!F:F,A1742,'Details purch. deliv. to excl.'!H:H)","v":0},0,0,0]
["XSW171","net.Supervisor - 7",null,0,null,0,0,null,0,0,0,0,"",{"$f":"+SUMIF('Details sales deliv. to excl.'!F:F,A1743,'Details sales deliv. to excl.'!H:H)","v":0},{"$f":"-SUMIF('Details purch. deliv. to excl.'!F:F,A1743,'Details purch. deliv. to excl.'!H:H)","v":0},0,0,0]
["XSW172","net.Supervisor - 8",null,0,null,0,0,null,0,0,0,0,"",{"$f":"+SUMIF('Details sales deliv. to excl.'!F:F,A1744,'Details sales deliv. to excl.'!H:H)","v":0},{"$f":"-SUMIF('Details purch. deliv. to excl.'!F:F,A1744,'Details purch. deliv. to excl.'!H:H)","v":0},0,0,0]
["XSW173","net.Supervisor - 9",null,0,null,0,0,null,0,0,0,0,"",{"$f":"+SUMIF('Details sales deliv. to excl.'!F:F,A1745,'Details sales deliv. to excl.'!H:H)","v":0},{"$f":"-SUMIF('Details purch. deliv. to excl.'!F:F,A1745,'Details purch. deliv. to excl.'!H:H)","v":0},0,0,0]
["XSW174","m.Connect X100 - 5000",null,0,null,0,0,null,0,0,0,0,"",{"$f":"+SUMIF('Details sales deliv. to excl.'!F:F,A1746,'Details sales deliv. to excl.'!H:H)","v":0},{"$f":"-SUMIF('Details purch. deliv. to excl.'!F:F,A1746,'Details purch. deliv. to excl.'!H:H)","v":0},0,0,0]
["XSW175","m.Connect X100 - 4500",null,0,null,0,0,null,0,0,0,0,"",{"$f":"+SUMIF('Details sales deliv. to excl.'!F:F,A1747,'Details sales deliv. to excl.'!H:H)","v":0},{"$f":"-SUMIF('Details purch. deliv. to excl.'!F:F,A1747,'Details purch. deliv. to excl.'!H:H)","v":0},0,0,0]
["XSW176","m.Connect X100 - 4000",null,0,null,0,0,null,0,0,0,0,"",{"$f":"+SUMIF('Details sales deliv. to excl.'!F:F,A1748,'Details sales deliv. to excl.'!H:H)","v":0},{"$f":"-SUMIF('Details purch. deliv. to excl.'!F:F,A1748,'Details purch. deliv. to excl.'!H:H)","v":0},0,0,0]
["XSW177","m.Connect X100 - 3500",null,0,null,0,0,null,0,0,0,0,"",{"$f":"+SUMIF('Details sales deliv. to excl.'!F:F,A1749,'Details sales deliv. to excl.'!H:H)","v":0},{"$f":"-SUMIF('Details purch. deliv. to excl.'!F:F,A1749,'Details purch. deliv. to excl.'!H:H)","v":0},0,0,0]
["XSW178","m.Connect X100 - 3000",null,0,null,0,0,null,0,0,0,0,"",{"$f":"+SUMIF('Details sales deliv. to excl.'!F:F,A1750,'Details sales deliv. to excl.'!H:H)","v":0},{"$f":"-SUMIF('Details purch. deliv. to excl.'!F:F,A1750,'Details purch. deliv. to excl.'!H:H)","v":0},0,0,0]
["XSW179","m.Connect X100 - 2500",null,0,null,0,0,null,0,0,0,0,"",{"$f":"+SUMIF('Details sales deliv. to excl.'!F:F,A1751,'Details sales deliv. to excl.'!H:H)","v":0},{"$f":"-SUMIF('Details purch. deliv. to excl.'!F:F,A1751,'Details purch. deliv. to excl.'!H:H)","v":0},0,0,0]
["XSW180","m.Connect X100 - 2000",null,0,null,0,0,null,0,0,0,0,"",{"$f":"+SUMIF('Details sales deliv. to excl.'!F:F,A1752,'Details sales deliv. to excl.'!H:H)","v":0},{"$f":"-SUMIF('Details purch. deliv. to excl.'!F:F,A1752,'Details purch. deliv. to excl.'!H:H)","v":0},0,0,0]
["XSW181","m.Connect X100 - 1800",null,0,null,0,0,null,0,0,0,0,"",{"$f":"+SUMIF('Details sales deliv. to excl.'!F:F,A1753,'Details sales deliv. to excl.'!H:H)","v":0},{"$f":"-SUMIF('Details purch. deliv. to excl.'!F:F,A1753,'Details purch. deliv. to excl.'!H:H)","v":0},0,0,0]
["XSW182","m.Connect X100 - 1600",null,0,null,0,0,null,0,0,0,0,"",{"$f":"+SUMIF('Details sales deliv. to excl.'!F:F,A1754,'Details sales deliv. to excl.'!H:H)","v":0},{"$f":"-SUMIF('Details purch. deliv. to excl.'!F:F,A1754,'Details purch. deliv. to excl.'!H:H)","v":0},0,0,0]
["XSW183","m.Connect X100 - 1400",null,0,null,0,0,null,0,0,0,0,"",{"$f":"+SUMIF('Details sales deliv. to excl.'!F:F,A1755,'Details sales deliv. to excl.'!H:H)","v":0},{"$f":"-SUMIF('Details purch. deliv. to excl.'!F:F,A1755,'Details purch. deliv. to excl.'!H:H)","v":0},0,0,0]
["XSW184","m.Connect X100 - 1200",null,0,null,0,0,null,0,0,0,0,"",{"$f":"+SUMIF('Details sales deliv. to excl.'!F:F,A1756,'Details sales deliv. to excl.'!H:H)","v":0},{"$f":"-SUMIF('Details purch. deliv. to excl.'!F:F,A1756,'Details purch. deliv. to excl.'!H:H)","v":0},0,0,0]
["XSW185","m.Connect X100 - 1000",null,0,null,0,0,null,0,0,0,0,"",{"$f":"+SUMIF('Details sales deliv. to excl.'!F:F,A1757,'Details sales deliv. to excl.'!H:H)","v":0},{"$f":"-SUMIF('Details purch. deliv. to excl.'!F:F,A1757,'Details purch. deliv. to excl.'!H:H)","v":0},0,0,0]
["XSW186","m.Connect X100 - 800",null,0,null,0,0,null,0,0,0,0,"",{"$f":"+SUMIF('Details sales deliv. to excl.'!F:F,A1758,'Details sales deliv. to excl.'!H:H)","v":0},{"$f":"-SUMIF('Details purch. deliv. to excl.'!F:F,A1758,'Details purch. deliv. to excl.'!H:H)","v":0},0,0,0]
["XSW187","m.Connect X100 - 500",null,0,null,0,0,null,0,0,0,0,"",{"$f":"+SUMIF('Details sales deliv. to excl.'!F:F,A1759,'Details sales deliv. to excl.'!H:H)","v":0},{"$f":"-SUMIF('Details purch. deliv. to excl.'!F:F,A1759,'Details purch. deliv. to excl.'!H:H)","v":0},0,0,0]
["XSW188","m.Connect X100 - 650",null,0,null,0,0,null,0,0,0,0,"",{"$f":"+SUMIF('Details sales deliv. to excl.'!F:F,A1760,'Details sales deliv. to excl.'!H:H)","v":0},{"$f":"-SUMIF('Details purch. deliv. to excl.'!F:F,A1760,'Details purch. deliv. to excl.'!H:H)","v":0},0,0,0]
["XSW189","m.Connect X100 - 300",null,0,null,0,0,null,0,0,0,0,"",{"$f":"+SUMIF('Details sales deliv. to excl.'!F:F,A1761,'Details sales deliv. to excl.'!H:H)","v":0},{"$f":"-SUMIF('Details purch. deliv. to excl.'!F:F,A1761,'Details purch. deliv. to excl.'!H:H)","v":0},0,0,0]
["XSW190","m.Connect X100 - 350",null,0,null,0,0,null,0,0,0,0,"",{"$f":"+SUMIF('Details sales deliv. to excl.'!F:F,A1762,'Details sales deliv. to excl.'!H:H)","v":0},{"$f":"-SUMIF('Details purch. deliv. to excl.'!F:F,A1762,'Details purch. deliv. to excl.'!H:H)","v":0},0,0,0]
["XSW191","m.Connect X100 - 400",null,0,null,0,0,null,0,0,0,0,"",{"$f":"+SUMIF('Details sales deliv. to excl.'!F:F,A1763,'Details sales deliv. to excl.'!H:H)","v":0},{"$f":"-SUMIF('Details purch. deliv. to excl.'!F:F,A1763,'Details purch. deliv. to excl.'!H:H)","v":0},0,0,0]
["XSW192","m.Connect X100 - 250",null,0,null,0,0,null,0,0,0,0,"",{"$f":"+SUMIF('Details sales deliv. to excl.'!F:F,A1764,'Details sales deliv. to excl.'!H:H)","v":0},{"$f":"-SUMIF('Details purch. deliv. to excl.'!F:F,A1764,'Details purch. deliv. to excl.'!H:H)","v":0},0,0,0]
["XSW193","m.Connect X100 - 175",null,0,null,0,0,null,0,0,0,0,"",{"$f":"+SUMIF('Details sales deliv. to excl.'!F:F,A1765,'Details sales deliv. to excl.'!H:H)","v":0},{"$f":"-SUMIF('Details purch. deliv. to excl.'!F:F,A1765,'Details purch. deliv. to excl.'!H:H)","v":0},0,0,0]
["XSW194","m.Connect X100 - 200",null,0,null,0,0,null,0,0,0,0,"",{"$f":"+SUMIF('Details sales deliv. to excl.'!F:F,A1766,'Details sales deliv. to excl.'!H:H)","v":0},{"$f":"-SUMIF('Details purch. deliv. to excl.'!F:F,A1766,'Details purch. deliv. to excl.'!H:H)","v":0},0,0,0]
["XSW195","m.Connect X100 - 150",null,0,null,0,0,null,0,0,0,0,"",{"$f":"+SUMIF('Details sales deliv. to excl.'!F:F,A1767,'Details sales deliv. to excl.'!H:H)","v":0},{"$f":"-SUMIF('Details purch. deliv. to excl.'!F:F,A1767,'Details purch. deliv. to excl.'!H:H)","v":0},0,0,0]
["XSW196","m.Connect X100 - 125",null,0,null,0,0,null,0,0,0,0,"",{"$f":"+SUMIF('Details sales deliv. to excl.'!F:F,A1768,'Details sales deliv. to excl.'!H:H)","v":0},{"$f":"-SUMIF('Details purch. deliv. to excl.'!F:F,A1768,'Details purch. deliv. to excl.'!H:H)","v":0},0,0,0]
["XSW197","m.Connect X100 - 100",null,0,null,0,0,null,0,0,0,0,"",{"$f":"+SUMIF('Details sales deliv. to excl.'!F:F,A1769,'Details sales deliv. to excl.'!H:H)","v":0},{"$f":"-SUMIF('Details purch. deliv. to excl.'!F:F,A1769,'Details purch. deliv. to excl.'!H:H)","v":0},0,0,0]
["XSW198","m.Connect X100 - 80",null,0,null,0,0,null,0,0,0,0,"",{"$f":"+SUMIF('Details sales deliv. to excl.'!F:F,A1770,'Details sales deliv. to excl.'!H:H)","v":0},{"$f":"-SUMIF('Details purch. deliv. to excl.'!F:F,A1770,'Details purch. deliv. to excl.'!H:H)","v":0},0,0,0]
["XSW199","m.Connect X100 - 60",null,0,null,0,0,null,0,0,0,0,"",{"$f":"+SUMIF('Details sales deliv. to excl.'!F:F,A1771,'Details sales deliv. to excl.'!H:H)","v":0},{"$f":"-SUMIF('Details purch. deliv. to excl.'!F:F,A1771,'Details purch. deliv. to excl.'!H:H)","v":0},0,0,0]
["XSW200","net.Desktop X100 - 1",null,0,null,0,0,null,0,0,0,0,"",{"$f":"+SUMIF('Details sales deliv. to excl.'!F:F,A1772,'Details sales deliv. to excl.'!H:H)","v":0},{"$f":"-SUMIF('Details purch. deliv. to excl.'!F:F,A1772,'Details purch. deliv. to excl.'!H:H)","v":0},0,0,0]
["XSW201","net.Desktop X300 - 1",null,0,null,0,0,null,0,0,0,0,"",{"$f":"+SUMIF('Details sales deliv. to excl.'!F:F,A1773,'Details sales deliv. to excl.'!H:H)","v":0},{"$f":"-SUMIF('Details purch. deliv. to excl.'!F:F,A1773,'Details purch. deliv. to excl.'!H:H)","v":0},0,0,0]
["XSW202","net.Desktop X500 - 1",null,0,null,0,0,null,0,0,0,0,"",{"$f":"+SUMIF('Details sales deliv. to excl.'!F:F,A1774,'Details sales deliv. to excl.'!H:H)","v":0},{"$f":"-SUMIF('Details purch. deliv. to excl.'!F:F,A1774,'Details purch. deliv. to excl.'!H:H)","v":0},0,0,0]
["XSW203","m.Connect X100 - 20",null,0,null,0,0,null,0,0,0,0,"",{"$f":"+SUMIF('Details sales deliv. to excl.'!F:F,A1775,'Details sales deliv. to excl.'!H:H)","v":0},{"$f":"-SUMIF('Details purch. deliv. to excl.'!F:F,A1775,'Details purch. deliv. to excl.'!H:H)","v":0},0,0,0]
["XSW204","m.Connect X100 - 10",null,0,null,0,0,null,0,0,0,0,"",{"$f":"+SUMIF('Details sales deliv. to excl.'!F:F,A1776,'Details sales deliv. to excl.'!H:H)","v":0},{"$f":"-SUMIF('Details purch. deliv. to excl.'!F:F,A1776,'Details purch. deliv. to excl.'!H:H)","v":0},0,0,0]
["XSW205","m.Connect X300 - 5000",null,0,null,0,0,null,0,0,0,0,"",{"$f":"+SUMIF('Details sales deliv. to excl.'!F:F,A1777,'Details sales deliv. to excl.'!H:H)","v":0},{"$f":"-SUMIF('Details purch. deliv. to excl.'!F:F,A1777,'Details purch. deliv. to excl.'!H:H)","v":0},0,0,0]
["XSW206","m.Connect X300 - 4500",null,0,null,0,0,null,0,0,0,0,"",{"$f":"+SUMIF('Details sales deliv. to excl.'!F:F,A1778,'Details sales deliv. to excl.'!H:H)","v":0},{"$f":"-SUMIF('Details purch. deliv. to excl.'!F:F,A1778,'Details purch. deliv. to excl.'!H:H)","v":0},0,0,0]
["XSW207","m.Connect X300 - 4000",null,0,null,0,0,null,0,0,0,0,"",{"$f":"+SUMIF('Details sales deliv. to excl.'!F:F,A1779,'Details sales deliv. to excl.'!H:H)","v":0},{"$f":"-SUMIF('Details purch. deliv. to excl.'!F:F,A1779,'Details purch. deliv. to excl.'!H:H)","v":0},0,0,0]
["XSW208","m.Connect X300 - 3000",null,0,null,0,0,null,0,0,0,0,"",{"$f":"+SUMIF('Details sales deliv. to excl.'!F:F,A1780,'Details sales deliv. to excl.'!H:H)","v":0},{"$f":"-SUMIF('Details purch. deliv. to excl.'!F:F,A1780,'Details purch. deliv. to excl.'!H:H)","v":0},0,0,0]
["XSW209","m.Connect X300 - 3500",null,0,null,0,0,null,0,0,0,0,"",{"$f":"+SUMIF('Details sales deliv. to excl.'!F:F,A1781,'Details sales deliv. to excl.'!H:H)","v":0},{"$f":"-SUMIF('Details purch. deliv. to excl.'!F:F,A1781,'Details purch. deliv. to excl.'!H:H)","v":0},0,0,0]
["XSW210","m.Connect X300 - 2500",null,0,null,0,0,null,0,0,0,0,"",{"$f":"+SUMIF('Details sales deliv. to excl.'!F:F,A1782,'Details sales deliv. to excl.'!H:H)","v":0},{"$f":"-SUMIF('Details purch. deliv. to excl.'!F:F,A1782,'Details purch. deliv. to excl.'!H:H)","v":0},0,0,0]
["XSW211","m.Connect X300 - 2000",null,0,null,0,0,null,0,0,0,0,"",{"$f":"+SUMIF('Details sales deliv. to excl.'!F:F,A1783,'Details sales deliv. to excl.'!H:H)","v":0},{"$f":"-SUMIF('Details purch. deliv. to excl.'!F:F,A1783,'Details purch. deliv. to excl.'!H:H)","v":0},0,0,0]
["XSW212","m.Connect X300 - 1800",null,0,null,0,0,null,0,0,0,0,"",{"$f":"+SUMIF('Details sales deliv. to excl.'!F:F,A1784,'Details sales deliv. to excl.'!H:H)","v":0},{"$f":"-SUMIF('Details purch. deliv. to excl.'!F:F,A1784,'Details purch. deliv. to excl.'!H:H)","v":0},0,0,0]
["XSW213","m.Connect X300 - 1600",null,0,null,0,0,null,0,0,0,0,"",{"$f":"+SUMIF('Details sales deliv. to excl.'!F:F,A1785,'Details sales deliv. to excl.'!H:H)","v":0},{"$f":"-SUMIF('Details purch. deliv. to excl.'!F:F,A1785,'Details purch. deliv. to excl.'!H:H)","v":0},0,0,0]
["XSW214","m.Connect X300 - 1400",null,0,null,0,0,null,0,0,0,0,"",{"$f":"+SUMIF('Details sales deliv. to excl.'!F:F,A1786,'Details sales deliv. to excl.'!H:H)","v":0},{"$f":"-SUMIF('Details purch. deliv. to excl.'!F:F,A1786,'Details purch. deliv. to excl.'!H:H)","v":0},0,0,0]
["XSW215","m.Connect X300 - 1200",null,0,null,0,0,null,0,0,0,0,"",{"$f":"+SUMIF('Details sales deliv. to excl.'!F:F,A1787,'Details sales deliv. to excl.'!H:H)","v":0},{"$f":"-SUMIF('Details purch. deliv. to excl.'!F:F,A1787,'Details purch. deliv. to excl.'!H:H)","v":0},0,0,0]
["XSW216","m.Connect X300 - 800",null,0,null,0,0,null,0,0,0,0,"",{"$f":"+SUMIF('Details sales deliv. to excl.'!F:F,A1788,'Details sales deliv. to excl.'!H:H)","v":0},{"$f":"-SUMIF('Details purch. deliv. to excl.'!F:F,A1788,'Details purch. deliv. to excl.'!H:H)","v":0},0,0,0]
["XSW217","m.Connect X300 - 650",null,0,null,0,0,null,0,0,0,0,"",{"$f":"+SUMIF('Details sales deliv. to excl.'!F:F,A1789,'Details sales deliv. to excl.'!H:H)","v":0},{"$f":"-SUMIF('Details purch. deliv. to excl.'!F:F,A1789,'Details purch. deliv. to excl.'!H:H)","v":0},0,0,0]
["XSW218","m.Connect X300 - 1000",null,0,null,0,0,null,0,0,0,0,"",{"$f":"+SUMIF('Details sales deliv. to excl.'!F:F,A1790,'Details sales deliv. to excl.'!H:H)","v":0},{"$f":"-SUMIF('Details purch. deliv. to excl.'!F:F,A1790,'Details purch. deliv. to excl.'!H:H)","v":0},0,0,0]
["XSW219","m.Connect X300 - 500",null,0,null,0,0,null,0,0,0,0,"",{"$f":"+SUMIF('Details sales deliv. to excl.'!F:F,A1791,'Details sales deliv. to excl.'!H:H)","v":0},{"$f":"-SUMIF('Details purch. deliv. to excl.'!F:F,A1791,'Details purch. deliv. to excl.'!H:H)","v":0},0,0,0]
["XSW220","m.Connect X300 - 400",null,0,null,0,0,null,0,0,0,0,"",{"$f":"+SUMIF('Details sales deliv. to excl.'!F:F,A1792,'Details sales deliv. to excl.'!H:H)","v":0},{"$f":"-SUMIF('Details purch. deliv. to excl.'!F:F,A1792,'Details purch. deliv. to excl.'!H:H)","v":0},0,0,0]
["XSW221","m.Connect X300 - 350",null,0,null,0,0,null,0,0,0,0,"",{"$f":"+SUMIF('Details sales deliv. to excl.'!F:F,A1793,'Details sales deliv. to excl.'!H:H)","v":0},{"$f":"-SUMIF('Details purch. deliv. to excl.'!F:F,A1793,'Details purch. deliv. to excl.'!H:H)","v":0},0,0,0]
["XSW222","m.Connect X300 - 200",null,0,null,0,0,null,0,0,0,0,"",{"$f":"+SUMIF('Details sales deliv. to excl.'!F:F,A1794,'Details sales deliv. to excl.'!H:H)","v":0},{"$f":"-SUMIF('Details purch. deliv. to excl.'!F:F,A1794,'Details purch. deliv. to excl.'!H:H)","v":0},0,0,0]
["XSW223","m.Connect X300 - 300",null,0,null,0,0,null,0,0,0,0,"",{"$f":"+SUMIF('Details sales deliv. to excl.'!F:F,A1795,'Details sales deliv. to excl.'!H:H)","v":0},{"$f":"-SUMIF('Details purch. deliv. to excl.'!F:F,A1795,'Details purch. deliv. to excl.'!H:H)","v":0},0,0,0]
["XSW224","m.Connect X300 - 250",null,0,null,0,0,null,{"$f":"H1796-G1796","v":0},{"$f":"G1796*F1796","v":0},{"$f":"H1796*F1796","v":0},{"$f":"I1796*F1796","v":0},"",{"$f":"+SUMIF('Details sales deliv. to excl.'!F:F,A1796,'Details sales deliv. to excl.'!H:H)","v":0},{"$f":"-SUMIF('Details purch. deliv. to excl.'!F:F,A1796,'Details purch. deliv. to excl.'!H:H)","v":0},{"$f":"I1796+N1796+O1796","v":0},{"$f":"G1796+P1796","v":0},{"$f":"Q1796*F1796","v":0}]
["XSW225","m.Connect X300 - 175",null,0,null,0,0,null,0,0,0,0,{"$f":"IF(ABS(L1797)>500,\"check\",\"\")","v":""},{"$f":"+SUMIF('Details sales deliv. to excl.'!F:F,A1797,'Details sales deliv. to excl.'!H:H)","v":0},{"$f":"-SUMIF('Details purch. deliv. to excl.'!F:F,A1797,'Details purch. deliv. to excl.'!H:H)","v":0},0,0,0]
["XSW226","m.Connect X300 - 150",null,0,null,0,0,null,0,0,0,0,"",{"$f":"+SUMIF('Details sales deliv. to excl.'!F:F,A1798,'Details sales deliv. to excl.'!H:H)","v":0},{"$f":"-SUMIF('Details purch. deliv. to excl.'!F:F,A1798,'Details purch. deliv. to excl.'!H:H)","v":0},0,0,0]
["XSW227","m.Connect X300 - 100",null,0,null,0,0,null,0,0,0,0,"",{"$f":"+SUMIF('Details sales deliv. to excl.'!F:F,A1799,'Details sales deliv. to excl.'!H:H)","v":0},{"$f":"-SUMIF('Details purch. deliv. to excl.'!F:F,A1799,'Details purch. deliv. to excl.'!H:H)","v":0},0,0,0]
["XSW228","m.Connect X300 - 125",null,0,null,0,0,null,0,0,0,0,"",{"$f":"+SUMIF('Details sales deliv. to excl.'!F:F,A1800,'Details sales deliv. to excl.'!H:H)","v":0},{"$f":"-SUMIF('Details purch. deliv. to excl.'!F:F,A1800,'Details purch. deliv. to excl.'!H:H)","v":0},0,0,0]
["XSW229","m.Connect X300 - 80",null,0,null,0,0,null,0,0,0,0,"",{"$f":"+SUMIF('Details sales deliv. to excl.'!F:F,A1801,'Details sales deliv. to excl.'!H:H)","v":0},{"$f":"-SUMIF('Details purch. deliv. to excl.'!F:F,A1801,'Details purch. deliv. to excl.'!H:H)","v":0},0,0,0]
["XSW230","m.Connect X300 - 60",null,0,null,0,0,null,0,0,0,0,"",{"$f":"+SUMIF('Details sales deliv. to excl.'!F:F,A1802,'Details sales deliv. to excl.'!H:H)","v":0},{"$f":"-SUMIF('Details purch. deliv. to excl.'!F:F,A1802,'Details purch. deliv. to excl.'!H:H)","v":0},0,0,0]
["XSW231","m.Connect X300 - 40",null,0,null,0,0,null,0,0,0,0,"",{"$f":"+SUMIF('Details sales deliv. to excl.'!F:F,A1803,'Details sales deliv. to excl.'!H:H)","v":0},{"$f":"-SUMIF('Details purch. deliv. to excl.'!F:F,A1803,'Details purch. deliv. to excl.'!H:H)","v":0},0,0,0]
["XSW232","m.Connect X300 - 50",null,0,null,0,0,null,0,0,0,0,"",{"$f":"+SUMIF('Details sales deliv. to excl.'!F:F,A1804,'Details sales deliv. to excl.'!H:H)","v":0},{"$f":"-SUMIF('Details purch. deliv. to excl.'!F:F,A1804,'Details purch. deliv. to excl.'!H:H)","v":0},0,0,0]
["XSW233","m.Connect X300 - 20",null,0,null,0,0,null,0,0,0,0,"",{"$f":"+SUMIF('Details sales deliv. to excl.'!F:F,A1805,'Details sales deliv. to excl.'!H:H)","v":0},{"$f":"-SUMIF('Details purch. deliv. to excl.'!F:F,A1805,'Details purch. deliv. to excl.'!H:H)","v":0},0,0,0]
["XSW234","m.Connect X300 - 30",null,0,null,0,0,null,0,0,0,0,"",{"$f":"+SUMIF('Details sales deliv. to excl.'!F:F,A1806,'Details sales deliv. to excl.'!H:H)","v":0},{"$f":"-SUMIF('Details purch. deliv. to excl.'!F:F,A1806,'Details purch. deliv. to excl.'!H:H)","v":0},0,0,0]
["XSW235","m.Connect X300 - 10",null,0,null,0,0,null,0,0,0,0,"",{"$f":"+SUMIF('Details sales deliv. to excl.'!F:F,A1807,'Details sales deliv. to excl.'!H:H)","v":0},{"$f":"-SUMIF('Details purch. deliv. to excl.'!F:F,A1807,'Details purch. deliv. to excl.'!H:H)","v":0},0,0,0]
["XSW250","net.Desktop X350 - 10",null,0,null,0,0,null,0,0,0,0,"",{"$f":"+SUMIF('Details sales deliv. to excl.'!F:F,A1808,'Details sales deliv. to excl.'!H:H)","v":0},{"$f":"-SUMIF('Details purch. deliv. to excl.'!F:F,A1808,'Details purch. deliv. to excl.'!H:H)","v":0},0,0,0]
["XSW251","net.Desktop X350 - 100",null,0,null,0,0,null,0,0,0,0,"",{"$f":"+SUMIF('Details sales deliv. to excl.'!F:F,A1809,'Details sales deliv. to excl.'!H:H)","v":0},{"$f":"-SUMIF('Details purch. deliv. to excl.'!F:F,A1809,'Details purch. deliv. to excl.'!H:H)","v":0},0,0,0]
["XSW252","net.Desktop X350 - 1000",null,0,null,0,0,null,0,0,0,0,"",{"$f":"+SUMIF('Details sales deliv. to excl.'!F:F,A1810,'Details sales deliv. to excl.'!H:H)","v":0},{"$f":"-SUMIF('Details purch. deliv. to excl.'!F:F,A1810,'Details purch. deliv. to excl.'!H:H)","v":0},0,0,0]
["XSW253","net.Desktop X350 - 1200",null,0,null,0,0,null,0,0,0,0,"",{"$f":"+SUMIF('Details sales deliv. to excl.'!F:F,A1811,'Details sales deliv. to excl.'!H:H)","v":0},{"$f":"-SUMIF('Details purch. deliv. to excl.'!F:F,A1811,'Details purch. deliv. to excl.'!H:H)","v":0},0,0,0]
["XSW254","net.Desktop X350 - 125",null,0,null,0,0,null,0,0,0,0,"",{"$f":"+SUMIF('Details sales deliv. to excl.'!F:F,A1812,'Details sales deliv. to excl.'!H:H)","v":0},{"$f":"-SUMIF('Details purch. deliv. to excl.'!F:F,A1812,'Details purch. deliv. to excl.'!H:H)","v":0},0,0,0]
["XSW255","net.Desktop X350 - 1400",null,0,null,0,0,null,0,0,0,0,"",{"$f":"+SUMIF('Details sales deliv. to excl.'!F:F,A1813,'Details sales deliv. to excl.'!H:H)","v":0},{"$f":"-SUMIF('Details purch. deliv. to excl.'!F:F,A1813,'Details purch. deliv. to excl.'!H:H)","v":0},0,0,0]
["XSW256","net.Desktop X350 - 150",null,0,null,0,0,null,0,0,0,0,"",{"$f":"+SUMIF('Details sales deliv. to excl.'!F:F,A1814,'Details sales deliv. to excl.'!H:H)","v":0},{"$f":"-SUMIF('Details purch. deliv. to excl.'!F:F,A1814,'Details purch. deliv. to excl.'!H:H)","v":0},0,0,0]
["XSW257","net.Desktop X350 - 1600",null,0,null,0,0,null,0,0,0,0,"",{"$f":"+SUMIF('Details sales deliv. to excl.'!F:F,A1815,'Details sales deliv. to excl.'!H:H)","v":0},{"$f":"-SUMIF('Details purch. deliv. to excl.'!F:F,A1815,'Details purch. deliv. to excl.'!H:H)","v":0},0,0,0]
["XSW258","net.Desktop X350 - 175",null,0,null,0,0,null,0,0,0,0,"",{"$f":"+SUMIF('Details sales deliv. to excl.'!F:F,A1816,'Details sales deliv. to excl.'!H:H)","v":0},{"$f":"-SUMIF('Details purch. deliv. to excl.'!F:F,A1816,'Details purch. deliv. to excl.'!H:H)","v":0},0,0,0]
["XSW259","net.Desktop X350 - 1800",null,0,null,0,0,null,0,0,0,0,"",{"$f":"+SUMIF('Details sales deliv. to excl.'!F:F,A1817,'Details sales deliv. to excl.'!H:H)","v":0},{"$f":"-SUMIF('Details purch. deliv. to excl.'!F:F,A1817,'Details purch. deliv. to excl.'!H:H)","v":0},0,0,0]
["XSW260","net.Desktop X350 - 20",null,0,null,0,0,null,0,0,0,0,"",{"$f":"+SUMIF('Details sales deliv. to excl.'!F:F,A1818,'Details sales deliv. to excl.'!H:H)","v":0},{"$f":"-SUMIF('Details purch. deliv. to excl.'!F:F,A1818,'Details purch. deliv. to excl.'!H:H)","v":0},0,0,0]
["XSW261","net.Desktop X350 - 200",null,0,null,0,0,null,0,0,0,0,"",{"$f":"+SUMIF('Details sales deliv. to excl.'!F:F,A1819,'Details sales deliv. to excl.'!H:H)","v":0},{"$f":"-SUMIF('Details purch. deliv. to excl.'!F:F,A1819,'Details purch. deliv. to excl.'!H:H)","v":0},0,0,0]
["XSW262","net.Desktop X350 - 2000",null,0,null,0,0,null,0,0,0,0,"",{"$f":"+SUMIF('Details sales deliv. to excl.'!F:F,A1820,'Details sales deliv. to excl.'!H:H)","v":0},{"$f":"-SUMIF('Details purch. deliv. to excl.'!F:F,A1820,'Details purch. deliv. to excl.'!H:H)","v":0},0,0,0]
["XSW263","net.Desktop X350 - 250",null,0,null,0,0,null,0,0,0,0,"",{"$f":"+SUMIF('Details sales deliv. to excl.'!F:F,A1821,'Details sales deliv. to excl.'!H:H)","v":0},{"$f":"-SUMIF('Details purch. deliv. to excl.'!F:F,A1821,'Details purch. deliv. to excl.'!H:H)","v":0},0,0,0]
["XSW264","net.Desktop X350 - 2500",null,0,null,0,0,null,0,0,0,0,"",{"$f":"+SUMIF('Details sales deliv. to excl.'!F:F,A1822,'Details sales deliv. to excl.'!H:H)","v":0},{"$f":"-SUMIF('Details purch. deliv. to excl.'!F:F,A1822,'Details purch. deliv. to excl.'!H:H)","v":0},0,0,0]
["XSW265","net.Desktop X350 - 30",null,0,null,0,0,null,0,0,0,0,"",{"$f":"+SUMIF('Details sales deliv. to excl.'!F:F,A1823,'Details sales deliv. to excl.'!H:H)","v":0},{"$f":"-SUMIF('Details purch. deliv. to excl.'!F:F,A1823,'Details purch. deliv. to excl.'!H:H)","v":0},0,0,0]
["XSW266","net.Desktop X350 - 300",null,0,null,0,0,null,0,0,0,0,"",{"$f":"+SUMIF('Details sales deliv. to excl.'!F:F,A1824,'Details sales deliv. to excl.'!H:H)","v":0},{"$f":"-SUMIF('Details purch. deliv. to excl.'!F:F,A1824,'Details purch. deliv. to excl.'!H:H)","v":0},0,0,0]
["XSW267","net.Desktop X350 - 3000",null,0,null,0,0,null,0,0,0,0,"",{"$f":"+SUMIF('Details sales deliv. to excl.'!F:F,A1825,'Details sales deliv. to excl.'!H:H)","v":0},{"$f":"-SUMIF('Details purch. deliv. to excl.'!F:F,A1825,'Details purch. deliv. to excl.'!H:H)","v":0},0,0,0]
["XSW268","net.Desktop X350 - 350",null,0,null,0,0,null,0,0,0,0,"",{"$f":"+SUMIF('Details sales deliv. to excl.'!F:F,A1826,'Details sales deliv. to excl.'!H:H)","v":0},{"$f":"-SUMIF('Details purch. deliv. to excl.'!F:F,A1826,'Details purch. deliv. to excl.'!H:H)","v":0},0,0,0]
["XSW269","net.Desktop X350 - 3500",null,0,null,0,0,null,0,0,0,0,"",{"$f":"+SUMIF('Details sales deliv. to excl.'!F:F,A1827,'Details sales deliv. to excl.'!H:H)","v":0},{"$f":"-SUMIF('Details purch. deliv. to excl.'!F:F,A1827,'Details purch. deliv. to excl.'!H:H)","v":0},0,0,0]
["XSW270","net.Desktop X350 - 40",null,0,null,0,0,null,0,0,0,0,"",{"$f":"+SUMIF('Details sales deliv. to excl.'!F:F,A1828,'Details sales deliv. to excl.'!H:H)","v":0},{"$f":"-SUMIF('Details purch. deliv. to excl.'!F:F,A1828,'Details purch. deliv. to excl.'!H:H)","v":0},0,0,0]
["XSW271","net.Desktop X350 - 400",null,0,null,0,0,null,0,0,0,0,"",{"$f":"+SUMIF('Details sales deliv. to excl.'!F:F,A1829,'Details sales deliv. to excl.'!H:H)","v":0},{"$f":"-SUMIF('Details purch. deliv. to excl.'!F:F,A1829,'Details purch. deliv. to excl.'!H:H)","v":0},0,0,0]
["XSW272","net.Desktop X350 - 4000",null,0,null,0,0,null,0,0,0,0,"",{"$f":"+SUMIF('Details sales deliv. to excl.'!F:F,A1830,'Details sales deliv. to excl.'!H:H)","v":0},{"$f":"-SUMIF('Details purch. deliv. to excl.'!F:F,A1830,'Details purch. deliv. to excl.'!H:H)","v":0},0,0,0]
["XSW273","net.Desktop X350 - 4500",null,0,null,0,0,null,0,0,0,0,"",{"$f":"+SUMIF('Details sales deliv. to excl.'!F:F,A1831,'Details sales deliv. to excl.'!H:H)","v":0},{"$f":"-SUMIF('Details purch. deliv. to excl.'!F:F,A1831,'Details purch. deliv. to excl.'!H:H)","v":0},0,0,0]
["XSW274","net.Desktop X350 - 50",null,0,null,0,0,null,0,0,0,0,"",{"$f":"+SUMIF('Details sales deliv. to excl.'!F:F,A1832,'Details sales deliv. to excl.'!H:H)","v":0},{"$f":"-SUMIF('Details purch. deliv. to excl.'!F:F,A1832,'Details purch. deliv. to excl.'!H:H)","v":0},0,0,0]
["XSW275","net.Desktop X350 - 500",null,0,null,0,0,null,0,0,0,0,"",{"$f":"+SUMIF('Details sales deliv. to excl.'!F:F,A1833,'Details sales deliv. to excl.'!H:H)","v":0},{"$f":"-SUMIF('Details purch. deliv. to excl.'!F:F,A1833,'Details purch. deliv. to excl.'!H:H)","v":0},0,0,0]
["XSW276","net.Desktop X350 - 5000",null,0,null,0,0,null,0,0,0,0,"",{"$f":"+SUMIF('Details sales deliv. to excl.'!F:F,A1834,'Details sales deliv. to excl.'!H:H)","v":0},{"$f":"-SUMIF('Details purch. deliv. to excl.'!F:F,A1834,'Details purch. deliv. to excl.'!H:H)","v":0},0,0,0]
["XSW277","net.Desktop X350 - 60",null,0,null,0,0,null,0,0,0,0,"",{"$f":"+SUMIF('Details sales deliv. to excl.'!F:F,A1835,'Details sales deliv. to excl.'!H:H)","v":0},{"$f":"-SUMIF('Details purch. deliv. to excl.'!F:F,A1835,'Details purch. deliv. to excl.'!H:H)","v":0},0,0,0]
["XSW278","net.Desktop X350 - 650",null,0,null,0,0,null,0,0,0,0,"",{"$f":"+SUMIF('Details sales deliv. to excl.'!F:F,A1836,'Details sales deliv. to excl.'!H:H)","v":0},{"$f":"-SUMIF('Details purch. deliv. to excl.'!F:F,A1836,'Details purch. deliv. to excl.'!H:H)","v":0},0,0,0]
["XSW279","net.Desktop X350 - 80",null,0,null,0,0,null,0,0,0,0,"",{"$f":"+SUMIF('Details sales deliv. to excl.'!F:F,A1837,'Details sales deliv. to excl.'!H:H)","v":0},{"$f":"-SUMIF('Details purch. deliv. to excl.'!F:F,A1837,'Details purch. deliv. to excl.'!H:H)","v":0},0,0,0]
["XSW280","net.Desktop X350 - 800",null,0,null,0,0,null,0,0,0,0,"",{"$f":"+SUMIF('Details sales deliv. to excl.'!F:F,A1838,'Details sales deliv. to excl.'!H:H)","v":0},{"$f":"-SUMIF('Details purch. deliv. to excl.'!F:F,A1838,'Details purch. deliv. to excl.'!H:H)","v":0},0,0,0]
["XSW290","net.Desktop X350 - 1",null,0,null,0,0,null,0,0,0,0,"",{"$f":"+SUMIF('Details sales deliv. to excl.'!F:F,A1839,'Details sales deliv. to excl.'!H:H)","v":0},{"$f":"-SUMIF('Details purch. deliv. to excl.'!F:F,A1839,'Details purch. deliv. to excl.'!H:H)","v":0},0,0,0]
["XSW299","net.Buzz - 1",null,0,null,0,0,null,0,0,0,0,"",{"$f":"+SUMIF('Details sales deliv. to excl.'!F:F,A1840,'Details sales deliv. to excl.'!H:H)","v":0},{"$f":"-SUMIF('Details purch. deliv. to excl.'!F:F,A1840,'Details purch. deliv. to excl.'!H:H)","v":0},0,0,0]
["XSW300","net.Buzz - 5",null,0,null,0,0,null,0,0,0,0,"",{"$f":"+SUMIF('Details sales deliv. to excl.'!F:F,A1841,'Details sales deliv. to excl.'!H:H)","v":0},{"$f":"-SUMIF('Details purch. deliv. to excl.'!F:F,A1841,'Details purch. deliv. to excl.'!H:H)","v":0},0,0,0]
["XSW301","net.Buzz - 10",null,0,null,0,0,null,0,0,0,0,"",{"$f":"+SUMIF('Details sales deliv. to excl.'!F:F,A1842,'Details sales deliv. to excl.'!H:H)","v":0},{"$f":"-SUMIF('Details purch. deliv. to excl.'!F:F,A1842,'Details purch. deliv. to excl.'!H:H)","v":0},0,0,0]
["XSW302","net.Buzz - 100",null,0,null,0,0,null,0,0,0,0,"",{"$f":"+SUMIF('Details sales deliv. to excl.'!F:F,A1843,'Details sales deliv. to excl.'!H:H)","v":0},{"$f":"-SUMIF('Details purch. deliv. to excl.'!F:F,A1843,'Details purch. deliv. to excl.'!H:H)","v":0},0,0,0]
["XSW303","net.Buzz - 1000",null,0,null,0,0,null,0,0,0,0,"",{"$f":"+SUMIF('Details sales deliv. to excl.'!F:F,A1844,'Details sales deliv. to excl.'!H:H)","v":0},{"$f":"-SUMIF('Details purch. deliv. to excl.'!F:F,A1844,'Details purch. deliv. to excl.'!H:H)","v":0},0,0,0]
["XSW304","net.Buzz - 1200",null,0,null,0,0,null,0,0,0,0,"",{"$f":"+SUMIF('Details sales deliv. to excl.'!F:F,A1845,'Details sales deliv. to excl.'!H:H)","v":0},{"$f":"-SUMIF('Details purch. deliv. to excl.'!F:F,A1845,'Details purch. deliv. to excl.'!H:H)","v":0},0,0,0]
["XSW305","net.Buzz - 125",null,0,null,0,0,null,0,0,0,0,"",{"$f":"+SUMIF('Details sales deliv. to excl.'!F:F,A1846,'Details sales deliv. to excl.'!H:H)","v":0},{"$f":"-SUMIF('Details purch. deliv. to excl.'!F:F,A1846,'Details purch. deliv. to excl.'!H:H)","v":0},0,0,0]
["XSW306","net.Buzz - 1400",null,0,null,0,0,null,0,0,0,0,"",{"$f":"+SUMIF('Details sales deliv. to excl.'!F:F,A1847,'Details sales deliv. to excl.'!H:H)","v":0},{"$f":"-SUMIF('Details purch. deliv. to excl.'!F:F,A1847,'Details purch. deliv. to excl.'!H:H)","v":0},0,0,0]
["XSW307","net.Buzz - 150",null,0,null,0,0,null,0,0,0,0,"",{"$f":"+SUMIF('Details sales deliv. to excl.'!F:F,A1848,'Details sales deliv. to excl.'!H:H)","v":0},{"$f":"-SUMIF('Details purch. deliv. to excl.'!F:F,A1848,'Details purch. deliv. to excl.'!H:H)","v":0},0,0,0]
["XSW308","net.Buzz - 1600",null,0,null,0,0,null,0,0,0,0,"",{"$f":"+SUMIF('Details sales deliv. to excl.'!F:F,A1849,'Details sales deliv. to excl.'!H:H)","v":0},{"$f":"-SUMIF('Details purch. deliv. to excl.'!F:F,A1849,'Details purch. deliv. to excl.'!H:H)","v":0},0,0,0]
["XSW309","net.Buzz - 175",null,0,null,0,0,null,0,0,0,0,"",{"$f":"+SUMIF('Details sales deliv. to excl.'!F:F,A1850,'Details sales deliv. to excl.'!H:H)","v":0},{"$f":"-SUMIF('Details purch. deliv. to excl.'!F:F,A1850,'Details purch. deliv. to excl.'!H:H)","v":0},0,0,0]
["XSW310","net.Buzz - 1800",null,0,null,0,0,null,0,0,0,0,"",{"$f":"+SUMIF('Details sales deliv. to excl.'!F:F,A1851,'Details sales deliv. to excl.'!H:H)","v":0},{"$f":"-SUMIF('Details purch. deliv. to excl.'!F:F,A1851,'Details purch. deliv. to excl.'!H:H)","v":0},0,0,0]
["XSW311","net.Buzz - 20",null,0,null,0,0,null,0,0,0,0,"",{"$f":"+SUMIF('Details sales deliv. to excl.'!F:F,A1852,'Details sales deliv. to excl.'!H:H)","v":0},{"$f":"-SUMIF('Details purch. deliv. to excl.'!F:F,A1852,'Details purch. deliv. to excl.'!H:H)","v":0},0,0,0]
["XSW312","net.Buzz - 200",null,0,null,0,0,null,0,0,0,0,"",{"$f":"+SUMIF('Details sales deliv. to excl.'!F:F,A1853,'Details sales deliv. to excl.'!H:H)","v":0},{"$f":"-SUMIF('Details purch. deliv. to excl.'!F:F,A1853,'Details purch. deliv. to excl.'!H:H)","v":0},0,0,0]
["XSW313","net.Buzz - 2000",null,0,null,0,0,null,0,0,0,0,"",{"$f":"+SUMIF('Details sales deliv. to excl.'!F:F,A1854,'Details sales deliv. to excl.'!H:H)","v":0},{"$f":"-SUMIF('Details purch. deliv. to excl.'!F:F,A1854,'Details purch. deliv. to excl.'!H:H)","v":0},0,0,0]
["XSW314","net.Buzz - 250",null,0,null,0,0,null,0,0,0,0,"",{"$f":"+SUMIF('Details sales deliv. to excl.'!F:F,A1855,'Details sales deliv. to excl.'!H:H)","v":0},{"$f":"-SUMIF('Details purch. deliv. to excl.'!F:F,A1855,'Details purch. deliv. to excl.'!H:H)","v":0},0,0,0]
["XSW315","net.Buzz - 2500",null,0,null,0,0,null,0,0,0,0,"",{"$f":"+SUMIF('Details sales deliv. to excl.'!F:F,A1856,'Details sales deliv. to excl.'!H:H)","v":0},{"$f":"-SUMIF('Details purch. deliv. to excl.'!F:F,A1856,'Details purch. deliv. to excl.'!H:H)","v":0},0,0,0]
["XSW316","net.Buzz - 30",null,0,null,0,0,null,0,0,0,0,"",{"$f":"+SUMIF('Details sales deliv. to excl.'!F:F,A1857,'Details sales deliv. to excl.'!H:H)","v":0},{"$f":"-SUMIF('Details purch. deliv. to excl.'!F:F,A1857,'Details purch. deliv. to excl.'!H:H)","v":0},0,0,0]
["XSW317","net.Buzz - 300",null,0,null,0,0,null,0,0,0,0,"",{"$f":"+SUMIF('Details sales deliv. to excl.'!F:F,A1858,'Details sales deliv. to excl.'!H:H)","v":0},{"$f":"-SUMIF('Details purch. deliv. to excl.'!F:F,A1858,'Details purch. deliv. to excl.'!H:H)","v":0},0,0,0]
["XSW318","net.Buzz - 3000",null,0,null,0,0,null,0,0,0,0,"",{"$f":"+SUMIF('Details sales deliv. to excl.'!F:F,A1859,'Details sales deliv. to excl.'!H:H)","v":0},{"$f":"-SUMIF('Details purch. deliv. to excl.'!F:F,A1859,'Details purch. deliv. to excl.'!H:H)","v":0},0,0,0]
["XSW319","net.Buzz - 350",null,0,null,0,0,null,{"$f":"H1860-G1860","v":0},{"$f":"G1860*F1860","v":0},{"$f":"H1860*F1860","v":0},{"$f":"I1860*F1860","v":0},"",{"$f":"+SUMIF('Details sales deliv. to excl.'!F:F,A1860,'Details sales deliv. to excl.'!H:H)","v":0},{"$f":"-SUMIF('Details purch. deliv. to excl.'!F:F,A1860,'Details purch. deliv. to excl.'!H:H)","v":0},{"$f":"I1860+N1860+O1860","v":0},{"$f":"G1860+P1860","v":0},{"$f":"Q1860*F1860","v":0}]
["XSW320","net.Buzz - 3500",null,0,null,0,0,null,0,0,0,0,{"$f":"IF(ABS(L1861)>500,\"check\",\"\")","v":""},{"$f":"+SUMIF('Details sales deliv. to excl.'!F:F,A1861,'Details sales deliv. to excl.'!H:H)","v":0},{"$f":"-SUMIF('Details purch. deliv. to excl.'!F:F,A1861,'Details purch. deliv. to excl.'!H:H)","v":0},0,0,0]
["XSW321","net.Buzz - 40",null,0,null,0,0,null,0,0,0,0,"",{"$f":"+SUMIF('Details sales deliv. to excl.'!F:F,A1862,'Details sales deliv. to excl.'!H:H)","v":0},{"$f":"-SUMIF('Details purch. deliv. to excl.'!F:F,A1862,'Details purch. deliv. to excl.'!H:H)","v":0},0,0,0]
["XSW322","net.Buzz - 400",null,0,null,0,0,null,0,0,0,0,"",{"$f":"+SUMIF('Details sales deliv. to excl.'!F:F,A1863,'Details sales deliv. to excl.'!H:H)","v":0},{"$f":"-SUMIF('Details purch. deliv. to excl.'!F:F,A1863,'Details purch. deliv. to excl.'!H:H)","v":0},0,0,0]
["XSW323","net.Buzz - 4000",null,0,null,0,0,null,0,0,0,0,"",{"$f":"+SUMIF('Details sales deliv. to excl.'!F:F,A1864,'Details sales deliv. to excl.'!H:H)","v":0},{"$f":"-SUMIF('Details purch. deliv. to excl.'!F:F,A1864,'Details purch. deliv. to excl.'!H:H)","v":0},0,0,0]
["XSW324","net.Buzz - 4500",null,0,null,0,0,null,0,0,0,0,"",{"$f":"+SUMIF('Details sales deliv. to excl.'!F:F,A1865,'Details sales deliv. to excl.'!H:H)","v":0},{"$f":"-SUMIF('Details purch. deliv. to excl.'!F:F,A1865,'Details purch. deliv. to excl.'!H:H)","v":0},0,0,0]
["XSW325","net.Buzz - 50",null,0,null,0,0,null,0,0,0,0,"",{"$f":"+SUMIF('Details sales deliv. to excl.'!F:F,A1866,'Details sales deliv. to excl.'!H:H)","v":0},{"$f":"-SUMIF('Details purch. deliv. to excl.'!F:F,A1866,'Details purch. deliv. to excl.'!H:H)","v":0},0,0,0]
["XSW326","net.Buzz - 500",null,0,null,0,0,null,0,0,0,0,"",{"$f":"+SUMIF('Details sales deliv. to excl.'!F:F,A1867,'Details sales deliv. to excl.'!H:H)","v":0},{"$f":"-SUMIF('Details purch. deliv. to excl.'!F:F,A1867,'Details purch. deliv. to excl.'!H:H)","v":0},0,0,0]
["XSW327","net.Buzz - 5000",null,0,null,0,0,null,0,0,0,0,"",{"$f":"+SUMIF('Details sales deliv. to excl.'!F:F,A1868,'Details sales deliv. to excl.'!H:H)","v":0},{"$f":"-SUMIF('Details purch. deliv. to excl.'!F:F,A1868,'Details purch. deliv. to excl.'!H:H)","v":0},0,0,0]
["XSW328","net.Buzz - 60",null,0,null,0,0,null,0,0,0,0,"",{"$f":"+SUMIF('Details sales deliv. to excl.'!F:F,A1869,'Details sales deliv. to excl.'!H:H)","v":0},{"$f":"-SUMIF('Details purch. deliv. to excl.'!F:F,A1869,'Details purch. deliv. to excl.'!H:H)","v":0},0,0,0]
["XSW329","net.Buzz - 650",null,0,null,0,0,null,0,0,0,0,"",{"$f":"+SUMIF('Details sales deliv. to excl.'!F:F,A1870,'Details sales deliv. to excl.'!H:H)","v":0},{"$f":"-SUMIF('Details purch. deliv. to excl.'!F:F,A1870,'Details purch. deliv. to excl.'!H:H)","v":0},0,0,0]
["XSW330","net.Buzz - 80",null,0,null,0,0,null,0,0,0,0,"",{"$f":"+SUMIF('Details sales deliv. to excl.'!F:F,A1871,'Details sales deliv. to excl.'!H:H)","v":0},{"$f":"-SUMIF('Details purch. deliv. to excl.'!F:F,A1871,'Details purch. deliv. to excl.'!H:H)","v":0},0,0,0]
["XSW331","net.Buzz - 800",null,0,null,0,0,null,0,0,0,0,"",{"$f":"+SUMIF('Details sales deliv. to excl.'!F:F,A1872,'Details sales deliv. to excl.'!H:H)","v":0},{"$f":"-SUMIF('Details purch. deliv. to excl.'!F:F,A1872,'Details purch. deliv. to excl.'!H:H)","v":0},0,0,0]
["XSW332","net.Buzz - 1100",null,0,null,0,0,null,0,0,0,0,"",{"$f":"+SUMIF('Details sales deliv. to excl.'!F:F,A1873,'Details sales deliv. to excl.'!H:H)","v":0},{"$f":"-SUMIF('Details purch. deliv. to excl.'!F:F,A1873,'Details purch. deliv. to excl.'!H:H)","v":0},0,0,0]
["XSW400","Escaux Connect for Fusion (X100) - any users qty",null,0,null,0,0,null,0,0,0,0,"",{"$f":"+SUMIF('Details sales deliv. to excl.'!F:F,A1874,'Details sales deliv. to excl.'!H:H)","v":0},{"$f":"-SUMIF('Details purch. deliv. to excl.'!F:F,A1874,'Details purch. deliv. to excl.'!H:H)","v":0},0,0,0]
["XSW401","Escaux Connect X300 - 1",null,0,null,0,0,null,0,0,0,0,"",{"$f":"+SUMIF('Details sales deliv. to excl.'!F:F,A1875,'Details sales deliv. to excl.'!H:H)","v":0},{"$f":"-SUMIF('Details purch. deliv. to excl.'!F:F,A1875,'Details purch. deliv. to excl.'!H:H)","v":0},0,0,0]
["XSW405","Escaux Connect X300 - 10",null,0,null,0,0,null,0,0,0,0,"",{"$f":"+SUMIF('Details sales deliv. to excl.'!F:F,A1876,'Details sales deliv. to excl.'!H:H)","v":0},{"$f":"-SUMIF('Details purch. deliv. to excl.'!F:F,A1876,'Details purch. deliv. to excl.'!H:H)","v":0},0,0,0]
["XSW407","Escaux Connect X300 - 20",null,0,null,0,0,null,0,0,0,0,"",{"$f":"+SUMIF('Details sales deliv. to excl.'!F:F,A1877,'Details sales deliv. to excl.'!H:H)","v":0},{"$f":"-SUMIF('Details purch. deliv. to excl.'!F:F,A1877,'Details purch. deliv. to excl.'!H:H)","v":0},0,0,0]
["XSW409","Escaux Connect X300 - 30",null,10183,"FUZER SA",0,0,null,0,0,0,0,"",{"$f":"+SUMIF('Details sales deliv. to excl.'!F:F,A1878,'Details sales deliv. to excl.'!H:H)","v":0},{"$f":"-SUMIF('Details purch. deliv. to excl.'!F:F,A1878,'Details purch. deliv. to excl.'!H:H)","v":0},0,0,0]
["XSW410","Escaux Connect X300 - 40",null,0,null,0,0,null,0,0,0,0,"",{"$f":"+SUMIF('Details sales deliv. to excl.'!F:F,A1879,'Details sales deliv. to excl.'!H:H)","v":0},{"$f":"-SUMIF('Details purch. deliv. to excl.'!F:F,A1879,'Details purch. deliv. to excl.'!H:H)","v":0},0,0,0]
["XSW411","Escaux Connect X300 - 50",null,0,null,0,0,null,0,0,0,0,"",{"$f":"+SUMIF('Details sales deliv. to excl.'!F:F,A1880,'Details sales deliv. to excl.'!H:H)","v":0},{"$f":"-SUMIF('Details purch. deliv. to excl.'!F:F,A1880,'Details purch. deliv. to excl.'!H:H)","v":0},0,0,0]
["XSW412","Escaux Connect X300 - 60",null,0,null,0,0,null,0,0,0,0,"",{"$f":"+SUMIF('Details sales deliv. to excl.'!F:F,A1881,'Details sales deliv. to excl.'!H:H)","v":0},{"$f":"-SUMIF('Details purch. deliv. to excl.'!F:F,A1881,'Details purch. deliv. to excl.'!H:H)","v":0},0,0,0]
["XSW413","Escaux Connect X300 - 70",null,0,null,0,0,null,0,0,0,0,"",{"$f":"+SUMIF('Details sales deliv. to excl.'!F:F,A1882,'Details sales deliv. to excl.'!H:H)","v":0},{"$f":"-SUMIF('Details purch. deliv. to excl.'!F:F,A1882,'Details purch. deliv. to excl.'!H:H)","v":0},0,0,0]
["XSW414","Escaux Connect X300 - 80",null,0,null,0,0,null,0,0,0,0,"",{"$f":"+SUMIF('Details sales deliv. to excl.'!F:F,A1883,'Details sales deliv. to excl.'!H:H)","v":0},{"$f":"-SUMIF('Details purch. deliv. to excl.'!F:F,A1883,'Details purch. deliv. to excl.'!H:H)","v":0},0,0,0]
["XSW415","Escaux Connect X300 - 100",null,10183,"FUZER SA",0,0,null,0,0,0,0,"",{"$f":"+SUMIF('Details sales deliv. to excl.'!F:F,A1884,'Details sales deliv. to excl.'!H:H)","v":0},{"$f":"-SUMIF('Details purch. deliv. to excl.'!F:F,A1884,'Details purch. deliv. to excl.'!H:H)","v":0},0,0,0]
["XSW416","Escaux Connect X300 - 125",null,0,null,0,0,null,0,0,0,0,"",{"$f":"+SUMIF('Details sales deliv. to excl.'!F:F,A1885,'Details sales deliv. to excl.'!H:H)","v":0},{"$f":"-SUMIF('Details purch. deliv. to excl.'!F:F,A1885,'Details purch. deliv. to excl.'!H:H)","v":0},0,0,0]
["XSW417","Escaux Connect X300 - 150",null,0,null,0,0,null,0,0,0,0,"",{"$f":"+SUMIF('Details sales deliv. to excl.'!F:F,A1886,'Details sales deliv. to excl.'!H:H)","v":0},{"$f":"-SUMIF('Details purch. deliv. to excl.'!F:F,A1886,'Details purch. deliv. to excl.'!H:H)","v":0},0,0,0]
["XSW418","Escaux Connect X300 - 175",null,0,null,0,0,null,0,0,0,0,"",{"$f":"+SUMIF('Details sales deliv. to excl.'!F:F,A1887,'Details sales deliv. to excl.'!H:H)","v":0},{"$f":"-SUMIF('Details purch. deliv. to excl.'!F:F,A1887,'Details purch. deliv. to excl.'!H:H)","v":0},0,0,0]
["XSW419","Escaux Connect X300 - 200",null,0,null,0,0,null,0,0,0,0,"",{"$f":"+SUMIF('Details sales deliv. to excl.'!F:F,A1888,'Details sales deliv. to excl.'!H:H)","v":0},{"$f":"-SUMIF('Details purch. deliv. to excl.'!F:F,A1888,'Details purch. deliv. to excl.'!H:H)","v":0},0,0,0]
["XSW420","Escaux Connect X300 - 250",null,0,null,0,0,null,0,0,0,0,"",{"$f":"+SUMIF('Details sales deliv. to excl.'!F:F,A1889,'Details sales deliv. to excl.'!H:H)","v":0},{"$f":"-SUMIF('Details purch. deliv. to excl.'!F:F,A1889,'Details purch. deliv. to excl.'!H:H)","v":0},0,0,0]
["XSW421","Escaux Connect X300 - 300",null,0,null,0,0,null,0,0,0,0,"",{"$f":"+SUMIF('Details sales deliv. to excl.'!F:F,A1890,'Details sales deliv. to excl.'!H:H)","v":0},{"$f":"-SUMIF('Details purch. deliv. to excl.'!F:F,A1890,'Details purch. deliv. to excl.'!H:H)","v":0},0,0,0]
["XSW422","Escaux Connect X300 - 350",null,0,null,0,0,null,0,0,0,0,"",{"$f":"+SUMIF('Details sales deliv. to excl.'!F:F,A1891,'Details sales deliv. to excl.'!H:H)","v":0},{"$f":"-SUMIF('Details purch. deliv. to excl.'!F:F,A1891,'Details purch. deliv. to excl.'!H:H)","v":0},0,0,0]
["XSW423","Escaux Connect X300 - 400",null,0,null,0,0,null,0,0,0,0,"",{"$f":"+SUMIF('Details sales deliv. to excl.'!F:F,A1892,'Details sales deliv. to excl.'!H:H)","v":0},{"$f":"-SUMIF('Details purch. deliv. to excl.'!F:F,A1892,'Details purch. deliv. to excl.'!H:H)","v":0},0,0,0]
["XSW424","Escaux Connect X300 - 500",null,0,null,0,0,null,0,0,0,0,"",{"$f":"+SUMIF('Details sales deliv. to excl.'!F:F,A1893,'Details sales deliv. to excl.'!H:H)","v":0},{"$f":"-SUMIF('Details purch. deliv. to excl.'!F:F,A1893,'Details purch. deliv. to excl.'!H:H)","v":0},0,0,0]
["XSW425","Escaux Connect X300 - 600",null,0,null,0,0,null,0,0,0,0,"",{"$f":"+SUMIF('Details sales deliv. to excl.'!F:F,A1894,'Details sales deliv. to excl.'!H:H)","v":0},{"$f":"-SUMIF('Details purch. deliv. to excl.'!F:F,A1894,'Details purch. deliv. to excl.'!H:H)","v":0},0,0,0]
["XSW426","Escaux Connect X300 - 700",null,0,null,0,0,null,0,0,0,0,"",{"$f":"+SUMIF('Details sales deliv. to excl.'!F:F,A1895,'Details sales deliv. to excl.'!H:H)","v":0},{"$f":"-SUMIF('Details purch. deliv. to excl.'!F:F,A1895,'Details purch. deliv. to excl.'!H:H)","v":0},0,0,0]
["XSW427","Escaux Connect X300 - 800",null,0,null,0,0,null,0,0,0,0,"",{"$f":"+SUMIF('Details sales deliv. to excl.'!F:F,A1896,'Details sales deliv. to excl.'!H:H)","v":0},{"$f":"-SUMIF('Details purch. deliv. to excl.'!F:F,A1896,'Details purch. deliv. to excl.'!H:H)","v":0},0,0,0]
["XSW428","Escaux Connect X300 - 900",null,0,null,0,0,null,0,0,0,0,"",{"$f":"+SUMIF('Details sales deliv. to excl.'!F:F,A1897,'Details sales deliv. to excl.'!H:H)","v":0},{"$f":"-SUMIF('Details purch. deliv. to excl.'!F:F,A1897,'Details purch. deliv. to excl.'!H:H)","v":0},0,0,0]
["XSW429","Escaux Connect X300 - 1000",null,0,null,0,0,null,0,0,0,0,"",{"$f":"+SUMIF('Details sales deliv. to excl.'!F:F,A1898,'Details sales deliv. to excl.'!H:H)","v":0},{"$f":"-SUMIF('Details purch. deliv. to excl.'!F:F,A1898,'Details purch. deliv. to excl.'!H:H)","v":0},0,0,0]
["XSW501","Escaux Connect X500 - 1",null,0,null,0,0,null,0,0,0,0,"",{"$f":"+SUMIF('Details sales deliv. to excl.'!F:F,A1899,'Details sales deliv. to excl.'!H:H)","v":0},{"$f":"-SUMIF('Details purch. deliv. to excl.'!F:F,A1899,'Details purch. deliv. to excl.'!H:H)","v":0},0,0,0]
["XSW505","Escaux Connect X500 - 10",null,0,null,0,0,null,0,0,0,0,"",{"$f":"+SUMIF('Details sales deliv. to excl.'!F:F,A1900,'Details sales deliv. to excl.'!H:H)","v":0},{"$f":"-SUMIF('Details purch. deliv. to excl.'!F:F,A1900,'Details purch. deliv. to excl.'!H:H)","v":0},0,0,0]
["XSW507","Escaux Connect X500 - 20",null,0,null,0,0,null,0,0,0,0,"",{"$f":"+SUMIF('Details sales deliv. to excl.'!F:F,A1901,'Details sales deliv. to excl.'!H:H)","v":0},{"$f":"-SUMIF('Details purch. deliv. to excl.'!F:F,A1901,'Details purch. deliv. to excl.'!H:H)","v":0},0,0,0]
["XSW509","Escaux Connect X500 - 30",null,0,null,0,0,null,0,0,0,0,"",{"$f":"+SUMIF('Details sales deliv. to excl.'!F:F,A1902,'Details sales deliv. to excl.'!H:H)","v":0},{"$f":"-SUMIF('Details purch. deliv. to excl.'!F:F,A1902,'Details purch. deliv. to excl.'!H:H)","v":0},0,0,0]
["XSW510","Escaux Connect X500 - 40",null,0,null,0,0,null,0,0,0,0,"",{"$f":"+SUMIF('Details sales deliv. to excl.'!F:F,A1903,'Details sales deliv. to excl.'!H:H)","v":0},{"$f":"-SUMIF('Details purch. deliv. to excl.'!F:F,A1903,'Details purch. deliv. to excl.'!H:H)","v":0},0,0,0]
["XSW511","Escaux Connect X500 - 50",null,0,null,0,0,null,0,0,0,0,"",{"$f":"+SUMIF('Details sales deliv. to excl.'!F:F,A1904,'Details sales deliv. to excl.'!H:H)","v":0},{"$f":"-SUMIF('Details purch. deliv. to excl.'!F:F,A1904,'Details purch. deliv. to excl.'!H:H)","v":0},0,0,0]
["XSW512","Escaux Connect X500 - 60",null,0,null,0,0,null,0,0,0,0,"",{"$f":"+SUMIF('Details sales deliv. to excl.'!F:F,A1905,'Details sales deliv. to excl.'!H:H)","v":0},{"$f":"-SUMIF('Details purch. deliv. to excl.'!F:F,A1905,'Details purch. deliv. to excl.'!H:H)","v":0},0,0,0]
["XSW513","Escaux Connect X500 - 70",null,0,null,0,0,null,0,0,0,0,"",{"$f":"+SUMIF('Details sales deliv. to excl.'!F:F,A1906,'Details sales deliv. to excl.'!H:H)","v":0},{"$f":"-SUMIF('Details purch. deliv. to excl.'!F:F,A1906,'Details purch. deliv. to excl.'!H:H)","v":0},0,0,0]
["XSW514","Escaux Connect X500 - 80",null,0,null,0,0,null,0,0,0,0,"",{"$f":"+SUMIF('Details sales deliv. to excl.'!F:F,A1907,'Details sales deliv. to excl.'!H:H)","v":0},{"$f":"-SUMIF('Details purch. deliv. to excl.'!F:F,A1907,'Details purch. deliv. to excl.'!H:H)","v":0},0,0,0]
["XSW515","Escaux Connect X500 - 100",null,0,null,0,0,null,0,0,0,0,"",{"$f":"+SUMIF('Details sales deliv. to excl.'!F:F,A1908,'Details sales deliv. to excl.'!H:H)","v":0},{"$f":"-SUMIF('Details purch. deliv. to excl.'!F:F,A1908,'Details purch. deliv. to excl.'!H:H)","v":0},0,0,0]
["XSW516","Escaux Connect X500 - 125",null,0,null,0,0,null,0,0,0,0,"",{"$f":"+SUMIF('Details sales deliv. to excl.'!F:F,A1909,'Details sales deliv. to excl.'!H:H)","v":0},{"$f":"-SUMIF('Details purch. deliv. to excl.'!F:F,A1909,'Details purch. deliv. to excl.'!H:H)","v":0},0,0,0]
["XSW517","Escaux Connect X500 - 150",null,0,null,0,0,null,0,0,0,0,"",{"$f":"+SUMIF('Details sales deliv. to excl.'!F:F,A1910,'Details sales deliv. to excl.'!H:H)","v":0},{"$f":"-SUMIF('Details purch. deliv. to excl.'!F:F,A1910,'Details purch. deliv. to excl.'!H:H)","v":0},0,0,0]
["XSW518","Escaux Connect X500 - 175",null,0,null,0,0,null,0,0,0,0,"",{"$f":"+SUMIF('Details sales deliv. to excl.'!F:F,A1911,'Details sales deliv. to excl.'!H:H)","v":0},{"$f":"-SUMIF('Details purch. deliv. to excl.'!F:F,A1911,'Details purch. deliv. to excl.'!H:H)","v":0},0,0,0]
["XSW519","Escaux Connect X500 - 200",null,0,null,0,0,null,0,0,0,0,"",{"$f":"+SUMIF('Details sales deliv. to excl.'!F:F,A1912,'Details sales deliv. to excl.'!H:H)","v":0},{"$f":"-SUMIF('Details purch. deliv. to excl.'!F:F,A1912,'Details purch. deliv. to excl.'!H:H)","v":0},0,0,0]
["XSW520","Escaux Connect X500 - 250",null,0,null,0,0,null,0,0,0,0,"",{"$f":"+SUMIF('Details sales deliv. to excl.'!F:F,A1913,'Details sales deliv. to excl.'!H:H)","v":0},{"$f":"-SUMIF('Details purch. deliv. to excl.'!F:F,A1913,'Details purch. deliv. to excl.'!H:H)","v":0},0,0,0]
["XSW521","Escaux Connect X500 - 300",null,0,null,0,0,null,0,0,0,0,"",{"$f":"+SUMIF('Details sales deliv. to excl.'!F:F,A1914,'Details sales deliv. to excl.'!H:H)","v":0},{"$f":"-SUMIF('Details purch. deliv. to excl.'!F:F,A1914,'Details purch. deliv. to excl.'!H:H)","v":0},0,0,0]
["XSW522","Escaux Connect X500 - 350",null,0,null,0,0,null,0,0,0,0,"",{"$f":"+SUMIF('Details sales deliv. to excl.'!F:F,A1915,'Details sales deliv. to excl.'!H:H)","v":0},{"$f":"-SUMIF('Details purch. deliv. to excl.'!F:F,A1915,'Details purch. deliv. to excl.'!H:H)","v":0},0,0,0]
["XSW523","Escaux Connect X500 - 400",null,0,null,0,0,null,0,0,0,0,"",{"$f":"+SUMIF('Details sales deliv. to excl.'!F:F,A1916,'Details sales deliv. to excl.'!H:H)","v":0},{"$f":"-SUMIF('Details purch. deliv. to excl.'!F:F,A1916,'Details purch. deliv. to excl.'!H:H)","v":0},0,0,0]
["XSW524","Escaux Connect X500 - 500",null,0,null,0,0,null,0,0,0,0,"",{"$f":"+SUMIF('Details sales deliv. to excl.'!F:F,A1917,'Details sales deliv. to excl.'!H:H)","v":0},{"$f":"-SUMIF('Details purch. deliv. to excl.'!F:F,A1917,'Details purch. deliv. to excl.'!H:H)","v":0},0,0,0]
["XSW525","Escaux Connect X500 - 600",null,0,null,0,0,null,0,0,0,0,"",{"$f":"+SUMIF('Details sales deliv. to excl.'!F:F,A1918,'Details sales deliv. to excl.'!H:H)","v":0},{"$f":"-SUMIF('Details purch. deliv. to excl.'!F:F,A1918,'Details purch. deliv. to excl.'!H:H)","v":0},0,0,0]
["XSW526","Escaux Connect X500 - 700",null,0,null,0,0,null,0,0,0,0,"",{"$f":"+SUMIF('Details sales deliv. to excl.'!F:F,A1919,'Details sales deliv. to excl.'!H:H)","v":0},{"$f":"-SUMIF('Details purch. deliv. to excl.'!F:F,A1919,'Details purch. deliv. to excl.'!H:H)","v":0},0,0,0]
["XSW527","Escaux Connect X500 - 800",null,0,null,0,0,null,0,0,0,0,"",{"$f":"+SUMIF('Details sales deliv. to excl.'!F:F,A1920,'Details sales deliv. to excl.'!H:H)","v":0},{"$f":"-SUMIF('Details purch. deliv. to excl.'!F:F,A1920,'Details purch. deliv. to excl.'!H:H)","v":0},0,0,0]
["XSW528","Escaux Connect X500 - 900",null,0,null,0,0,null,0,0,0,0,"",{"$f":"+SUMIF('Details sales deliv. to excl.'!F:F,A1921,'Details sales deliv. to excl.'!H:H)","v":0},{"$f":"-SUMIF('Details purch. deliv. to excl.'!F:F,A1921,'Details purch. deliv. to excl.'!H:H)","v":0},0,0,0]
["XSW529","Escaux Connect X500 - 1000",null,0,null,0,0,null,0,0,0,0,"",{"$f":"+SUMIF('Details sales deliv. to excl.'!F:F,A1922,'Details sales deliv. to excl.'!H:H)","v":0},{"$f":"-SUMIF('Details purch. deliv. to excl.'!F:F,A1922,'Details purch. deliv. to excl.'!H:H)","v":0},0,0,0]
["XSX001","Recording & Archiving - 10",null,0,null,0,0,null,0,0,0,0,"",{"$f":"+SUMIF('Details sales deliv. to excl.'!F:F,A1923,'Details sales deliv. to excl.'!H:H)","v":0},{"$f":"-SUMIF('Details purch. deliv. to excl.'!F:F,A1923,'Details purch. deliv. to excl.'!H:H)","v":0},0,0,0]
["XSX002","Recording & Archiving - 20",null,0,null,0,0,null,{"$f":"H1924-G1924","v":0},{"$f":"G1924*F1924","v":0},{"$f":"H1924*F1924","v":0},{"$f":"I1924*F1924","v":0},"",{"$f":"+SUMIF('Details sales deliv. to excl.'!F:F,A1924,'Details sales deliv. to excl.'!H:H)","v":0},{"$f":"-SUMIF('Details purch. deliv. to excl.'!F:F,A1924,'Details purch. deliv. to excl.'!H:H)","v":0},{"$f":"I1924+N1924+O1924","v":0},{"$f":"G1924+P1924","v":0},{"$f":"Q1924*F1924","v":0}]
["XSX003","Recording & Archiving - 30",null,0,null,0,0,null,0,0,0,0,{"$f":"IF(ABS(L1925)>500,\"check\",\"\")","v":""},{"$f":"+SUMIF('Details sales deliv. to excl.'!F:F,A1925,'Details sales deliv. to excl.'!H:H)","v":0},{"$f":"-SUMIF('Details purch. deliv. to excl.'!F:F,A1925,'Details purch. deliv. to excl.'!H:H)","v":0},0,0,0]
["XSX004","Recording & Archiving - 40",null,0,null,0,0,null,0,0,0,0,"",{"$f":"+SUMIF('Details sales deliv. to excl.'!F:F,A1926,'Details sales deliv. to excl.'!H:H)","v":0},{"$f":"-SUMIF('Details purch. deliv. to excl.'!F:F,A1926,'Details purch. deliv. to excl.'!H:H)","v":0},0,0,0]
["XSX005","Recording & Archiving - 50",null,0,null,0,0,null,0,0,0,0,"",{"$f":"+SUMIF('Details sales deliv. to excl.'!F:F,A1927,'Details sales deliv. to excl.'!H:H)","v":0},{"$f":"-SUMIF('Details purch. deliv. to excl.'!F:F,A1927,'Details purch. deliv. to excl.'!H:H)","v":0},0,0,0]
["XSX006","Recording & Archiving - 60",null,0,null,0,0,null,0,0,0,0,"",{"$f":"+SUMIF('Details sales deliv. to excl.'!F:F,A1928,'Details sales deliv. to excl.'!H:H)","v":0},{"$f":"-SUMIF('Details purch. deliv. to excl.'!F:F,A1928,'Details purch. deliv. to excl.'!H:H)","v":0},0,0,0]
["XSX007","Recording & Archiving - 70",null,0,null,0,0,null,0,0,0,0,"",{"$f":"+SUMIF('Details sales deliv. to excl.'!F:F,A1929,'Details sales deliv. to excl.'!H:H)","v":0},{"$f":"-SUMIF('Details purch. deliv. to excl.'!F:F,A1929,'Details purch. deliv. to excl.'!H:H)","v":0},0,0,0]
["XSX008","Recording & Archiving - 80",null,0,null,0,0,null,0,0,0,0,"",{"$f":"+SUMIF('Details sales deliv. to excl.'!F:F,A1930,'Details sales deliv. to excl.'!H:H)","v":0},{"$f":"-SUMIF('Details purch. deliv. to excl.'!F:F,A1930,'Details purch. deliv. to excl.'!H:H)","v":0},0,0,0]
["XSX009","Recording & Archiving - 100",null,0,null,0,0,null,0,0,0,0,"",{"$f":"+SUMIF('Details sales deliv. to excl.'!F:F,A1931,'Details sales deliv. to excl.'!H:H)","v":0},{"$f":"-SUMIF('Details purch. deliv. to excl.'!F:F,A1931,'Details purch. deliv. to excl.'!H:H)","v":0},0,0,0]
["XSX010","Recording & Archiving - 200",null,0,null,0,0,null,0,0,0,0,"",{"$f":"+SUMIF('Details sales deliv. to excl.'!F:F,A1932,'Details sales deliv. to excl.'!H:H)","v":0},{"$f":"-SUMIF('Details purch. deliv. to excl.'!F:F,A1932,'Details purch. deliv. to excl.'!H:H)","v":0},0,0,0]
["XSX011","Recording & Archiving - 300",null,0,null,0,0,null,0,0,0,0,"",{"$f":"+SUMIF('Details sales deliv. to excl.'!F:F,A1933,'Details sales deliv. to excl.'!H:H)","v":0},{"$f":"-SUMIF('Details purch. deliv. to excl.'!F:F,A1933,'Details purch. deliv. to excl.'!H:H)","v":0},0,0,0]
["XSZ001","External Channels - 2",null,0,null,0,0,null,0,0,0,0,"",{"$f":"+SUMIF('Details sales deliv. to excl.'!F:F,A1934,'Details sales deliv. to excl.'!H:H)","v":0},{"$f":"-SUMIF('Details purch. deliv. to excl.'!F:F,A1934,'Details purch. deliv. to excl.'!H:H)","v":0},0,0,0]
["XSZ002","External Channels - 4",null,0,null,0,0,null,0,0,0,0,"",{"$f":"+SUMIF('Details sales deliv. to excl.'!F:F,A1935,'Details sales deliv. to excl.'!H:H)","v":0},{"$f":"-SUMIF('Details purch. deliv. to excl.'!F:F,A1935,'Details purch. deliv. to excl.'!H:H)","v":0},0,0,0]
["XSZ003","External Channels - 6",null,0,null,0,0,null,0,0,0,0,"",{"$f":"+SUMIF('Details sales deliv. to excl.'!F:F,A1936,'Details sales deliv. to excl.'!H:H)","v":0},{"$f":"-SUMIF('Details purch. deliv. to excl.'!F:F,A1936,'Details purch. deliv. to excl.'!H:H)","v":0},0,0,0]
["XSZ004","External Channels - 8",null,0,null,0,0,null,0,0,0,0,"",{"$f":"+SUMIF('Details sales deliv. to excl.'!F:F,A1937,'Details sales deliv. to excl.'!H:H)","v":0},{"$f":"-SUMIF('Details purch. deliv. to excl.'!F:F,A1937,'Details purch. deliv. to excl.'!H:H)","v":0},0,0,0]
["XSZ005","External Channels - 10",null,0,null,0,0,null,0,0,0,0,"",{"$f":"+SUMIF('Details sales deliv. to excl.'!F:F,A1938,'Details sales deliv. to excl.'!H:H)","v":0},{"$f":"-SUMIF('Details purch. deliv. to excl.'!F:F,A1938,'Details purch. deliv. to excl.'!H:H)","v":0},0,0,0]
["XSZ006","External Channels - 15",null,0,null,0,0,null,0,0,0,0,"",{"$f":"+SUMIF('Details sales deliv. to excl.'!F:F,A1939,'Details sales deliv. to excl.'!H:H)","v":0},{"$f":"-SUMIF('Details purch. deliv. to excl.'!F:F,A1939,'Details purch. deliv. to excl.'!H:H)","v":0},0,0,0]
["XSZ007","External Channels - 20",null,0,null,0,0,null,0,0,0,0,"",{"$f":"+SUMIF('Details sales deliv. to excl.'!F:F,A1940,'Details sales deliv. to excl.'!H:H)","v":0},{"$f":"-SUMIF('Details purch. deliv. to excl.'!F:F,A1940,'Details purch. deliv. to excl.'!H:H)","v":0},0,0,0]
["XSZ008","External Channels - 25",null,0,null,0,0,null,0,0,0,0,"",{"$f":"+SUMIF('Details sales deliv. to excl.'!F:F,A1941,'Details sales deliv. to excl.'!H:H)","v":0},{"$f":"-SUMIF('Details purch. deliv. to excl.'!F:F,A1941,'Details purch. deliv. to excl.'!H:H)","v":0},0,0,0]
["XSZ009","External Channels - 30",null,0,null,0,0,null,0,0,0,0,"",{"$f":"+SUMIF('Details sales deliv. to excl.'!F:F,A1942,'Details sales deliv. to excl.'!H:H)","v":0},{"$f":"-SUMIF('Details purch. deliv. to excl.'!F:F,A1942,'Details purch. deliv. to excl.'!H:H)","v":0},0,0,0]
["XSZ010","External Channels - 40",null,0,null,0,0,null,0,0,0,0,"",{"$f":"+SUMIF('Details sales deliv. to excl.'!F:F,A1943,'Details sales deliv. to excl.'!H:H)","v":0},{"$f":"-SUMIF('Details purch. deliv. to excl.'!F:F,A1943,'Details purch. deliv. to excl.'!H:H)","v":0},0,0,0]
["XSZ011","External Channels - 50",null,0,null,0,0,null,0,0,0,0,"",{"$f":"+SUMIF('Details sales deliv. to excl.'!F:F,A1944,'Details sales deliv. to excl.'!H:H)","v":0},{"$f":"-SUMIF('Details purch. deliv. to excl.'!F:F,A1944,'Details purch. deliv. to excl.'!H:H)","v":0},0,0,0]
["XSZ012","External Channels - 60",null,0,null,0,0,null,0,0,0,0,"",{"$f":"+SUMIF('Details sales deliv. to excl.'!F:F,A1945,'Details sales deliv. to excl.'!H:H)","v":0},{"$f":"-SUMIF('Details purch. deliv. to excl.'!F:F,A1945,'Details purch. deliv. to excl.'!H:H)","v":0},0,0,0]
["XSZ013","External Channels - 90",null,0,null,0,0,null,0,0,0,0,"",{"$f":"+SUMIF('Details sales deliv. to excl.'!F:F,A1946,'Details sales deliv. to excl.'!H:H)","v":0},{"$f":"-SUMIF('Details purch. deliv. to excl.'!F:F,A1946,'Details purch. deliv. to excl.'!H:H)","v":0},0,0,0]
["XSZ014","External Channels - 100",null,0,null,0,0,null,0,0,0,0,"",{"$f":"+SUMIF('Details sales deliv. to excl.'!F:F,A1947,'Details sales deliv. to excl.'!H:H)","v":0},{"$f":"-SUMIF('Details purch. deliv. to excl.'!F:F,A1947,'Details purch. deliv. to excl.'!H:H)","v":0},0,0,0]
["XSZ015","External Channels - 120",null,0,null,0,0,null,0,0,0,0,"",{"$f":"+SUMIF('Details sales deliv. to excl.'!F:F,A1948,'Details sales deliv. to excl.'!H:H)","v":0},{"$f":"-SUMIF('Details purch. deliv. to excl.'!F:F,A1948,'Details purch. deliv. to excl.'!H:H)","v":0},0,0,0]
["XUC001","1/2 day Pure Cloud Training",null,0,null,0,0,null,{"$f":"H1949-G1949","v":0},{"$f":"G1949*F1949","v":0},{"$f":"H1949*F1949","v":0},{"$f":"I1949*F1949","v":0},{"$f":"IF(ABS(L1949)>500,\"check\",\"\")","v":""},{"$f":"+SUMIF('Details sales deliv. to excl.'!F:F,A1949,'Details sales deliv. to excl.'!H:H)","v":0},{"$f":"-SUMIF('Details purch. deliv. to excl.'!F:F,A1949,'Details purch. deliv. to excl.'!H:H)","v":0},{"$f":"I1949+N1949+O1949","v":0},{"$f":"G1949+P1949","v":0},{"$f":"Q1949*F1949","v":0}]
["XUC002","1/2 day Hybrid Cloud Training",null,0,null,0,0,null,0,0,0,0,"",{"$f":"+SUMIF('Details sales deliv. to excl.'!F:F,A1950,'Details sales deliv. to excl.'!H:H)","v":0},{"$f":"-SUMIF('Details purch. deliv. to excl.'!F:F,A1950,'Details purch. deliv. to excl.'!H:H)","v":0},0,0,0]
["XUC003","1/2 day Pure Mobile Training",null,0,null,0,0,null,0,0,0,0,"",{"$f":"+SUMIF('Details sales deliv. to excl.'!F:F,A1951,'Details sales deliv. to excl.'!H:H)","v":0},{"$f":"-SUMIF('Details purch. deliv. to excl.'!F:F,A1951,'Details purch. deliv. to excl.'!H:H)","v":0},0,0,0]
["XUC011","Pure Cloud - Onsite Consultancy (1/2 day)",null,0,null,0,0,null,0,0,0,0,"",{"$f":"+SUMIF('Details sales deliv. to excl.'!F:F,A1952,'Details sales deliv. to excl.'!H:H)","v":0},{"$f":"-SUMIF('Details purch. deliv. to excl.'!F:F,A1952,'Details purch. deliv. to excl.'!H:H)","v":0},0,0,0]
["XUC013","Pure Cloud  - Onsite Consultancy (1 day)",null,0,null,0,0,null,0,0,0,0,"",{"$f":"+SUMIF('Details sales deliv. to excl.'!F:F,A1953,'Details sales deliv. to excl.'!H:H)","v":0},{"$f":"-SUMIF('Details purch. deliv. to excl.'!F:F,A1953,'Details purch. deliv. to excl.'!H:H)","v":0},0,0,0]
["XUC101","Pure Cloud Certification",null,0,null,0,0]
["XUC111","Hybrid Cloud - Onsite Consultancy (1/2 day)",null,0,null,0,0]
["XUC113","Hybrid Cloud  - Onsite Consultancy (1 day)",null,0,null,0,0]
["Z1000","G.729 Annex A Codec Channel License - DIGIUM","8G729CODEC",761,"DIGIUM ASTERISK",9.11,0]
["Z1010","Anti-virus/Anti-rootkit Project Module","FCSIBF1NVBCIN",842,"DATA RESCUE",56.1,0]
["Z1020","G.729 Annex A Codec Channel License","8G729CODEC",10006,"SIPRO LAB TELECOM",3.59,0]
["Z1021","G729 Codec vSOP/SOP license",null,10006,"SIPRO LAB TELECOM",3.94,0]
["Z5000","test 1234",null,10183,"FUZER SA",1,0]

{"sheet":"Details sales deliv. to excl.","index":2,"n_rows":1,"n_cols":10,"rows_kept":1,"cut":false,"hidden":false,"merged":[]}
["Book","Document number","Line number","Customer number","Firm name","Article number","Price document currency","Quantity","Addition: date (1)","Remark"]

{"sheet":"Details purch. deliv. to excl.","index":3,"n_rows":1,"n_cols":10,"rows_kept":1,"cut":false,"hidden":false,"merged":[]}
["Book (1)","Document number (2)","Line number (3)","Supplier number","Firm name","Article number","Price document currency","Quantity","Open","Addition: date"]

{"sheet":"Stock doc (for cut and paste)","index":4,"n_rows":45,"n_cols":7,"rows_kept":45,"cut":false,"hidden":false,"merged":[]}
["Article Number","Qty at closing","Description",null,null,"Check : "]
["AC1002",-2,"CISCO SPA112",null,null,"Qty variance at closing :",{"$f":"'Stock Venice_20170630'!P2","v":327}]
["CB1105",-1,"POLYCOM IP 6000 Pwr Supply",null,null,"Qty variance regularized in Venice : ",{"$f":"SUM(B:B)","v":-105}]
["CB1200",2,"POLYCOM IP7000 - PoE",null,null,"Check (do not delete)",{"$f":"IF(G2<>G3,\"Error in File\",\"\")","v":"Error in File"}]
["CB1400",1,"POLYCOM VVX1500"]
["CB1461",1,"POLYCOM VVX201 PoE"]
["CB1462",-5,"POLYCOM VVX301 PoE"]
["CB1504",2,"POLYCOM VVX310 PoE"]
["CB1505",-1,"POLYCOM VVX311 PoE"]
["CB1508",-1,"POLYCOM VVX410 PoE"]
["CB1509",-1,"POLYCOM VVX411 PoE"]
["CB1665",1,"POLYCOM Expansion Module for VVX (color)"]
["HD1015",-4,"JABRA PRO 920"]
["HD1042",6,"GN2100 FLEX MONO"]
["HD1043",-7,"GN2100 DUO FLEX NC"]
["HD1055",-1,"JABRA RJ9 to 2.5mm jack cable"]
["HD1056",4,"JABRA cable QD-RJ9"]
["HD1057",1,"JABRA 2.5mm jack to QD cable"]
["HD1058",3,"JABRA EHS cable for POLYCOM"]
["HD1177",-9,"PLANTRONICS Extension Cable APP-51  (for Polycom Soundpoint/VVX)"]
["HD1185",1,"PLANTRONICS Voyager Pro UC v2"]
["HD2050",-5,"JABRA DIAL 550 USB"]
["LA1056",1,"INLINE Molex Y-cable 3.5\" 1x5.25\" to 2x5.25\" angled, 0.2m"]
["PA1031",6,"5 POLYCOM pwr supplies for IP331/335/450 - 24V"]
["PD1001",1,"HELIOS IP Force 4 buttons (H9151104W)"]
["PD1003",-1,"HELIOS IP Force 4 buttons with camera (H9151104CW)"]
["PH1109",1,"POLYCOM IP331 - PoE"]
["PH1118",-4,"POLYCOM IP450 - PoE refurbished"]
["PH1123",3,"POLYCOM IP650 - PoE"]
["PH1471",1,"SNOM M9r IP DECT Handset"]
["PH1483",-4,"SNOM M9r IP DECT Handset+BS"]
["PH1496",-1,"SNOM M9r battery"]
["PHD1005",1,"GIGASET N510 IP PRO Dect Station for 6 phones"]
["PHD1007",-113,"GIGASET S650H PRO"]
["PW1201",-21,"AASTRA 612D set"]
["PW1202",20,"AASTRA 612D Handset"]
["PW1207",-2,"AASTRA 622D set"]
["PW1220",-2,"AASTRA Base station + Antenna RFP Dect L32 [EOL]"]
["PW1226",7,"AASTRA Base station + Antenna RFP Dect 35"]
["PW1257",3,"AASTRA Beltbag for 610/620 [EOL]"]
["S1046",3,"Edge Appliance (HP DL20 Gen9)"]
["SI1152",1,"2PRI PCI-E Interface (SANGOMA)"]
["SI1226",14,"VIDEK RJ21 M-M cable"]
["SI1310",-3,"Open-ended Cable with SCSI Type Connector to Panel (6 ft) (SANGOMA)"]
["USB1000",-1,"KINGSTON USB stick 8GB (DataTraveler SE9)"]

{"sheet":"Inventory notes","index":5,"n_rows":0,"n_cols":0,"rows_kept":0,"cut":false,"hidden":false,"merged":[]}