{"text_format":"1","workbook":"xlsx","n_sheets":16,"sheets":["Translations","Vocabulary translation","Sales - References","Sales - Technical basics","Sales-SA - Connectivity","Service Delivery - Core","Customer Legal - Invoicing","Customer Contacts","Customer Sites with tech. data","DDIs","Groups - Queues - IVRs","User specifications","Enhanced Audio Conferencing","Dropdown lists ordering","Central IP-PBX IP Addresses","MPLS Router LAN Interface IPs"],"not_rendered":{"charts":0,"images":1,"macros":1,"external_links":3,"defined_names":390,"comments":11,"pivot_tables":0},"unopened":[],"bounds":{"document_bytes":16777216,"sheet_cells":100000,"rows_first":2000,"rows_last":500,"rows_between":2000,"halvings":0,"cell_chars":16384,"cell_head_chars":4096},"cells_cut":0,"cells_raw":0,"read":"whole","date_system":"1900"}

{"sheet":"Translations","index":0,"n_rows":1402,"n_cols":6,"rows_kept":1402,"cut":false,"hidden":true,"merged":[]}
["Current","English","French","Italian","German","Spanish"]
[{"$f":"IF(#REF!=\"English\",Translations!B2,IF(#REF!=\"French\",Translations!C2,IF(#REF!=\"Italian\",Translations!D2,IF(#REF!=\"German\",Translations!E2,IF(#REF!=\"Spanish\",Translations!F2,Translations!B2)))))","v":{"$error":"#REF!"}},"Colt Cloud UC - Pricing sheet","Colt Cloud UC - Conditions générales","Colt Cloud UC - Scheda prezzi","Colt Cloud UC - Preisangaben ","Colt Cloud UC - Hoja de precios"]
[{"$f":"IF(#REF!=\"English\",Translations!B3,IF(#REF!=\"French\",Translations!C3,IF(#REF!=\"Italian\",Translations!D3,IF(#REF!=\"German\",Translations!E3,IF(#REF!=\"Spanish\",Translations!F3,Translations!B3)))))","v":{"$error":"#REF!"}},"Step 1","Step 1","Step 1","Step 1","Step 1"]
[{"$f":"IF(#REF!=\"English\",Translations!B4,IF(#REF!=\"French\",Translations!C4,IF(#REF!=\"Italian\",Translations!D4,IF(#REF!=\"German\",Translations!E4,IF(#REF!=\"Spanish\",Translations!F4,Translations!B4)))))","v":{"$error":"#REF!"}},"Step 2","Step 2","Step 2","Step 2","Step 2"]
[{"$f":"IF(#REF!=\"English\",Translations!B5,IF(#REF!=\"French\",Translations!C5,IF(#REF!=\"Italian\",Translations!D5,IF(#REF!=\"German\",Translations!E5,IF(#REF!=\"Spanish\",Translations!F5,Translations!B5)))))","v":{"$error":"#REF!"}},"Step 3","Step 3","Step 3","Step 3","Step 3"]
[{"$f":"IF(#REF!=\"English\",Translations!B6,IF(#REF!=\"French\",Translations!C6,IF(#REF!=\"Italian\",Translations!D6,IF(#REF!=\"German\",Translations!E6,IF(#REF!=\"Spanish\",Translations!F6,Translations!B6)))))","v":{"$error":"#REF!"}},"Step 4","Step 4","Step 4","Step 4","Step 4"]
[{"$f":"IF(#REF!=\"English\",Translations!B7,IF(#REF!=\"French\",Translations!C7,IF(#REF!=\"Italian\",Translations!D7,IF(#REF!=\"German\",Translations!E7,IF(#REF!=\"Spanish\",Translations!F7,Translations!B7)))))","v":{"$error":"#REF!"}},"Step 5","Step 5","Step 5","Step 5","Step 5"]
[{"$f":"IF(#REF!=\"English\",Translations!B8,IF(#REF!=\"French\",Translations!C8,IF(#REF!=\"Italian\",Translations!D8,IF(#REF!=\"German\",Translations!E8,IF(#REF!=\"Spanish\",Translations!F8,Translations!B8)))))","v":{"$error":"#REF!"}},"Step 6","Step 6","Step 6","Step 6","Step 6"]
[{"$f":"IF(#REF!=\"English\",Translations!B9,IF(#REF!=\"French\",Translations!C9,IF(#REF!=\"Italian\",Translations!D9,IF(#REF!=\"German\",Translations!E9,IF(#REF!=\"Spanish\",Translations!F9,Translations!B9)))))","v":{"$error":"#REF!"}},"Step 7","Step 7","Step 7","Step 7","Step 7"]
[{"$f":"IF(#REF!=\"English\",Translations!B10,IF(#REF!=\"French\",Translations!C10,IF(#REF!=\"Italian\",Translations!D10,IF(#REF!=\"German\",Translations!E10,IF(#REF!=\"Spanish\",Translations!F10,Translations!B10)))))","v":{"$error":"#REF!"}},"Step 8","Step 8","Step 8","Step 8","Step 8"]
[{"$f":"IF(#REF!=\"English\",Translations!B11,IF(#REF!=\"French\",Translations!C11,IF(#REF!=\"Italian\",Translations!D11,IF(#REF!=\"German\",Translations!E11,IF(#REF!=\"Spanish\",Translations!F11,Translations!B11)))))","v":{"$error":"#REF!"}},"Step 9","Step 9","Step 9","Step 9","Step 9"]
[{"$f":"IF(#REF!=\"English\",Translations!B12,IF(#REF!=\"French\",Translations!C12,IF(#REF!=\"Italian\",Translations!D12,IF(#REF!=\"German\",Translations!E12,IF(#REF!=\"Spanish\",Translations!F12,Translations!B12)))))","v":{"$error":"#REF!"}},"Step 10","Step 10","Step 10","Step 10","Step 10"]
[{"$f":"IF(#REF!=\"English\",Translations!B13,IF(#REF!=\"French\",Translations!C13,IF(#REF!=\"Italian\",Translations!D13,IF(#REF!=\"German\",Translations!E13,IF(#REF!=\"Spanish\",Translations!F13,Translations!B13)))))","v":{"$error":"#REF!"}},"Step 11","Step 11","Step 11","Step 11","Step 11"]
[{"$f":"IF(#REF!=\"English\",Translations!B14,IF(#REF!=\"French\",Translations!C14,IF(#REF!=\"Italian\",Translations!D14,IF(#REF!=\"German\",Translations!E14,IF(#REF!=\"Spanish\",Translations!F14,Translations!B14)))))","v":{"$error":"#REF!"}},"Step 12","Step 12","Step 12","Step 12","Step 12"]
[{"$f":"IF(#REF!=\"English\",Translations!B15,IF(#REF!=\"French\",Translations!C15,IF(#REF!=\"Italian\",Translations!D15,IF(#REF!=\"German\",Translations!E15,IF(#REF!=\"Spanish\",Translations!F15,Translations!B15)))))","v":{"$error":"#REF!"}},"Step 13","Step 13","Step 13","Step 13","Step 13"]
[{"$f":"IF(#REF!=\"English\",Translations!B16,IF(#REF!=\"French\",Translations!C16,IF(#REF!=\"Italian\",Translations!D16,IF(#REF!=\"German\",Translations!E16,IF(#REF!=\"Spanish\",Translations!F16,Translations!B16)))))","v":{"$error":"#REF!"}},"Step 14","Step 14","Step 14","Step 14","Step 14"]
[{"$f":"IF(#REF!=\"English\",Translations!B17,IF(#REF!=\"French\",Translations!C17,IF(#REF!=\"Italian\",Translations!D17,IF(#REF!=\"German\",Translations!E17,IF(#REF!=\"Spanish\",Translations!F17,Translations!B17)))))","v":{"$error":"#REF!"}},"Step 15","Step 15","Step 15","Step 15","Step 15"]
[{"$f":"IF(#REF!=\"English\",Translations!B18,IF(#REF!=\"French\",Translations!C18,IF(#REF!=\"Italian\",Translations!D18,IF(#REF!=\"German\",Translations!E18,IF(#REF!=\"Spanish\",Translations!F18,Translations!B18)))))","v":{"$error":"#REF!"}},"Customer Name","Nom du client","Nome del cliente","Kundenname","Nombre del cliente"]
[{"$f":"IF(#REF!=\"English\",Translations!B19,IF(#REF!=\"French\",Translations!C19,IF(#REF!=\"Italian\",Translations!D19,IF(#REF!=\"German\",Translations!E19,IF(#REF!=\"Spanish\",Translations!F19,Translations!B19)))))","v":{"$error":"#REF!"}},"Country","Pays","Paese","Land","País"]
[{"$f":"IF(#REF!=\"English\",Translations!B20,IF(#REF!=\"French\",Translations!C20,IF(#REF!=\"Italian\",Translations!D20,IF(#REF!=\"German\",Translations!E20,IF(#REF!=\"Spanish\",Translations!F20,Translations!B20)))))","v":{"$error":"#REF!"}},"Currency","Devise","Valuta","Währung","Moneda"]
[{"$f":"IF(#REF!=\"English\",Translations!B21,IF(#REF!=\"French\",Translations!C21,IF(#REF!=\"Italian\",Translations!D21,IF(#REF!=\"German\",Translations!E21,IF(#REF!=\"Spanish\",Translations!F21,Translations!B21)))))","v":{"$error":"#REF!"}},"Language","language","Lingua","Sprache","Idioma"]
[{"$f":"IF(#REF!=\"English\",Translations!B22,IF(#REF!=\"French\",Translations!C22,IF(#REF!=\"Italian\",Translations!D22,IF(#REF!=\"German\",Translations!E22,IF(#REF!=\"Spanish\",Translations!F22,Translations!B22)))))","v":{"$error":"#REF!"}},"Total number of users","Nombre total d'utilisateurs","Numero totale di utenti","Gesamtanzahl der Nutzer","Número total de usuarios"]
[{"$f":"IF(#REF!=\"English\",Translations!B23,IF(#REF!=\"French\",Translations!C23,IF(#REF!=\"Italian\",Translations!D23,IF(#REF!=\"German\",Translations!E23,IF(#REF!=\"Spanish\",Translations!F23,Translations!B23)))))","v":{"$error":"#REF!"}},"Existing voice tariff","Tarif téléphonique existant ?","Tariffa voce esistente","Bestehender Voice Tarif","Plan de precios para voz existente"]
[{"$f":"IF(#REF!=\"English\",Translations!B24,IF(#REF!=\"French\",Translations!C24,IF(#REF!=\"Italian\",Translations!D24,IF(#REF!=\"German\",Translations!E24,IF(#REF!=\"Spanish\",Translations!F24,Translations!B24)))))","v":{"$error":"#REF!"}},"Bundle voice minutes","Facturation au forfait ?","Bundle minuti voce","Bundle Voice Minuten","Paquete de minutos de voz"]
[{"$f":"IF(#REF!=\"English\",Translations!B25,IF(#REF!=\"French\",Translations!C25,IF(#REF!=\"Italian\",Translations!D25,IF(#REF!=\"German\",Translations!E25,IF(#REF!=\"Spanish\",Translations!F25,Translations!B25)))))","v":{"$error":"#REF!"}},"Contract duration (months)","Durée du contrat (mois)","Durata del contratto (mesi)","Vertragslaufzeit (Monate)","Duración del contrato (meses)"]
[{"$f":"IF(#REF!=\"English\",Translations!B26,IF(#REF!=\"French\",Translations!C26,IF(#REF!=\"Italian\",Translations!D26,IF(#REF!=\"German\",Translations!E26,IF(#REF!=\"Spanish\",Translations!F26,Translations!B26)))))","v":{"$error":"#REF!"}},"Monthly","Mensuel","Mensile","Monatlich","Mensual"]
[{"$f":"IF(#REF!=\"English\",Translations!B27,IF(#REF!=\"French\",Translations!C27,IF(#REF!=\"Italian\",Translations!D27,IF(#REF!=\"German\",Translations!E27,IF(#REF!=\"Spanish\",Translations!F27,Translations!B27)))))","v":{"$error":"#REF!"}},"Annual","\nAnnuel","Annuale","\nJährlich","Anual"]
[{"$f":"IF(#REF!=\"English\",Translations!B28,IF(#REF!=\"French\",Translations!C28,IF(#REF!=\"Italian\",Translations!D28,IF(#REF!=\"German\",Translations!E28,IF(#REF!=\"Spanish\",Translations!F28,Translations!B28)))))","v":{"$error":"#REF!"}},"Managed Service","Service géré","Managed Service","Managed Service","Servicio Gestionado"]
[{"$f":"IF(#REF!=\"English\",Translations!B29,IF(#REF!=\"French\",Translations!C29,IF(#REF!=\"Italian\",Translations!D29,IF(#REF!=\"German\",Translations!E29,IF(#REF!=\"Spanish\",Translations!F29,Translations!B29)))))","v":{"$error":"#REF!"}},"Equipment finance","Financement des équipements","Finanziamento delle apparecchiature","Finanzierung Equipment","Financiación de equipamiento"]
[{"$f":"IF(#REF!=\"English\",Translations!B30,IF(#REF!=\"French\",Translations!C30,IF(#REF!=\"Italian\",Translations!D30,IF(#REF!=\"German\",Translations!E30,IF(#REF!=\"Spanish\",Translations!F30,Translations!B30)))))","v":{"$error":"#REF!"}},"Choose profile type, options and number of profiles","Choisir le type de profil, les options et le nombre de profils","Scegliere tipo di profilo, opzioni e numero di profili","Wählen Sie Profiltyp, Optionen, Anzahl der Profile","Elija el tipo, opciones y número de perfiles"]
[{"$f":"IF(#REF!=\"English\",Translations!B31,IF(#REF!=\"French\",Translations!C31,IF(#REF!=\"Italian\",Translations!D31,IF(#REF!=\"German\",Translations!E31,IF(#REF!=\"Spanish\",Translations!F31,Translations!B31)))))","v":{"$error":"#REF!"}},"A user profile is required to associate DDIs for handsets, conferencing phones, faxes, analogue adaptors and doorphones","Profil type de téléphonie est nécessaire d'associer DDI pour les combinés, les téléphones de conférence, fax, adaptateurs analogiques et interphones","il profilo di telefonia standard è necessario associare DDI per telefoni cellulari, telefoni per conferenze, fax, adattatori analogici e citofoni","Standard-Telefonie-Profil benötigen DDIs für Handys zu verbinden, Konferenztelefone, Faxe, Analogadapter und Gegensprechanlagen","Se necesita un perfil de usuario para asociar DDIs para los teléfonos, teléfonos de conferencia, faxes, adaptadores y teléfonos analógicos, puertas"]
[{"$f":"IF(#REF!=\"English\",Translations!B32,IF(#REF!=\"French\",Translations!C32,IF(#REF!=\"Italian\",Translations!D32,IF(#REF!=\"German\",Translations!E32,IF(#REF!=\"Spanish\",Translations!F32,Translations!B32)))))","v":{"$error":"#REF!"}},"Profile type","Type de profil","Tipo di profilo","Profiltypen","Tipo de perfil"]
[{"$f":"IF(#REF!=\"English\",Translations!B33,IF(#REF!=\"French\",Translations!C33,IF(#REF!=\"Italian\",Translations!D33,IF(#REF!=\"German\",Translations!E33,IF(#REF!=\"Spanish\",Translations!F33,Translations!B33)))))","v":{"$error":"#REF!"}},"Profile options","Options de profil","Opzioni di profilo","Profil Optionen","Opciones de perfil"]
[{"$f":"IF(#REF!=\"English\",Translations!B34,IF(#REF!=\"French\",Translations!C34,IF(#REF!=\"Italian\",Translations!D34,IF(#REF!=\"German\",Translations!E34,IF(#REF!=\"Spanish\",Translations!F34,Translations!B34)))))","v":{"$error":"#REF!"}},"No. of profiles","Nombre de profils","N. di profili","Anzahl der Profile","Nº de\nperfiles"]
[{"$f":"IF(#REF!=\"English\",Translations!B35,IF(#REF!=\"French\",Translations!C35,IF(#REF!=\"Italian\",Translations!D35,IF(#REF!=\"German\",Translations!E35,IF(#REF!=\"Spanish\",Translations!F35,Translations!B35)))))","v":{"$error":"#REF!"}},"Profile no. as appears in invoice","Nombre de profils tel qu'il apparaît dans la facture","Codice di profilo riportato nella fattura","Profilnr. auf der Rechnung","Nº perfil\nmostrado\nen factura"]
[{"$f":"IF(#REF!=\"English\",Translations!B36,IF(#REF!=\"French\",Translations!C36,IF(#REF!=\"Italian\",Translations!D36,IF(#REF!=\"German\",Translations!E36,IF(#REF!=\"Spanish\",Translations!F36,Translations!B36)))))","v":{"$error":"#REF!"}},"Per profile per month","Prix par profil et par mois","Per profilo al mese","Pro Profil pro Monat","Por perfil\npor mes"]
[{"$f":"IF(#REF!=\"English\",Translations!B37,IF(#REF!=\"French\",Translations!C37,IF(#REF!=\"Italian\",Translations!D37,IF(#REF!=\"German\",Translations!E37,IF(#REF!=\"Spanish\",Translations!F37,Translations!B37)))))","v":{"$error":"#REF!"}},"Equipment finance per profile","Prix du financement d'équipements par profil et par mois","Quota di finanziamento delle apparecchiature per profilo","Equipment Finanzierung pro Profil","Financiación de equipamiento\npor perfil"]
[{"$f":"IF(#REF!=\"English\",Translations!B38,IF(#REF!=\"French\",Translations!C38,IF(#REF!=\"Italian\",Translations!D38,IF(#REF!=\"German\",Translations!E38,IF(#REF!=\"Spanish\",Translations!F38,Translations!B38)))))","v":{"$error":"#REF!"}},"Total per profile per month","Prix total par profil et par mois","Totale per profilo al mese","Gesamt pro Profil pro Monat","Total por perfil\npor mes"]
[{"$f":"IF(#REF!=\"English\",Translations!B39,IF(#REF!=\"French\",Translations!C39,IF(#REF!=\"Italian\",Translations!D39,IF(#REF!=\"German\",Translations!E39,IF(#REF!=\"Spanish\",Translations!F39,Translations!B39)))))","v":{"$error":"#REF!"}},"Currency","Devise","Valuta","Währung","Moneda"]
[{"$f":"IF(#REF!=\"English\",Translations!B40,IF(#REF!=\"French\",Translations!C40,IF(#REF!=\"Italian\",Translations!D40,IF(#REF!=\"German\",Translations!E40,IF(#REF!=\"Spanish\",Translations!F40,Translations!B40)))))","v":{"$error":"#REF!"}},"Total monthly charge","Total des frais mensuels","Addebito mensile totale","Gesamtsumme monatlich","Coste\nmensual\ntotal"]
[{"$f":"IF(#REF!=\"English\",Translations!B41,IF(#REF!=\"French\",Translations!C41,IF(#REF!=\"Italian\",Translations!D41,IF(#REF!=\"German\",Translations!E41,IF(#REF!=\"Spanish\",Translations!F41,Translations!B41)))))","v":{"$error":"#REF!"}},"Profiles below 50, please raise bespoke pricing request for approval.","Les profils sont moins de 50 - s'il vous plaît commencer demande de prix sur mesure pour approbation.","I profili sono meno di 50 - lanciate richiedi un preventivo su misura per l'approvazione.","Die Profile sind weniger als 50 - bitte maßgeschneiderte Preis Antrag auf Genehmigung beginnen.","Para  perfiles de menos de 50 - por favor haga una solicitud de bespoke pricing  request para aprobacion. "]
[{"$f":"IF(#REF!=\"English\",Translations!B42,IF(#REF!=\"French\",Translations!C42,IF(#REF!=\"Italian\",Translations!D42,IF(#REF!=\"German\",Translations!E42,IF(#REF!=\"Spanish\",Translations!F42,Translations!B42)))))","v":{"$error":"#REF!"}},"For connectivity types other than IP-VPN, an additional complete and signed order from is required and should follow standard ordering process separately.","For connectivity types other than IP-VPN, an additional complete and signed order from is required and should follow standard ordering process separately.","For connectivity types other than IP-VPN, an additional complete and signed order from is required and should follow standard ordering process separately.","For connectivity types other than IP-VPN, an additional complete and signed order from is required and should follow standard ordering process separately.","For connectivity types other than IP-VPN, an additional complete and signed order from is required and should follow standard ordering process separately."]
[{"$f":"IF(#REF!=\"English\",Translations!B43,IF(#REF!=\"French\",Translations!C43,IF(#REF!=\"Italian\",Translations!D43,IF(#REF!=\"German\",Translations!E43,IF(#REF!=\"Spanish\",Translations!F43,Translations!B43)))))","v":{"$error":"#REF!"}},"Professional services","Services professionnels","Servizi professionali","Professional Services","Servicios profesionales"]
[{"$f":"IF(#REF!=\"English\",Translations!B44,IF(#REF!=\"French\",Translations!C44,IF(#REF!=\"Italian\",Translations!D44,IF(#REF!=\"German\",Translations!E44,IF(#REF!=\"Spanish\",Translations!F44,Translations!B44)))))","v":{"$error":"#REF!"}},"Total professional services for this project (See Professional Services Page)","Total services professionnels pour ce projet (voir la page Services professionnels)","Totale dei servizi professionali per il presente progetto (consultare la pagina Servizi professionali)","Gesamtpreis der Professional Services für dieses Projekt (Siehe Seite Professional Services)","Total de servicios profesionales para este proyecto (Ver la hoja Servicios Profesionales)"]
[{"$f":"IF(#REF!=\"English\",Translations!B45,IF(#REF!=\"French\",Translations!C45,IF(#REF!=\"Italian\",Translations!D45,IF(#REF!=\"German\",Translations!E45,IF(#REF!=\"Spanish\",Translations!F45,Translations!B45)))))","v":{"$error":"#REF!"}},"Equipment","Équipements","Apparecchiature","Equipment","Equipos"]
[{"$f":"IF(#REF!=\"English\",Translations!B46,IF(#REF!=\"French\",Translations!C46,IF(#REF!=\"Italian\",Translations!D46,IF(#REF!=\"German\",Translations!E46,IF(#REF!=\"Spanish\",Translations!F46,Translations!B46)))))","v":{"$error":"#REF!"}},"Total Equipment ordered (See Equipment Page)","Prix total des équipements commandés (voir la page Équipements)","Totale delle apparecchiature ordinate (consultare la pagina Apparecchiature)","Gesamtpreis bestelltes Equipment (Siehe Seite Equipment)","Importe total de los equipos pedidos (Ver la hoja Equipos)"]
[{"$f":"IF(#REF!=\"English\",Translations!B47,IF(#REF!=\"French\",Translations!C47,IF(#REF!=\"Italian\",Translations!D47,IF(#REF!=\"German\",Translations!E47,IF(#REF!=\"Spanish\",Translations!F47,Translations!B47)))))","v":{"$error":"#REF!"}},"Equipment finance option at rate of ","Option de financement des équipements au taux de ","Opzione di finanziamento delle apparecchiature al","Finanzierungsoption Equipment liegt bei einer Rate von ","Opción de financiación de equipamiento  a un tipo del"]
[{"$f":"IF(#REF!=\"English\",Translations!B48,IF(#REF!=\"French\",Translations!C48,IF(#REF!=\"Italian\",Translations!D48,IF(#REF!=\"German\",Translations!E48,IF(#REF!=\"Spanish\",Translations!F48,Translations!B48)))))","v":{"$error":"#REF!"}},"Total Finance Charges","Frais de financement total","Oneri finanziari totale","Gesamt Finanzierungskosten","Cargos por financiamiento total"]
[{"$f":"IF(#REF!=\"English\",Translations!B49,IF(#REF!=\"French\",Translations!C49,IF(#REF!=\"Italian\",Translations!D49,IF(#REF!=\"German\",Translations!E49,IF(#REF!=\"Spanish\",Translations!F49,Translations!B49)))))","v":{"$error":"#REF!"}},{"$f":"\"Total payment on Equipment after period of \"&#REF!&\" months\"","v":{"$error":"#REF!"}},"Total du paiement des équipements après la durée de   mois",{"$f":"\"Addebito totale per il finanziamento delle apparecchiature dopo un periodo di \"&#REF!&\"  mesi\"","v":{"$error":"#REF!"}},{"$f":"\"Gesamtzahlung des Equipments nach einer Dauer von \"&#REF!&\"  Monaten\"","v":{"$error":"#REF!"}},{"$f":"\"Pago total por equipos tras un periodo de \"&#REF!&\" meses\"","v":{"$error":"#REF!"}}]
[{"$f":"IF(#REF!=\"English\",Translations!B50,IF(#REF!=\"French\",Translations!C50,IF(#REF!=\"Italian\",Translations!D50,IF(#REF!=\"German\",Translations!E50,IF(#REF!=\"Spanish\",Translations!F50,Translations!B50)))))","v":{"$error":"#REF!"}},{"$f":"IF(#REF!=#REF!,\"\",\"for period of \"&#REF!&\" months\")","v":{"$error":"#REF!"}},{"$f":"IF(#REF!=#REF!,\"\",\"pour une durée de \"&#REF!&\" mois\")","v":{"$error":"#REF!"}},{"$f":"IF(#REF!=#REF!,\"\",\"per un periodo di \"&#REF!&\" mesi\")","v":{"$error":"#REF!"}},{"$f":"IF(#REF!=#REF!,\"\",\"über den Zeitraum von \"&#REF!&\" monaten\")","v":{"$error":"#REF!"}},{"$f":"IF(#REF!=#REF!,\"\",\"durante un periodo de \"&#REF!&\" meses\")","v":{"$error":"#REF!"}}]
[{"$f":"IF(#REF!=\"English\",Translations!B51,IF(#REF!=\"French\",Translations!C51,IF(#REF!=\"Italian\",Translations!D51,IF(#REF!=\"German\",Translations!E51,IF(#REF!=\"Spanish\",Translations!F51,Translations!B51)))))","v":{"$error":"#REF!"}},"Numbering (DDIs)","Plage de numéros (SDA)","Numerazioni (DDI)","Nummernvergabe (DDIs)","Numeración (DDIs)"]
[{"$f":"IF(#REF!=\"English\",Translations!B52,IF(#REF!=\"French\",Translations!C52,IF(#REF!=\"Italian\",Translations!D52,IF(#REF!=\"German\",Translations!E52,IF(#REF!=\"Spanish\",Translations!F52,Translations!B52)))))","v":{"$error":"#REF!"}},"New number ranges","Plages de nouveaux numéros","Nuovi numeri","Neue Nummern Reihe","Nuevos rangos de numeración"]
[{"$f":"IF(#REF!=\"English\",Translations!B53,IF(#REF!=\"French\",Translations!C53,IF(#REF!=\"Italian\",Translations!D53,IF(#REF!=\"German\",Translations!E53,IF(#REF!=\"Spanish\",Translations!F53,Translations!B53)))))","v":{"$error":"#REF!"}},"Number Portability-1 number","Portabilité des numéros-1 Numeros","Portabilità del numero-1 Numero","Nummernportierung – Einzelnummer","Portabilidad de números-1 Numeros"]
[{"$f":"IF(#REF!=\"English\",Translations!B54,IF(#REF!=\"French\",Translations!C54,IF(#REF!=\"Italian\",Translations!D54,IF(#REF!=\"German\",Translations!E54,IF(#REF!=\"Spanish\",Translations!F54,Translations!B54)))))","v":{"$error":"#REF!"}},"Number Portability-10-100 number block","Portabilité des numéros-10-100 Numeros","Portabilità del numero-10-100 Numero","Nummernportierung –Rufnummernblock 10-100","Portabilidad de números-10-100 Numeros"]
[{"$f":"IF(#REF!=\"English\",Translations!B55,IF(#REF!=\"French\",Translations!C55,IF(#REF!=\"Italian\",Translations!D55,IF(#REF!=\"German\",Translations!E55,IF(#REF!=\"Spanish\",Translations!F55,Translations!B55)))))","v":{"$error":"#REF!"}},"Number Portability-1000-10000 number block","Portabilité des numéros-1000-10000 Numeros","Portabilità del numero-1000-10000 Numero","Nummernportierung – Nummernblock 1000-10000","Portabilidad de números-1000-10000 Numeros"]
[{"$f":"IF(#REF!=\"English\",Translations!B56,IF(#REF!=\"French\",Translations!C56,IF(#REF!=\"Italian\",Translations!D56,IF(#REF!=\"German\",Translations!E56,IF(#REF!=\"Spanish\",Translations!F56,Translations!B56)))))","v":{"$error":"#REF!"}},"Porting charges","Frais de portabilité","Spese di portabilità","Portierungskosten","Coste de números portados"]
[{"$f":"IF(#REF!=\"English\",Translations!B57,IF(#REF!=\"French\",Translations!C57,IF(#REF!=\"Italian\",Translations!D57,IF(#REF!=\"German\",Translations!E57,IF(#REF!=\"Spanish\",Translations!F57,Translations!B57)))))","v":{"$error":"#REF!"}},"Quantity","Quantité","Quantità","Menge","Cantidad"]
[{"$f":"IF(#REF!=\"English\",Translations!B58,IF(#REF!=\"French\",Translations!C58,IF(#REF!=\"Italian\",Translations!D58,IF(#REF!=\"German\",Translations!E58,IF(#REF!=\"Spanish\",Translations!F58,Translations!B58)))))","v":{"$error":"#REF!"}},"Set Up Fee","Frais d'installation","Costi di setup","Einmalzahlung","Cuota de alta"]
[{"$f":"IF(#REF!=\"English\",Translations!B59,IF(#REF!=\"French\",Translations!C59,IF(#REF!=\"Italian\",Translations!D59,IF(#REF!=\"German\",Translations!E59,IF(#REF!=\"Spanish\",Translations!F59,Translations!B59)))))","v":{"$error":"#REF!"}},"Total Set Up Fee","Total frais d'installation","Totale costi di setup","Einmalzahlung Gesamt","Cuota de alta total"]
[{"$f":"IF(#REF!=\"English\",Translations!B60,IF(#REF!=\"French\",Translations!C60,IF(#REF!=\"Italian\",Translations!D60,IF(#REF!=\"German\",Translations!E60,IF(#REF!=\"Spanish\",Translations!F60,Translations!B60)))))","v":{"$error":"#REF!"}},"Total Cloud UC Set Up Fee","Total Cloud UC frais d'installation","Totale Cloud UC costi di setup","Cloud UC Einmalzahlung Gesamt","Cloud UC Cuota de alta total"]
[{"$f":"IF(#REF!=\"English\",Translations!B61,IF(#REF!=\"French\",Translations!C61,IF(#REF!=\"Italian\",Translations!D61,IF(#REF!=\"German\",Translations!E61,IF(#REF!=\"Spanish\",Translations!F61,Translations!B61)))))","v":{"$error":"#REF!"}},"Total Cloud UC Monthly Charge","Total Cloud UC des frais mensuels","Cloud UC Addebito mensile totale","Cloud UC Monatlicher Gesamtpreis","Cloud UC Cuota mensual total"]
[{"$f":"IF(#REF!=\"English\",Translations!B62,IF(#REF!=\"French\",Translations!C62,IF(#REF!=\"Italian\",Translations!D62,IF(#REF!=\"German\",Translations!E62,IF(#REF!=\"Spanish\",Translations!F62,Translations!B62)))))","v":{"$error":"#REF!"}},"Monthly Fee","Frais mensuels","Canone mensile","Preis monatlich","Cuota mensual"]
[{"$f":"IF(#REF!=\"English\",Translations!B63,IF(#REF!=\"French\",Translations!C63,IF(#REF!=\"Italian\",Translations!D63,IF(#REF!=\"German\",Translations!E63,IF(#REF!=\"Spanish\",Translations!F63,Translations!B63)))))","v":{"$error":"#REF!"}},"             Please review Pricing options","                                                           S'il vous plaît examiner les options de tarification","                                       Si prega di rivedere le opzioni di prezzo","                        Bitte überprüfen Preisoptionen","                                           Por favor, revise las opciones de precios"]
[{"$f":"IF(#REF!=\"English\",Translations!B64,IF(#REF!=\"French\",Translations!C64,IF(#REF!=\"Italian\",Translations!D64,IF(#REF!=\"German\",Translations!E64,IF(#REF!=\"Spanish\",Translations!F64,Translations!B64)))))","v":{"$error":"#REF!"}},"Connectivity to Colt","Connectivité à Colt","Connettività Colt","Anbindung an das Colt Netz","Conectividad con Colt"]
[{"$f":"IF(#REF!=\"English\",Translations!B65,IF(#REF!=\"French\",Translations!C65,IF(#REF!=\"Italian\",Translations!D65,IF(#REF!=\"German\",Translations!E65,IF(#REF!=\"Spanish\",Translations!F65,Translations!B65)))))","v":{"$error":"#REF!"}},"Re-use Existing Colt Service?","La reutilización de servicios Colt existentes?","Usare nuovamente Colt servizio?","Wiederverwendung von existierenden Colt-Service?","La reutilización de servicios Colt existentes?"]
[{"$f":"IF(#REF!=\"English\",Translations!B66,IF(#REF!=\"French\",Translations!C66,IF(#REF!=\"Italian\",Translations!D66,IF(#REF!=\"German\",Translations!E66,IF(#REF!=\"Spanish\",Translations!F66,Translations!B66)))))","v":{"$error":"#REF!"}},"Colt IP Access Bundle","Colt IP Access Bundle","Colt IP Access Bundle","Colt IP Access Bundle","Colt IP Access Bundle"]
[{"$f":"IF(#REF!=\"English\",Translations!B67,IF(#REF!=\"French\",Translations!C67,IF(#REF!=\"Italian\",Translations!D67,IF(#REF!=\"German\",Translations!E67,IF(#REF!=\"Spanish\",Translations!F67,Translations!B67)))))","v":{"$error":"#REF!"}},"Ordered on Separate IP Access order form","Commandé sur séparée Colt IP Access forme","Ordinato il modulo d'ordine separato COLT IP Access","Auf separaten COLT IP ACCESS Bestellformular bestellt","Ordenada el Colt IP Access separada formulario de pedido"]
[{"$f":"IF(#REF!=\"English\",Translations!B68,IF(#REF!=\"French\",Translations!C68,IF(#REF!=\"Italian\",Translations!D68,IF(#REF!=\"German\",Translations!E68,IF(#REF!=\"Spanish\",Translations!F68,Translations!B68)))))","v":{"$error":"#REF!"}},"Current Colt service","Service Colt existant ?","Esistente servizio Colt?","Bestehende Colt?","Existentes servicio Colt?"]
[{"$f":"IF(#REF!=\"English\",Translations!B69,IF(#REF!=\"French\",Translations!C69,IF(#REF!=\"Italian\",Translations!D69,IF(#REF!=\"German\",Translations!E69,IF(#REF!=\"Spanish\",Translations!F69,Translations!B69)))))","v":{"$error":"#REF!"}},"Is IP Access using physical CPE?","Accès IP utilisant CPE physique?","Accesso IP utilizzando CPE fisico?","IP Access über physischer CPE?","Acceso IP utilizando CPE física?"]
[{"$f":"IF(#REF!=\"English\",Translations!B70,IF(#REF!=\"French\",Translations!C70,IF(#REF!=\"Italian\",Translations!D70,IF(#REF!=\"German\",Translations!E70,IF(#REF!=\"Spanish\",Translations!F70,Translations!B70)))))","v":{"$error":"#REF!"}},"Required IP Connectivity","Connectivité Requise IP","Connettività IP richiesto","IP-Verbindung erforderlich","Conectividad IP Obligatorio"]
[{"$f":"IF(#REF!=\"English\",Translations!B71,IF(#REF!=\"French\",Translations!C71,IF(#REF!=\"Italian\",Translations!D71,IF(#REF!=\"German\",Translations!E71,IF(#REF!=\"Spanish\",Translations!F71,Translations!B71)))))","v":{"$error":"#REF!"}},"Existing IP connectivity","Connectivité Existant IP","Connettività IP esistente","IP-Verbindung bestehenden","Conectividad IP existente"]
[{"$f":"IF(#REF!=\"English\",Translations!B72,IF(#REF!=\"French\",Translations!C72,IF(#REF!=\"Italian\",Translations!D72,IF(#REF!=\"German\",Translations!E72,IF(#REF!=\"Spanish\",Translations!F72,Translations!B72)))))","v":{"$error":"#REF!"}},"Existing Voice service?","Service téléphonique existant ?","Esistente servizio Voice?","Bestehende Voice?","Existentes servicio voz?"]
[{"$f":"IF(#REF!=\"English\",Translations!B73,IF(#REF!=\"French\",Translations!C73,IF(#REF!=\"Italian\",Translations!D73,IF(#REF!=\"German\",Translations!E73,IF(#REF!=\"Spanish\",Translations!F73,Translations!B73)))))","v":{"$error":"#REF!"}},"Required Voice service?","Service téléphonique requise?","Richiesto servizio Voice?","Erforderlich Voice?","Obligatorio servicio voz?"]
[{"$f":"IF(#REF!=\"English\",Translations!B74,IF(#REF!=\"French\",Translations!C74,IF(#REF!=\"Italian\",Translations!D74,IF(#REF!=\"German\",Translations!E74,IF(#REF!=\"Spanish\",Translations!F74,Translations!B74)))))","v":{"$error":"#REF!"}},"Required Colt service?","Service Colt requise?","Richiesto servizio Colt?","Erforderlich Colt?","Obligatorio servicio Colt?"]
[{"$f":"IF(#REF!=\"English\",Translations!B75,IF(#REF!=\"French\",Translations!C75,IF(#REF!=\"Italian\",Translations!D75,IF(#REF!=\"German\",Translations!E75,IF(#REF!=\"Spanish\",Translations!F75,Translations!B75)))))","v":{"$error":"#REF!"}},"Cloud UC Connectivity option","Option Cloud UC Connectivité","Cloud UC Connettività opzionale","Cloud UC Connectivity option","Cloud UC Option de connectivité"]
[{"$f":"IF(#REF!=\"English\",Translations!B76,IF(#REF!=\"French\",Translations!C76,IF(#REF!=\"Italian\",Translations!D76,IF(#REF!=\"German\",Translations!E76,IF(#REF!=\"Spanish\",Translations!F76,Translations!B76)))))","v":{"$error":"#REF!"}},"All other services","Tous les autres services","Tutti gli altri servizi","Alle anderen Leistungen","Todos los demás servicios"]
[{"$f":"IF(#REF!=\"English\",Translations!B77,IF(#REF!=\"French\",Translations!C77,IF(#REF!=\"Italian\",Translations!D77,IF(#REF!=\"German\",Translations!E77,IF(#REF!=\"Spanish\",Translations!F77,Translations!B77)))))","v":{"$error":"#REF!"}},"VoIP Access Type","Type de VoIP Access","Tipo di VoIP Access","Typ der VoIP Access","Tipo di VoIP Access"]
[{"$f":"IF(#REF!=\"English\",Translations!B78,IF(#REF!=\"French\",Translations!C78,IF(#REF!=\"Italian\",Translations!D78,IF(#REF!=\"German\",Translations!E78,IF(#REF!=\"Spanish\",Translations!F78,Translations!B78)))))","v":{"$error":"#REF!"}},"Is a IPVPN redundant connection to Colt required at customer site? ","Une connexion redondante à Colt IPVPN est-elle requise sur le site du client ?","Dalla sede del cliente è necessario un collegamento ridondante con Colt IPVPN? ","Ist eine redundante IPVPN Kundenstandortanbindung notwendig","Se requiere una conexión redundante con Colt IPVPN en el centro del cliente?"]
[{"$f":"IF(#REF!=\"English\",Translations!B79,IF(#REF!=\"French\",Translations!C79,IF(#REF!=\"Italian\",Translations!D79,IF(#REF!=\"German\",Translations!E79,IF(#REF!=\"Spanish\",Translations!F79,Translations!B79)))))","v":{"$error":"#REF!"}},"Connectivity Type","Type de connectivité","Tipo di connettività","Typ der Verbindung","Conectividad Tipo"]
[{"$f":"IF(#REF!=\"English\",Translations!B80,IF(#REF!=\"French\",Translations!C80,IF(#REF!=\"Italian\",Translations!D80,IF(#REF!=\"German\",Translations!E80,IF(#REF!=\"Spanish\",Translations!F80,Translations!B80)))))","v":{"$error":"#REF!"}},"Required overall Bandwidth (Mb)","Bande-passante totale requise (Mo)","Larghezza di banda complessiva richiesta (Mb)","Gesamte notwendige Bandbreite (Mb)","Ancho de banda total requerido (Mb)"]
[{"$f":"IF(#REF!=\"English\",Translations!B81,IF(#REF!=\"French\",Translations!C81,IF(#REF!=\"Italian\",Translations!D81,IF(#REF!=\"German\",Translations!E81,IF(#REF!=\"Spanish\",Translations!F81,Translations!B81)))))","v":{"$error":"#REF!"}},"Total Monthly","Total mensuel","Totale mensile","Monatlicher Gesamtpreis","Total Mensual"]
[{"$f":"IF(#REF!=\"English\",Translations!B82,IF(#REF!=\"French\",Translations!C82,IF(#REF!=\"Italian\",Translations!D82,IF(#REF!=\"German\",Translations!E82,IF(#REF!=\"Spanish\",Translations!F82,Translations!B82)))))","v":{"$error":"#REF!"}},"Total Set Up Fee","Total frais d'installation","Totale costi di configurazione","Einmalzahlung Gesamt","Cuota de alta total"]
[{"$f":"IF(#REF!=\"English\",Translations!B83,IF(#REF!=\"French\",Translations!C83,IF(#REF!=\"Italian\",Translations!D83,IF(#REF!=\"German\",Translations!E83,IF(#REF!=\"Spanish\",Translations!F83,Translations!B83)))))","v":{"$error":"#REF!"}},"Enter Below","inscrire au bas de","Inserirlo sotto","geben Sie unten","Escriba debajo"]
[{"$f":"IF(#REF!=\"English\",Translations!B84,IF(#REF!=\"French\",Translations!C84,IF(#REF!=\"Italian\",Translations!D84,IF(#REF!=\"German\",Translations!E84,IF(#REF!=\"Spanish\",Translations!F84,Translations!B84)))))","v":{"$error":"#REF!"}},"Contact SA","Contact SA","Contact SA","Contact SA","Contactar con SA"]
[{"$f":"IF(#REF!=\"English\",Translations!B85,IF(#REF!=\"French\",Translations!C85,IF(#REF!=\"Italian\",Translations!D85,IF(#REF!=\"German\",Translations!E85,IF(#REF!=\"Spanish\",Translations!F85,Translations!B85)))))","v":{"$error":"#REF!"}},"Profile","Profil","Profilo","Profil","Perfil"]
[{"$f":"IF(#REF!=\"English\",Translations!B86,IF(#REF!=\"French\",Translations!C86,IF(#REF!=\"Italian\",Translations!D86,IF(#REF!=\"German\",Translations!E86,IF(#REF!=\"Spanish\",Translations!F86,Translations!B86)))))","v":{"$error":"#REF!"}},"Profile 1","Profil 1","Profilo 1","Profil 1","Perfil 1"]
[{"$f":"IF(#REF!=\"English\",Translations!B87,IF(#REF!=\"French\",Translations!C87,IF(#REF!=\"Italian\",Translations!D87,IF(#REF!=\"German\",Translations!E87,IF(#REF!=\"Spanish\",Translations!F87,Translations!B87)))))","v":{"$error":"#REF!"}},"Profile 2","Profil 2","Profilo 2","Profil 2","Perfil 2"]
[{"$f":"IF(#REF!=\"English\",Translations!B88,IF(#REF!=\"French\",Translations!C88,IF(#REF!=\"Italian\",Translations!D88,IF(#REF!=\"German\",Translations!E88,IF(#REF!=\"Spanish\",Translations!F88,Translations!B88)))))","v":{"$error":"#REF!"}},"Profile 3","Profil 3","Profilo 3","Profil 3","Perfil 3"]
[{"$f":"IF(#REF!=\"English\",Translations!B89,IF(#REF!=\"French\",Translations!C89,IF(#REF!=\"Italian\",Translations!D89,IF(#REF!=\"German\",Translations!E89,IF(#REF!=\"Spanish\",Translations!F89,Translations!B89)))))","v":{"$error":"#REF!"}},"Profile 4","Profil 4","Profilo 4","Profil 4","Perfil 4"]
[{"$f":"IF(#REF!=\"English\",Translations!B90,IF(#REF!=\"French\",Translations!C90,IF(#REF!=\"Italian\",Translations!D90,IF(#REF!=\"German\",Translations!E90,IF(#REF!=\"Spanish\",Translations!F90,Translations!B90)))))","v":{"$error":"#REF!"}},"Profile 5","Profil 5","Profilo 5","Profil 5","Perfil 5"]
[{"$f":"IF(#REF!=\"English\",Translations!B91,IF(#REF!=\"French\",Translations!C91,IF(#REF!=\"Italian\",Translations!D91,IF(#REF!=\"German\",Translations!E91,IF(#REF!=\"Spanish\",Translations!F91,Translations!B91)))))","v":{"$error":"#REF!"}},"Profile 6","Profil 6","Profilo 6","Profil 6","Perfil 6"]
[{"$f":"IF(#REF!=\"English\",Translations!B92,IF(#REF!=\"French\",Translations!C92,IF(#REF!=\"Italian\",Translations!D92,IF(#REF!=\"German\",Translations!E92,IF(#REF!=\"Spanish\",Translations!F92,Translations!B92)))))","v":{"$error":"#REF!"}},"Profile 7","Profil 7","Profilo 7","Profil 7","Perfil 7"]
[{"$f":"IF(#REF!=\"English\",Translations!B93,IF(#REF!=\"French\",Translations!C93,IF(#REF!=\"Italian\",Translations!D93,IF(#REF!=\"German\",Translations!E93,IF(#REF!=\"Spanish\",Translations!F93,Translations!B93)))))","v":{"$error":"#REF!"}},"Profile 8","Profil 8","Profilo 8","Profil 8","Perfil 8"]
[{"$f":"IF(#REF!=\"English\",Translations!B94,IF(#REF!=\"French\",Translations!C94,IF(#REF!=\"Italian\",Translations!D94,IF(#REF!=\"German\",Translations!E94,IF(#REF!=\"Spanish\",Translations!F94,Translations!B94)))))","v":{"$error":"#REF!"}},"Profile 9","Profil 9","Profilo 9","Profil 9","Perfil 9"]
[{"$f":"IF(#REF!=\"English\",Translations!B95,IF(#REF!=\"French\",Translations!C95,IF(#REF!=\"Italian\",Translations!D95,IF(#REF!=\"German\",Translations!E95,IF(#REF!=\"Spanish\",Translations!F95,Translations!B95)))))","v":{"$error":"#REF!"}},"Profile 10","Profil 10","Profilo 10","Profil 10","Perfil 10"]
[{"$f":"IF(#REF!=\"English\",Translations!B96,IF(#REF!=\"French\",Translations!C96,IF(#REF!=\"Italian\",Translations!D96,IF(#REF!=\"German\",Translations!E96,IF(#REF!=\"Spanish\",Translations!F96,Translations!B96)))))","v":{"$error":"#REF!"}},"Profile 11","Profil 11","Profilo 11","Profil 11","Perfil 11"]
[{"$f":"IF(#REF!=\"English\",Translations!B97,IF(#REF!=\"French\",Translations!C97,IF(#REF!=\"Italian\",Translations!D97,IF(#REF!=\"German\",Translations!E97,IF(#REF!=\"Spanish\",Translations!F97,Translations!B97)))))","v":{"$error":"#REF!"}},"Profile 12","Profil 12","Profilo 12","Profil 12","Perfil 12"]
[{"$f":"IF(#REF!=\"English\",Translations!B98,IF(#REF!=\"French\",Translations!C98,IF(#REF!=\"Italian\",Translations!D98,IF(#REF!=\"German\",Translations!E98,IF(#REF!=\"Spanish\",Translations!F98,Translations!B98)))))","v":{"$error":"#REF!"}},"Profile 13","Profil 13","Profilo 13","Profil 13","Perfil 13"]
[{"$f":"IF(#REF!=\"English\",Translations!B99,IF(#REF!=\"French\",Translations!C99,IF(#REF!=\"Italian\",Translations!D99,IF(#REF!=\"German\",Translations!E99,IF(#REF!=\"Spanish\",Translations!F99,Translations!B99)))))","v":{"$error":"#REF!"}},"Profile 14","Profil 14","Profilo 14","Profil 14","Perfil 14"]
[{"$f":"IF(#REF!=\"English\",Translations!B100,IF(#REF!=\"French\",Translations!C100,IF(#REF!=\"Italian\",Translations!D100,IF(#REF!=\"German\",Translations!E100,IF(#REF!=\"Spanish\",Translations!F100,Translations!B100)))))","v":{"$error":"#REF!"}},"Profile 15","Profil 15","Profilo 15","Profil 15","Perfil 15"]
[{"$f":"IF(#REF!=\"English\",Translations!B101,IF(#REF!=\"French\",Translations!C101,IF(#REF!=\"Italian\",Translations!D101,IF(#REF!=\"German\",Translations!E101,IF(#REF!=\"Spanish\",Translations!F101,Translations!B101)))))","v":{"$error":"#REF!"}},"Profile 16","Profil 16","Profilo 16","Profil 16","Perfil 16"]
[{"$f":"IF(#REF!=\"English\",Translations!B102,IF(#REF!=\"French\",Translations!C102,IF(#REF!=\"Italian\",Translations!D102,IF(#REF!=\"German\",Translations!E102,IF(#REF!=\"Spanish\",Translations!F102,Translations!B102)))))","v":{"$error":"#REF!"}},"Profile 17","Profil 17","Profilo 17","Profil 17","Perfil 17"]
[{"$f":"IF(#REF!=\"English\",Translations!B103,IF(#REF!=\"French\",Translations!C103,IF(#REF!=\"Italian\",Translations!D103,IF(#REF!=\"German\",Translations!E103,IF(#REF!=\"Spanish\",Translations!F103,Translations!B103)))))","v":{"$error":"#REF!"}},"Profile 18","Profil 18","Profilo 18","Profil 18","Perfil 18"]
[{"$f":"IF(#REF!=\"English\",Translations!B104,IF(#REF!=\"French\",Translations!C104,IF(#REF!=\"Italian\",Translations!D104,IF(#REF!=\"German\",Translations!E104,IF(#REF!=\"Spanish\",Translations!F104,Translations!B104)))))","v":{"$error":"#REF!"}},"Standard Telephony","Téléphonie standard","Telefonia standard","Standard Telefonie","Telefonía estándar"]
[{"$f":"IF(#REF!=\"English\",Translations!B105,IF(#REF!=\"French\",Translations!C105,IF(#REF!=\"Italian\",Translations!D105,IF(#REF!=\"German\",Translations!E105,IF(#REF!=\"Spanish\",Translations!F105,Translations!B105)))))","v":{"$error":"#REF!"}},"Standard Telephony & UC","Téléphonie standard et CU","Telefonia standard e UC","Standard Telefonie & UC","Telefonía estándar y UC"]
[{"$f":"IF(#REF!=\"English\",Translations!B106,IF(#REF!=\"French\",Translations!C106,IF(#REF!=\"Italian\",Translations!D106,IF(#REF!=\"German\",Translations!E106,IF(#REF!=\"Spanish\",Translations!F106,Translations!B106)))))","v":{"$error":"#REF!"}},"Receptionist","Standardiste","Receptionist","Rezeptionist","Recepcionista"]
[]
[{"$f":"IF(#REF!=\"English\",Translations!B108,IF(#REF!=\"French\",Translations!C108,IF(#REF!=\"Italian\",Translations!D108,IF(#REF!=\"German\",Translations!E108,IF(#REF!=\"Spanish\",Translations!F108,Translations!B108)))))","v":{"$error":"#REF!"}},"No Finance","Sans financement","Nessun finanziamento","Keine Finanzierung","Sin financiación"]
[{"$f":"IF(#REF!=\"English\",Translations!B109,IF(#REF!=\"French\",Translations!C109,IF(#REF!=\"Italian\",Translations!D109,IF(#REF!=\"German\",Translations!E109,IF(#REF!=\"Spanish\",Translations!F109,Translations!B109)))))","v":{"$error":"#REF!"}},"Equipment Finance","Financement d'équipements","Finanziamento delle apparecchiature","Finanzierung  Equipment","Financiación de equipamiento"]
[{"$f":"IF(#REF!=\"English\",Translations!B110,IF(#REF!=\"French\",Translations!C110,IF(#REF!=\"Italian\",Translations!D110,IF(#REF!=\"German\",Translations!E110,IF(#REF!=\"Spanish\",Translations!F110,Translations!B110)))))","v":{"$error":"#REF!"}},"None","Aucun","Nessuna","Keine","No"]
[{"$f":"IF(#REF!=\"English\",Translations!B111,IF(#REF!=\"French\",Translations!C111,IF(#REF!=\"Italian\",Translations!D111,IF(#REF!=\"German\",Translations!E111,IF(#REF!=\"Spanish\",Translations!F111,Translations!B111)))))","v":{"$error":"#REF!"}},"Enhanced Audio Conferencing","Conférences audio améliorées","Audioconferenza potenziata","Zugehörige Audiokonferenz","Conferencia de audio mejorada"]
[{"$f":"IF(#REF!=\"English\",Translations!B112,IF(#REF!=\"French\",Translations!C112,IF(#REF!=\"Italian\",Translations!D112,IF(#REF!=\"German\",Translations!E112,IF(#REF!=\"Spanish\",Translations!F112,Translations!B112)))))","v":{"$error":"#REF!"}},"Yes","Oui","Sì","Ja","Si"]
[{"$f":"IF(#REF!=\"English\",Translations!B113,IF(#REF!=\"French\",Translations!C113,IF(#REF!=\"Italian\",Translations!D113,IF(#REF!=\"German\",Translations!E113,IF(#REF!=\"Spanish\",Translations!F113,Translations!B113)))))","v":{"$error":"#REF!"}},"No","Non","No","Nein","No"]
[{"$f":"IF(#REF!=\"English\",Translations!B114,IF(#REF!=\"French\",Translations!C114,IF(#REF!=\"Italian\",Translations!D114,IF(#REF!=\"German\",Translations!E114,IF(#REF!=\"Spanish\",Translations!F114,Translations!B114)))))","v":{"$error":"#REF!"}},"Handsets only","téléphones seulement","solo telefoni","Telefone nur","Sólo los teléfonos"]
[{"$f":"IF(#REF!=\"English\",Translations!B115,IF(#REF!=\"French\",Translations!C115,IF(#REF!=\"Italian\",Translations!D115,IF(#REF!=\"German\",Translations!E115,IF(#REF!=\"Spanish\",Translations!F115,Translations!B115)))))","v":{"$error":"#REF!"}},"All Equipment","tous les équipements","tutti Attrezzature","alle Geräte","todo el equipamiento"]
[{"$f":"IF(#REF!=\"English\",Translations!B116,IF(#REF!=\"French\",Translations!C116,IF(#REF!=\"Italian\",Translations!D116,IF(#REF!=\"German\",Translations!E116,IF(#REF!=\"Spanish\",Translations!F116,Translations!B116)))))","v":{"$error":"#REF!"}}," - new Customer"," - Nouveau Client"," - Nuovo Cliente"," - Neukunde"," - Cliente Nuevo"]
[{"$f":"IF(#REF!=\"English\",Translations!B117,IF(#REF!=\"French\",Translations!C117,IF(#REF!=\"Italian\",Translations!D117,IF(#REF!=\"German\",Translations!E117,IF(#REF!=\"Spanish\",Translations!F117,Translations!B117)))))","v":{"$error":"#REF!"}}," - vCPE is used"," - vCPE on utilise"," - vCPE è usato"," - vCPE wird verwendet"," - vCPE se utiliza"]
[{"$f":"IF(#REF!=\"English\",Translations!B118,IF(#REF!=\"French\",Translations!C118,IF(#REF!=\"Italian\",Translations!D118,IF(#REF!=\"German\",Translations!E118,IF(#REF!=\"Spanish\",Translations!F118,Translations!B118)))))","v":{"$error":"#REF!"}},"No - new Customer","Non - Nouveau Client","No - Nuovo Cliente","Nein - Neukunde","No - Cliente Nuevo"]
[{"$f":"IF(#REF!=\"English\",Translations!B119,IF(#REF!=\"French\",Translations!C119,IF(#REF!=\"Italian\",Translations!D119,IF(#REF!=\"German\",Translations!E119,IF(#REF!=\"Spanish\",Translations!F119,Translations!B119)))))","v":{"$error":"#REF!"}},"No - vCPE is used","Non","No","Nein","No"]
[{"$f":"IF(#REF!=\"English\",Translations!B120,IF(#REF!=\"French\",Translations!C120,IF(#REF!=\"Italian\",Translations!D120,IF(#REF!=\"German\",Translations!E120,IF(#REF!=\"Spanish\",Translations!F120,Translations!B120)))))","v":{"$error":"#REF!"}},"Connectivity Quoted Seperately via IPVPN/Network Services.","Connectivité Cité séparément via IPVPN.","Connettività quotati separatamente tramite IP VPN.","Connectivity über IP-VPN separat angegeben.","Conectividad cotizan por separado a través de IPVPN."]
[{"$f":"IF(#REF!=\"English\",Translations!B121,IF(#REF!=\"French\",Translations!C121,IF(#REF!=\"Italian\",Translations!D121,IF(#REF!=\"German\",Translations!E121,IF(#REF!=\"Spanish\",Translations!F121,Translations!B121)))))","v":{"$error":"#REF!"}},"Colt IPVPN-Fibre/Colt DSL","Colt IPVPN-Fibre/Colt DSL","Colt IPVPN-Fibre/Colt DSL","Colt IPVPN-Fibre/Colt DSL","Colt IPVPN-Fibre/Colt DSL"]
[{"$f":"IF(#REF!=\"English\",Translations!B122,IF(#REF!=\"French\",Translations!C122,IF(#REF!=\"Italian\",Translations!D122,IF(#REF!=\"German\",Translations!E122,IF(#REF!=\"Spanish\",Translations!F122,Translations!B122)))))","v":{"$error":"#REF!"}},"Colt IPVPN-Integrated Internet Access","Colt IPVPN-Integrated Internet Access","Colt IPVPN-Integrated Internet Access","Colt IPVPN-Integrated Internet Access","Colt IPVPN-Integrated Internet Access"]
[{"$f":"IF(#REF!=\"English\",Translations!B123,IF(#REF!=\"French\",Translations!C123,IF(#REF!=\"Italian\",Translations!D123,IF(#REF!=\"German\",Translations!E123,IF(#REF!=\"Spanish\",Translations!F123,Translations!B123)))))","v":{"$error":"#REF!"}},"Colt IPVPN-Integrated Internet Access-OLO","Colt IPVPN-Integrated Internet Access-OLO","Colt IPVPN-Integrated Internet Access-OLO","Colt IPVPN-Integrated Internet Access-OLO","Colt IPVPN-Integrated Internet Access-OLO"]
[{"$f":"IF(#REF!=\"English\",Translations!B124,IF(#REF!=\"French\",Translations!C124,IF(#REF!=\"Italian\",Translations!D124,IF(#REF!=\"German\",Translations!E124,IF(#REF!=\"Spanish\",Translations!F124,Translations!B124)))))","v":{"$error":"#REF!"}},"Colt IPVPN-OLO","Colt IPVPN-OLO","Colt IPVPN-OLO","Colt IPVPN-OLO","Colt IPVPN-OLO"]
[{"$f":"IF(#REF!=\"English\",Translations!B125,IF(#REF!=\"French\",Translations!C125,IF(#REF!=\"Italian\",Translations!D125,IF(#REF!=\"German\",Translations!E125,IF(#REF!=\"Spanish\",Translations!F125,Translations!B125)))))","v":{"$error":"#REF!"}},"Colt IPVPN-wDSL","IP VPN Colt-wDSL","Colt IPVPN-wDSL","Colt IPVPN-wDSL","Colt IPVPN-wDSL"]
[{"$f":"IF(#REF!=\"English\",Translations!B126,IF(#REF!=\"French\",Translations!C126,IF(#REF!=\"Italian\",Translations!D126,IF(#REF!=\"German\",Translations!E126,IF(#REF!=\"Spanish\",Translations!F126,Translations!B126)))))","v":{"$error":"#REF!"}},"Colt IPVPN-Remote Fix","Colt IPVPN-Remote Fix","Colt IPVPN-Remote Fix","Colt IPVPN-Remote Fix","Colt IPVPN-Remote Fix"]
[{"$f":"IF(#REF!=\"English\",Translations!B127,IF(#REF!=\"French\",Translations!C127,IF(#REF!=\"Italian\",Translations!D127,IF(#REF!=\"German\",Translations!E127,IF(#REF!=\"Spanish\",Translations!F127,Translations!B127)))))","v":{"$error":"#REF!"}},"Adding UC to existing IPVPN connectivity","Ajout des CU à une connectivité IP VPN existante","Aggiunta di UC a connettività IPVPN esistente","Hinzufügen von UC, bestehende IP-VPN-Konnektivität","Añadir UC a la conectividad IPVPN actual"]
[{"$f":"IF(#REF!=\"English\",Translations!B128,IF(#REF!=\"French\",Translations!C128,IF(#REF!=\"Italian\",Translations!D128,IF(#REF!=\"German\",Translations!E128,IF(#REF!=\"Spanish\",Translations!F128,Translations!B128)))))","v":{"$error":"#REF!"}},"Minutes not included in a bundle, per min charge","Minutes non incluses dans un forfait, facturation par minute ","Minuti non inclusi in un bundle, addebito al minuto","Minuten gehören nicht zum Bundle, Abrechnung pro Minute","No incluye minutos en paquete. Cargo por minuto."]
[{"$f":"IF(#REF!=\"English\",Translations!B129,IF(#REF!=\"French\",Translations!C129,IF(#REF!=\"Italian\",Translations!D129,IF(#REF!=\"German\",Translations!E129,IF(#REF!=\"Spanish\",Translations!F129,Translations!B129)))))","v":{"$error":"#REF!"}},"Unlimited minutes domestically","Forfait d'appels nationaux illimités ","Minuti illimitati per le chiamate nazionali","Unbegrenzte Minuten auf nationale Mobil- und Festnetznummern","Minutos ilimitados nacionales."]
[{"$f":"IF(#REF!=\"English\",Translations!B130,IF(#REF!=\"French\",Translations!C130,IF(#REF!=\"Italian\",Translations!D130,IF(#REF!=\"German\",Translations!E130,IF(#REF!=\"Spanish\",Translations!F130,Translations!B130)))))","v":{"$error":"#REF!"}},"Unlimited voice minutes incl. Colt countries","Forfait d'appels illimités incluant les pays Colt","Minuti illimitati per le chiamate voce verso i paesi Colt","Unbegrenzte Voice Minuten inkl. Colt Länder","Minutos de voz ilimitados en países Colt."]
[{"$f":"IF(#REF!=\"English\",Translations!B131,IF(#REF!=\"French\",Translations!C131,IF(#REF!=\"Italian\",Translations!D131,IF(#REF!=\"German\",Translations!E131,IF(#REF!=\"Spanish\",Translations!F131,Translations!B131)))))","v":{"$error":"#REF!"}},"Austria","Austria","Austria","Austria","Austria"]
[{"$f":"IF(#REF!=\"English\",Translations!B132,IF(#REF!=\"French\",Translations!C132,IF(#REF!=\"Italian\",Translations!D132,IF(#REF!=\"German\",Translations!E132,IF(#REF!=\"Spanish\",Translations!F132,Translations!B132)))))","v":{"$error":"#REF!"}},"Belgium","Belgium","Belgium","Belgium","Belgium"]
[{"$f":"IF(#REF!=\"English\",Translations!B133,IF(#REF!=\"French\",Translations!C133,IF(#REF!=\"Italian\",Translations!D133,IF(#REF!=\"German\",Translations!E133,IF(#REF!=\"Spanish\",Translations!F133,Translations!B133)))))","v":{"$error":"#REF!"}},"Denmark","Denmark","Denmark","Denmark","Denmark"]
[{"$f":"IF(#REF!=\"English\",Translations!B134,IF(#REF!=\"French\",Translations!C134,IF(#REF!=\"Italian\",Translations!D134,IF(#REF!=\"German\",Translations!E134,IF(#REF!=\"Spanish\",Translations!F134,Translations!B134)))))","v":{"$error":"#REF!"}},"France","France","France","France","France"]
[{"$f":"IF(#REF!=\"English\",Translations!B135,IF(#REF!=\"French\",Translations!C135,IF(#REF!=\"Italian\",Translations!D135,IF(#REF!=\"German\",Translations!E135,IF(#REF!=\"Spanish\",Translations!F135,Translations!B135)))))","v":{"$error":"#REF!"}},"Germany","Germany","Germany","Germany","Germany"]
[{"$f":"IF(#REF!=\"English\",Translations!B136,IF(#REF!=\"French\",Translations!C136,IF(#REF!=\"Italian\",Translations!D136,IF(#REF!=\"German\",Translations!E136,IF(#REF!=\"Spanish\",Translations!F136,Translations!B136)))))","v":{"$error":"#REF!"}},"Ireland","Ireland","Ireland","Ireland","Ireland"]
[{"$f":"IF(#REF!=\"English\",Translations!B137,IF(#REF!=\"French\",Translations!C137,IF(#REF!=\"Italian\",Translations!D137,IF(#REF!=\"German\",Translations!E137,IF(#REF!=\"Spanish\",Translations!F137,Translations!B137)))))","v":{"$error":"#REF!"}},"Italy","Italy","Italy","Italy","Italy"]
[{"$f":"IF(#REF!=\"English\",Translations!B138,IF(#REF!=\"French\",Translations!C138,IF(#REF!=\"Italian\",Translations!D138,IF(#REF!=\"German\",Translations!E138,IF(#REF!=\"Spanish\",Translations!F138,Translations!B138)))))","v":{"$error":"#REF!"}},"Netherlands","Netherlands","Netherlands","Netherlands","Netherlands"]
[{"$f":"IF(#REF!=\"English\",Translations!B139,IF(#REF!=\"French\",Translations!C139,IF(#REF!=\"Italian\",Translations!D139,IF(#REF!=\"German\",Translations!E139,IF(#REF!=\"Spanish\",Translations!F139,Translations!B139)))))","v":{"$error":"#REF!"}},"Portugal","Portugal","Portugal","Portugal","Portugal"]
[{"$f":"IF(#REF!=\"English\",Translations!B140,IF(#REF!=\"French\",Translations!C140,IF(#REF!=\"Italian\",Translations!D140,IF(#REF!=\"German\",Translations!E140,IF(#REF!=\"Spanish\",Translations!F140,Translations!B140)))))","v":{"$error":"#REF!"}},"Spain","Spain","Spain","Spain","Spain"]
[{"$f":"IF(#REF!=\"English\",Translations!B141,IF(#REF!=\"French\",Translations!C141,IF(#REF!=\"Italian\",Translations!D141,IF(#REF!=\"German\",Translations!E141,IF(#REF!=\"Spanish\",Translations!F141,Translations!B141)))))","v":{"$error":"#REF!"}},"Sweden","Sweden","Sweden","Sweden","Sweden"]
[{"$f":"IF(#REF!=\"English\",Translations!B142,IF(#REF!=\"French\",Translations!C142,IF(#REF!=\"Italian\",Translations!D142,IF(#REF!=\"German\",Translations!E142,IF(#REF!=\"Spanish\",Translations!F142,Translations!B142)))))","v":{"$error":"#REF!"}},"Switzerland","Switzerland","Switzerland","Switzerland","Switzerland"]
[{"$f":"IF(#REF!=\"English\",Translations!B143,IF(#REF!=\"French\",Translations!C143,IF(#REF!=\"Italian\",Translations!D143,IF(#REF!=\"German\",Translations!E143,IF(#REF!=\"Spanish\",Translations!F143,Translations!B143)))))","v":{"$error":"#REF!"}},"UK","UK","UK","UK","UK"]
[{"$f":"IF(#REF!=\"English\",Translations!B144,IF(#REF!=\"French\",Translations!C144,IF(#REF!=\"Italian\",Translations!D144,IF(#REF!=\"German\",Translations!E144,IF(#REF!=\"Spanish\",Translations!F144,Translations!B144)))))","v":{"$error":"#REF!"}},"50-99","50-99","50-99","50-99","50-99"]
[{"$f":"IF(#REF!=\"English\",Translations!B145,IF(#REF!=\"French\",Translations!C145,IF(#REF!=\"Italian\",Translations!D145,IF(#REF!=\"German\",Translations!E145,IF(#REF!=\"Spanish\",Translations!F145,Translations!B145)))))","v":{"$error":"#REF!"}},"100-199","100-199","100-199","100-199","100-199"]
[{"$f":"IF(#REF!=\"English\",Translations!B146,IF(#REF!=\"French\",Translations!C146,IF(#REF!=\"Italian\",Translations!D146,IF(#REF!=\"German\",Translations!E146,IF(#REF!=\"Spanish\",Translations!F146,Translations!B146)))))","v":{"$error":"#REF!"}},"200-499","200-499","200-499","200-499","200-499"]
[{"$f":"IF(#REF!=\"English\",Translations!B147,IF(#REF!=\"French\",Translations!C147,IF(#REF!=\"Italian\",Translations!D147,IF(#REF!=\"German\",Translations!E147,IF(#REF!=\"Spanish\",Translations!F147,Translations!B147)))))","v":{"$error":"#REF!"}},"500-999","500-999","500-999","500-999","500-999"]
[{"$f":"IF(#REF!=\"English\",Translations!B148,IF(#REF!=\"French\",Translations!C148,IF(#REF!=\"Italian\",Translations!D148,IF(#REF!=\"German\",Translations!E148,IF(#REF!=\"Spanish\",Translations!F148,Translations!B148)))))","v":{"$error":"#REF!"}},"1000-1499","1000-1499","1000-1499","1000-1499","1000-1499"]
[{"$f":"IF(#REF!=\"English\",Translations!B149,IF(#REF!=\"French\",Translations!C149,IF(#REF!=\"Italian\",Translations!D149,IF(#REF!=\"German\",Translations!E149,IF(#REF!=\"Spanish\",Translations!F149,Translations!B149)))))","v":{"$error":"#REF!"}},"above 1500","Supérieur à 1500","oltre 1500","über 1500","por encima de 1500"]
[{"$f":"IF(#REF!=\"English\",Translations!B150,IF(#REF!=\"French\",Translations!C150,IF(#REF!=\"Italian\",Translations!D150,IF(#REF!=\"German\",Translations!E150,IF(#REF!=\"Spanish\",Translations!F150,Translations!B150)))))","v":{"$error":"#REF!"}},"Colt Cloud UC - Profile types","Colt Cloud UC - Types de profils","Colt Cloud UC - Tipi di profilo","Colt Cloud UC - Profiltypen","Colt Cloud UC - Tipos de perfil"]
[{"$f":"IF(#REF!=\"English\",Translations!B151,IF(#REF!=\"French\",Translations!C151,IF(#REF!=\"Italian\",Translations!D151,IF(#REF!=\"German\",Translations!E151,IF(#REF!=\"Spanish\",Translations!F151,Translations!B151)))))","v":{"$error":"#REF!"}},"Profile Number","Numéro du profil","Numero di profilo","Profilnummer","Número de perfil"]
[{"$f":"IF(#REF!=\"English\",Translations!B152,IF(#REF!=\"French\",Translations!C152,IF(#REF!=\"Italian\",Translations!D152,IF(#REF!=\"German\",Translations!E152,IF(#REF!=\"Spanish\",Translations!F152,Translations!B152)))))","v":{"$error":"#REF!"}},"Profile Type","Type de profil","Tipo di profilo","Profiltyp","Tipo de perfil"]
[{"$f":"IF(#REF!=\"English\",Translations!B153,IF(#REF!=\"French\",Translations!C153,IF(#REF!=\"Italian\",Translations!D153,IF(#REF!=\"German\",Translations!E153,IF(#REF!=\"Spanish\",Translations!F153,Translations!B153)))))","v":{"$error":"#REF!"}},"Minutes","Facturation des appels","Minuti","Minuten","Minutos"]
[{"$f":"IF(#REF!=\"English\",Translations!B154,IF(#REF!=\"French\",Translations!C154,IF(#REF!=\"Italian\",Translations!D154,IF(#REF!=\"German\",Translations!E154,IF(#REF!=\"Spanish\",Translations!F154,Translations!B154)))))","v":{"$error":"#REF!"}},"Enhanced Audio Conferencing","Conférences audio améliorées","Audioconferenza potenziata","Zugehörige Audio Konferenz","Conferencia de audio mejorada"]
[{"$f":"IF(#REF!=\"English\",Translations!B155,IF(#REF!=\"French\",Translations!C155,IF(#REF!=\"Italian\",Translations!D155,IF(#REF!=\"German\",Translations!E155,IF(#REF!=\"Spanish\",Translations!F155,Translations!B155)))))","v":{"$error":"#REF!"}},"Total per profile per month","Total par profil par mois","Totale per profilo al mese","Gesamt pro Profil pro Monat","Total por perfil\npor mes"]
[{"$f":"IF(#REF!=\"English\",Translations!B156,IF(#REF!=\"French\",Translations!C156,IF(#REF!=\"Italian\",Translations!D156,IF(#REF!=\"German\",Translations!E156,IF(#REF!=\"Spanish\",Translations!F156,Translations!B156)))))","v":{"$error":"#REF!"}},"Colt Cloud UC - Profile Type Features","Colt Cloud UC - Caractéristiques des types de profils","Colt Cloud UC - Funzionalità dei profili","Colt Cloud UC - Profiltyp Funktionen","Colt Cloud UC - Características del tipo de perfil"]
[{"$f":"IF(#REF!=\"English\",Translations!B157,IF(#REF!=\"French\",Translations!C157,IF(#REF!=\"Italian\",Translations!D157,IF(#REF!=\"German\",Translations!E157,IF(#REF!=\"Spanish\",Translations!F157,Translations!B157)))))","v":{"$error":"#REF!"}},"Profile Types >>","Types de profils >>","Tipi di profilo>>","Profiltypen >>","Tipos de perfil >>"]
[{"$f":"IF(#REF!=\"English\",Translations!B158,IF(#REF!=\"French\",Translations!C158,IF(#REF!=\"Italian\",Translations!D158,IF(#REF!=\"German\",Translations!E158,IF(#REF!=\"Spanish\",Translations!F158,Translations!B158)))))","v":{"$error":"#REF!"}},"S - Standard","S - Standard","S - Standard","S - Standard","S - Estándar"]
[{"$f":"IF(#REF!=\"English\",Translations!B159,IF(#REF!=\"French\",Translations!C159,IF(#REF!=\"Italian\",Translations!D159,IF(#REF!=\"German\",Translations!E159,IF(#REF!=\"Spanish\",Translations!F159,Translations!B159)))))","v":{"$error":"#REF!"}},"O - Optional","O - Optionnel","O - Opzionale","O - Optional","O - Opcional"]
[{"$f":"IF(#REF!=\"English\",Translations!B160,IF(#REF!=\"French\",Translations!C160,IF(#REF!=\"Italian\",Translations!D160,IF(#REF!=\"German\",Translations!E160,IF(#REF!=\"Spanish\",Translations!F160,Translations!B160)))))","v":{"$error":"#REF!"}},"N/A - not applicable","S.O.- Sans objet","N/A - Non applicabile","N/A - Nicht Anwendbar","N/A - No aplicable"]
[{"$f":"IF(#REF!=\"English\",Translations!B161,IF(#REF!=\"French\",Translations!C161,IF(#REF!=\"Italian\",Translations!D161,IF(#REF!=\"German\",Translations!E161,IF(#REF!=\"Spanish\",Translations!F161,Translations!B161)))))","v":{"$error":"#REF!"}},"Cloud UC End user portal","Portail utilisateur final Cloud UC","Portale Cloud UC per l'utente finale ","Cloud UC Anwenderportal","Portal de usuario final de Cloud UC"]
[{"$f":"IF(#REF!=\"English\",Translations!B162,IF(#REF!=\"French\",Translations!C162,IF(#REF!=\"Italian\",Translations!D162,IF(#REF!=\"German\",Translations!E162,IF(#REF!=\"Spanish\",Translations!F162,Translations!B162)))))","v":{"$error":"#REF!"}},"Standard telephony features","Fonctions de téléphonie standard","Funzionalità di telefonia standard","Telefonie Standard Funktionen","Características de \"Telefonía estándar\""]
[{"$f":"IF(#REF!=\"English\",Translations!B163,IF(#REF!=\"French\",Translations!C163,IF(#REF!=\"Italian\",Translations!D163,IF(#REF!=\"German\",Translations!E163,IF(#REF!=\"Spanish\",Translations!F163,Translations!B163)))))","v":{"$error":"#REF!"}},"Voice business Number (DDI) per profile","Voix d'affaires Numéro (DDI) par profil","Voce business numero (DDI) per ogni profilo","Durchwahlnummer pro Profil (DDI)","Número del negocio de la voz (DDI) por perfil"]
[{"$f":"IF(#REF!=\"English\",Translations!B164,IF(#REF!=\"French\",Translations!C164,IF(#REF!=\"Italian\",Translations!D164,IF(#REF!=\"German\",Translations!E164,IF(#REF!=\"Spanish\",Translations!F164,Translations!B164)))))","v":{"$error":"#REF!"}},"Call management (CF, CW, Transfer, hunting, CLIP/R, etc.)","Gestion d'appels (renvoi, attente, transfert, recherche, CLIP/R, etc.)","Gestione chiamate (inoltro di chiamata, avviso di chiamata, trasferimento, call hunting, visualizzazione ID chiamante, numero privato, etc.)","Anrufverwaltung (CF, CW, Transfer, Nachverfolgen, CLIP/R, etc.) ","Gestión de llamada (CF, CW, transferencia, grupo de caza, CLIP/R, etc.)"]
[{"$f":"IF(#REF!=\"English\",Translations!B165,IF(#REF!=\"French\",Translations!C165,IF(#REF!=\"Italian\",Translations!D165,IF(#REF!=\"German\",Translations!E165,IF(#REF!=\"Spanish\",Translations!F165,Translations!B165)))))","v":{"$error":"#REF!"}},"Voicemail","Messagerie vocale","Segreteria telefonica","Voicemail","Buzón de voz"]
[{"$f":"IF(#REF!=\"English\",Translations!B166,IF(#REF!=\"French\",Translations!C166,IF(#REF!=\"Italian\",Translations!D166,IF(#REF!=\"German\",Translations!E166,IF(#REF!=\"Spanish\",Translations!F166,Translations!B166)))))","v":{"$error":"#REF!"}},"Personal user mobility","Mobilité de l'utilisateur (Personal User Mobility, PUM)","Personal user mobility","Profil/ Rufnummern Mitnahme","Movilidad de usuario personal"]
[{"$f":"IF(#REF!=\"English\",Translations!B167,IF(#REF!=\"French\",Translations!C167,IF(#REF!=\"Italian\",Translations!D167,IF(#REF!=\"German\",Translations!E167,IF(#REF!=\"Spanish\",Translations!F167,Translations!B167)))))","v":{"$error":"#REF!"}},"Standard IVR via personal menu","Serveur Vocal Interactif (SVI)","IVR standard da menu personale","Standard IVR über persönliches Menü","IVR estándar desde menú personal"]
[{"$f":"IF(#REF!=\"English\",Translations!B168,IF(#REF!=\"French\",Translations!C168,IF(#REF!=\"Italian\",Translations!D168,IF(#REF!=\"German\",Translations!E168,IF(#REF!=\"Spanish\",Translations!F168,Translations!B168)))))","v":{"$error":"#REF!"}},"Music on Hold","Musique d'attente","Musica di attesa","Haltemusik","Música en espera"]
[{"$f":"IF(#REF!=\"English\",Translations!B169,IF(#REF!=\"French\",Translations!C169,IF(#REF!=\"Italian\",Translations!D169,IF(#REF!=\"German\",Translations!E169,IF(#REF!=\"Spanish\",Translations!F169,Translations!B169)))))","v":{"$error":"#REF!"}},"Up to 3 dynamic call queuers","Jusqu'à 3 files d'attente dynamiques","Fino a 3 chiamanti in code dinamiche","Bis zu 3 dynamische Wartefelder (Queues)","Hasta 3 colas dinámicas de llamadas"]
[{"$f":"IF(#REF!=\"English\",Translations!B170,IF(#REF!=\"French\",Translations!C170,IF(#REF!=\"Italian\",Translations!D170,IF(#REF!=\"German\",Translations!E170,IF(#REF!=\"Spanish\",Translations!F170,Translations!B170)))))","v":{"$error":"#REF!"}},"Group management","Gestion de groupes","Gestione gruppi","Gruppenverwaltung","Gestión de grupos"]
[{"$f":"IF(#REF!=\"English\",Translations!B171,IF(#REF!=\"French\",Translations!C171,IF(#REF!=\"Italian\",Translations!D171,IF(#REF!=\"German\",Translations!E171,IF(#REF!=\"Spanish\",Translations!F171,Translations!B171)))))","v":{"$error":"#REF!"}},"Short dialling","Numérotation abrégée","Numeri abbreviati","Kurzwahl","Marcación abreviada"]
[{"$f":"IF(#REF!=\"English\",Translations!B172,IF(#REF!=\"French\",Translations!C172,IF(#REF!=\"Italian\",Translations!D172,IF(#REF!=\"German\",Translations!E172,IF(#REF!=\"Spanish\",Translations!F172,Translations!B172)))))","v":{"$error":"#REF!"}},"Incoming fax will be receive in your email box","Réception de fax entrants dans votre boîte de courrier électronique","Ricezione via email dei fax in entrata","Empfang eingehender Faxe in der Email- Inbox","Fax entrante recibido en la bandeja de correo electrónico"]
[{"$f":"IF(#REF!=\"English\",Translations!B173,IF(#REF!=\"French\",Translations!C173,IF(#REF!=\"Italian\",Translations!D173,IF(#REF!=\"German\",Translations!E173,IF(#REF!=\"Spanish\",Translations!F173,Translations!B173)))))","v":{"$error":"#REF!"}},"Audio conferencing (up to 20 bridge numbers per company and up to 20 recipients per conference call)","Conférences audio (maximum de 20 numéros de pont par entreprise et maximum de 20 destinaires par conférence)","Sistema di audioconferenze (fino a 20 numeri ponte per azienda e fino a 20 riceventi per chiamata di conferenza)","Audiokonferenzen (bis zu 20 Konferenzräume und bis zu 20 Teilnehmer pro Konferenz)","Conferencias de audio (hasta 20 números de puente por empresa y hasta 20 destinatarios por conferencia)"]
[{"$f":"IF(#REF!=\"English\",Translations!B174,IF(#REF!=\"French\",Translations!C174,IF(#REF!=\"Italian\",Translations!D174,IF(#REF!=\"German\",Translations!E174,IF(#REF!=\"Spanish\",Translations!F174,Translations!B174)))))","v":{"$error":"#REF!"}},"Unified Communication features","Fonctions de communications unifiées","Funzionalità Unified Communication","Unified Communication Funktionen","Características de \"Comunicaciones Unificadas (UC)\""]
[{"$f":"IF(#REF!=\"English\",Translations!B175,IF(#REF!=\"French\",Translations!C175,IF(#REF!=\"Italian\",Translations!D175,IF(#REF!=\"German\",Translations!E175,IF(#REF!=\"Spanish\",Translations!F175,Translations!B175)))))","v":{"$error":"#REF!"}},"Softphone\n- on End User's portal via Google Chrome browser/WebRTC\n- PC / Smartphone / Tablets","Softphone\n- sur portail utilisateur final via navigateur Google Chrome/WebRTC\n- PC / Smartphone / Tablettes","Softphone\n- sul portale dell'utente finale tramite navigatore Google Chrome/WebRTC\n- PC / Smartphone / Tablet","Softphone \n- auf dem Portal des Anwenders über den Google Chrome Browser/WebTRC\n - PC / Smartphone / Tablets","Softphone\n- en el portal de usuario final a través del navegador Google Chrome/WebRTC\n- PC / Smartphone / Tablets"]
[{"$f":"IF(#REF!=\"English\",Translations!B176,IF(#REF!=\"French\",Translations!C176,IF(#REF!=\"Italian\",Translations!D176,IF(#REF!=\"German\",Translations!E176,IF(#REF!=\"Spanish\",Translations!F176,Translations!B176)))))","v":{"$error":"#REF!"}},"Chat / IM","Chat/MI","Chat / IM","Chat / IM","Chat / IM"]
[{"$f":"IF(#REF!=\"English\",Translations!B177,IF(#REF!=\"French\",Translations!C177,IF(#REF!=\"Italian\",Translations!D177,IF(#REF!=\"German\",Translations!E177,IF(#REF!=\"Spanish\",Translations!F177,Translations!B177)))))","v":{"$error":"#REF!"}},"Intentional Presence","Présence internationale","Avviso di presenza","Präsenzanzeige","Presencia intencional"]
[{"$f":"IF(#REF!=\"English\",Translations!B178,IF(#REF!=\"French\",Translations!C178,IF(#REF!=\"Italian\",Translations!D178,IF(#REF!=\"German\",Translations!E178,IF(#REF!=\"Spanish\",Translations!F178,Translations!B178)))))","v":{"$error":"#REF!"}},"Unified Directory","Répertoire unifié","Rubrica unificata","Einheitliches Telefonverzeichnis","Directorio unificado"]
[{"$f":"IF(#REF!=\"English\",Translations!B179,IF(#REF!=\"French\",Translations!C179,IF(#REF!=\"Italian\",Translations!D179,IF(#REF!=\"German\",Translations!E179,IF(#REF!=\"Spanish\",Translations!F179,Translations!B179)))))","v":{"$error":"#REF!"}},"Desk to desk Video calls (up to 4 attendees)","Appels vidéo de bureau à bureau (jusqu'à 4 participants)","Videochiamate desk to desk (fino a 4 partecipanti)","Desk to Desk Videoanrufe (bis zu vier Teilnehmer)","Videollamadas escritorio a escritorio (hasta 4 asistentes)"]
[{"$f":"IF(#REF!=\"English\",Translations!B180,IF(#REF!=\"French\",Translations!C180,IF(#REF!=\"Italian\",Translations!D180,IF(#REF!=\"German\",Translations!E180,IF(#REF!=\"Spanish\",Translations!F180,Translations!B180)))))","v":{"$error":"#REF!"}},"Screen sharing","Partage d'écran","Condivisione dello schermo","Screen Sharing","Pantalla compartida"]
[{"$f":"IF(#REF!=\"English\",Translations!B181,IF(#REF!=\"French\",Translations!C181,IF(#REF!=\"Italian\",Translations!D181,IF(#REF!=\"German\",Translations!E181,IF(#REF!=\"Spanish\",Translations!F181,Translations!B181)))))","v":{"$error":"#REF!"}},"Click to dial","Cliquer pour composer","Fare clic per selezione numero","Click to dial","Pulsar para marcar"]
[{"$f":"IF(#REF!=\"English\",Translations!B182,IF(#REF!=\"French\",Translations!C182,IF(#REF!=\"Italian\",Translations!D182,IF(#REF!=\"German\",Translations!E182,IF(#REF!=\"Spanish\",Translations!F182,Translations!B182)))))","v":{"$error":"#REF!"}},"Click to email","Cliquer pour envoyer un e-mail","Fare clic per e-mail","Click to email","Pulsar para correo electrónico"]
[{"$f":"IF(#REF!=\"English\",Translations!B183,IF(#REF!=\"French\",Translations!C183,IF(#REF!=\"Italian\",Translations!D183,IF(#REF!=\"German\",Translations!E183,IF(#REF!=\"Spanish\",Translations!F183,Translations!B183)))))","v":{"$error":"#REF!"}},"Click to chat","Cliquer pour chatter","Fare clic per chat","Click to chat","Pulsar para chat"]
[{"$f":"IF(#REF!=\"English\",Translations!B184,IF(#REF!=\"French\",Translations!C184,IF(#REF!=\"Italian\",Translations!D184,IF(#REF!=\"German\",Translations!E184,IF(#REF!=\"Spanish\",Translations!F184,Translations!B184)))))","v":{"$error":"#REF!"}},"Receptionist features","Fonctions de standardiste","Funzionalità Receptionist","Funktionen für Rezeptionisten","Características de Recepcionista"]
[{"$f":"IF(#REF!=\"English\",Translations!B185,IF(#REF!=\"French\",Translations!C185,IF(#REF!=\"Italian\",Translations!D185,IF(#REF!=\"German\",Translations!E185,IF(#REF!=\"Spanish\",Translations!F185,Translations!B185)))))","v":{"$error":"#REF!"}},"net.console receptionist management client (web component)\nConfigurable keyboard shortcuts for main features: Accept calls, Hold, Consult, Transfer, and Hang up.\nGeneral queue that can be shared by several receptionists and a dedicated personal queue for each receptionist.\nShow the amount of calls waiting in the general and personal queue","client gestion de standardiste net.console (composant Web) Raccourcis clavier configurables pour les principales fonctions : Accepter des appels, Mise en attente, Consulter, Transférer et Raccrocher. File d'attente générale qui peut être partagée par plusieurs standardistes et une file d'attente personnelle dédiée pour chaque standardiste. Montre le nombre d'appels en attente dans la file d'attente générale et la file d'attente personnelle","Client di gestione per receptionist net.console (componente web)\nScorciatoie dalla tastiera configurabili per funzionalità principali: Accettazione chiamate, Attesa, Consultazione, Trasferimento e Riaggancio.\nCoda generale che è possibile condividere tra diversi receptionist e una coda personale dedicata per ogni receptionist.\nMostra il numero di chiamate in attesa sulla coda generale e personale","net.console - Rezeptionist Web RTC Client (Web-Komponente)\n Konfigurierbare Tastenkombinationen für die Hauptfunktionen: Rufannahme, Halten, Rückfrage, Transfer, auflegen.\n Allgemeine Warteschlange, die durch mehrere Rezeptionisten und einer dedizierten persönlichen Warteschlange für jeden Rezeptionisten geteilt werden können.\nAnzeige der wartenden Anrufe im persönlichen und Allgemeinen Wartefeld","Cliente de gestión de recepcionista net.console (componente web).\n\rAccesos directos de teclado configurables para las funciones principales: Aceptar llamada, Retener, Consultar, Transferir y Colgar. \r\nUna cola General que puede ser compartida por varios recepcionistas y una cola personal para cada recepcionista.\r\n\rMuestra el número de llamadas en espera en la cola general y en la cola personal."]
[{"$f":"IF(#REF!=\"English\",Translations!B186,IF(#REF!=\"French\",Translations!C186,IF(#REF!=\"Italian\",Translations!D186,IF(#REF!=\"German\",Translations!E186,IF(#REF!=\"Spanish\",Translations!F186,Translations!B186)))))","v":{"$error":"#REF!"}},"Full Internal directory with possibility to search on all fields, visibility on user's intentional status and phone status, and customizable view","Répertoire interne complet avec possibilité de rechercher dans tous les champs, visibilité du statut intentionnel de l'utilisateur et du statut du téléphone, affichage personnalisable","Rubrica interna completa con possibilità di eseguire la ricerca in tutti i campi, visibilità dello stato intenzionale dell’utente e dello stato del telefono, vista personalizzabile","Voll Internes Verzeichnis mit der Möglichkeit, auf allen Feldern zu suchen. \nAnzeide des Präsenzstatus mit individuell änderbarer Ansicht.","Directorio interno completo con posibilidad de buscar en todos los campos. Visibilidad del estado del usuario y del estado del teléfono y vista personalizable."]
[{"$f":"IF(#REF!=\"English\",Translations!B187,IF(#REF!=\"French\",Translations!C187,IF(#REF!=\"Italian\",Translations!D187,IF(#REF!=\"German\",Translations!E187,IF(#REF!=\"Spanish\",Translations!F187,Translations!B187)))))","v":{"$error":"#REF!"}},"Detailed call history for calls returning to net. Console (each call step is logged)","Historique détaillé des appels pour les appels revenant à net.Console (chaque étape de l'appel est enregistrée)","Cronologia dettagliata delle chiamate di ritorno alla rete. Console (ogni passo di chiamata è registrato)","Detailierte Anrufliste der Wiederanrufer mit Protokollierung","Historial de llamadas detallado para las llamadas devueltas a net.console (se registra cada paso de llamada)."]
[{"$f":"IF(#REF!=\"English\",Translations!B188,IF(#REF!=\"French\",Translations!C188,IF(#REF!=\"Italian\",Translations!D188,IF(#REF!=\"German\",Translations!E188,IF(#REF!=\"Spanish\",Translations!F188,Translations!B188)))))","v":{"$error":"#REF!"}},"2 lines: first for incoming or outgoing calls, second line for consultation and attended transfers","2 lignes : 1ère ligne pour les appels entrants ou sortants, 2ème ligne pour la consultation ou les transferts annoncés","2 linee: la prima per le chiamate in entrata o in uscita, la seconda linea per consultazione e trasferimenti con avviso","Zweizeilige Anzeige: Erste Zeile für ankommende und abgehende Anrufe, \nzweite Zeile für Rückfrage und Gesprächsübergabe.","2 líneas: la primera para llamadas entrantes y salientes; la segunda para consultas y transferencias asistidas."]
[{"$f":"IF(#REF!=\"English\",Translations!B189,IF(#REF!=\"French\",Translations!C189,IF(#REF!=\"Italian\",Translations!D189,IF(#REF!=\"German\",Translations!E189,IF(#REF!=\"Spanish\",Translations!F189,Translations!B189)))))","v":{"$error":"#REF!"}},"2x20 Speed dial buttons with phone status for internal contacts","2 x 20 boutons de numérotation rapide avec statut du téléphone pour les contacts internes","2x20 pulsanti di selezione rapida con stato del telefono per contatti interni","2x20 Kurzwahltasten mit den Telefonstatus für interne Kontakte","2x20 botones de marcación rápida con estado del teléfono para contactos internos"]
[{"$f":"IF(#REF!=\"English\",Translations!B190,IF(#REF!=\"French\",Translations!C190,IF(#REF!=\"Italian\",Translations!D190,IF(#REF!=\"German\",Translations!E190,IF(#REF!=\"Spanish\",Translations!F190,Translations!B190)))))","v":{"$error":"#REF!"}},"Park - Put a call on hold and be able to treat other calls. Parked calls are always visible in supervision area and can be retrieved at any time.","Stationnement - Mettre un appel en attente et pouvoir traiter d'autres appels. Les appels en stationnement sont toujours visibles dans la zone de supervision et peuvent être repris à tout moment.","Parcheggio - Messa in attesa di una chiamata per gestire altre chiamate. Le chiamate parcheggiate sono sempre visibili in un’area di supervisione e possono essere recuperate in qualsiasi momento.","Parken: Parken des Anrufers für weitere Gesprächsannahmen. Geparkte Anrufe werden auf dem Bildschirm angezeigt und können jederzeit herangeholt werden","Aparcar - Poner una llamada en espera y poder atender otras llamadas. Las llamadas aparcadas están siempre visibles en el área de supervisión y se pueden recuperar en cualquier momento."]
[{"$f":"IF(#REF!=\"English\",Translations!B191,IF(#REF!=\"French\",Translations!C191,IF(#REF!=\"Italian\",Translations!D191,IF(#REF!=\"German\",Translations!E191,IF(#REF!=\"Spanish\",Translations!F191,Translations!B191)))))","v":{"$error":"#REF!"}},"Directed Park - Same as park but the call is marked as intended for a specific extension. The call can be retrieved from any phone.","Stationnement dirigé - Même chose que le stationnement mais l'appel est marqué comme étant à destination d'un poste spécifique. L'appel peut être repris à partir de n'importe quel téléphone.","Parcheggio diretto - Funzione identica al parcheggio, ma la chiamata è contrassegnata per un interno specifico. La chiamata può essere recuperata da qualsiasi telefono.","Direktes Parken: Wie Parken - das Gespräch wird jedoch für eine bestimmte \nNebenstelle markiert und kann von dieser herangeholt werden.","Aparcar dirigida - Igual que aparcar, pero la llamada está destinada a una extensión específica. La llamada puede ser recuperada desde cualquier teléfono."]
[{"$f":"IF(#REF!=\"English\",Translations!B192,IF(#REF!=\"French\",Translations!C192,IF(#REF!=\"Italian\",Translations!D192,IF(#REF!=\"German\",Translations!E192,IF(#REF!=\"Spanish\",Translations!F192,Translations!B192)))))","v":{"$error":"#REF!"}},"Camp On - Allows to transfer to a busy destination. Destination will get the call when he hangs up. In the meantime the calls remain in supervision area.","Campement - Permet de transférer un appel vers une destination occupée. Le destinataire recevra l'appel lorsqu'il raccrochera. Pendant ce temps, l'appel reste dans la zone de supervision.","Accodamento su interno occupato - Consente di trasferire a un destinazione occupata. Il destinatario riceve la chiamata quando riaggancia, nel frattempo la chiamata permane nell’area di supervisione.","Rückruf nach Verbindungsanforderung: Ermöglicht Rückrufanforderung auf eine besetzte Nebenstelle.\nNebenstelle erhält den Anruf bei freier Leitung. Anruf wird auf dem Bildschirm angezeigt.\n","Acampar - Permite transferir llamadas a un destino ocupado. El destino recibirá la llamada cuando cuelgue. Hasta ese momento la llamada permanece en el área de supervisión."]
[{"$f":"IF(#REF!=\"English\",Translations!B193,IF(#REF!=\"French\",Translations!C193,IF(#REF!=\"Italian\",Translations!D193,IF(#REF!=\"German\",Translations!E193,IF(#REF!=\"Spanish\",Translations!F193,Translations!B193)))))","v":{"$error":"#REF!"}},"Chain - allows the operator to bring the caller in contact with various people without the caller needing to initiate several calls to the general number. Chained calls stay visible in the supervision area.","Chaîne -Permet à l'opérateur de mettre l'appelant en contact avec plusieurs personnes sans que l'appelant n'ait besoin de lancer plusieurs appels au numéro général. Les appels en chaîne restent visibles dans la zone de supervision.","Concatenazione - Consente all’operatore di mettere il chiamante in contatto con varie persone, senza che questi debba effettuare diverse chiamate al numero generale. Le chiamate concatenate restano visibili nell’area di supervisione.","Kettengespräch: ermöglicht dem Rezeptionisten den Anrufer mit mehreren Teilnehmer automatisch  nacheinander zu verbinden. Kettengespräche werden auf dem Bildschirm angezeigt.","Encadenar - Permite al operador poner al llamante en contacto con varias personas sin que el llamante deba iniciar varias llamadas al número general. Las llamadas encadenadas permanecen visibles en el área de supervisión."]
[{"$f":"IF(#REF!=\"English\",Translations!B194,IF(#REF!=\"French\",Translations!C194,IF(#REF!=\"Italian\",Translations!D194,IF(#REF!=\"German\",Translations!E194,IF(#REF!=\"Spanish\",Translations!F194,Translations!B194)))))","v":{"$error":"#REF!"}},"Optional Internal reception number allowing to send back a call to the same receptionist who transferred the call.","Numéro de réception interne en option qui permet de renvoyer un appel au standardiste qui a transféré l'appel.","Numero interno opzionale per il centralino che consente di restituire una chiamata allo stesso receptionist che ne ha effettuato il trasferimento.","Automatischer Wiederanruf auf den initierenden Rezeptionisten","El número interno de recepción opcional permite devolver una llamada al mismo recepcionista que transfirió la llamada."]
[{"$f":"IF(#REF!=\"English\",Translations!B195,IF(#REF!=\"French\",Translations!C195,IF(#REF!=\"Italian\",Translations!D195,IF(#REF!=\"German\",Translations!E195,IF(#REF!=\"Spanish\",Translations!F195,Translations!B195)))))","v":{"$error":"#REF!"}},"Service management","Gestion de services","Gestione del servizio","Servicemanagement","Gestión del servicio"]
[{"$f":"IF(#REF!=\"English\",Translations!B196,IF(#REF!=\"French\",Translations!C196,IF(#REF!=\"Italian\",Translations!D196,IF(#REF!=\"German\",Translations!E196,IF(#REF!=\"Spanish\",Translations!F196,Translations!B196)))))","v":{"$error":"#REF!"}},"Service management portal (admin, English)","Portail de gestion de services (admin, anglais)","Portale di gestione del servizio (amministratore, inglese)","Portal für das Service Management (Administrator, Englisch)","Portal de gestión del servicio (admin, inglés)"]
[{"$f":"IF(#REF!=\"English\",Translations!B197,IF(#REF!=\"French\",Translations!C197,IF(#REF!=\"Italian\",Translations!D197,IF(#REF!=\"German\",Translations!E197,IF(#REF!=\"Spanish\",Translations!F197,Translations!B197)))))","v":{"$error":"#REF!"}},"Optional capabilities","Options","Funzionalità opzionali","Optionale Leistungen","Capacidades opcionales"]
[{"$f":"IF(#REF!=\"English\",Translations!B198,IF(#REF!=\"French\",Translations!C198,IF(#REF!=\"Italian\",Translations!D198,IF(#REF!=\"German\",Translations!E198,IF(#REF!=\"Spanish\",Translations!F198,Translations!B198)))))","v":{"$error":"#REF!"}},"IP Phones and accessories","Téléphones IP et accessoires","Telefoni IP e accessori","IP Telefone und Zubehör","Teléfonos y accesorios IP"]
[{"$f":"IF(#REF!=\"English\",Translations!B199,IF(#REF!=\"French\",Translations!C199,IF(#REF!=\"Italian\",Translations!D199,IF(#REF!=\"German\",Translations!E199,IF(#REF!=\"Spanish\",Translations!F199,Translations!B199)))))","v":{"$error":"#REF!"}},"Integration to an existing Active Directory","Intégration dans un Active Directory existant","Integrazione con una Active Directory esistente","Einbindung in ein bestehendes Active Directory","Integración con un Directorio Activo existente"]
[{"$f":"IF(#REF!=\"English\",Translations!B200,IF(#REF!=\"French\",Translations!C200,IF(#REF!=\"Italian\",Translations!D200,IF(#REF!=\"German\",Translations!E200,IF(#REF!=\"Spanish\",Translations!F200,Translations!B200)))))","v":{"$error":"#REF!"}},"Integration to an existing (3rd party) PBX","Intégration d'un PBX existant (tiers)","Integrazione con una OBX (di terze parti)","Einbindung einer bestehenden PBX (3rd Party)","Integración con una OBX existente (terceros)"]
[{"$f":"IF(#REF!=\"English\",Translations!B201,IF(#REF!=\"French\",Translations!C201,IF(#REF!=\"Italian\",Translations!D201,IF(#REF!=\"German\",Translations!E201,IF(#REF!=\"Spanish\",Translations!F201,Translations!B201)))))","v":{"$error":"#REF!"}},"Call recording","Enregistrement d'appels","Registrazione chiamate","Anrufaufzeichnung","Grabación de llamadas"]
[{"$f":"IF(#REF!=\"English\",Translations!B202,IF(#REF!=\"French\",Translations!C202,IF(#REF!=\"Italian\",Translations!D202,IF(#REF!=\"German\",Translations!E202,IF(#REF!=\"Spanish\",Translations!F202,Translations!B202)))))","v":{"$error":"#REF!"}},"Integration to 3rd party systems","Intégration dans un système tiers","Integrazione con un sistema di terze parti","Integration von 3rd Party Systemen","Integración en sistemas de terceros"]
[{"$f":"IF(#REF!=\"English\",Translations!B203,IF(#REF!=\"French\",Translations!C203,IF(#REF!=\"Italian\",Translations!D203,IF(#REF!=\"German\",Translations!E203,IF(#REF!=\"Spanish\",Translations!F203,Translations!B203)))))","v":{"$error":"#REF!"}},"Enhanced Colt Audio Conferencing; Up to 125 attendees per bridge\nFree global access from offices and Colt countries","Conférences améliorées\nJusqu'à 125 participants par pont\nAccès international gratuit à partir des bureaux et des pays Colt","Sistema di conferenze potenziato  \nFino a 125 partecipanti per bridge\nAccesso globale gratuito dagli uffici e dai paesi Colt ","Erweitertes Konferenzsystem mit bis zu 125 Teilnehmern pro Bridge.\nKostenlose globale Einwahlmögichkeiten von allen Kundenstandorten und Colt Ländern","Conferencia mejorada\nHasta 125 asistentes por puente\nAcceso global gratuito desde oficinas y países Colt"]
[{"$f":"IF(#REF!=\"English\",Translations!B204,IF(#REF!=\"French\",Translations!C204,IF(#REF!=\"Italian\",Translations!D204,IF(#REF!=\"German\",Translations!E204,IF(#REF!=\"Spanish\",Translations!F204,Translations!B204)))))","v":{"$error":"#REF!"}},"WebEx web conferencing (requires a separate order)","Conférences Web WebEx (exige une commande séparée)","Sistema di conferenze web WebEx (richiede un ordine separato)","WebEx- Konferenzsystem (Video und Web) erfordert eine separate Bestellung","Conferencia web WebEx (requiere un pedido independiente)"]
[{"$f":"IF(#REF!=\"English\",Translations!B205,IF(#REF!=\"French\",Translations!C205,IF(#REF!=\"Italian\",Translations!D205,IF(#REF!=\"German\",Translations!E205,IF(#REF!=\"Spanish\",Translations!F205,Translations!B205)))))","v":{"$error":"#REF!"}},"Colt Cloud UC - Equipment","Colt Cloud UC - Équipements","Colt Cloud UC - Apparecchiature","Colt Cloud UC - Equipment","Colt Cloud UC - Equipamiento"]
[{"$f":"IF(#REF!=\"English\",Translations!B206,IF(#REF!=\"French\",Translations!C206,IF(#REF!=\"Italian\",Translations!D206,IF(#REF!=\"German\",Translations!E206,IF(#REF!=\"Spanish\",Translations!F206,Translations!B206)))))","v":{"$error":"#REF!"}},"Hardware (IP Phones, Headsets and accessories)","Matériel (téléphones IP, écouteurs et accessoires)","Hardware (telefoni IP, cuffie e accessori)","Hardware (IP Telefone, Headsets und Zubehör)","Equipamiento (Teléfonos IP, auriculares y accesorios)"]
[{"$f":"IF(#REF!=\"English\",Translations!B207,IF(#REF!=\"French\",Translations!C207,IF(#REF!=\"Italian\",Translations!D207,IF(#REF!=\"German\",Translations!E207,IF(#REF!=\"Spanish\",Translations!F207,Translations!B207)))))","v":{"$error":"#REF!"}},"Polycom IP Desk Phones","Polycom Téléphones IP de bureau","Polycom Telefono IP da tavolo","Polycom IP Tisch Telefone"," Teléfonos IP  de sobremesa  de Polycom"]
[{"$f":"IF(#REF!=\"English\",Translations!B208,IF(#REF!=\"French\",Translations!C208,IF(#REF!=\"Italian\",Translations!D208,IF(#REF!=\"German\",Translations!E208,IF(#REF!=\"Spanish\",Translations!F208,Translations!B208)))))","v":{"$error":"#REF!"}},"Description","Description","Descrizione","Beschreibung","Descripción"]
[{"$f":"IF(#REF!=\"English\",Translations!B209,IF(#REF!=\"French\",Translations!C209,IF(#REF!=\"Italian\",Translations!D209,IF(#REF!=\"German\",Translations!E209,IF(#REF!=\"Spanish\",Translations!F209,Translations!B209)))))","v":{"$error":"#REF!"}},"Fee","Prix","Tariffa","Einzelpreis","Precio"]
[{"$f":"IF(#REF!=\"English\",Translations!B210,IF(#REF!=\"French\",Translations!C210,IF(#REF!=\"Italian\",Translations!D210,IF(#REF!=\"German\",Translations!E210,IF(#REF!=\"Spanish\",Translations!F210,Translations!B210)))))","v":{"$error":"#REF!"}},"Type","Type","Tipo","Typ","Tipo"]
[{"$f":"IF(#REF!=\"English\",Translations!B211,IF(#REF!=\"French\",Translations!C211,IF(#REF!=\"Italian\",Translations!D211,IF(#REF!=\"German\",Translations!E211,IF(#REF!=\"Spanish\",Translations!F211,Translations!B211)))))","v":{"$error":"#REF!"}},"Qty","Qté","Quantità","Menge","Uds."]
[{"$f":"IF(#REF!=\"English\",Translations!B212,IF(#REF!=\"French\",Translations!C212,IF(#REF!=\"Italian\",Translations!D212,IF(#REF!=\"German\",Translations!E212,IF(#REF!=\"Spanish\",Translations!F212,Translations!B212)))))","v":{"$error":"#REF!"}},"Spares Qty","Qté de pièces détachées","Qtà ricambi","Spare Part","Uds. repuesto"]
[{"$f":"IF(#REF!=\"English\",Translations!B213,IF(#REF!=\"French\",Translations!C213,IF(#REF!=\"Italian\",Translations!D213,IF(#REF!=\"German\",Translations!E213,IF(#REF!=\"Spanish\",Translations!F213,Translations!B213)))))","v":{"$error":"#REF!"}},"Total Qty","Qté totale","Qtà totale","Menge gesamt","Total Uds."]
[{"$f":"IF(#REF!=\"English\",Translations!B214,IF(#REF!=\"French\",Translations!C214,IF(#REF!=\"Italian\",Translations!D214,IF(#REF!=\"German\",Translations!E214,IF(#REF!=\"Spanish\",Translations!F214,Translations!B214)))))","v":{"$error":"#REF!"}},"Currency","Devise","Valuta","Währung","Moneda"]
[{"$f":"IF(#REF!=\"English\",Translations!B215,IF(#REF!=\"French\",Translations!C215,IF(#REF!=\"Italian\",Translations!D215,IF(#REF!=\"German\",Translations!E215,IF(#REF!=\"Spanish\",Translations!F215,Translations!B215)))))","v":{"$error":"#REF!"}},"Total","Total","Totale","Gesamtpreis","Total"]
[{"$f":"IF(#REF!=\"English\",Translations!B216,IF(#REF!=\"French\",Translations!C216,IF(#REF!=\"Italian\",Translations!D216,IF(#REF!=\"German\",Translations!E216,IF(#REF!=\"Spanish\",Translations!F216,Translations!B216)))))","v":{"$error":"#REF!"}},"Unit Install","Unité d'installation","unità di installazione","Gerät installieren","\nInstalar la unidad"]
[{"$f":"IF(#REF!=\"English\",Translations!B217,IF(#REF!=\"French\",Translations!C217,IF(#REF!=\"Italian\",Translations!D217,IF(#REF!=\"German\",Translations!E217,IF(#REF!=\"Spanish\",Translations!F217,Translations!B217)))))","v":{"$error":"#REF!"}},{"$f":"B215&\" Install\"","v":"Total Install"},"Installer totale","Installare totale","\nGesamt installieren","Instalar totales"]
[{"$f":"IF(#REF!=\"English\",Translations!B218,IF(#REF!=\"French\",Translations!C218,IF(#REF!=\"Italian\",Translations!D218,IF(#REF!=\"German\",Translations!E218,IF(#REF!=\"Spanish\",Translations!F218,Translations!B218)))))","v":{"$error":"#REF!"}},"Install","\nInstaller","\nInstallare","Installieren","Instalar"]
[{"$f":"IF(#REF!=\"English\",Translations!B219,IF(#REF!=\"French\",Translations!C219,IF(#REF!=\"Italian\",Translations!D219,IF(#REF!=\"German\",Translations!E219,IF(#REF!=\"Spanish\",Translations!F219,Translations!B219)))))","v":{"$error":"#REF!"}},"Total Over Contract","Total Sur Contrat","Totale Su Contratto","\nInsgesamt über Vertrag","Total Sobre Contrato"]
[{"$f":"IF(#REF!=\"English\",Translations!B220,IF(#REF!=\"French\",Translations!C220,IF(#REF!=\"Italian\",Translations!D220,IF(#REF!=\"German\",Translations!E220,IF(#REF!=\"Spanish\",Translations!F220,Translations!B220)))))","v":{"$error":"#REF!"}}," IP331 - office desk"," IP331 - téléphone de bureau"," IP331 - scrivania","IP331 - Office Desk","Teléfono de sobremesa IP331"]
[{"$f":"IF(#REF!=\"English\",Translations!B221,IF(#REF!=\"French\",Translations!C221,IF(#REF!=\"Italian\",Translations!D221,IF(#REF!=\"German\",Translations!E221,IF(#REF!=\"Spanish\",Translations!F221,Translations!B221)))))","v":{"$error":"#REF!"}}," IP650 - receptionist & net.Console"," IP650 - téléphone pour standardiste et net.Console"," IP650 - receptionist & net.Console","IP650 - Rezeptionist & Net. Konsole ","IP650 - Recepcionista y net.Console"]
[{"$f":"IF(#REF!=\"English\",Translations!B222,IF(#REF!=\"French\",Translations!C222,IF(#REF!=\"Italian\",Translations!D222,IF(#REF!=\"German\",Translations!E222,IF(#REF!=\"Spanish\",Translations!F222,Translations!B222)))))","v":{"$error":"#REF!"}},"Extension model","Module d'extension pour IP650","Modulo di estensione","Extensionsmodel","Modelo Extensión"]
[{"$f":"IF(#REF!=\"English\",Translations!B223,IF(#REF!=\"French\",Translations!C223,IF(#REF!=\"Italian\",Translations!D223,IF(#REF!=\"German\",Translations!E223,IF(#REF!=\"Spanish\",Translations!F223,Translations!B223)))))","v":{"$error":"#REF!"}},"VVX101","VVX101","VVX101","VVX101","VVX101"]
[{"$f":"IF(#REF!=\"English\",Translations!B224,IF(#REF!=\"French\",Translations!C224,IF(#REF!=\"Italian\",Translations!D224,IF(#REF!=\"German\",Translations!E224,IF(#REF!=\"Spanish\",Translations!F224,Translations!B224)))))","v":{"$error":"#REF!"}},"VVX201","VVX201","VVX201","VVX201","VVX201"]
[{"$f":"IF(#REF!=\"English\",Translations!B225,IF(#REF!=\"French\",Translations!C225,IF(#REF!=\"Italian\",Translations!D225,IF(#REF!=\"German\",Translations!E225,IF(#REF!=\"Spanish\",Translations!F225,Translations!B225)))))","v":{"$error":"#REF!"}},"VVX301  - office desk","VVX301 - téléphone de bureau","VVX301  - scrivania","VVX301 - Office Desk","VVX301  - Teléfono de sobremesa"]
[{"$f":"IF(#REF!=\"English\",Translations!B226,IF(#REF!=\"French\",Translations!C226,IF(#REF!=\"Italian\",Translations!D226,IF(#REF!=\"German\",Translations!E226,IF(#REF!=\"Spanish\",Translations!F226,Translations!B226)))))","v":{"$error":"#REF!"}},"VVX311 - office desk","VVX311 - téléphone de bureau","VVX311 - scrivania","VVX311 - Office Desk","VVX311 - Teléfono de sobremesa"]
[{"$f":"IF(#REF!=\"English\",Translations!B227,IF(#REF!=\"French\",Translations!C227,IF(#REF!=\"Italian\",Translations!D227,IF(#REF!=\"German\",Translations!E227,IF(#REF!=\"Spanish\",Translations!F227,Translations!B227)))))","v":{"$error":"#REF!"}},"VVX400 - user -small call centre","VVX400 - téléphone pour utilisateur - petit centre d'appels","VVX400 - utente - piccolo call centre","VVX400 - Anwender kleines Call Center","VVX400 - Usuario - Call centre pequeño"]
[{"$f":"IF(#REF!=\"English\",Translations!B228,IF(#REF!=\"French\",Translations!C228,IF(#REF!=\"Italian\",Translations!D228,IF(#REF!=\"German\",Translations!E228,IF(#REF!=\"Spanish\",Translations!F228,Translations!B228)))))","v":{"$error":"#REF!"}},"VVX401 - user -small call centre","VVX401 - téléphone pour utilisateur - petit centre d'appels","VVX401 - utente - piccolo call centre","VVX401 - Anwender kleines Call Center","VVX401 - Usuario - Call centre pequeño"]
[{"$f":"IF(#REF!=\"English\",Translations!B229,IF(#REF!=\"French\",Translations!C229,IF(#REF!=\"Italian\",Translations!D229,IF(#REF!=\"German\",Translations!E229,IF(#REF!=\"Spanish\",Translations!F229,Translations!B229)))))","v":{"$error":"#REF!"}},"VVX410 - user -small call centre","VVX410 - téléphone pour utilisateur - petit centre d'appels","VVX410 - utente - piccolo call centre","VVX410 - Anwender kleines Call Center","VVX410 - Usuario - Call centre pequeño"]
[{"$f":"IF(#REF!=\"English\",Translations!B230,IF(#REF!=\"French\",Translations!C230,IF(#REF!=\"Italian\",Translations!D230,IF(#REF!=\"German\",Translations!E230,IF(#REF!=\"Spanish\",Translations!F230,Translations!B230)))))","v":{"$error":"#REF!"}},"VVX411 - user -small call centre","VVX411 - téléphone pour utilisateur - petit centre d'appels","VVX411 - utente - piccolo call centre","VVX411 - Anwender kleines Call Center","VVX411 - Usuario - Call centre pequeño"]
[{"$f":"IF(#REF!=\"English\",Translations!B231,IF(#REF!=\"French\",Translations!C231,IF(#REF!=\"Italian\",Translations!D231,IF(#REF!=\"German\",Translations!E231,IF(#REF!=\"Spanish\",Translations!F231,Translations!B231)))))","v":{"$error":"#REF!"}},"VVX500  -manager -call centre","VVX500  - téléphone pour responsable - centre d'appel ","VVX500  - manager - call centre","VVX500 - Manager Call Center","VVX500 - Administrador - Call centre"]
[{"$f":"IF(#REF!=\"English\",Translations!B232,IF(#REF!=\"French\",Translations!C232,IF(#REF!=\"Italian\",Translations!D232,IF(#REF!=\"German\",Translations!E232,IF(#REF!=\"Spanish\",Translations!F232,Translations!B232)))))","v":{"$error":"#REF!"}},"VVX600 - manager","VVX600 - téléphone pour profil \"responsable\"","VVX600 - manager","VVX600 - Manager Call Center","VVX600 - Administrador"]
[{"$f":"IF(#REF!=\"English\",Translations!B233,IF(#REF!=\"French\",Translations!C233,IF(#REF!=\"Italian\",Translations!D233,IF(#REF!=\"German\",Translations!E233,IF(#REF!=\"Spanish\",Translations!F233,Translations!B233)))))","v":{"$error":"#REF!"}},"VVX1500  executive","VVX1500  téléphone pour profil \"exécutif\"","VVX1500 - executive","VVX1500 Exekutiv","VVX1500  Ejecutivo"]
[{"$f":"IF(#REF!=\"English\",Translations!B234,IF(#REF!=\"French\",Translations!C234,IF(#REF!=\"Italian\",Translations!D234,IF(#REF!=\"German\",Translations!E234,IF(#REF!=\"Spanish\",Translations!F234,Translations!B234)))))","v":{"$error":"#REF!"}},"VVX camera USB","VVX caméra USB","VVX videocamera USB","VVX Kamera USB","Cámara USB VVX"]
[{"$f":"IF(#REF!=\"English\",Translations!B235,IF(#REF!=\"French\",Translations!C235,IF(#REF!=\"Italian\",Translations!D235,IF(#REF!=\"German\",Translations!E235,IF(#REF!=\"Spanish\",Translations!F235,Translations!B235)))))","v":{"$error":"#REF!"}},"ext model VVX with paper display","Module d'extension VVX avec affichage noir et blanc","Modulo di estensione VVX con carta elettronica","Ext. Modell VVX mit Papier Bildschirm","Modelo de extensión VVX con pantalla de papel electrónico"]
[{"$f":"IF(#REF!=\"English\",Translations!B236,IF(#REF!=\"French\",Translations!C236,IF(#REF!=\"Italian\",Translations!D236,IF(#REF!=\"German\",Translations!E236,IF(#REF!=\"Spanish\",Translations!F236,Translations!B236)))))","v":{"$error":"#REF!"}},"ext model VVX  with coloured screen","Module d'extension VVX avec affichage couleur","Modulo di estensione VVX con schermo a colori","Ext Modell mit farbigem Bildschirm","modelo de extensión VVX con pantalla de color"]
[{"$f":"IF(#REF!=\"English\",Translations!B237,IF(#REF!=\"French\",Translations!C237,IF(#REF!=\"Italian\",Translations!D237,IF(#REF!=\"German\",Translations!E237,IF(#REF!=\"Spanish\",Translations!F237,Translations!B237)))))","v":{"$error":"#REF!"}},"Polycom IP conference bridge IP7000 PoE","Téléphone de conférence Polycom IP7000, PoE","Bridge per conferenze IP Polycom IP7000 PoE","Polycom IP Konferenz Telefon IP7000 PoE","Telefono  conferencia Polycom IP IP7000 PoE"]
[{"$f":"IF(#REF!=\"English\",Translations!B238,IF(#REF!=\"French\",Translations!C238,IF(#REF!=\"Italian\",Translations!D238,IF(#REF!=\"German\",Translations!E238,IF(#REF!=\"Spanish\",Translations!F238,Translations!B238)))))","v":{"$error":"#REF!"}},"Polycom IP conference bridge IP6000 PoE","Téléphone de conférence Polycom IP6000, PoE","Bridge per conferenze IP Polycom IP6000 PoE","Polycom IP Konferenz Telefon IP6000 PoE","Telefono de conferencia Polycom IP IP6000 PoE"]
[{"$f":"IF(#REF!=\"English\",Translations!B239,IF(#REF!=\"French\",Translations!C239,IF(#REF!=\"Italian\",Translations!D239,IF(#REF!=\"German\",Translations!E239,IF(#REF!=\"Spanish\",Translations!F239,Translations!B239)))))","v":{"$error":"#REF!"}},"Power supplies  (if no PoE)/per 5/phone type","Boîtier d'alimentation (si pas de PoE)/par 5/type de téléphone","Power supply (in assenza di PoE)/per 5/ tipo di telefono","Steckernetzteile (Falls kein PoE)/pro 5/ Telefontypen","Alimentadores (si no hay  PoE) en grupos de 5/tipo de teléfono"]
[{"$f":"IF(#REF!=\"English\",Translations!B240,IF(#REF!=\"French\",Translations!C240,IF(#REF!=\"Italian\",Translations!D240,IF(#REF!=\"German\",Translations!E240,IF(#REF!=\"Spanish\",Translations!F240,Translations!B240)))))","v":{"$error":"#REF!"}},"IP/Analogue Convertor","Convertisseur IP/analogique","Adattatore IP/Analogico","IP/ Analog Konverter","Conversor IP/Analógico"]
[{"$f":"IF(#REF!=\"English\",Translations!B241,IF(#REF!=\"French\",Translations!C241,IF(#REF!=\"Italian\",Translations!D241,IF(#REF!=\"German\",Translations!E241,IF(#REF!=\"Spanish\",Translations!F241,Translations!B241)))))","v":{"$error":"#REF!"}},"SPA 112","SPA 112","SPA 112","SPA 112","SPA 112"]
[{"$f":"IF(#REF!=\"English\",Translations!B242,IF(#REF!=\"French\",Translations!C242,IF(#REF!=\"Italian\",Translations!D242,IF(#REF!=\"German\",Translations!E242,IF(#REF!=\"Spanish\",Translations!F242,Translations!B242)))))","v":{"$error":"#REF!"}},"SPA 8000","SPA 8000","SPA 8000","SPA 8000","SPA 8000"]
[{"$f":"IF(#REF!=\"English\",Translations!B243,IF(#REF!=\"French\",Translations!C243,IF(#REF!=\"Italian\",Translations!D243,IF(#REF!=\"German\",Translations!E243,IF(#REF!=\"Spanish\",Translations!F243,Translations!B243)))))","v":{"$error":"#REF!"}},"IP Doorphone","Portier IP","Citofono IP","IP Sprechanlage","Intercomunicador IP"]
[{"$f":"IF(#REF!=\"English\",Translations!B244,IF(#REF!=\"French\",Translations!C244,IF(#REF!=\"Italian\",Translations!D244,IF(#REF!=\"German\",Translations!E244,IF(#REF!=\"Spanish\",Translations!F244,Translations!B244)))))","v":{"$error":"#REF!"}},"Doorphone 2N type 1","Portier 2N type 1","Citofono 2N tipo 1","Sprechanlage 2N Typ1","Intercomunicador 2N tipo 1"]
[{"$f":"IF(#REF!=\"English\",Translations!B245,IF(#REF!=\"French\",Translations!C245,IF(#REF!=\"Italian\",Translations!D245,IF(#REF!=\"German\",Translations!E245,IF(#REF!=\"Spanish\",Translations!F245,Translations!B245)))))","v":{"$error":"#REF!"}},"Doorphone 2N type 2","Portier 2N type 2","Citofono 2N tipo 2","Sprechanlage 2N Typ2","Intercomunicador 2N tipo 2"]
[{"$f":"IF(#REF!=\"English\",Translations!B246,IF(#REF!=\"French\",Translations!C246,IF(#REF!=\"Italian\",Translations!D246,IF(#REF!=\"German\",Translations!E246,IF(#REF!=\"Spanish\",Translations!F246,Translations!B246)))))","v":{"$error":"#REF!"}},"Doorphone 2N type 3","Portier 2N type 3","Citofono 2N tipo 3","Sprechanlage 2N Typ3","Intercomunicador 2N tipo 3"]
[{"$f":"IF(#REF!=\"English\",Translations!B247,IF(#REF!=\"French\",Translations!C247,IF(#REF!=\"Italian\",Translations!D247,IF(#REF!=\"German\",Translations!E247,IF(#REF!=\"Spanish\",Translations!F247,Translations!B247)))))","v":{"$error":"#REF!"}},"Polycom Phone Wired headsets & accessories ","Écouteurs et accessoires filaires pour téléphones Polycom ","Cuffie cablate per telefono Polycom e accessori ","Polycom Phone Headset mit Kabel & Accessoires","Auriculares cableados y accesorios Polycom Phone"]
[{"$f":"IF(#REF!=\"English\",Translations!B248,IF(#REF!=\"French\",Translations!C248,IF(#REF!=\"Italian\",Translations!D248,IF(#REF!=\"German\",Translations!E248,IF(#REF!=\"Spanish\",Translations!F248,Translations!B248)))))","v":{"$error":"#REF!"}},"HW251N N/A","HW251N N/A","HW251N N/A","HW251N N/A","HW251N N/A"]
[{"$f":"IF(#REF!=\"English\",Translations!B249,IF(#REF!=\"French\",Translations!C249,IF(#REF!=\"Italian\",Translations!D249,IF(#REF!=\"German\",Translations!E249,IF(#REF!=\"Spanish\",Translations!F249,Translations!B249)))))","v":{"$error":"#REF!"}},"HW261N/A HEADSET","ÉCOUTEURS HW261N/A","CUFFIE HW261N/A","HW261N/A HEADSET","AURICULAR HW261N/A"]
[{"$f":"IF(#REF!=\"English\",Translations!B250,IF(#REF!=\"French\",Translations!C250,IF(#REF!=\"Italian\",Translations!D250,IF(#REF!=\"German\",Translations!E250,IF(#REF!=\"Spanish\",Translations!F250,Translations!B250)))))","v":{"$error":"#REF!"}},"U10P POLARIS BOTTOM CABLE","CÂBLE POLARIS U10P","CAVO INFERIORE U10P POLARIS","U10P POLARIS BODENKABEL","CABLE INFERIOR U10P POLARIS"]
[{"$f":"IF(#REF!=\"English\",Translations!B251,IF(#REF!=\"French\",Translations!C251,IF(#REF!=\"Italian\",Translations!D251,IF(#REF!=\"German\",Translations!E251,IF(#REF!=\"Spanish\",Translations!F251,Translations!B251)))))","v":{"$error":"#REF!"}},"SPARE,CABLE ASSY,COIL CORD 10FT,2.5mm TO QD - IP331","PIÈCE DÉTACHÉE, CÂBLE, CORDON SPIRALE10 Pieds, 2,5mm À QD - IP331","CAVO DI RICAMBIO,ASSEMBLAGGIO CABO,CAVO SPIRALATO 10FT,2,5mm TO QD - IP331","SPARE, KABEL ASSY, COIL CORD 10FT, 2.5mm TO QD _ IP331","RECAMBIO, CABLE ASSY, CABLE ESPIRALADO 3m (10 pies), 2,5mm PARA QD - IP331"]
[{"$f":"IF(#REF!=\"English\",Translations!B252,IF(#REF!=\"French\",Translations!C252,IF(#REF!=\"Italian\",Translations!D252,IF(#REF!=\"German\",Translations!E252,IF(#REF!=\"Spanish\",Translations!F252,Translations!B252)))))","v":{"$error":"#REF!"}},"Polycom Phone Wireless DECT headsets & accessories  ","Écouteurs et accessoires DECT sans fil pour téléphones Polycom  ","Cuffie senza fili Polycom  DECT e accessori","Polycom Phone Kabelloses DECT Headset & Zubehör","Auriculares DECT inalámbricos y accesorios Polycom Phone"]
[{"$f":"IF(#REF!=\"English\",Translations!B253,IF(#REF!=\"French\",Translations!C253,IF(#REF!=\"Italian\",Translations!D253,IF(#REF!=\"German\",Translations!E253,IF(#REF!=\"Spanish\",Translations!F253,Translations!B253)))))","v":{"$error":"#REF!"}},"Polycom Headset DECT (monaural)  ","Écouteurs DECT Polycom (monaural)  ","Cuffie Polycom DECT (monofoniche)  ","Polycom Headset DECT (monaural)  ","Auricular DECT Polycom (mono)"]
[{"$f":"IF(#REF!=\"English\",Translations!B254,IF(#REF!=\"French\",Translations!C254,IF(#REF!=\"Italian\",Translations!D254,IF(#REF!=\"German\",Translations!E254,IF(#REF!=\"Spanish\",Translations!F254,Translations!B254)))))","v":{"$error":"#REF!"}},"Polycom Headset DECT (binaural)","Écouteurs DECT Polycom (binaural)","Cuffie Polycom DECT (bifoniche)","Polycom Headset DECT (binaural)","Auricular DECT Polycom (estéreo)"]
[{"$f":"IF(#REF!=\"English\",Translations!B255,IF(#REF!=\"French\",Translations!C255,IF(#REF!=\"Italian\",Translations!D255,IF(#REF!=\"German\",Translations!E255,IF(#REF!=\"Spanish\",Translations!F255,Translations!B255)))))","v":{"$error":"#REF!"}},"Plantronics Cable APP-50 or APP-51 ","Câble Plantronics APP-50 ou APP-51","Cavo Plantronics APP-50 o APP-51 ","Plantronics Kabel APP-50 Oder APP-51 ","Cable Plantronics APP-50 o APP-51"]
[{"$f":"IF(#REF!=\"English\",Translations!B256,IF(#REF!=\"French\",Translations!C256,IF(#REF!=\"Italian\",Translations!D256,IF(#REF!=\"German\",Translations!E256,IF(#REF!=\"Spanish\",Translations!F256,Translations!B256)))))","v":{"$error":"#REF!"}},"PC WebRTC Client -  Wired USB headset","Client WebRTC PC - écouteurs USB filaires","Componente WebRTC per PC -  Cuffie cablate USB","PC WebRTC Kunde _ USB Headset mit Kabel","Cliente PC WebRTC -  Auriculares cableados USB"]
[{"$f":"IF(#REF!=\"English\",Translations!B257,IF(#REF!=\"French\",Translations!C257,IF(#REF!=\"Italian\",Translations!D257,IF(#REF!=\"German\",Translations!E257,IF(#REF!=\"Spanish\",Translations!F257,Translations!B257)))))","v":{"$error":"#REF!"}},"Headset USB (binaural)","Écouteurs USB (binaural)","Cuffie USB (monofoniche)  ","USB Headset (binaural)","Auricular USB (estéreo)"]
[{"$f":"IF(#REF!=\"English\",Translations!B258,IF(#REF!=\"French\",Translations!C258,IF(#REF!=\"Italian\",Translations!D258,IF(#REF!=\"German\",Translations!E258,IF(#REF!=\"Spanish\",Translations!F258,Translations!B258)))))","v":{"$error":"#REF!"}},"Headset USB - wireless","Écouteurs USB - sans fil","Cuffie USB - senza fili","USB Headset kabellos","Auricular USB - inalámbrico"]
[{"$f":"IF(#REF!=\"English\",Translations!B259,IF(#REF!=\"French\",Translations!C259,IF(#REF!=\"Italian\",Translations!D259,IF(#REF!=\"German\",Translations!E259,IF(#REF!=\"Spanish\",Translations!F259,Translations!B259)))))","v":{"$error":"#REF!"}},"Aastra IP DECT equipment*","Équipements DECT IP Aastra","Apparecchiature Aastra IP DECT*","Aastra IP DECT Komponenten","Equipamiento IP DECT de Aastra"]
[{"$f":"IF(#REF!=\"English\",Translations!B260,IF(#REF!=\"French\",Translations!C260,IF(#REF!=\"Italian\",Translations!D260,IF(#REF!=\"German\",Translations!E260,IF(#REF!=\"Spanish\",Translations!F260,Translations!B260)))))","v":{"$error":"#REF!"}},"AASTRA Base station + Antenna RFP DECT L35","Base AASTRA + Antenne RFP DECT L35","Stazione base AASTRA + antenna RFP DECT L35","AASTRA Base Station + RFP DECT L35 Antenne","AASTRA - Estación base + Antena RFP DECT L35"]
[{"$f":"IF(#REF!=\"English\",Translations!B261,IF(#REF!=\"French\",Translations!C261,IF(#REF!=\"Italian\",Translations!D261,IF(#REF!=\"German\",Translations!E261,IF(#REF!=\"Spanish\",Translations!F261,Translations!B261)))))","v":{"$error":"#REF!"}},"AASTRA - Installation CD for RFP L35IP - OMM4","AASTRA - CD d'installation pour RFP L35IP - OMM4","AASTRA - CD di installazione per RFP L35IP - OMM4","AASTRA - Installations CD für RFP L35IP - OMM4","AASTRA - CD de instalación para RFP L35IP - OMM4"]
[{"$f":"IF(#REF!=\"English\",Translations!B262,IF(#REF!=\"French\",Translations!C262,IF(#REF!=\"Italian\",Translations!D262,IF(#REF!=\"German\",Translations!E262,IF(#REF!=\"Spanish\",Translations!F262,Translations!B262)))))","v":{"$error":"#REF!"}},"AASTRA 612D Handset","Combiné AASTRA 612D","Ricevitore AASTRA 612D","AASTRA 612D Handset","Terminal AASTRA 612D"]
[{"$f":"IF(#REF!=\"English\",Translations!B263,IF(#REF!=\"French\",Translations!C263,IF(#REF!=\"Italian\",Translations!D263,IF(#REF!=\"German\",Translations!E263,IF(#REF!=\"Spanish\",Translations!F263,Translations!B263)))))","v":{"$error":"#REF!"}},"AASTRA 622D Handset","Combiné AASTRA 622D","Ricevitore AASTRA 622D","AASTRA 622D Handset","Terminal AASTRA 622D"]
[{"$f":"IF(#REF!=\"English\",Translations!B264,IF(#REF!=\"French\",Translations!C264,IF(#REF!=\"Italian\",Translations!D264,IF(#REF!=\"German\",Translations!E264,IF(#REF!=\"Spanish\",Translations!F264,Translations!B264)))))","v":{"$error":"#REF!"}},"SNOM M9r IP DECT Handset+BS","Combiné DECT IP SNOM M9r +Base","Ricevitore SNOM M9r IP DECT + stazione base","SNOM M9r IP DECT Handset+BS","Terminal+BS IP DECT SNOM M9r"]
[{"$f":"IF(#REF!=\"English\",Translations!B265,IF(#REF!=\"French\",Translations!C265,IF(#REF!=\"Italian\",Translations!D265,IF(#REF!=\"German\",Translations!E265,IF(#REF!=\"Spanish\",Translations!F265,Translations!B265)))))","v":{"$error":"#REF!"}},"Extra SNOM M9r IP DECT Handset","Combiné DECT IP SNOM M9r supplémentaire","Ricevitore extra SNOM M9r IP DECT","Extra SNOM M9r IP DECT Handset","Terminal IP DECT Extra SNOM M9r"]
[{"$f":"IF(#REF!=\"English\",Translations!B266,IF(#REF!=\"French\",Translations!C266,IF(#REF!=\"Italian\",Translations!D266,IF(#REF!=\"German\",Translations!E266,IF(#REF!=\"Spanish\",Translations!F266,Translations!B266)))))","v":{"$error":"#REF!"}},"POE, 2 lines, 102 x 33 pixel graphical LCD, 2 ports 10/100M, 15 dedicated hard keys, 3 context-sensitive soft keys","Prise en charge intégrée de l'alimentation par Ethernet (PoE), 2 lignes, écran graphique LCD 102 x 33 pixels, 2 ports 10/100M, 15 touches dédiées, 3 touches programmables contextuelles","POE, 2 linee, display LCD grafico da 102 x 33 pixel, 2 porte 10/100M, 15 tasti fisici dedicati, 3 tasti funzione contestuali","POE, 2 Leitungen, 102 x 33 Grafikpixel LCD, 2 Ports 10/100M, 15 fest zugeordnete Hardkeys, 3 kontextabhängige Softkeys","POE, 2 líneas, LCD gráfica 102 x 33 píxeles, 2 puertos 10/100M, 15 teclas de función fijas, 3 teclas programables contextuales"]
[{"$f":"IF(#REF!=\"English\",Translations!B267,IF(#REF!=\"French\",Translations!C267,IF(#REF!=\"Italian\",Translations!D267,IF(#REF!=\"German\",Translations!E267,IF(#REF!=\"Spanish\",Translations!F267,Translations!B267)))))","v":{"$error":"#REF!"}},"Poe, 6 lines (standalone) / 20 lines (with one Expansion Module), Support of up to 3 Expansion Modules, 2 port 10M/100M, 320 x 160 pixel backlit grayscale graphical LCD, 26 dedicated hard keys, 4 context-sensitive soft keys","Prise en charge intégrée de l'alimentation par Ethernet (PoE), 6 lignes (autonomes) / 20 lignes (avec module d'extension), prise en charge de modules d'extension (3 au maximum), 2 ports 10M/100M, écran graphique LCD échelle de gris rétroéclairé 320 x 160 pixels, 26 touches dédiées, 4 touches programmables contextuelles","POE, 6 linee (indipendenti) / 20 linee (con modulo di espansione),  fino a 3 moduli di espansione supportati, 2 porte 10M/100M, display grafico LCD retroilluminato in scala di grigi da 320 x 160 pixel, 26 tasti fisici dedicati, 4 tasti funzione contestuali","PoE, 6  Leitungen (Standalone) / 20  Leitungen (Mit einem Expansionsmodul), Unterstützung von bis zu 3 Expansionsmodulen, 2 10M/100M Ports, 320 x 160 Pixel Graustufen Grafik LCD mit Unterlicht, 26 fest zugeordnete Hardkeys, 4 kontextabhängige Softkeys.","POE, 6 líneas (independiente) / 20 líneas (con un módulo de expansión), soporte de hasta 3 módulos de expansión, 2 puertos 10M/100M, LCD gráfica escala de grises 320 x 160 píxeles con retroiluminación, 26 teclas de función fijas, 4 teclas programables contextuales"]
[{"$f":"IF(#REF!=\"English\",Translations!B268,IF(#REF!=\"French\",Translations!C268,IF(#REF!=\"Italian\",Translations!D268,IF(#REF!=\"German\",Translations!E268,IF(#REF!=\"Spanish\",Translations!F268,Translations!B268)))))","v":{"$error":"#REF!"}},"ext for IP650:  14 Illuminated keys configurable as a line key, or a speed dial with BLF,160 x 320 pixel greyscale graphical LCD with backlight ","Ext. pour IP650 :  14 touches éclairées configurables comme touche de ligne ou numérotation abrégée avec indicateur lumineux de statut de ligne (BLF), écran graphique LCD échelle de gris 160 X 320 pixels avec rétroéclairage ","Estensione per IP650:  14 tasti illuminati e configurabili come tasti di linea o come tasti a selezione rapida BLF, display grafico LCD retroilluminato in scala di grigi da 60 x 320 pixel","Ext. für IP650: 14 leuchtende Tasten, als  Leitungstaste konfigurierbar, oder Schnellwahl mit BLF, 160 x 320 Pixel, Graustufen Graphik LCD mit Hintergrundbeleuchtung.","Extensíón para IP650:  14 teclas iluminadas configurables como teclas de línea, o marcación rápida con BLF, LCD gráfica escala de grises 320 x 160 píxeles con retroiluminación"]
[{"$f":"IF(#REF!=\"English\",Translations!B269,IF(#REF!=\"French\",Translations!C269,IF(#REF!=\"Italian\",Translations!D269,IF(#REF!=\"German\",Translations!E269,IF(#REF!=\"Spanish\",Translations!F269,Translations!B269)))))","v":{"$error":"#REF!"}},"POE, 2 lines, 132 x 64 pixel graphical LCD, 1 port 10/100M, 4 context-sensitive soft keys","Prise en charge intégrée de l'alimentation par Ethernet (PoE), 2 lignes, écran graphique LCD 132 x 64 pixels, 1 port 10/100M,  4 touches programmables contextuelles","POE, 2 linee, display LCD grafico da 132 x 64 pixel, 1 porte 10/100M,  4 tasti funzione contestuali","POE, 2 Leitungen, 132 x 64 Grafikpixel LCD, 1 Port 10/100M, 4 kontextabhängige Softkeys","POE, 2 líneas, LCD gráfica 132 x 64 píxeles, 1 puertos 10/100M,  4 teclas programables contextuales"]
[{"$f":"IF(#REF!=\"English\",Translations!B270,IF(#REF!=\"French\",Translations!C270,IF(#REF!=\"Italian\",Translations!D270,IF(#REF!=\"German\",Translations!E270,IF(#REF!=\"Spanish\",Translations!F270,Translations!B270)))))","v":{"$error":"#REF!"}},"POE, 2 lines, 132 x 64 pixel graphical LCD, 2 ports 10/100M, 4 context-sensitive soft keys","Prise en charge intégrée de l'alimentation par Ethernet (PoE), 2 lignes, écran graphique LCD 132 x 64 pixels, 2 ports 10/100M,  4 touches programmables contextuelles","POE, 2 linee, display LCD grafico da 132 x 64 pixel, 2 porte 10/100M,  4 tasti funzione contestuali","POE, 2 Leitungen, 132 x 64 Grafikpixel LCD, 2 Ports 10/100M, 4 kontextabhängige Softkeys","POE, 2 líneas, LCD gráfica 132 x 64 píxeles, 2 puertos 10/100M,  4 teclas programables contextuales"]
[{"$f":"IF(#REF!=\"English\",Translations!B271,IF(#REF!=\"French\",Translations!C271,IF(#REF!=\"Italian\",Translations!D271,IF(#REF!=\"German\",Translations!E271,IF(#REF!=\"Spanish\",Translations!F271,Translations!B271)))))","v":{"$error":"#REF!"}},"6 lines or speed dials,  208 x 104 pixel backlight graphical LCD screen  ,  2 port 10/100M,  supports VVX Expansion Module","6 lignes ou numération abrégée, écran graphique LCD 208 X 104 pixels avec rétroéclairage, 2 ports 10/100M, prise en charge du module d'extension VVX","6 linee o tasti a selezione rapida, display grafico LCD retroilluminato da 208 x 104 pixel,  2 porte 10/100M,  supporto per modulo di espansione VVX","6  Leitungen oder Schnellwahl, 208 x 104 Pixel, Hintergrundbeleuchtung Grafik LCD Bildschirm, 2 10/100M Ports, unterstützt VVX Expansions Module","6 teclas de línea o marcación rápida, pantalla LCD gráfica retroiluminada 208 x 104 px, 2 puertos 10/100M, soporta módulos de expansión VVX"]
[{"$f":"IF(#REF!=\"English\",Translations!B272,IF(#REF!=\"French\",Translations!C272,IF(#REF!=\"Italian\",Translations!D272,IF(#REF!=\"German\",Translations!E272,IF(#REF!=\"Spanish\",Translations!F272,Translations!B272)))))","v":{"$error":"#REF!"}},"6 lines or speed dials,  208 x 104 pixel backlight graphical LCD screen  ,  2 port 10/100M,  supports VVX Expansion Module","6 lignes ou numération abrégée, écran graphique LCD 208 X 104 pixels avec rétroéclairage, 2 ports 10/100M, prise en charge du module d'extension VVX","6 linee o tasti a selezione rapida, display grafico LCD retroilluminato da 208 x 104 pixel,  2 porte 10/100M,  supporto per modulo di espansione VVX","6  Leitungen oder Schnellwahl, 208 x 104 Pixel, Hintergrundbeleuchtung Grafik LCD Bildschirm, 2 10/100M Ports, unterstützt VVX Expansions Module","6 teclas de línea o marcación rápida, pantalla LCD gráfica retroiluminada 208 x 104 px, 2 puertos 10/100M, soporta módulos de expansión VVX"]
[{"$f":"IF(#REF!=\"English\",Translations!B273,IF(#REF!=\"French\",Translations!C273,IF(#REF!=\"Italian\",Translations!D273,IF(#REF!=\"German\",Translations!E273,IF(#REF!=\"Spanish\",Translations!F273,Translations!B273)))))","v":{"$error":"#REF!"}},"idem as VVX301 but 2 x ports 1G","Mêmes caractéristiques que le VVX301 mais 2 x ports 1G","Come per VVX301 ma con 2 x porte 1G","Identisch mit VVX301 aber 2 x 1G Ports","Igual que VVX301 pero con 2 puertos 1G"]
[{"$f":"IF(#REF!=\"English\",Translations!B274,IF(#REF!=\"French\",Translations!C274,IF(#REF!=\"Italian\",Translations!D274,IF(#REF!=\"German\",Translations!E274,IF(#REF!=\"Spanish\",Translations!F274,Translations!B274)))))","v":{"$error":"#REF!"}},"12 lines or speed dial keys, 2 port 10M/100M, HD Voice up to 7KHz, supports VVX Expansion Module ( up to 3), 320 x 240 pixel colour screen,","12 lignes ou touches de numérotation abrégée, 2 ports 10M/100M, HD Voice jusqu'à 7KHz, prise en charge du module d'extension VVX (maximum 3), écran couleur 320 x 240 pixels","12 linee o tasti a selezione rapida, 2 porte 10M/100M, tecnologia HD Voice fino a 7KHZ, supporto per moduli di espansione VVX (fino a 3), schermo a colori da 320 x 240 pixel","12  Leitungen oder Schnellwahltasten, 2 Ports  10M / 100M, HD Voice bis zu 7KHz, unterstützt VVX Expansions Modul (bis zu 3), 320 x 240 Pixel farbiger Bildschirm","12 teclas de línea o marcación rápida, 2 puertos 10M/100M, voz HD hasta 7 KHz, soporta módulos de expansión VVX (hasta 3), pantalla de color 320 x 240 px"]
[{"$f":"IF(#REF!=\"English\",Translations!B275,IF(#REF!=\"French\",Translations!C275,IF(#REF!=\"Italian\",Translations!D275,IF(#REF!=\"German\",Translations!E275,IF(#REF!=\"Spanish\",Translations!F275,Translations!B275)))))","v":{"$error":"#REF!"}},"idem as VVX401 but 2 x ports 1G","Mêmes caractéristiques que le VVX401 mais 2 x ports 1G","Come per VVX401 ma con 2 x porte 1G","Identisch mit VVX401 aber 2 x 1G Ports","Igual que VVX401 pero con 2 x puertos 1G"]
[{"$f":"IF(#REF!=\"English\",Translations!B276,IF(#REF!=\"French\",Translations!C276,IF(#REF!=\"Italian\",Translations!D276,IF(#REF!=\"German\",Translations!E276,IF(#REF!=\"Spanish\",Translations!F276,Translations!B276)))))","v":{"$error":"#REF!"}},"2 ports 1G, , full Browser, coloured screen, integration possible with camera via USB 12 lines appearances or speed dials,2 ports 1G,  immersive capacitive, gesture-based touch UI,  USB camera possible, Voice to14KHZ, 2 USB ports, expansion module support ","2 ports 1G, navigateur complet, écran couleur, intégration possible avec caméra USB, 12 indicateurs de lignes ou numérotation abrégée, 2 ports 1G, interface utilisateur tactile capacitive immersive, IU tactile basée sur le geste,  Voice jusqu'à 14 KHz, 2 ports USB, prise en charge d'un module d'extension ","2 porte 1G, navigatore completo, schermo a colori, integrazione possibile con videocamera via collegamento USB, visualizzazione di 12 linee o tasti a selezione rapida, 2 porte 1G, interfaccia utente con schermo tattile capacitivo e riconoscimento \ngestuale, videocamera USB opzionale, tecnologia HD Voice fino a 14 KHZ, 2 porte USB, supporto per moduli di espansione","2 1G Ports, ganzer Browser, farbiger Bildschirm, einbindung bei Kamera über 12 Linien Anzeigen oder Schnellwahl, 2 1G Ports, Immersive fähig","2 puertos 1G, navegador completo, pantalla de color, integración posible con cámara mediante 12 líneas USB o marcación rápida, 2 puertos 1G, capacitivo envolvente, interfaz usuario táctil basada en gestos, posibilidad cámara USB, voz hasta 14 kHz, 2 puertos USB, soporta módulo de expansión"]
[{"$f":"IF(#REF!=\"English\",Translations!B277,IF(#REF!=\"French\",Translations!C277,IF(#REF!=\"Italian\",Translations!D277,IF(#REF!=\"German\",Translations!E277,IF(#REF!=\"Spanish\",Translations!F277,Translations!B277)))))","v":{"$error":"#REF!"}},"16 line appearances/speed dials, 2 ports 1G, 4.3in colour LCD (480x272) pixel resolution,  full browser ","16 touches indicateur de ligne/numérotation abrégée, 2 ports 1G, écran LCD couleur 4.3'' (résolution 480 x 272 pixels), navigateur complet ","Visualizzazione di 16 linee o tasti a selezione rapida, 2 porte 1G, display LCD a colori da 4.3 pollici (risoluzione da 480x272 pixel), browser completo","16  Leitungen/ Schnellwahl, 2 1G Ports, 4.3 farbige LCD (480x272) Pixel Auflösung, ganzer Browser","16 líneas/marcación rápida, 2 puertos 1G, pantalla LCD color 4:3 (480 x 272 píxeles), navegador completo"]
[{"$f":"IF(#REF!=\"English\",Translations!B278,IF(#REF!=\"French\",Translations!C278,IF(#REF!=\"Italian\",Translations!D278,IF(#REF!=\"German\",Translations!E278,IF(#REF!=\"Spanish\",Translations!F278,Translations!B278)))))","v":{"$error":"#REF!"}},"6 lines/ speed dials,   2 port 1G, touch screen interface, Voice up to 20kHz,1 USB port ","6 lignes/numérotation abrégée, 2 ports 1G, interface écran tactile, Voice jusqu'à 20 Khz, 1 port USB ","Visualizzazione di 16 linee o tasti a selezione rapida, 2 porte 1G, schermo tattile, tecnologia HD Voice fino a 20 KHZ,1 porta USB ","6  Leitungen/ Schnellwahl, 2 1G Ports, Touch Screen Ansicht, Voice bis zu 20kHz, 1 USB Port","6 líneas/marcación rápida, 2 puertos 1G, interfaz de pantalla táctil, voz hasta 20 kHz, 1 puerto USB"]
[{"$f":"IF(#REF!=\"English\",Translations!B279,IF(#REF!=\"French\",Translations!C279,IF(#REF!=\"Italian\",Translations!D279,IF(#REF!=\"German\",Translations!E279,IF(#REF!=\"Spanish\",Translations!F279,Translations!B279)))))","v":{"$error":"#REF!"}},"for VVX500/VVX600","pour VVX500/VVX600","per VVX500/VVX600","für VVX500/VVX600","para VVX500/VVX600"]
[{"$f":"IF(#REF!=\"English\",Translations!B280,IF(#REF!=\"French\",Translations!C280,IF(#REF!=\"Italian\",Translations!D280,IF(#REF!=\"German\",Translations!E280,IF(#REF!=\"Spanish\",Translations!F280,Translations!B280)))))","v":{"$error":"#REF!"}},"Expansion Module VVX with black and white display","Module d'extension VVX avec affichage noir et blanc","Modulo di estensione VVX con schermo in bianco e nero","Modul Erweiterung VVX mit Anzeige Schwarzweiß","Módulo de extensión VVX con pantalla blanco y negro"]
[{"$f":"IF(#REF!=\"English\",Translations!B281,IF(#REF!=\"French\",Translations!C281,IF(#REF!=\"Italian\",Translations!D281,IF(#REF!=\"German\",Translations!E281,IF(#REF!=\"Spanish\",Translations!F281,Translations!B281)))))","v":{"$error":"#REF!"}},"Expansion Module VVX with color display","Module d'extension VVX avec affichage couleur","VVX estensione dello schermo modulo colore","Modul Erweiterung vvx mit Anzeige Farbe","Módulo de extensión VVX con pantalla color"]
[{"$f":"IF(#REF!=\"English\",Translations!B282,IF(#REF!=\"French\",Translations!C282,IF(#REF!=\"Italian\",Translations!D282,IF(#REF!=\"German\",Translations!E282,IF(#REF!=\"Spanish\",Translations!F282,Translations!B282)))))","v":{"$error":"#REF!"}},"Higher Voice Quality","Pieuvre de conférence - Meilleure qualité de voix","Qualità audio potenziata","Bessere Voice Qualität","Mayor calidad de voz"]
[{"$f":"IFERROR(IF(#REF!=\"English\",Translations!B283,IF(#REF!=\"French\",Translations!C283,IF(#REF!=\"Italian\",Translations!D283,IF(#REF!=\"German\",Translations!E283,IF(#REF!=\"Spanish\",Translations!F283,Translations!B283))))),\"\")","v":""},"Conference Phone","Pieuvre de conférence","Telefono per audioconferenza","Konferenztelefon","teléfono de conferencia"]
[{"$f":"IF(#REF!=\"English\",Translations!B284,IF(#REF!=\"French\",Translations!C284,IF(#REF!=\"Italian\",Translations!D284,IF(#REF!=\"German\",Translations!E284,IF(#REF!=\"Spanish\",Translations!F284,Translations!B284)))))","v":{"$error":"#REF!"}},"same price for all different type of power cubes! However mention on the order for which type of phone the power cube is required. Sold in 5pieces /type","Même prix pour tous les différents types de boîtier d'alimentation ! Cependant, indiquer sur la commande le type de téléphone pour lequel le boîtier d'alimentation est requis. Vendu par 5 unités/type","Tutti i tipi di power cube allo stesso prezzo! Si prega di specificare al momento dell'ordine il tipo di telefono per il quale si richiede il power cube. Pacchetto da 5 unità/tipo","Gleicher Preis für alle Stromanschlüsse! Bei der Bestellung sollte angegeben werden für welchen Telefontyp der Stromanschluss verwendet wird. Verkauf in 5 Stk/ Typen","¡Mismo precio para todos los tipos de alimentadores! Mencione en el pedido el modelo de teléfono correspondiente para el alimentador. Se venden en lotes de 5 unidades/tipo."]
[{"$f":"IF(#REF!=\"English\",Translations!B285,IF(#REF!=\"French\",Translations!C285,IF(#REF!=\"Italian\",Translations!D285,IF(#REF!=\"German\",Translations!E285,IF(#REF!=\"Spanish\",Translations!F285,Translations!B285)))))","v":{"$error":"#REF!"}},"Same price for all different type of power cubes! Sold in 5pieces /type. Set amount to zero is PoE is available.","Même prix pour tous les différents types de boîtier d'alimentation ! Vendu par 5 unités/type. Mettez le nombre à zéro si PoE est disponible.","Tutti i tipi di power cube allo stesso prezzo! Pacchetto da 5 unità/tipo. Impostare la quantità a zero, se PoE è disponibile.","Gleicher Preis für alle Stromanschlüsse! Verkauf in 5 Stk/ Typen. Setzen sie die Anzahl auf Null, wenn PoE verfügbar ist.","¡Mismo precio para todos los tipos de alimentadores! Se venden en lotes de 5 unidades/tipo. Establecer la cantidad a cero, si PoE está disponible."]
[{"$f":"IF(#REF!=\"English\",Translations!B286,IF(#REF!=\"French\",Translations!C286,IF(#REF!=\"Italian\",Translations!D286,IF(#REF!=\"German\",Translations!E286,IF(#REF!=\"Spanish\",Translations!F286,Translations!B286)))))","v":{"$error":"#REF!"}}," -> IP331 (24V)"," -> IP331 (24V)"," -> IP331 (24V)"," -> IP331 (24V)"," -> IP331 (24V)"]
[{"$f":"IF(#REF!=\"English\",Translations!B287,IF(#REF!=\"French\",Translations!C287,IF(#REF!=\"Italian\",Translations!D287,IF(#REF!=\"German\",Translations!E287,IF(#REF!=\"Spanish\",Translations!F287,Translations!B287)))))","v":{"$error":"#REF!"}}," -> IP650 (24V)"," -> IP650 (24V)"," -> IP650 (24V)"," -> IP650 (24V)"," -> IP650 (24V)"]
[{"$f":"IF(#REF!=\"English\",Translations!B288,IF(#REF!=\"French\",Translations!C288,IF(#REF!=\"Italian\",Translations!D288,IF(#REF!=\"German\",Translations!E288,IF(#REF!=\"Spanish\",Translations!F288,Translations!B288)))))","v":{"$error":"#REF!"}}," -> VVX201, VVX301, VVX311, VVX401, VVX411 (48V)"," -> VVX201, VVX301, VVX311, VVX401, VVX411 (48V)"," -> VVX201, VVX301, VVX311, VVX401, VVX411 (48V)"," -> VVX201, VVX301, VVX311, VVX401, VVX411 (48V)"," -> VVX201, VVX301, VVX311, VVX401, VVX411 (48V)"]
[{"$f":"IF(#REF!=\"English\",Translations!B289,IF(#REF!=\"French\",Translations!C289,IF(#REF!=\"Italian\",Translations!D289,IF(#REF!=\"German\",Translations!E289,IF(#REF!=\"Spanish\",Translations!F289,Translations!B289)))))","v":{"$error":"#REF!"}}," -> VVX600, VVX500, VVX1500 (48V)"," -> VVX600, VVX500, VVX1500 (48V)"," -> VVX600, VVX500, VVX1500 (48V)"," -> VVX600, VVX500, VVX1500 (48V)"," -> VVX600, VVX500, VVX1500 (48V)"]
[{"$f":"IF(#REF!=\"English\",Translations!B290,IF(#REF!=\"French\",Translations!C290,IF(#REF!=\"Italian\",Translations!D290,IF(#REF!=\"German\",Translations!E290,IF(#REF!=\"Spanish\",Translations!F290,Translations!B290)))))","v":{"$error":"#REF!"}}," -> IP6000 (48V)"," -> IP6000 (48V)"," -> IP6000 (48V)"," -> IP6000 (48V)"," -> IP6000 (48V)"]
[{"$f":"IF(#REF!=\"English\",Translations!B291,IF(#REF!=\"French\",Translations!C291,IF(#REF!=\"Italian\",Translations!D291,IF(#REF!=\"German\",Translations!E291,IF(#REF!=\"Spanish\",Translations!F291,Translations!B291)))))","v":{"$error":"#REF!"}}," -> IP7000 (48V)"," -> IP7000 (48V)"," -> IP7000 (48V)"," -> IP7000 (48V)"," -> IP7000 (48V)"]
[{"$f":"IF(#REF!=\"English\",Translations!B292,IF(#REF!=\"French\",Translations!C292,IF(#REF!=\"Italian\",Translations!D292,IF(#REF!=\"German\",Translations!E292,IF(#REF!=\"Spanish\",Translations!F292,Translations!B292)))))","v":{"$error":"#REF!"}},"Options","Options","Opzioni","Optionen","Opciones"]
[{"$f":"IF(#REF!=\"English\",Translations!B293,IF(#REF!=\"French\",Translations!C293,IF(#REF!=\"Italian\",Translations!D293,IF(#REF!=\"German\",Translations!E293,IF(#REF!=\"Spanish\",Translations!F293,Translations!B293)))))","v":{"$error":"#REF!"}},"available","disponible","disponibile","verfügbar","disponible "]
[{"$f":"IF(#REF!=\"English\",Translations!B294,IF(#REF!=\"French\",Translations!C294,IF(#REF!=\"Italian\",Translations!D294,IF(#REF!=\"German\",Translations!E294,IF(#REF!=\"Spanish\",Translations!F294,Translations!B294)))))","v":{"$error":"#REF!"}},"Installation at site Required","Installation sur le site requis","L'installazione presso il sito richiesto","Die Installation vor Ort Erforderlich","Instalación en el sitio Requerido"]
[{"$f":"IF(#REF!=\"English\",Translations!B295,IF(#REF!=\"French\",Translations!C295,IF(#REF!=\"Italian\",Translations!D295,IF(#REF!=\"German\",Translations!E295,IF(#REF!=\"Spanish\",Translations!F295,Translations!B295)))))","v":{"$error":"#REF!"}},"Equipment to be delivered at multiple sites","Equipement à livrer à plusieurs endroits","Attrezzatura da consegnare in diversi luoghi","Ausrüstung zu liefern an mehreren Standorten","Equipo que se entregará en varios lugares"]
[{"$f":"IF(#REF!=\"English\",Translations!B296,IF(#REF!=\"French\",Translations!C296,IF(#REF!=\"Italian\",Translations!D296,IF(#REF!=\"German\",Translations!E296,IF(#REF!=\"Spanish\",Translations!F296,Translations!B296)))))","v":{"$error":"#REF!"}},"Enter number of sites","Entrez le nombre d'emplacements","Inserire il numero di posizioni","Geben Sie die Anzahl der Standorte","Introducir el número de ubicaciones"]
[{"$f":"IF(#REF!=\"English\",Translations!B297,IF(#REF!=\"French\",Translations!C297,IF(#REF!=\"Italian\",Translations!D297,IF(#REF!=\"German\",Translations!E297,IF(#REF!=\"Spanish\",Translations!F297,Translations!B297)))))","v":{"$error":"#REF!"}},"2 analogue ports","2 ports analogiques","2 porte analogiche","2 analoge Ports","2 puertos analógicos"]
[{"$f":"IF(#REF!=\"English\",Translations!B298,IF(#REF!=\"French\",Translations!C298,IF(#REF!=\"Italian\",Translations!D298,IF(#REF!=\"German\",Translations!E298,IF(#REF!=\"Spanish\",Translations!F298,Translations!B298)))))","v":{"$error":"#REF!"}},"8 analogue ports","8 ports analogiques","8 porte analogiche","8 analoge Ports","8 puertos analógicos"]
[{"$f":"IF(#REF!=\"English\",Translations!B299,IF(#REF!=\"French\",Translations!C299,IF(#REF!=\"Italian\",Translations!D299,IF(#REF!=\"German\",Translations!E299,IF(#REF!=\"Spanish\",Translations!F299,Translations!B299)))))","v":{"$error":"#REF!"}},"Helios IP Force 4 buttons - no camera","Helios IP Force 4 boutons - sans caméra","Helios IP Force 4 tasti - senza videocamera","Helios IP Force 4 Knöpfe - Keine Kamera","Helios IP Force 4 botones - sin cámara"]
[{"$f":"IF(#REF!=\"English\",Translations!B300,IF(#REF!=\"French\",Translations!C300,IF(#REF!=\"Italian\",Translations!D300,IF(#REF!=\"German\",Translations!E300,IF(#REF!=\"Spanish\",Translations!F300,Translations!B300)))))","v":{"$error":"#REF!"}},"Helios IP Force 1 button & camera","Helios IP Force 1 bouton avec caméra","Helios IP Force 1 tasto con videocamera","Helios IP Force 1 Knopf & Kamera","Helios IP Force 1 botón - con cámara"]
[{"$f":"IF(#REF!=\"English\",Translations!B301,IF(#REF!=\"French\",Translations!C301,IF(#REF!=\"Italian\",Translations!D301,IF(#REF!=\"German\",Translations!E301,IF(#REF!=\"Spanish\",Translations!F301,Translations!B301)))))","v":{"$error":"#REF!"}},"Helios IP Force 4 buttons & camera","Helios IP Force 4 boutons avec caméra","Helios IP Force 4 tasti con videocamera","Helios IP Force 4 Knöpfe & Kamera","Helios IP Force 4 botones - con cámara"]
[{"$f":"IF(#REF!=\"English\",Translations!B302,IF(#REF!=\"French\",Translations!C302,IF(#REF!=\"Italian\",Translations!D302,IF(#REF!=\"German\",Translations!E302,IF(#REF!=\"Spanish\",Translations!F302,Translations!B302)))))","v":{"$error":"#REF!"}},"PLANTRONICS H251N N/A Mono Headset without cable","PLANTRONICS H251N N/A Écouteurs mono sans câble","Cuffie mono PLANTRONICS H251N N/A senza cavo","PLANTRONICS H251N N / A Mono Headset ohne Kabel","Auriculares mono PLANTRONICS H251N N/A sin cable"]
[{"$f":"IF(#REF!=\"English\",Translations!B303,IF(#REF!=\"French\",Translations!C303,IF(#REF!=\"Italian\",Translations!D303,IF(#REF!=\"German\",Translations!E303,IF(#REF!=\"Spanish\",Translations!F303,Translations!B303)))))","v":{"$error":"#REF!"}},"PLANTRONICS H261N/A Dual Headset without cable","PLANTRONICS H261N/A Écouteurs stéréo sans câble","Cuffie duo PLANTRONICS H261N/A  senza cavo","PLANTRONICS H261N Dual Headset ohne Kabel","Auriculares duales PLANTRONICS H261N/A sin cable"]
[{"$f":"IF(#REF!=\"English\",Translations!B304,IF(#REF!=\"French\",Translations!C304,IF(#REF!=\"Italian\",Translations!D304,IF(#REF!=\"German\",Translations!E304,IF(#REF!=\"Spanish\",Translations!F304,Translations!B304)))))","v":{"$error":"#REF!"}},"PLANTRONICS Cable U10P Polaris (for IP650, VVX 201/301/311/401/411+ H251N/261N)","PLANTRONICS Câble U10P Polaris (pour IP650, VVX 201/301/311/401/411+ H251N/261N)","Cavo PLANTRONICS U10P Polaris (per IP650, VVX 201/301/311/401/411+ H251N/261N)","PLANTRONICS Kabel U10P Polaris (Für IP650, VVX 201/301/ 311/401/411+H251N/261N)","Cable PLANTRONICS U10P Polaris (para IP650, VVX 201/301/311/401/411+ H251N/261N)"]
[{"$f":"IF(#REF!=\"English\",Translations!B305,IF(#REF!=\"French\",Translations!C305,IF(#REF!=\"Italian\",Translations!D305,IF(#REF!=\"German\",Translations!E305,IF(#REF!=\"Spanish\",Translations!F305,Translations!B305)))))","v":{"$error":"#REF!"}},"PLANTRONICS Cable QD-2.5 mm (for H251N/261N)","PLANTRONICS Câble QD-2,5 mm (pour H251N/261N)","Cavo PLANTRONICS QD-2.5 mm (for H251N/261N)","PLANTRONICS Kabel QD- 2.5 mm (Für H251N/261N)","Cable PLANTRONICS QD-2,5 mm (H251N/261N)"]
[{"$f":"IF(#REF!=\"English\",Translations!B306,IF(#REF!=\"French\",Translations!C306,IF(#REF!=\"Italian\",Translations!D306,IF(#REF!=\"German\",Translations!E306,IF(#REF!=\"Spanish\",Translations!F306,Translations!B306)))))","v":{"$error":"#REF!"}},"PLANTRONICS Blackwire CS510 - (Monaural) ","PLANTRONICS Blackwire CS510 - (Monaural) ","PLANTRONICS Blackwire CS510 - (monofoniche)","PLANTRONICS Blackwire CS510  (Monaural)","PLANTRONICS Blackwire CS510 - (Monoaural)"]
[{"$f":"IF(#REF!=\"English\",Translations!B307,IF(#REF!=\"French\",Translations!C307,IF(#REF!=\"Italian\",Translations!D307,IF(#REF!=\"German\",Translations!E307,IF(#REF!=\"Spanish\",Translations!F307,Translations!B307)))))","v":{"$error":"#REF!"}},"PLANTRONICS Blackwire CS520A - (Binaural) ","PLANTRONICS Blackwire CS520A - (Binaural) ","PLANTRONICS Blackwire CS520A - (bifoniche) ","PLANTRONICS Blackwire CS520A  (Binaural)","PLANTRONICS Blackwire CS520A - (Binaural)"]
[{"$f":"IF(#REF!=\"English\",Translations!B308,IF(#REF!=\"French\",Translations!C308,IF(#REF!=\"Italian\",Translations!D308,IF(#REF!=\"German\",Translations!E308,IF(#REF!=\"Spanish\",Translations!F308,Translations!B308)))))","v":{"$error":"#REF!"}},"PLANTRONICS Cable APP-50 or APP-51  (for IP650)","Câble PLANTRONICS APP-50 ou APP-51 (pour IP650)","Cavo PLANTRONICS APP-50 o APP-51 (per IP650)","PLANTRONICS Kabel APP-50 Oder APP-51  (for IP650)","Cable PLANTRONICS APP-50 o APP-51 (para IP650)"]
[{"$f":"IF(#REF!=\"English\",Translations!B309,IF(#REF!=\"French\",Translations!C309,IF(#REF!=\"Italian\",Translations!D309,IF(#REF!=\"German\",Translations!E309,IF(#REF!=\"Spanish\",Translations!F309,Translations!B309)))))","v":{"$error":"#REF!"}},"SENNHEISER SC 260 USB (binaural)","SENNHEISER SC 260 USB (binaural)","SENNHEISER SC 260 USB (binaurale)","SENNHEISER SC 260 USB (binaurale)","SENNHEISER SC 260 USB (binaural)"]
[{"$f":"IF(#REF!=\"English\",Translations!B310,IF(#REF!=\"French\",Translations!C310,IF(#REF!=\"Italian\",Translations!D310,IF(#REF!=\"German\",Translations!E310,IF(#REF!=\"Spanish\",Translations!F310,Translations!B310)))))","v":{"$error":"#REF!"}},"Indoor. * Site Survey, Installation, Setup DECT roaming can vary a lot customer by customer","*le relevé de site, l'installation, la configuration de l'itinérance DECT peuvent varier de manière importante d'un client à l'autre","* L'ispezione del sito, l'installazione e il setup DECT roaming possono variare notevolmente da un cliente all'altro ","Indoor * Site Survey, Installation, Setup des DECT roaming kann von Kunde zu Kunde stark variieren.","Interior * Estudio del emplazamiento, instalación y configuración de roaming DECT pueden presentar variaciones grandes para cada cliente"]
[{"$f":"IF(#REF!=\"English\",Translations!B311,IF(#REF!=\"French\",Translations!C311,IF(#REF!=\"Italian\",Translations!D311,IF(#REF!=\"German\",Translations!E311,IF(#REF!=\"Spanish\",Translations!F311,Translations!B311)))))","v":{"$error":"#REF!"}},"One time","Une fois","Una tantum","Einmalig","Una vez"]
[{"$f":"IF(#REF!=\"English\",Translations!B312,IF(#REF!=\"French\",Translations!C312,IF(#REF!=\"Italian\",Translations!D312,IF(#REF!=\"German\",Translations!E312,IF(#REF!=\"Spanish\",Translations!F312,Translations!B312)))))","v":{"$error":"#REF!"}},"Total","Total","Totale","Gesamt","Total"]
[{"$f":"IF(#REF!=\"English\",Translations!B313,IF(#REF!=\"French\",Translations!C313,IF(#REF!=\"Italian\",Translations!D313,IF(#REF!=\"German\",Translations!E313,IF(#REF!=\"Spanish\",Translations!F313,Translations!B313)))))","v":{"$error":"#REF!"}},"Total HW","Total HT","Totale apparecchiature","Gesamt HW","Total Equipos"]
[{"$f":"IF(#REF!=\"English\",Translations!B314,IF(#REF!=\"French\",Translations!C314,IF(#REF!=\"Italian\",Translations!D314,IF(#REF!=\"German\",Translations!E314,IF(#REF!=\"Spanish\",Translations!F314,Translations!B314)))))","v":{"$error":"#REF!"}},"Minimum Per Day Installation Charge","Charge minimum d'installation par jour","Minimo di carica Installazione giornalieri","Minimum pro Tag Installationsgebühr","Instalación de carga por día mínimo"]
[{"$f":"IF(#REF!=\"English\",Translations!B315,IF(#REF!=\"French\",Translations!C315,IF(#REF!=\"Italian\",Translations!D315,IF(#REF!=\"German\",Translations!E315,IF(#REF!=\"Spanish\",Translations!F315,Translations!B315)))))","v":{"$error":"#REF!"}},"Delivery costs are included to one site only. Price on Application for multiple delivery sites.","Les frais de livraison supposent la livraison sur un seul site. Pour plusieurs sites de livraison, le prix vous sera fourni sur demande.","Le spese di spedizione sono incluse per un solo sito. Per consegne a più siti, il prezzo è disponibile su richiesta.","Versandkosten für die Lieferung an einen Standort sind im Preis enthalten. Für Lieferung an mehr als einen Standort Preis auf Anfrage.","Gastos de envío incluidos para una sola sede. Los envíos a varias sedes tendrán un precio adicional."]
[{"$f":"IF(#REF!=\"English\",Translations!B316,IF(#REF!=\"French\",Translations!C316,IF(#REF!=\"Italian\",Translations!D316,IF(#REF!=\"German\",Translations!E316,IF(#REF!=\"Spanish\",Translations!F316,Translations!B316)))))","v":{"$error":"#REF!"}},"Colt Cloud UC - Professional Services","Colt Cloud UC - Services professionnels","Colt Cloud UC - Servizi professionali","Colt Cloud UC – Dienstleistungen Professional Services","Colt Cloud UC - Servicios profesionales"]
[{"$f":"IF(#REF!=\"English\",Translations!B317,IF(#REF!=\"French\",Translations!C317,IF(#REF!=\"Italian\",Translations!D317,IF(#REF!=\"German\",Translations!E317,IF(#REF!=\"Spanish\",Translations!F317,Translations!B317)))))","v":{"$error":"#REF!"}},"Professional services","Services professionnels","Servizi professionali","Professional Services","Servicios profesionales"]
[{"$f":"IF(#REF!=\"English\",Translations!B318,IF(#REF!=\"French\",Translations!C318,IF(#REF!=\"Italian\",Translations!D318,IF(#REF!=\"German\",Translations!E318,IF(#REF!=\"Spanish\",Translations!F318,Translations!B318)))))","v":{"$error":"#REF!"}},"Customer non standard Options","Options client non standard","Opzioni clienti non standard","Kunden Optionen, Non-Standard ","Opciones no estándar de cliente"]
[{"$f":"IF(#REF!=\"English\",Translations!B319,IF(#REF!=\"French\",Translations!C319,IF(#REF!=\"Italian\",Translations!D319,IF(#REF!=\"German\",Translations!E319,IF(#REF!=\"Spanish\",Translations!F319,Translations!B319)))))","v":{"$error":"#REF!"}},"Active Directory configuration","Intégration dans un Active Directory existant","Configurazione Active directory ","Konfiguration aktives Telefonverzeichnis ","Configuración de Directorio Activo"]
[{"$f":"IF(#REF!=\"English\",Translations!B320,IF(#REF!=\"French\",Translations!C320,IF(#REF!=\"Italian\",Translations!D320,IF(#REF!=\"German\",Translations!E320,IF(#REF!=\"Spanish\",Translations!F320,Translations!B320)))))","v":{"$error":"#REF!"}},"API integration with IT backoffice","Intégration API avec SI backoffice","Integrazione API con backoffice IT","API Integration mit IT Backoffice","Integración API con backoffice de TIC"]
[{"$f":"IF(#REF!=\"English\",Translations!B321,IF(#REF!=\"French\",Translations!C321,IF(#REF!=\"Italian\",Translations!D321,IF(#REF!=\"German\",Translations!E321,IF(#REF!=\"Spanish\",Translations!F321,Translations!B321)))))","v":{"$error":"#REF!"}},"Adaptations to callflows (e.g. specific callflows/advanced IVR)","Adaptations spécifiques (par ex.: scénarios d'appels particuliers/SVI avancé)","Adattamenti del template del servizio (ad es. flussi di chiamate specifici o servizio avanzato di IVR)","Anpassung an das Serviceformular (z.B. spezifische Callflows/ erweiterte IVR)","Adaptaciones a plantilla de servicio (p. ej., flujos de llamada específicos/respuesta de voz IVR avanzada)"]
[{"$f":"IF(#REF!=\"English\",Translations!B322,IF(#REF!=\"French\",Translations!C322,IF(#REF!=\"Italian\",Translations!D322,IF(#REF!=\"German\",Translations!E322,IF(#REF!=\"Spanish\",Translations!F322,Translations!B322)))))","v":{"$error":"#REF!"}},"Adaptations to standard network architecture","Adaptations à une architecture de réseau standard","Adattamenti dell'architettura di servizio standard","Anpassung an die standardisierte Netzwerkarchitektur ","Adaptaciones a arquitectura de red estándar"]
[{"$f":"IF(#REF!=\"English\",Translations!B323,IF(#REF!=\"French\",Translations!C323,IF(#REF!=\"Italian\",Translations!D323,IF(#REF!=\"German\",Translations!E323,IF(#REF!=\"Spanish\",Translations!F323,Translations!B323)))))","v":{"$error":"#REF!"}},"Integration of doorphones/other IP phones","Intégration de portiers/autres téléphones IP","Integrazione di citofoni o altri telefoni IP","Integration von Sprechanlagen/anderen IP Phones","Integración con intercomunicadores/otros teléfonos IP"]
[{"$f":"IF(#REF!=\"English\",Translations!B324,IF(#REF!=\"French\",Translations!C324,IF(#REF!=\"Italian\",Translations!D324,IF(#REF!=\"German\",Translations!E324,IF(#REF!=\"Spanish\",Translations!F324,Translations!B324)))))","v":{"$error":"#REF!"}},"Integration with external archiving, storage, search solutions","Intégration avec des solutions externes d'archivage, de stockage, de recherche","Integrazione con soluzioni esterne di archiviazione, memorizzazione e ricerca","Integration von externen Archivierungs-, Lagerungs-, Such- Lösungen","Integración con soluciones externas de archivo, almacenamiento, búsqueda"]
[{"$f":"IF(#REF!=\"English\",Translations!B325,IF(#REF!=\"French\",Translations!C325,IF(#REF!=\"Italian\",Translations!D325,IF(#REF!=\"German\",Translations!E325,IF(#REF!=\"Spanish\",Translations!F325,Translations!B325)))))","v":{"$error":"#REF!"}},"Setup per company","Installation par société","Installazione per azienda","Setup pro Unternehmen ","Instalación por empresa"]
[{"$f":"IF(#REF!=\"English\",Translations!B326,IF(#REF!=\"French\",Translations!C326,IF(#REF!=\"Italian\",Translations!D326,IF(#REF!=\"German\",Translations!E326,IF(#REF!=\"Spanish\",Translations!F326,Translations!B326)))))","v":{"$error":"#REF!"}},"Remote help for installation and prepare onsite installation","Aide à distance pour installation et préparation de l'installation sur site","Supporto remoto per l'installazione e la preparazione dell'installazione in loco","Remote Unterstützung bei der Vorbereitung und Installation vor Ort","Ayuda remota para la instalación y preparación de la instalación onsite"]
[{"$f":"IF(#REF!=\"English\",Translations!B327,IF(#REF!=\"French\",Translations!C327,IF(#REF!=\"Italian\",Translations!D327,IF(#REF!=\"German\",Translations!E327,IF(#REF!=\"Spanish\",Translations!F327,Translations!B327)))))","v":{"$error":"#REF!"}},"Optional installation & training onsite (including travel), ordered & calculated per full day","Installation et formation sur site (y compris déplacement) en option, commandées et calculées par journée complète","Installazione opzionale e formazione in loco (spese di trasferta incluse), richiesta e calcolata in base a una giornata intera","Optional: Installation & Training vor Ort (inkl. Reisekosten, pro Manntag)","Instalación y formación onsite opcional (incluyendo desplazamientos) pedidas y calculadas por jornada completa"]
[{"$f":"IF(#REF!=\"English\",Translations!B328,IF(#REF!=\"French\",Translations!C328,IF(#REF!=\"Italian\",Translations!D328,IF(#REF!=\"German\",Translations!E328,IF(#REF!=\"Spanish\",Translations!F328,Translations!B328)))))","v":{"$error":"#REF!"}},"Optional On site Equipment installation (including travel), ordered & calculated minimum of one full day per site (Budgetary)","En option sur l'installation site de l'équipement (y compris Voyage), commandé et calculé au moins une journée complète par site (budgétaire)","Opzionale Sul sito di installazione di apparecchiature (incluso viaggio), ordinato e minimo di un giorno intero per sito calcolato (bilancio)","Optional vor Ort Geräteinstallation (einschließlich Reisekosten ), bestellt und mindestens einen vollen Tag pro Seite berechnet (Haushalts)","Instalación onsite opcional (incluyendo desplazamientos) ordenado para calcular mínimo de un día completo por sitio (presupuestaria)"]
[{"$f":"IF(#REF!=\"English\",Translations!B329,IF(#REF!=\"French\",Translations!C329,IF(#REF!=\"Italian\",Translations!D329,IF(#REF!=\"German\",Translations!E329,IF(#REF!=\"Spanish\",Translations!F329,Translations!B329)))))","v":{"$error":"#REF!"}},"Debugging customer LAN/WAN","Diagnostic du LAN/WAN client","Debugging della rete LAN/WAN del cliente","Readiness Kunden LAN/WAN","Depuración de LAN/WAN de cliente"]
[{"$f":"IF(#REF!=\"English\",Translations!B330,IF(#REF!=\"French\",Translations!C330,IF(#REF!=\"Italian\",Translations!D330,IF(#REF!=\"German\",Translations!E330,IF(#REF!=\"Spanish\",Translations!F330,Translations!B330)))))","v":{"$error":"#REF!"}},"Project Management","Gestion de projet","Gestione di progetto","Projektmanagement","Gestión de proyecto"]
[{"$f":"IF(#REF!=\"English\",Translations!B331,IF(#REF!=\"French\",Translations!C331,IF(#REF!=\"Italian\",Translations!D331,IF(#REF!=\"German\",Translations!E331,IF(#REF!=\"Spanish\",Translations!F331,Translations!B331)))))","v":{"$error":"#REF!"}},"Technical Solution Manager","\nTechnique Solution Manager ","Technical Solution Manager","Technische Solution Manager","Técnico Solución Manager"]
[{"$f":"IF(#REF!=\"English\",Translations!B332,IF(#REF!=\"French\",Translations!C332,IF(#REF!=\"Italian\",Translations!D332,IF(#REF!=\"German\",Translations!E332,IF(#REF!=\"Spanish\",Translations!F332,Translations!B332)))))","v":{"$error":"#REF!"}},"Project Manager central \nA project manager is required for projects with 500 profiles and above or with bespoke activities","Chef de projet central. Pour les projets comportant 500 profils et plus ou des activités sur mesure, un chef de projet est exigé.","Project Manager centrale\nSi richiede un project manager per i progetti con oltre 500 profili o per attività personalizzate","Zentraler Projektmanager \nEin Projektmanager wird bei Projekten von 500 Profilen und mehr oder bei kundenspezifischen Aktivitäten benötigt","Director de Proyecto central (por día) \nSe requiere Director de Proyecto para aquellos proyectos con 500 o más perfiles o con actividades personalizadas"]
[{"$f":"IF(#REF!=\"English\",Translations!B333,IF(#REF!=\"French\",Translations!C333,IF(#REF!=\"Italian\",Translations!D333,IF(#REF!=\"German\",Translations!E333,IF(#REF!=\"Spanish\",Translations!F333,Translations!B333)))))","v":{"$error":"#REF!"}},"Project Manager local (local language, local meetings) ","Chef de projet local (langue locale, réunions locales) ","Project Manager locale (lingua locale, meeting in loco)","Lokaler Projektmanager (lokale Sprache, lokale Meetings) ","Director de Proyecto local (idioma local, reuniones locales) "]
[{"$f":"IF(#REF!=\"English\",Translations!B334,IF(#REF!=\"French\",Translations!C334,IF(#REF!=\"Italian\",Translations!D334,IF(#REF!=\"German\",Translations!E334,IF(#REF!=\"Spanish\",Translations!F334,Translations!B334)))))","v":{"$error":"#REF!"}},"Service Management","Service Management (gestion spécifique de votre contrat)","Gestione di servizio","Servicemanagement","Gestión del servicio"]
[{"$f":"IF(#REF!=\"English\",Translations!B335,IF(#REF!=\"French\",Translations!C335,IF(#REF!=\"Italian\",Translations!D335,IF(#REF!=\"German\",Translations!E335,IF(#REF!=\"Spanish\",Translations!F335,Translations!B335)))))","v":{"$error":"#REF!"}},"Silver Package (minimum contract period of 12 months)","Package Argent (contrat d'une durée minimum de 12 mois)","Argento Package (periodo contrattuale minimo di 12 mesi)","Silber Paket (Mindestvertragslaufzeit 12 Monate)","Paquete plata (duración mínima del contrato 12 meses)"]
[{"$f":"IF(#REF!=\"English\",Translations!B336,IF(#REF!=\"French\",Translations!C336,IF(#REF!=\"Italian\",Translations!D336,IF(#REF!=\"German\",Translations!E336,IF(#REF!=\"Spanish\",Translations!F336,Translations!B336)))))","v":{"$error":"#REF!"}},"Gold Package (minimum contract period of 12 months)","Package Dor (contrat d'une durée minimum de 12 mois)","Oro Package (periodo contrattuale minimo di 12 mesi)","Gold Paket (Mindestvertragslaufzeit 12 Monate)","Paquete Dorado (duración mínima del contrato 12 meses)"]
[{"$f":"IF(#REF!=\"English\",Translations!B337,IF(#REF!=\"French\",Translations!C337,IF(#REF!=\"Italian\",Translations!D337,IF(#REF!=\"German\",Translations!E337,IF(#REF!=\"Spanish\",Translations!F337,Translations!B337)))))","v":{"$error":"#REF!"}},"Platinum Package (minimum contract period of 12 months)","Paquet de Platine (contrat d'une durée minimum de 12 mois)","Package di platino (periodo contrattuale minimo di 12 mesi)","Platin Paket (Mindestvertragslaufzeit 12 Monate)","Paquete de Platino (duración mínima del contrato 12 meses)"]
[{"$f":"IF(#REF!=\"English\",Translations!B338,IF(#REF!=\"French\",Translations!C338,IF(#REF!=\"Italian\",Translations!D338,IF(#REF!=\"German\",Translations!E338,IF(#REF!=\"Spanish\",Translations!F338,Translations!B338)))))","v":{"$error":"#REF!"}},"based on customer requirements and effort. Please contact your Account Manager for an offer.","Basé sur les exigences et les activités spécifiques requises. Veuillez contacter votre responsable de compte pour obtenir une offre.","In base alle richieste del cliente e all'effort. Si prega di contattare l'Account Manager per un preventivo.","Diese Pakete basieren auf verschiedene Anforderungen und Leistungen. Setzen Sie sich dazu bitte mit Ihrem Kundenbetreuer in Verbindung","Según requisitos de cliente y trabajo. Por favor, contacte con su Gestor de Cuenta para recibir una oferta."]
[{"$f":"IF(#REF!=\"English\",Translations!B339,IF(#REF!=\"French\",Translations!C339,IF(#REF!=\"Italian\",Translations!D339,IF(#REF!=\"German\",Translations!E339,IF(#REF!=\"Spanish\",Translations!F339,Translations!B339)))))","v":{"$error":"#REF!"}},"Professionals","Services Professionnels","Professionisti","Experten","Profesionales"]
[{"$f":"IF(#REF!=\"English\",Translations!B340,IF(#REF!=\"French\",Translations!C340,IF(#REF!=\"Italian\",Translations!D340,IF(#REF!=\"German\",Translations!E340,IF(#REF!=\"Spanish\",Translations!F340,Translations!B340)))))","v":{"$error":"#REF!"}},"Design Architecture","Architecture","Design Architecture","Design Architekt","Arquitectura de Diseño"]
[{"$f":"IF(#REF!=\"English\",Translations!B341,IF(#REF!=\"French\",Translations!C341,IF(#REF!=\"Italian\",Translations!D341,IF(#REF!=\"German\",Translations!E341,IF(#REF!=\"Spanish\",Translations!F341,Translations!B341)))))","v":{"$error":"#REF!"}},"Senior Developer","Développeur senior","Senior Developer","Senior Entwickler","Desarrollador Sénior"]
[{"$f":"IF(#REF!=\"English\",Translations!B342,IF(#REF!=\"French\",Translations!C342,IF(#REF!=\"Italian\",Translations!D342,IF(#REF!=\"German\",Translations!E342,IF(#REF!=\"Spanish\",Translations!F342,Translations!B342)))))","v":{"$error":"#REF!"}},"Configuration & Support Engineer","Ingénieur de configuration et de support","Configuration & Support Engineer","Konfigurations- & Support-Ingenieur","Ingeniero de configuración y soporte"]
[{"$f":"IF(#REF!=\"English\",Translations!B343,IF(#REF!=\"French\",Translations!C343,IF(#REF!=\"Italian\",Translations!D343,IF(#REF!=\"German\",Translations!E343,IF(#REF!=\"Spanish\",Translations!F343,Translations!B343)))))","v":{"$error":"#REF!"}},"Training","Formation","Formazione","Training ","Formación"]
[{"$f":"IF(#REF!=\"English\",Translations!B344,IF(#REF!=\"French\",Translations!C344,IF(#REF!=\"Italian\",Translations!D344,IF(#REF!=\"German\",Translations!E344,IF(#REF!=\"Spanish\",Translations!F344,Translations!B344)))))","v":{"$error":"#REF!"}},"Remote training webinar","Webinaire de formation à distance","Webinar di formazione a distanza","Remote Training , Webinar ","Webinar de formación remota"]
[{"$f":"IF(#REF!=\"English\",Translations!B345,IF(#REF!=\"French\",Translations!C345,IF(#REF!=\"Italian\",Translations!D345,IF(#REF!=\"German\",Translations!E345,IF(#REF!=\"Spanish\",Translations!F345,Translations!B345)))))","v":{"$error":"#REF!"}},"Remote training webinar (Half Day)","Webinaire de formation à distance\n(Demi-journée)","Webinar di formazione a distanza\n(Mezza giornata)","Remote Training , Webinar (Halber Tag) ","Webinar de formación remota \n(Medio día)"]
[{"$f":"IF(#REF!=\"English\",Translations!B346,IF(#REF!=\"French\",Translations!C346,IF(#REF!=\"Italian\",Translations!D346,IF(#REF!=\"German\",Translations!E346,IF(#REF!=\"Spanish\",Translations!F346,Translations!B346)))))","v":{"$error":"#REF!"}},"Standard Onsite Training, ordered & calculated per full day","Formation sur place Standard, ordonné et calculée par jour complète","Standard on-site di formazione, ordinato e calcolato per un giorno intero","Standard-Vor-Ort-Schulungen, bestellt und per ganzen Tag berechnet","Formación in situ estándar, ordenada y calculado por día completo"]
[{"$f":"IF(#REF!=\"English\",Translations!B347,IF(#REF!=\"French\",Translations!C347,IF(#REF!=\"Italian\",Translations!D347,IF(#REF!=\"German\",Translations!E347,IF(#REF!=\"Spanish\",Translations!F347,Translations!B347)))))","v":{"$error":"#REF!"}},"Customised Local training workshop","Customise Atelier de formation local","Workshop formativo in loco Personalizzata","Lokaler Trainings-Workshop Kundenspezifisch","Taller de formación local modificada"]
[{"$f":"IF(#REF!=\"English\",Translations!B348,IF(#REF!=\"French\",Translations!C348,IF(#REF!=\"Italian\",Translations!D348,IF(#REF!=\"German\",Translations!E348,IF(#REF!=\"Spanish\",Translations!F348,Translations!B348)))))","v":{"$error":"#REF!"}},"Travel and other expense are not included and will be charged separately based on confirmed costs agreed with the customer.","Les frais de voyage et autres dépenses ne sont pas inclus et seront facturés séparément en fonction des coûts confirmés convenus avec le client.","Le spese di trasferta e di altra natura non sono incluse e saranno addebitate separatamente in base ai costi confermati e accordati con il cliente. ","Reise- und andere Kosten sind nicht inbegriffen und werden basierend auf den mit dem Kunden vereinbarten Kosten separat in Rechnung gestellt.","Los desplazamientos y otros gastos no están incluidos. Se cobrarán por separado según los costes confirmados acordados con el cliente."]
[{"$f":"IF(#REF!=\"English\",Translations!B349,IF(#REF!=\"French\",Translations!C349,IF(#REF!=\"Italian\",Translations!D349,IF(#REF!=\"German\",Translations!E349,IF(#REF!=\"Spanish\",Translations!F349,Translations!B349)))))","v":{"$error":"#REF!"}},"Time and material","Temps et matériel","Tempo e materiale","Zeit und Material","Tiempo y material"]
[{"$f":"IF(#REF!=\"English\",Translations!B350,IF(#REF!=\"French\",Translations!C350,IF(#REF!=\"Italian\",Translations!D350,IF(#REF!=\"German\",Translations!E350,IF(#REF!=\"Spanish\",Translations!F350,Translations!B350)))))","v":{"$error":"#REF!"}},"Included","Inclus","Incluso","Inbegriffen","Incluido"]
[{"$f":"IF(#REF!=\"English\",Translations!B351,IF(#REF!=\"French\",Translations!C351,IF(#REF!=\"Italian\",Translations!D351,IF(#REF!=\"German\",Translations!E351,IF(#REF!=\"Spanish\",Translations!F351,Translations!B351)))))","v":{"$error":"#REF!"}},"per day","par jour","al giorno","pro Tag","por día"]
[{"$f":"IF(#REF!=\"English\",Translations!B352,IF(#REF!=\"French\",Translations!C352,IF(#REF!=\"Italian\",Translations!D352,IF(#REF!=\"German\",Translations!E352,IF(#REF!=\"Spanish\",Translations!F352,Translations!B352)))))","v":{"$error":"#REF!"}},"per Half-day","\npar demi-journée","per mezza giornata","pro Halbtages","por medio día"]
[{"$f":"IF(#REF!=\"English\",Translations!B353,IF(#REF!=\"French\",Translations!C353,IF(#REF!=\"Italian\",Translations!D353,IF(#REF!=\"German\",Translations!E353,IF(#REF!=\"Spanish\",Translations!F353,Translations!B353)))))","v":{"$error":"#REF!"}},"per month","par mois","al mese","pro Monat ","por mes"]
[{"$f":"IF(#REF!=\"English\",Translations!B354,IF(#REF!=\"French\",Translations!C354,IF(#REF!=\"Italian\",Translations!D354,IF(#REF!=\"German\",Translations!E354,IF(#REF!=\"Spanish\",Translations!F354,Translations!B354)))))","v":{"$error":"#REF!"}},"Total PS","Total","Totale servizi professionali","Gesamtpreis PS","Total PS"]
[{"$f":"IF(#REF!=\"English\",Translations!B355,IF(#REF!=\"French\",Translations!C355,IF(#REF!=\"Italian\",Translations!D355,IF(#REF!=\"German\",Translations!E355,IF(#REF!=\"Spanish\",Translations!F355,Translations!B355)))))","v":{"$error":"#REF!"}},"Colt Cloud UC - Rates","Colt Cloud UC - Rates","Colt Cloud UC - Rates","Colt Cloud UC - Rates","Colt Cloud UC - Rates"]
[{"$f":"IF(#REF!=\"English\",Translations!B356,IF(#REF!=\"French\",Translations!C356,IF(#REF!=\"Italian\",Translations!D356,IF(#REF!=\"German\",Translations!E356,IF(#REF!=\"Spanish\",Translations!F356,Translations!B356)))))","v":{"$error":"#REF!"}},"Int'l Destinations","Int'l destinations","Int'l destinazioni","Int'l Festnetz","Int'l destinos"]
[{"$f":"IF(#REF!=\"English\",Translations!B357,IF(#REF!=\"French\",Translations!C357,IF(#REF!=\"Italian\",Translations!D357,IF(#REF!=\"German\",Translations!E357,IF(#REF!=\"Spanish\",Translations!F357,Translations!B357)))))","v":{"$error":"#REF!"}},"Tier Codes","codes de palier","codici tier","Tier-Codes","códigos de nivel"]
[{"$f":"IF(#REF!=\"English\",Translations!B358,IF(#REF!=\"French\",Translations!C358,IF(#REF!=\"Italian\",Translations!D358,IF(#REF!=\"German\",Translations!E358,IF(#REF!=\"Spanish\",Translations!F358,Translations!B358)))))","v":{"$error":"#REF!"}},"Standard Rates ","tarif standard","tariffe standard","Standard-Tarife","tarifas estándar"]
[{"$f":"IF(#REF!=\"English\",Translations!B359,IF(#REF!=\"French\",Translations!C359,IF(#REF!=\"Italian\",Translations!D359,IF(#REF!=\"German\",Translations!E359,IF(#REF!=\"Spanish\",Translations!F359,Translations!B359)))))","v":{"$error":"#REF!"}},"Bundle Rates ","tarif bundle","tariffa fascio","Bündel Tarif","arancelaria paquete"]
[{"$f":"IF(#REF!=\"English\",Translations!B360,IF(#REF!=\"French\",Translations!C360,IF(#REF!=\"Italian\",Translations!D360,IF(#REF!=\"German\",Translations!E360,IF(#REF!=\"Spanish\",Translations!F360,Translations!B360)))))","v":{"$error":"#REF!"}},"Setup","Setup","Avviare","Einrichten","Costes de establecimiento"]
[{"$f":"IF(#REF!=\"English\",Translations!B361,IF(#REF!=\"French\",Translations!C361,IF(#REF!=\"Italian\",Translations!D361,IF(#REF!=\"German\",Translations!E361,IF(#REF!=\"Spanish\",Translations!F361,Translations!B361)))))","v":{"$error":"#REF!"}},"Peak","Peak","Di punta","Haupt","Normal"]
[{"$f":"IF(#REF!=\"English\",Translations!B362,IF(#REF!=\"French\",Translations!C362,IF(#REF!=\"Italian\",Translations!D362,IF(#REF!=\"German\",Translations!E362,IF(#REF!=\"Spanish\",Translations!F362,Translations!B362)))))","v":{"$error":"#REF!"}},"Off-Peak","Off-Peak","Non di punta","aus-Haupt","Reducida"]
[{"$f":"IF(#REF!=\"English\",Translations!B363,IF(#REF!=\"French\",Translations!C363,IF(#REF!=\"Italian\",Translations!D363,IF(#REF!=\"German\",Translations!E363,IF(#REF!=\"Spanish\",Translations!F363,Translations!B363)))))","v":{"$error":"#REF!"}},"Weekend","Week-end","Fine settimana","Wochenende","Fines de semana"]
[{"$f":"IF(#REF!=\"English\",Translations!B364,IF(#REF!=\"French\",Translations!C364,IF(#REF!=\"Italian\",Translations!D364,IF(#REF!=\"German\",Translations!E364,IF(#REF!=\"Spanish\",Translations!F364,Translations!B364)))))","v":{"$error":"#REF!"}},"Rates Outside Bundle ","Tarif Sauf Bundle ","Tariffe Bundle Fuori","Preise Außerhalb Bundle","Precios fuera del paquete"]
[{"$f":"IF(#REF!=\"English\",Translations!B365,IF(#REF!=\"French\",Translations!C365,IF(#REF!=\"Italian\",Translations!D365,IF(#REF!=\"German\",Translations!E365,IF(#REF!=\"Spanish\",Translations!F365,Translations!B365)))))","v":{"$error":"#REF!"}},"* Please note the bundle excludes Destination Switzerland-Mobile-Sunrise","* Please note the bundle excludes Destination Switzerland-Mobile-Sunrise","*Si prega di notare che il pacchetto esclude la destinazione Svizzera-Mobile-Sunrise","* Please note the bundle excludes Destination Switzerland-Mobile-Sunrise","* Please note the bundle excludes Destination Switzerland-Mobile-Sunrise"]
[{"$f":"IF(#REF!=\"English\",Translations!B366,IF(#REF!=\"French\",Translations!C366,IF(#REF!=\"Italian\",Translations!D366,IF(#REF!=\"German\",Translations!E366,IF(#REF!=\"Spanish\",Translations!F366,Translations!B366)))))","v":{"$error":"#REF!"}},"Colt Cloud UC - Terms & Conditions","Colt Cloud UC - Conditions générales","Colt Cloud UC - Termini e condizioni","Colt Cloud UC - Nutzungsbedingungen","Colt Cloud UC - Términos y Condiciones"]
[]
[{"$f":"IF(#REF!=\"English\",Translations!B368,IF(#REF!=\"French\",Translations!C368,IF(#REF!=\"Italian\",Translations!D368,IF(#REF!=\"German\",Translations!E368,IF(#REF!=\"Spanish\",Translations!F368,Translations!B368)))))","v":{"$error":"#REF!"}},"Signature:","Signature:","Firma:","Unterschrift:","Firma:"]
[{"$f":"IF(#REF!=\"English\",Translations!B369,IF(#REF!=\"French\",Translations!C369,IF(#REF!=\"Italian\",Translations!D369,IF(#REF!=\"German\",Translations!E369,IF(#REF!=\"Spanish\",Translations!F369,Translations!B369)))))","v":{"$error":"#REF!"}},"Date:","Date:","Data:","Datum:","Fecha:"]
[{"$f":"IF(#REF!=\"English\",Translations!B370,IF(#REF!=\"French\",Translations!C370,IF(#REF!=\"Italian\",Translations!D370,IF(#REF!=\"German\",Translations!E370,IF(#REF!=\"Spanish\",Translations!F370,Translations!B370)))))","v":{"$error":"#REF!"}},"Name in block letters:","Nom en majuscules:","Nome in stampatello:","Name in Großbuchstaben:","Nombre en mayúsculas:"]
[]
[{"$f":"IF(#REF!=\"English\",Translations!B372,IF(#REF!=\"French\",Translations!C372,IF(#REF!=\"Italian\",Translations!D372,IF(#REF!=\"German\",Translations!E372,IF(#REF!=\"Spanish\",Translations!F372,Translations!B372)))))","v":{"$error":"#REF!"}},"Afghanistan","Afghanistan","Afganistan","Afghanistan","Afganistán"]
[{"$f":"IF(#REF!=\"English\",Translations!B373,IF(#REF!=\"French\",Translations!C373,IF(#REF!=\"Italian\",Translations!D373,IF(#REF!=\"German\",Translations!E373,IF(#REF!=\"Spanish\",Translations!F373,Translations!B373)))))","v":{"$error":"#REF!"}},"Afghanistan-Mobile-AWCC","Afghanistan-Mobile-AWCC","Afganistan-Mobile-AWCC","Afghanistan-Mobilfunk-AWCC","Afganistán-Móvil-AWCC"]
[{"$f":"IF(#REF!=\"English\",Translations!B374,IF(#REF!=\"French\",Translations!C374,IF(#REF!=\"Italian\",Translations!D374,IF(#REF!=\"German\",Translations!E374,IF(#REF!=\"Spanish\",Translations!F374,Translations!B374)))))","v":{"$error":"#REF!"}},"Afghanistan-Mobile-Etisalat","Afghanistan-Mobile-Etisalat","Afganistan-Mobile-Etisalat","Afghanistan-Mobilfunk-Etisalat","Afganistán-Móvil-Etisalat"]
[{"$f":"IF(#REF!=\"English\",Translations!B375,IF(#REF!=\"French\",Translations!C375,IF(#REF!=\"Italian\",Translations!D375,IF(#REF!=\"German\",Translations!E375,IF(#REF!=\"Spanish\",Translations!F375,Translations!B375)))))","v":{"$error":"#REF!"}},"Afghanistan-Mobile-MTN","Afghanistan-Mobile-MTN","Afganistan-Mobile-MTN","Afghanistan-Mobilfunk-MTN","Afganistán-Móvil-MTN"]
[{"$f":"IF(#REF!=\"English\",Translations!B376,IF(#REF!=\"French\",Translations!C376,IF(#REF!=\"Italian\",Translations!D376,IF(#REF!=\"German\",Translations!E376,IF(#REF!=\"Spanish\",Translations!F376,Translations!B376)))))","v":{"$error":"#REF!"}},"Afghanistan-Mobile-Others","Afghanistan-Mobile-Autres","Afganistan-Mobile-Altri","Afghanistan-Mobilfunk-Andere","Afganistán-Móvil-Otros"]
[{"$f":"IF(#REF!=\"English\",Translations!B377,IF(#REF!=\"French\",Translations!C377,IF(#REF!=\"Italian\",Translations!D377,IF(#REF!=\"German\",Translations!E377,IF(#REF!=\"Spanish\",Translations!F377,Translations!B377)))))","v":{"$error":"#REF!"}},"Afghanistan-Mobile-Roshan","Afghanistan-Mobile-Roshan","Afganistan-Mobile-Roshan","Afghanistan-Mobilfunk-Roshan","Afganistán-Móvil-Roshan"]
[{"$f":"IF(#REF!=\"English\",Translations!B378,IF(#REF!=\"French\",Translations!C378,IF(#REF!=\"Italian\",Translations!D378,IF(#REF!=\"German\",Translations!E378,IF(#REF!=\"Spanish\",Translations!F378,Translations!B378)))))","v":{"$error":"#REF!"}},"Albania","Albanie","Albania","Albanien","Albania"]
[{"$f":"IF(#REF!=\"English\",Translations!B379,IF(#REF!=\"French\",Translations!C379,IF(#REF!=\"Italian\",Translations!D379,IF(#REF!=\"German\",Translations!E379,IF(#REF!=\"Spanish\",Translations!F379,Translations!B379)))))","v":{"$error":"#REF!"}},"Albania-Mobile-AMC","Albanie-Mobile-AMC","Albania-Mobile-AMC","Albanien-Mobilfunk-AMC","Albania-Móvil-AMC"]
[{"$f":"IF(#REF!=\"English\",Translations!B380,IF(#REF!=\"French\",Translations!C380,IF(#REF!=\"Italian\",Translations!D380,IF(#REF!=\"German\",Translations!E380,IF(#REF!=\"Spanish\",Translations!F380,Translations!B380)))))","v":{"$error":"#REF!"}},"Albania-Mobile-Eagle","Albanie-Mobile-Eagle","Albania-Mobile-Eagle","Albanien-Mobilfunk-Eagle","Albania-Móvil-Eagle"]
[{"$f":"IF(#REF!=\"English\",Translations!B381,IF(#REF!=\"French\",Translations!C381,IF(#REF!=\"Italian\",Translations!D381,IF(#REF!=\"German\",Translations!E381,IF(#REF!=\"Spanish\",Translations!F381,Translations!B381)))))","v":{"$error":"#REF!"}},"Albania-Mobile-Others","Albanie-Mobile-Autres","Albania-Mobile-Altri","Albanien-Mobilfunk-Andere","Albania-Móvil-Otros"]
[{"$f":"IF(#REF!=\"English\",Translations!B382,IF(#REF!=\"French\",Translations!C382,IF(#REF!=\"Italian\",Translations!D382,IF(#REF!=\"German\",Translations!E382,IF(#REF!=\"Spanish\",Translations!F382,Translations!B382)))))","v":{"$error":"#REF!"}},"Albania-Mobile-Vodafone","Albanie-Mobile-Vodafone","Albania-Mobile-Vodafone","Albanien-Mobilfunk-Vodafone","Albania-Móvil-Vodafone"]
[{"$f":"IF(#REF!=\"English\",Translations!B383,IF(#REF!=\"French\",Translations!C383,IF(#REF!=\"Italian\",Translations!D383,IF(#REF!=\"German\",Translations!E383,IF(#REF!=\"Spanish\",Translations!F383,Translations!B383)))))","v":{"$error":"#REF!"}},"Albania-Tirana","Albanie-Tirana","Albania-Tirana","Albanien-Tirana","Albania-Tirana"]
[{"$f":"IF(#REF!=\"English\",Translations!B384,IF(#REF!=\"French\",Translations!C384,IF(#REF!=\"Italian\",Translations!D384,IF(#REF!=\"German\",Translations!E384,IF(#REF!=\"Spanish\",Translations!F384,Translations!B384)))))","v":{"$error":"#REF!"}},"Algeria","Algerie","Algeria ","Algerien","Argelia"]
[{"$f":"IF(#REF!=\"English\",Translations!B385,IF(#REF!=\"French\",Translations!C385,IF(#REF!=\"Italian\",Translations!D385,IF(#REF!=\"German\",Translations!E385,IF(#REF!=\"Spanish\",Translations!F385,Translations!B385)))))","v":{"$error":"#REF!"}},"Algeria-Algiers","Algerie-Algiers","Algeria -Algiers","Algerien-Algiers","Argelia-Algiers"]
[{"$f":"IF(#REF!=\"English\",Translations!B386,IF(#REF!=\"French\",Translations!C386,IF(#REF!=\"Italian\",Translations!D386,IF(#REF!=\"German\",Translations!E386,IF(#REF!=\"Spanish\",Translations!F386,Translations!B386)))))","v":{"$error":"#REF!"}},"Algeria-Mobile-Djezzy","Algerie-Mobile-Djezzy","Algeria -Mobile-Djezzy","Algerien-Mobilfunk-Djezzy","Argelia-Móvil-Djezzy"]
[{"$f":"IF(#REF!=\"English\",Translations!B387,IF(#REF!=\"French\",Translations!C387,IF(#REF!=\"Italian\",Translations!D387,IF(#REF!=\"German\",Translations!E387,IF(#REF!=\"Spanish\",Translations!F387,Translations!B387)))))","v":{"$error":"#REF!"}},"Algeria-Mobile-Mobilis","Algerie-Mobile-Mobilis","Algeria -Mobile-Mobilis","Algerien-Mobilfunk-Mobilis","Argelia-Móvil-Mobilis"]
[{"$f":"IF(#REF!=\"English\",Translations!B388,IF(#REF!=\"French\",Translations!C388,IF(#REF!=\"Italian\",Translations!D388,IF(#REF!=\"German\",Translations!E388,IF(#REF!=\"Spanish\",Translations!F388,Translations!B388)))))","v":{"$error":"#REF!"}},"Algeria-Mobile-Others","Algerie-Mobile-Autres","Algeria -Mobile-Altri","Algerien-Mobilfunk-Andere","Argelia-Móvil-Otros"]
[{"$f":"IF(#REF!=\"English\",Translations!B389,IF(#REF!=\"French\",Translations!C389,IF(#REF!=\"Italian\",Translations!D389,IF(#REF!=\"German\",Translations!E389,IF(#REF!=\"Spanish\",Translations!F389,Translations!B389)))))","v":{"$error":"#REF!"}},"Algeria-Mobile-Wataniya","Algerie-Mobile-Wataniya","Algeria -Mobile-Wataniya","Algerien-Mobilfunk-Wataniya","Argelia-Móvil-Wataniya"]
[{"$f":"IF(#REF!=\"English\",Translations!B390,IF(#REF!=\"French\",Translations!C390,IF(#REF!=\"Italian\",Translations!D390,IF(#REF!=\"German\",Translations!E390,IF(#REF!=\"Spanish\",Translations!F390,Translations!B390)))))","v":{"$error":"#REF!"}},"Andorra","Andorre","Andorra","Andorra","Andorra"]
[{"$f":"IF(#REF!=\"English\",Translations!B391,IF(#REF!=\"French\",Translations!C391,IF(#REF!=\"Italian\",Translations!D391,IF(#REF!=\"German\",Translations!E391,IF(#REF!=\"Spanish\",Translations!F391,Translations!B391)))))","v":{"$error":"#REF!"}},"Andorra-Mobile","Andorre-Mobile","Andorra-Mobile","Andorra-Mobilfunk","Andorra-Móvil"]
[{"$f":"IF(#REF!=\"English\",Translations!B392,IF(#REF!=\"French\",Translations!C392,IF(#REF!=\"Italian\",Translations!D392,IF(#REF!=\"German\",Translations!E392,IF(#REF!=\"Spanish\",Translations!F392,Translations!B392)))))","v":{"$error":"#REF!"}},"Angola","Angola","Angola","Angola","Angola"]
[{"$f":"IF(#REF!=\"English\",Translations!B393,IF(#REF!=\"French\",Translations!C393,IF(#REF!=\"Italian\",Translations!D393,IF(#REF!=\"German\",Translations!E393,IF(#REF!=\"Spanish\",Translations!F393,Translations!B393)))))","v":{"$error":"#REF!"}},"Angola-Mobile-Others","Angola-Mobile-Autres","Angola-Mobile-Altri","Angola-Mobilfunk-Andere","Angola-Móvil-Otros"]
[{"$f":"IF(#REF!=\"English\",Translations!B394,IF(#REF!=\"French\",Translations!C394,IF(#REF!=\"Italian\",Translations!D394,IF(#REF!=\"German\",Translations!E394,IF(#REF!=\"Spanish\",Translations!F394,Translations!B394)))))","v":{"$error":"#REF!"}},"Angola-Mobile-Unitel","Angola-Mobile-Unitel","Angola-Mobile-Unitel","Angola-Mobilfunk-Unitel","Angola-Móvil-Unitel"]
[{"$f":"IF(#REF!=\"English\",Translations!B395,IF(#REF!=\"French\",Translations!C395,IF(#REF!=\"Italian\",Translations!D395,IF(#REF!=\"German\",Translations!E395,IF(#REF!=\"Spanish\",Translations!F395,Translations!B395)))))","v":{"$error":"#REF!"}},"Anguilla","Anguilla","Anguilla","Anguilla","Anguilla"]
[{"$f":"IF(#REF!=\"English\",Translations!B396,IF(#REF!=\"French\",Translations!C396,IF(#REF!=\"Italian\",Translations!D396,IF(#REF!=\"German\",Translations!E396,IF(#REF!=\"Spanish\",Translations!F396,Translations!B396)))))","v":{"$error":"#REF!"}},"Antigua Barbuda","Antigua Barbuda","Antigua Barbuda","Antigua Barbuda","Antigua Barbuda"]
[{"$f":"IF(#REF!=\"English\",Translations!B397,IF(#REF!=\"French\",Translations!C397,IF(#REF!=\"Italian\",Translations!D397,IF(#REF!=\"German\",Translations!E397,IF(#REF!=\"Spanish\",Translations!F397,Translations!B397)))))","v":{"$error":"#REF!"}},"Argentina","Argentine","Argentina","Argentinien","Argentina"]
[{"$f":"IF(#REF!=\"English\",Translations!B398,IF(#REF!=\"French\",Translations!C398,IF(#REF!=\"Italian\",Translations!D398,IF(#REF!=\"German\",Translations!E398,IF(#REF!=\"Spanish\",Translations!F398,Translations!B398)))))","v":{"$error":"#REF!"}},"Argentina-Buenos Aires","Argentine-Buenos Aires","Argentina-Buenos Aires","Argentinien-Buenos Aires","Argentina-Buenos Aires"]
[{"$f":"IF(#REF!=\"English\",Translations!B399,IF(#REF!=\"French\",Translations!C399,IF(#REF!=\"Italian\",Translations!D399,IF(#REF!=\"German\",Translations!E399,IF(#REF!=\"Spanish\",Translations!F399,Translations!B399)))))","v":{"$error":"#REF!"}},"Argentina-Cordoba","Argentine-Cordoba","Argentina-Cordoba","Argentinien-Cordoba","Argentina-Cordoba"]
[{"$f":"IF(#REF!=\"English\",Translations!B400,IF(#REF!=\"French\",Translations!C400,IF(#REF!=\"Italian\",Translations!D400,IF(#REF!=\"German\",Translations!E400,IF(#REF!=\"Spanish\",Translations!F400,Translations!B400)))))","v":{"$error":"#REF!"}},"Argentina-Mobile","Argentine-Mobile","Argentina-Mobile","Argentinien-Mobilfunk","Argentina-Móvil"]
[{"$f":"IF(#REF!=\"English\",Translations!B401,IF(#REF!=\"French\",Translations!C401,IF(#REF!=\"Italian\",Translations!D401,IF(#REF!=\"German\",Translations!E401,IF(#REF!=\"Spanish\",Translations!F401,Translations!B401)))))","v":{"$error":"#REF!"}},"Armenia","Arménie","Armenia","Armenien","Armenia"]
[{"$f":"IF(#REF!=\"English\",Translations!B402,IF(#REF!=\"French\",Translations!C402,IF(#REF!=\"Italian\",Translations!D402,IF(#REF!=\"German\",Translations!E402,IF(#REF!=\"Spanish\",Translations!F402,Translations!B402)))))","v":{"$error":"#REF!"}},"Armenia-Erevan","Arménie-Erevan","Armenia-Erevan","Armenien-Erevan","Armenia-Erevan"]
[{"$f":"IF(#REF!=\"English\",Translations!B403,IF(#REF!=\"French\",Translations!C403,IF(#REF!=\"Italian\",Translations!D403,IF(#REF!=\"German\",Translations!E403,IF(#REF!=\"Spanish\",Translations!F403,Translations!B403)))))","v":{"$error":"#REF!"}},"Armenia-Mobile","Arménie-Mobile","Armenia-Mobile","Armenien-Mobilfunk","Armenia-Móvil"]
[{"$f":"IF(#REF!=\"English\",Translations!B404,IF(#REF!=\"French\",Translations!C404,IF(#REF!=\"Italian\",Translations!D404,IF(#REF!=\"German\",Translations!E404,IF(#REF!=\"Spanish\",Translations!F404,Translations!B404)))))","v":{"$error":"#REF!"}},"Armenia-Nagorny Karabakh","Arménie-Nagorny Karabakh","Armenia-Nagorny Karabakh","Armenien-Nagorny Karabakh","Armenia-Nagorny Karabakh"]
[{"$f":"IF(#REF!=\"English\",Translations!B405,IF(#REF!=\"French\",Translations!C405,IF(#REF!=\"Italian\",Translations!D405,IF(#REF!=\"German\",Translations!E405,IF(#REF!=\"Spanish\",Translations!F405,Translations!B405)))))","v":{"$error":"#REF!"}},"Aruba","Aruba","Aruba","Aruba","Aruba"]
[{"$f":"IF(#REF!=\"English\",Translations!B406,IF(#REF!=\"French\",Translations!C406,IF(#REF!=\"Italian\",Translations!D406,IF(#REF!=\"German\",Translations!E406,IF(#REF!=\"Spanish\",Translations!F406,Translations!B406)))))","v":{"$error":"#REF!"}},"Ascension","Ascension","Ascensione","Ascension","Ascensión"]
[{"$f":"IF(#REF!=\"English\",Translations!B407,IF(#REF!=\"French\",Translations!C407,IF(#REF!=\"Italian\",Translations!D407,IF(#REF!=\"German\",Translations!E407,IF(#REF!=\"Spanish\",Translations!F407,Translations!B407)))))","v":{"$error":"#REF!"}},"Australia","Australie","Australia","Australien","Australia"]
[{"$f":"IF(#REF!=\"English\",Translations!B408,IF(#REF!=\"French\",Translations!C408,IF(#REF!=\"Italian\",Translations!D408,IF(#REF!=\"German\",Translations!E408,IF(#REF!=\"Spanish\",Translations!F408,Translations!B408)))))","v":{"$error":"#REF!"}},"Australia-Canberra",{"$f":"C$407&\"-Canberra\"","v":"Australie-Canberra"},{"$f":"D$407&\"-Canberra\"","v":"Australia-Canberra"},{"$f":"E$407&\"-Canberra\"","v":"Australien-Canberra"},{"$f":"F$407&\"-Canberra\"","v":"Australia-Canberra"}]
[{"$f":"IF(#REF!=\"English\",Translations!B409,IF(#REF!=\"French\",Translations!C409,IF(#REF!=\"Italian\",Translations!D409,IF(#REF!=\"German\",Translations!E409,IF(#REF!=\"Spanish\",Translations!F409,Translations!B409)))))","v":{"$error":"#REF!"}},"Australia-Cocos-Christmas Isla",{"$f":"C$407&\"-Cocos&Christmas Islands\"","v":"Australie-Cocos&Christmas Islands"},{"$f":"D$407&\"-Cocos&Christmas Islands\"","v":"Australia-Cocos&Christmas Islands"},{"$f":"E$407&\"-Cocos&Christmas Islands\"","v":"Australien-Cocos&Christmas Islands"},{"$f":"F$407&\"-Cocos&Christmas Islands\"","v":"Australia-Cocos&Christmas Islands"}]
[{"$f":"IF(#REF!=\"English\",Translations!B410,IF(#REF!=\"French\",Translations!C410,IF(#REF!=\"Italian\",Translations!D410,IF(#REF!=\"German\",Translations!E410,IF(#REF!=\"Spanish\",Translations!F410,Translations!B410)))))","v":{"$error":"#REF!"}},"Australia-Melbourne",{"$f":"C$407&\"-Melbourne\"","v":"Australie-Melbourne"},{"$f":"D$407&\"-Melbourne\"","v":"Australia-Melbourne"},{"$f":"E$407&\"-Melbourne\"","v":"Australien-Melbourne"},{"$f":"F$407&\"-Melbourne\"","v":"Australia-Melbourne"}]
[{"$f":"IF(#REF!=\"English\",Translations!B411,IF(#REF!=\"French\",Translations!C411,IF(#REF!=\"Italian\",Translations!D411,IF(#REF!=\"German\",Translations!E411,IF(#REF!=\"Spanish\",Translations!F411,Translations!B411)))))","v":{"$error":"#REF!"}},"Australia-Mobile-Optus","Australie-Mobile-Optus","Australia-Mobile-Optus","Australien-Mobilfunk-Optus","Australia-Móvil-Optus"]
[{"$f":"IF(#REF!=\"English\",Translations!B412,IF(#REF!=\"French\",Translations!C412,IF(#REF!=\"Italian\",Translations!D412,IF(#REF!=\"German\",Translations!E412,IF(#REF!=\"Spanish\",Translations!F412,Translations!B412)))))","v":{"$error":"#REF!"}},"Australia-Mobile-Others","Australie-Mobile-Autres","Australia-Mobile-Altri","Australien-Mobilfunk-Andere","Australia-Móvil-Otros"]
[{"$f":"IF(#REF!=\"English\",Translations!B413,IF(#REF!=\"French\",Translations!C413,IF(#REF!=\"Italian\",Translations!D413,IF(#REF!=\"German\",Translations!E413,IF(#REF!=\"Spanish\",Translations!F413,Translations!B413)))))","v":{"$error":"#REF!"}},"Australia-Mobile-Telstra","Australie-Mobile-Telstra","Australia-Mobile-Telstra","Australien-Mobilfunk-Telstra","Australia-Móvil-Telstra"]
[{"$f":"IF(#REF!=\"English\",Translations!B414,IF(#REF!=\"French\",Translations!C414,IF(#REF!=\"Italian\",Translations!D414,IF(#REF!=\"German\",Translations!E414,IF(#REF!=\"Spanish\",Translations!F414,Translations!B414)))))","v":{"$error":"#REF!"}},"Australia-Mobile-Vodafone","Australie-Mobile-Vodafone","Australia-Mobile-Vodafone","Australien-Mobilfunk-Vodafone","Australia-Móvil-Vodafone"]
[{"$f":"IF(#REF!=\"English\",Translations!B415,IF(#REF!=\"French\",Translations!C415,IF(#REF!=\"Italian\",Translations!D415,IF(#REF!=\"German\",Translations!E415,IF(#REF!=\"Spanish\",Translations!F415,Translations!B415)))))","v":{"$error":"#REF!"}},"Australia-Shared Cost","Australie-Business Call","Australia-Shared Cost","Australien-Shared Cost","Australia-Shared Cost"]
[{"$f":"IF(#REF!=\"English\",Translations!B416,IF(#REF!=\"French\",Translations!C416,IF(#REF!=\"Italian\",Translations!D416,IF(#REF!=\"German\",Translations!E416,IF(#REF!=\"Spanish\",Translations!F416,Translations!B416)))))","v":{"$error":"#REF!"}},"Australia-Sydney","Australie-Sydney","Australia-Sydney","Australien-Sydney","Australia-Sydney"]
[{"$f":"IF(#REF!=\"English\",Translations!B417,IF(#REF!=\"French\",Translations!C417,IF(#REF!=\"Italian\",Translations!D417,IF(#REF!=\"German\",Translations!E417,IF(#REF!=\"Spanish\",Translations!F417,Translations!B417)))))","v":{"$error":"#REF!"}},"Australian Ex Territories","Australie Territoires extérieurs","Australia territori esterni","Australische Außengebiete","Australia territorios exteriores"]
[{"$f":"IF(#REF!=\"English\",Translations!B418,IF(#REF!=\"French\",Translations!C418,IF(#REF!=\"Italian\",Translations!D418,IF(#REF!=\"German\",Translations!E418,IF(#REF!=\"Spanish\",Translations!F418,Translations!B418)))))","v":{"$error":"#REF!"}},"Australian Ex-Norfolk","Australie Territoires extérieurs-Norfolk","Australia territori esterni-Isola Norfolk","Australische Außengebiete-Norfolkinsel","Australia territorios exteriores-Isla Norfolk"]
[{"$f":"IF(#REF!=\"English\",Translations!B419,IF(#REF!=\"French\",Translations!C419,IF(#REF!=\"Italian\",Translations!D419,IF(#REF!=\"German\",Translations!E419,IF(#REF!=\"Spanish\",Translations!F419,Translations!B419)))))","v":{"$error":"#REF!"}},"Austria","Autriche","Austria","Österreich","Austria"]
[{"$f":"IF(#REF!=\"English\",Translations!B420,IF(#REF!=\"French\",Translations!C420,IF(#REF!=\"Italian\",Translations!D420,IF(#REF!=\"German\",Translations!E420,IF(#REF!=\"Spanish\",Translations!F420,Translations!B420)))))","v":{"$error":"#REF!"}},"Austria-Freephone","Australie-Libre appel","Austria-Freephone","Österreich-Freephone","Austria-Freephone"]
[{"$f":"IF(#REF!=\"English\",Translations!B421,IF(#REF!=\"French\",Translations!C421,IF(#REF!=\"Italian\",Translations!D421,IF(#REF!=\"German\",Translations!E421,IF(#REF!=\"Spanish\",Translations!F421,Translations!B421)))))","v":{"$error":"#REF!"}},"Austria-Mobile-Hutchison","Autriche-Mobile-Hutchison","Austria-Mobile-Hutchison","Österreich-Mobilfunk-Hutchison","Austria-Móvil-Hutchison"]
[{"$f":"IF(#REF!=\"English\",Translations!B422,IF(#REF!=\"French\",Translations!C422,IF(#REF!=\"Italian\",Translations!D422,IF(#REF!=\"German\",Translations!E422,IF(#REF!=\"Spanish\",Translations!F422,Translations!B422)))))","v":{"$error":"#REF!"}},"Austria-Mobile-Mobilkom","Autriche-Mobile-Mobilkom","Austria-Mobile-Mobilkom","Österreich-Mobilfunk-Mobilkom","Austria-Móvil-Mobilkom"]
[{"$f":"IF(#REF!=\"English\",Translations!B423,IF(#REF!=\"French\",Translations!C423,IF(#REF!=\"Italian\",Translations!D423,IF(#REF!=\"German\",Translations!E423,IF(#REF!=\"Spanish\",Translations!F423,Translations!B423)))))","v":{"$error":"#REF!"}},"Austria-Mobile-One","Autriche-Mobile-One","Austria-Mobile-One","Österreich-Mobilfunk-One","Austria-Móvil-One"]
[{"$f":"IF(#REF!=\"English\",Translations!B424,IF(#REF!=\"French\",Translations!C424,IF(#REF!=\"Italian\",Translations!D424,IF(#REF!=\"German\",Translations!E424,IF(#REF!=\"Spanish\",Translations!F424,Translations!B424)))))","v":{"$error":"#REF!"}},"Austria-Mobile-Others","Autriche-Mobile-Autres","Austria-Mobile-Altri","Österreich-Mobilfunk-Andere","Austria-Móvil-Otros"]
[{"$f":"IF(#REF!=\"English\",Translations!B425,IF(#REF!=\"French\",Translations!C425,IF(#REF!=\"Italian\",Translations!D425,IF(#REF!=\"German\",Translations!E425,IF(#REF!=\"Spanish\",Translations!F425,Translations!B425)))))","v":{"$error":"#REF!"}},"Austria-Mobile-Telering","Autriche-Mobile-Telering","Austria-Mobile-Telering","Österreich-Mobilfunk-Telering","Austria-Móvil-Telering"]
[{"$f":"IF(#REF!=\"English\",Translations!B426,IF(#REF!=\"French\",Translations!C426,IF(#REF!=\"Italian\",Translations!D426,IF(#REF!=\"German\",Translations!E426,IF(#REF!=\"Spanish\",Translations!F426,Translations!B426)))))","v":{"$error":"#REF!"}},"Austria-Mobile-TMobile","Autriche-Mobile-Tmobile","Austria-Mobile-Tmobile","Österreich-Mobilfunk-Tmobile","Austria-Móvil-Tmobile"]
[{"$f":"IF(#REF!=\"English\",Translations!B427,IF(#REF!=\"French\",Translations!C427,IF(#REF!=\"Italian\",Translations!D427,IF(#REF!=\"German\",Translations!E427,IF(#REF!=\"Spanish\",Translations!F427,Translations!B427)))))","v":{"$error":"#REF!"}},"Austria-Mobile-Yesss","Autriche-Mobile-Yesss","Austria-Mobile-Yesss","Österreich-Mobilfunk-Yesss","Austria-Móvil-Yesss"]
[{"$f":"IF(#REF!=\"English\",Translations!B428,IF(#REF!=\"French\",Translations!C428,IF(#REF!=\"Italian\",Translations!D428,IF(#REF!=\"German\",Translations!E428,IF(#REF!=\"Spanish\",Translations!F428,Translations!B428)))))","v":{"$error":"#REF!"}},"Austria-Personal Number","Australie-Numéro personnel","Austria-Personal Number","Österreich-Persönliche Nummer","Austria-Número Personal"]
[{"$f":"IF(#REF!=\"English\",Translations!B429,IF(#REF!=\"French\",Translations!C429,IF(#REF!=\"Italian\",Translations!D429,IF(#REF!=\"German\",Translations!E429,IF(#REF!=\"Spanish\",Translations!F429,Translations!B429)))))","v":{"$error":"#REF!"}},"Austria-Shared Cost","Autriche-Business Call","Austria-Shared Cost","Österreich-Shared Cost","Austria-Shared Cost"]
[{"$f":"IF(#REF!=\"English\",Translations!B430,IF(#REF!=\"French\",Translations!C430,IF(#REF!=\"Italian\",Translations!D430,IF(#REF!=\"German\",Translations!E430,IF(#REF!=\"Spanish\",Translations!F430,Translations!B430)))))","v":{"$error":"#REF!"}},"Azerbaijan","Azerbaïdjan","Azerbaigian","Aserbaidschan","Azerbaiyán"]
[{"$f":"IF(#REF!=\"English\",Translations!B431,IF(#REF!=\"French\",Translations!C431,IF(#REF!=\"Italian\",Translations!D431,IF(#REF!=\"German\",Translations!E431,IF(#REF!=\"Spanish\",Translations!F431,Translations!B431)))))","v":{"$error":"#REF!"}},"Azerbaijan-Mobile-Azercell","Azerbaïdjan-Mobile-Azercell","Azerbaigian-Mobile-Azercell","Aserbaidschan-Mobilfunk-Azercell","Azerbaiyán-Móvil-Azercell"]
[{"$f":"IF(#REF!=\"English\",Translations!B432,IF(#REF!=\"French\",Translations!C432,IF(#REF!=\"Italian\",Translations!D432,IF(#REF!=\"German\",Translations!E432,IF(#REF!=\"Spanish\",Translations!F432,Translations!B432)))))","v":{"$error":"#REF!"}},"Azerbaijan-Mobile-Azerphone","Azerbaïdjan-Mobile-Azerphone","Azerbaigian-Mobile-Azerphone","Aserbaidschan-Mobilfunk-Azerphone","Azerbaiyán-Móvil-Azerphone"]
[{"$f":"IF(#REF!=\"English\",Translations!B433,IF(#REF!=\"French\",Translations!C433,IF(#REF!=\"Italian\",Translations!D433,IF(#REF!=\"German\",Translations!E433,IF(#REF!=\"Spanish\",Translations!F433,Translations!B433)))))","v":{"$error":"#REF!"}},"Azerbaijan-Mobile-Others","Azerbaïdjan-Mobile-Autres","Azerbaigian-Mobile-Altri","Aserbaidschan-Mobilfunk-Andere","Azerbaiyán-Móvil-Otros"]
[{"$f":"IF(#REF!=\"English\",Translations!B434,IF(#REF!=\"French\",Translations!C434,IF(#REF!=\"Italian\",Translations!D434,IF(#REF!=\"German\",Translations!E434,IF(#REF!=\"Spanish\",Translations!F434,Translations!B434)))))","v":{"$error":"#REF!"}},"Bahamas","Bahamas","Bahamas","Bahamas","Bahamas"]
[{"$f":"IF(#REF!=\"English\",Translations!B435,IF(#REF!=\"French\",Translations!C435,IF(#REF!=\"Italian\",Translations!D435,IF(#REF!=\"German\",Translations!E435,IF(#REF!=\"Spanish\",Translations!F435,Translations!B435)))))","v":{"$error":"#REF!"}},"Bahrain","Bahrein","Bahrain","Bahrain","Bahréin"]
[{"$f":"IF(#REF!=\"English\",Translations!B436,IF(#REF!=\"French\",Translations!C436,IF(#REF!=\"Italian\",Translations!D436,IF(#REF!=\"German\",Translations!E436,IF(#REF!=\"Spanish\",Translations!F436,Translations!B436)))))","v":{"$error":"#REF!"}},"Bahrain-Mobile-Batelco","Bahrein-Mobile-Batelco","Bahrain-Mobile-Batelco","Bahrain-Mobilfunk-Batelco","Bahréin-Móvil-Batelco"]
[{"$f":"IF(#REF!=\"English\",Translations!B437,IF(#REF!=\"French\",Translations!C437,IF(#REF!=\"Italian\",Translations!D437,IF(#REF!=\"German\",Translations!E437,IF(#REF!=\"Spanish\",Translations!F437,Translations!B437)))))","v":{"$error":"#REF!"}},"Bahrain-Mobile-Others","Bahrein-Mobile-Autres","Bahrain-Mobile-Altri","Bahrain-Mobilfunk-Andere","Bahréin-Móvil-Otros"]
[{"$f":"IF(#REF!=\"English\",Translations!B438,IF(#REF!=\"French\",Translations!C438,IF(#REF!=\"Italian\",Translations!D438,IF(#REF!=\"German\",Translations!E438,IF(#REF!=\"Spanish\",Translations!F438,Translations!B438)))))","v":{"$error":"#REF!"}},"Bahrain-Mobile-STC","Bahrein-Mobile-STC","Bahrain-Mobile-STC","Bahrain-Mobilfunk-STC","Bahréin-Móvil-STC"]
[{"$f":"IF(#REF!=\"English\",Translations!B439,IF(#REF!=\"French\",Translations!C439,IF(#REF!=\"Italian\",Translations!D439,IF(#REF!=\"German\",Translations!E439,IF(#REF!=\"Spanish\",Translations!F439,Translations!B439)))))","v":{"$error":"#REF!"}},"Bahrain-Mobile-Zain","Bahrein-Mobile-Zain","Bahrain-Mobile-Zain","Bahrain-Mobilfunk-Zain","Bahréin-Móvil-Zain"]
[{"$f":"IF(#REF!=\"English\",Translations!B440,IF(#REF!=\"French\",Translations!C440,IF(#REF!=\"Italian\",Translations!D440,IF(#REF!=\"German\",Translations!E440,IF(#REF!=\"Spanish\",Translations!F440,Translations!B440)))))","v":{"$error":"#REF!"}},"Bahrain-OLO","Bahrein-OLO","Bahrain-OLO","Bahrain-OLO","Bahréin-OLO"]
[{"$f":"IF(#REF!=\"English\",Translations!B441,IF(#REF!=\"French\",Translations!C441,IF(#REF!=\"Italian\",Translations!D441,IF(#REF!=\"German\",Translations!E441,IF(#REF!=\"Spanish\",Translations!F441,Translations!B441)))))","v":{"$error":"#REF!"}},"Bangladesh","Bangladesh","Bangladesh","Bangladesch","Bangladesh"]
[{"$f":"IF(#REF!=\"English\",Translations!B442,IF(#REF!=\"French\",Translations!C442,IF(#REF!=\"Italian\",Translations!D442,IF(#REF!=\"German\",Translations!E442,IF(#REF!=\"Spanish\",Translations!F442,Translations!B442)))))","v":{"$error":"#REF!"}},"Bangladesh-Chittagong","Bangladesh-Chittagong","Bangladesh-Chittagong","Bangladesch-Chittagong","Bangladesh-Chittagong"]
[{"$f":"IF(#REF!=\"English\",Translations!B443,IF(#REF!=\"French\",Translations!C443,IF(#REF!=\"Italian\",Translations!D443,IF(#REF!=\"German\",Translations!E443,IF(#REF!=\"Spanish\",Translations!F443,Translations!B443)))))","v":{"$error":"#REF!"}},"Bangladesh-Dhaka","Bangladesh-Dhaka","Bangladesh-Dhaka","Bangladesch-Dhaka","Bangladesh-Dhaka"]
[{"$f":"IF(#REF!=\"English\",Translations!B444,IF(#REF!=\"French\",Translations!C444,IF(#REF!=\"Italian\",Translations!D444,IF(#REF!=\"German\",Translations!E444,IF(#REF!=\"Spanish\",Translations!F444,Translations!B444)))))","v":{"$error":"#REF!"}},"Bangladesh-Mobile-Grameen","Bangladesh-Mobile-Grameen","Bangladesh-Mobile-Grameen","Bangladesch-Mobilfunk-Grameen","Bangladesh-Móvil-Grameen"]
[{"$f":"IF(#REF!=\"English\",Translations!B445,IF(#REF!=\"French\",Translations!C445,IF(#REF!=\"Italian\",Translations!D445,IF(#REF!=\"German\",Translations!E445,IF(#REF!=\"Spanish\",Translations!F445,Translations!B445)))))","v":{"$error":"#REF!"}},"Bangladesh-Mobile-Others","Bangladesh-Mobile-Autres","Bangladesh-Mobile-Altri","Bangladesch-Mobilfunk-Andere","Bangladesh-Móvil-Otros"]
[{"$f":"IF(#REF!=\"English\",Translations!B446,IF(#REF!=\"French\",Translations!C446,IF(#REF!=\"Italian\",Translations!D446,IF(#REF!=\"German\",Translations!E446,IF(#REF!=\"Spanish\",Translations!F446,Translations!B446)))))","v":{"$error":"#REF!"}},"Bangladesh-Sylhet","Bangladesh-Sylhet","Bangladesh-Sylhet","Bangladesch-Sylhet","Bangladesh-Sylhet"]
[{"$f":"IF(#REF!=\"English\",Translations!B447,IF(#REF!=\"French\",Translations!C447,IF(#REF!=\"Italian\",Translations!D447,IF(#REF!=\"German\",Translations!E447,IF(#REF!=\"Spanish\",Translations!F447,Translations!B447)))))","v":{"$error":"#REF!"}},"Barbados","Barbade","Barbados","Barbados","Barbados"]
[{"$f":"IF(#REF!=\"English\",Translations!B448,IF(#REF!=\"French\",Translations!C448,IF(#REF!=\"Italian\",Translations!D448,IF(#REF!=\"German\",Translations!E448,IF(#REF!=\"Spanish\",Translations!F448,Translations!B448)))))","v":{"$error":"#REF!"}},"Belarus","Bélarus","Bielorussia","Weißrussland","Bielorrusia"]
[{"$f":"IF(#REF!=\"English\",Translations!B449,IF(#REF!=\"French\",Translations!C449,IF(#REF!=\"Italian\",Translations!D449,IF(#REF!=\"German\",Translations!E449,IF(#REF!=\"Spanish\",Translations!F449,Translations!B449)))))","v":{"$error":"#REF!"}},"Belarus-Minsk","Bélarus-Minsk","Bielorussia-Minsk","Weißrussland-Minsk","Bielorrusia-Minsk"]
[{"$f":"IF(#REF!=\"English\",Translations!B450,IF(#REF!=\"French\",Translations!C450,IF(#REF!=\"Italian\",Translations!D450,IF(#REF!=\"German\",Translations!E450,IF(#REF!=\"Spanish\",Translations!F450,Translations!B450)))))","v":{"$error":"#REF!"}},"Belarus-Mobile","Bélarus-Mobile","Bielorussia-Mobile","Weißrussland-Mobilfunk","Bielorrusia-Móvil"]
[{"$f":"IF(#REF!=\"English\",Translations!B451,IF(#REF!=\"French\",Translations!C451,IF(#REF!=\"Italian\",Translations!D451,IF(#REF!=\"German\",Translations!E451,IF(#REF!=\"Spanish\",Translations!F451,Translations!B451)))))","v":{"$error":"#REF!"}},"Belgium","Belgique","Belgio","Belgien","Bélgica"]
[{"$f":"IF(#REF!=\"English\",Translations!B452,IF(#REF!=\"French\",Translations!C452,IF(#REF!=\"Italian\",Translations!D452,IF(#REF!=\"German\",Translations!E452,IF(#REF!=\"Spanish\",Translations!F452,Translations!B452)))))","v":{"$error":"#REF!"}},"Belgium-Freephone","Belgique-Libre appel","Belgio-Freephone","Belgien-Freephone","Bélgica-Freephone"]
[{"$f":"IF(#REF!=\"English\",Translations!B453,IF(#REF!=\"French\",Translations!C453,IF(#REF!=\"Italian\",Translations!D453,IF(#REF!=\"German\",Translations!E453,IF(#REF!=\"Spanish\",Translations!F453,Translations!B453)))))","v":{"$error":"#REF!"}},"Belgium-Mobile-Base","Belgique-Mobile-Base","Belgio-Mobile-Base","Belgien-Mobilfunk-Base","Bélgica-Móvil-Base"]
[{"$f":"IF(#REF!=\"English\",Translations!B454,IF(#REF!=\"French\",Translations!C454,IF(#REF!=\"Italian\",Translations!D454,IF(#REF!=\"German\",Translations!E454,IF(#REF!=\"Spanish\",Translations!F454,Translations!B454)))))","v":{"$error":"#REF!"}},"Belgium-Mobile-Mobistar","Belgique-Mobile-Mobistar","Belgio-Mobile-Mobistar","Belgien-Mobilfunk-Mobistar","Bélgica-Móvil-Mobistar"]
[{"$f":"IF(#REF!=\"English\",Translations!B455,IF(#REF!=\"French\",Translations!C455,IF(#REF!=\"Italian\",Translations!D455,IF(#REF!=\"German\",Translations!E455,IF(#REF!=\"Spanish\",Translations!F455,Translations!B455)))))","v":{"$error":"#REF!"}},"Belgium-Mobile-Others","Belgique-Mobile-Autres","Belgio-Mobile-Altri","Belgien-Mobilfunk-Andere","Bélgica-Móvil-Otros"]
[{"$f":"IF(#REF!=\"English\",Translations!B456,IF(#REF!=\"French\",Translations!C456,IF(#REF!=\"Italian\",Translations!D456,IF(#REF!=\"German\",Translations!E456,IF(#REF!=\"Spanish\",Translations!F456,Translations!B456)))))","v":{"$error":"#REF!"}},"Belgium-Mobile-Proximus","Belgique-Mobile-Proximus","Belgio-Mobile-Proximus","Belgien-Mobilfunk-Proximus","Bélgica-Móvil-Proximus"]
[{"$f":"IF(#REF!=\"English\",Translations!B457,IF(#REF!=\"French\",Translations!C457,IF(#REF!=\"Italian\",Translations!D457,IF(#REF!=\"German\",Translations!E457,IF(#REF!=\"Spanish\",Translations!F457,Translations!B457)))))","v":{"$error":"#REF!"}},"Belgium-Mobile-Telenet","Belgique-Mobile-Telenet","Belgio-Mobile-Telenet","Belgien-Mobilfunk-Telenet","Bélgica-Móvil-Telenet"]
[{"$f":"IF(#REF!=\"English\",Translations!B458,IF(#REF!=\"French\",Translations!C458,IF(#REF!=\"Italian\",Translations!D458,IF(#REF!=\"German\",Translations!E458,IF(#REF!=\"Spanish\",Translations!F458,Translations!B458)))))","v":{"$error":"#REF!"}},"Belgium-Mobile-Lycamobile","Belgique-Mobile-Lycamobile","Belgio-Mobile-Lycamobile","Belgien-Mobilfunk-Lycamobile","Bélgica-Móvil-Lycamobile"]
[{"$f":"IF(#REF!=\"English\",Translations!B459,IF(#REF!=\"French\",Translations!C459,IF(#REF!=\"Italian\",Translations!D459,IF(#REF!=\"German\",Translations!E459,IF(#REF!=\"Spanish\",Translations!F459,Translations!B459)))))","v":{"$error":"#REF!"}},"Belgium-Shared Cost","Belgique-Business Call","Belgio-Shared Cost","Belgien-Shared Cost","Bélgica-Shared Cost"]
[{"$f":"IF(#REF!=\"English\",Translations!B460,IF(#REF!=\"French\",Translations!C460,IF(#REF!=\"Italian\",Translations!D460,IF(#REF!=\"German\",Translations!E460,IF(#REF!=\"Spanish\",Translations!F460,Translations!B460)))))","v":{"$error":"#REF!"}},"Belize","Belize","Belize ","Belize","Belice"]
[{"$f":"IF(#REF!=\"English\",Translations!B461,IF(#REF!=\"French\",Translations!C461,IF(#REF!=\"Italian\",Translations!D461,IF(#REF!=\"German\",Translations!E461,IF(#REF!=\"Spanish\",Translations!F461,Translations!B461)))))","v":{"$error":"#REF!"}},"Benin","Bénin","Benin","Benin","Benín"]
[{"$f":"IF(#REF!=\"English\",Translations!B462,IF(#REF!=\"French\",Translations!C462,IF(#REF!=\"Italian\",Translations!D462,IF(#REF!=\"German\",Translations!E462,IF(#REF!=\"Spanish\",Translations!F462,Translations!B462)))))","v":{"$error":"#REF!"}},"Benin-Mobile-Globacom","Bénin-Mobile-Globacom","Benin-Mobile-Globacom","Benin-Mobilfunk-Globacom","Benín-Móvil-Globacom"]
[{"$f":"IF(#REF!=\"English\",Translations!B463,IF(#REF!=\"French\",Translations!C463,IF(#REF!=\"Italian\",Translations!D463,IF(#REF!=\"German\",Translations!E463,IF(#REF!=\"Spanish\",Translations!F463,Translations!B463)))))","v":{"$error":"#REF!"}},"Benin-Mobile-Libercom","Bénin-Mobile-Libercom","Benin-Mobile-Libercom","Benin-Mobilfunk-Libercom","Benín-Móvil-Libercom"]
[{"$f":"IF(#REF!=\"English\",Translations!B464,IF(#REF!=\"French\",Translations!C464,IF(#REF!=\"Italian\",Translations!D464,IF(#REF!=\"German\",Translations!E464,IF(#REF!=\"Spanish\",Translations!F464,Translations!B464)))))","v":{"$error":"#REF!"}},"Benin-Mobile-MTN","Bénin-Mobile-MTN","Benin-Mobile-MTN","Benin-Mobilfunk-MTN","Benín-Móvil-MTN"]
[{"$f":"IF(#REF!=\"English\",Translations!B465,IF(#REF!=\"French\",Translations!C465,IF(#REF!=\"Italian\",Translations!D465,IF(#REF!=\"German\",Translations!E465,IF(#REF!=\"Spanish\",Translations!F465,Translations!B465)))))","v":{"$error":"#REF!"}},"Benin-Mobile-Others","Bénin-Mobile-Others","Benin-Mobile-Others","Benin-Mobilfunk-Others","Benín-Móvil-Others"]
[{"$f":"IF(#REF!=\"English\",Translations!B466,IF(#REF!=\"French\",Translations!C466,IF(#REF!=\"Italian\",Translations!D466,IF(#REF!=\"German\",Translations!E466,IF(#REF!=\"Spanish\",Translations!F466,Translations!B466)))))","v":{"$error":"#REF!"}},"Benin-Mobile-Telecel","Bénin-Mobile-Telecel","Benin-Mobile-Telecel","Benin-Mobilfunk-Telecel","Benín-Móvil-Telecel"]
[{"$f":"IF(#REF!=\"English\",Translations!B467,IF(#REF!=\"French\",Translations!C467,IF(#REF!=\"Italian\",Translations!D467,IF(#REF!=\"German\",Translations!E467,IF(#REF!=\"Spanish\",Translations!F467,Translations!B467)))))","v":{"$error":"#REF!"}},"Bermuda","Bermudes","Bermude","Bermuda","Bermudas"]
[{"$f":"IF(#REF!=\"English\",Translations!B468,IF(#REF!=\"French\",Translations!C468,IF(#REF!=\"Italian\",Translations!D468,IF(#REF!=\"German\",Translations!E468,IF(#REF!=\"Spanish\",Translations!F468,Translations!B468)))))","v":{"$error":"#REF!"}},"Bhutan","Bhoutan","Bhutan","Bhutan","Bután"]
[{"$f":"IF(#REF!=\"English\",Translations!B469,IF(#REF!=\"French\",Translations!C469,IF(#REF!=\"Italian\",Translations!D469,IF(#REF!=\"German\",Translations!E469,IF(#REF!=\"Spanish\",Translations!F469,Translations!B469)))))","v":{"$error":"#REF!"}},"Bolivia","Bolivie","Bolivia","Bolivien","Bolivia"]
[{"$f":"IF(#REF!=\"English\",Translations!B470,IF(#REF!=\"French\",Translations!C470,IF(#REF!=\"Italian\",Translations!D470,IF(#REF!=\"German\",Translations!E470,IF(#REF!=\"Spanish\",Translations!F470,Translations!B470)))))","v":{"$error":"#REF!"}},"Bolivia-Rural","Bolivie-Rural","Bolivia-Rural","Bolivien-Rural","Bolivia-Rural"]
[{"$f":"IF(#REF!=\"English\",Translations!B471,IF(#REF!=\"French\",Translations!C471,IF(#REF!=\"Italian\",Translations!D471,IF(#REF!=\"German\",Translations!E471,IF(#REF!=\"Spanish\",Translations!F471,Translations!B471)))))","v":{"$error":"#REF!"}},"Bolivia-Cochabamba","Bolivie-Cochabamba","Bolivia-Cochabamba","Bolivien-Cochabamba","Bolivia-Cochabamba"]
[{"$f":"IF(#REF!=\"English\",Translations!B472,IF(#REF!=\"French\",Translations!C472,IF(#REF!=\"Italian\",Translations!D472,IF(#REF!=\"German\",Translations!E472,IF(#REF!=\"Spanish\",Translations!F472,Translations!B472)))))","v":{"$error":"#REF!"}},"Bolivia-La Paz","Bolivie-La Paz","Bolivia-La Paz","Bolivien-La Paz","Bolivia-La Paz"]
[{"$f":"IF(#REF!=\"English\",Translations!B473,IF(#REF!=\"French\",Translations!C473,IF(#REF!=\"Italian\",Translations!D473,IF(#REF!=\"German\",Translations!E473,IF(#REF!=\"Spanish\",Translations!F473,Translations!B473)))))","v":{"$error":"#REF!"}},"Bolivia-Mobile-Entel","Bolivie-Mobile-Entel","Bolivia-Mobile-Entel","Bolivien-Mobilfunk-Entel","Bolivia-Móvil-Entel"]
[{"$f":"IF(#REF!=\"English\",Translations!B474,IF(#REF!=\"French\",Translations!C474,IF(#REF!=\"Italian\",Translations!D474,IF(#REF!=\"German\",Translations!E474,IF(#REF!=\"Spanish\",Translations!F474,Translations!B474)))))","v":{"$error":"#REF!"}},"Bolivia-Mobile-Others","Bolivie-Mobile-Autres","Bolivia-Mobile-Altri","Bolivien-Mobilfunk-Andere","Bolivia-Móvil-Otros"]
[{"$f":"IF(#REF!=\"English\",Translations!B475,IF(#REF!=\"French\",Translations!C475,IF(#REF!=\"Italian\",Translations!D475,IF(#REF!=\"German\",Translations!E475,IF(#REF!=\"Spanish\",Translations!F475,Translations!B475)))))","v":{"$error":"#REF!"}},"Bolivia-Mobile-Telecel","Bolivie-Mobile-Telecel","Bolivia-Mobile-Telecel","Bolivien-Mobilfunk-Telecel","Bolivia-Móvil-Telecel"]
[{"$f":"IF(#REF!=\"English\",Translations!B476,IF(#REF!=\"French\",Translations!C476,IF(#REF!=\"Italian\",Translations!D476,IF(#REF!=\"German\",Translations!E476,IF(#REF!=\"Spanish\",Translations!F476,Translations!B476)))))","v":{"$error":"#REF!"}},"Bolivia-Mobile-Nuevatel","Bolivie-Mobile-Nuevatel","Bolivia-Mobile-Nuevatel","Bolivien-Mobilfunk-Nuevatel","Bolivia-Móvil-Nuevatel"]
[{"$f":"IF(#REF!=\"English\",Translations!B477,IF(#REF!=\"French\",Translations!C477,IF(#REF!=\"Italian\",Translations!D477,IF(#REF!=\"German\",Translations!E477,IF(#REF!=\"Spanish\",Translations!F477,Translations!B477)))))","v":{"$error":"#REF!"}},"Bolivia-Santa Cruz","Bolivie-Santa Cruz","Bolivia-Santa Cruz","Bolivien-Santa Cruz","Bolivia-Santa Cruz"]
[{"$f":"IF(#REF!=\"English\",Translations!B478,IF(#REF!=\"French\",Translations!C478,IF(#REF!=\"Italian\",Translations!D478,IF(#REF!=\"German\",Translations!E478,IF(#REF!=\"Spanish\",Translations!F478,Translations!B478)))))","v":{"$error":"#REF!"}},"Bosnia","Bosnie Herzégovine","Bosnia Erzegovina ","Bosnien Herzegowina","Bosnia Herzegovina"]
[{"$f":"IF(#REF!=\"English\",Translations!B479,IF(#REF!=\"French\",Translations!C479,IF(#REF!=\"Italian\",Translations!D479,IF(#REF!=\"German\",Translations!E479,IF(#REF!=\"Spanish\",Translations!F479,Translations!B479)))))","v":{"$error":"#REF!"}},"Bosnia-HPT","Bosnie Herzégovine-HPT","Bosnia Erzegovina-HPT","Bosnien Herzegowina-HPT","Bosnia Herzegovina-HPT"]
[{"$f":"IF(#REF!=\"English\",Translations!B480,IF(#REF!=\"French\",Translations!C480,IF(#REF!=\"Italian\",Translations!D480,IF(#REF!=\"German\",Translations!E480,IF(#REF!=\"Spanish\",Translations!F480,Translations!B480)))))","v":{"$error":"#REF!"}},"Bosnia-Mobile-BH","Bosnie H.-Mobile-BH","Bosnia Erzegovina-Mobile-BH","Bosnien H.-Mobilfunk-BH","Bosnia H.-Móvil-BH"]
[{"$f":"IF(#REF!=\"English\",Translations!B481,IF(#REF!=\"French\",Translations!C481,IF(#REF!=\"Italian\",Translations!D481,IF(#REF!=\"German\",Translations!E481,IF(#REF!=\"Spanish\",Translations!F481,Translations!B481)))))","v":{"$error":"#REF!"}},"Bosnia-Mobile-HPT","Bosnie H.-Mobile-HPT","Bosnia Erzegovina -HPT","Bosnien H.-Mobilfunk-HPT","Bosnia H.-Móvil-HPT"]
[{"$f":"IF(#REF!=\"English\",Translations!B482,IF(#REF!=\"French\",Translations!C482,IF(#REF!=\"Italian\",Translations!D482,IF(#REF!=\"German\",Translations!E482,IF(#REF!=\"Spanish\",Translations!F482,Translations!B482)))))","v":{"$error":"#REF!"}},"Bosnia-Mobile-Others","Bosnie H.-Mobile-Autres","Bosnia Erzegovina-Mobile-Altri","Bosnien H.-Mobilfunk-Andere","Bosnia H.-Móvil-Otros"]
[{"$f":"IF(#REF!=\"English\",Translations!B483,IF(#REF!=\"French\",Translations!C483,IF(#REF!=\"Italian\",Translations!D483,IF(#REF!=\"German\",Translations!E483,IF(#REF!=\"Spanish\",Translations!F483,Translations!B483)))))","v":{"$error":"#REF!"}},"Bosnia-Mobile-Srps","Bosnie H.-Mobile-Srps","Bosnia Erzegovina-Mobile-Srps","Bosnien H.-Mobilfunk-Srps","Bosnia H.-Móvil-Srps"]
[{"$f":"IF(#REF!=\"English\",Translations!B484,IF(#REF!=\"French\",Translations!C484,IF(#REF!=\"Italian\",Translations!D484,IF(#REF!=\"German\",Translations!E484,IF(#REF!=\"Spanish\",Translations!F484,Translations!B484)))))","v":{"$error":"#REF!"}},"Bosnia-Srpske","Bosnie Herzégovine-Srpske","Bosnia Erzegovina -Srpske","Bosnien Herzegowina-Srpske","Bosnia Herzegovina-Srpske"]
[{"$f":"IF(#REF!=\"English\",Translations!B485,IF(#REF!=\"French\",Translations!C485,IF(#REF!=\"Italian\",Translations!D485,IF(#REF!=\"German\",Translations!E485,IF(#REF!=\"Spanish\",Translations!F485,Translations!B485)))))","v":{"$error":"#REF!"}},"Botswana","Botswana","Botswana ","Botswana","Botswana"]
[{"$f":"IF(#REF!=\"English\",Translations!B486,IF(#REF!=\"French\",Translations!C486,IF(#REF!=\"Italian\",Translations!D486,IF(#REF!=\"German\",Translations!E486,IF(#REF!=\"Spanish\",Translations!F486,Translations!B486)))))","v":{"$error":"#REF!"}},"Botswana-Mobile-Mascom","Botswana-Mobile-Mascom","Botswana -Mobile-Mascom","Botswana-Mobilfunk-Mascom","Botswana-Móvil-Mascom"]
[{"$f":"IF(#REF!=\"English\",Translations!B487,IF(#REF!=\"French\",Translations!C487,IF(#REF!=\"Italian\",Translations!D487,IF(#REF!=\"German\",Translations!E487,IF(#REF!=\"Spanish\",Translations!F487,Translations!B487)))))","v":{"$error":"#REF!"}},"Botswana-Mobile-Orange","Botswana-Mobile-Orange","Botswana -Mobile-Orange","Botswana-Mobilfunk-Orange","Botswana-Móvil-Orange"]
[{"$f":"IF(#REF!=\"English\",Translations!B488,IF(#REF!=\"French\",Translations!C488,IF(#REF!=\"Italian\",Translations!D488,IF(#REF!=\"German\",Translations!E488,IF(#REF!=\"Spanish\",Translations!F488,Translations!B488)))))","v":{"$error":"#REF!"}},"Botswana-Mobile-Others","Botswana-Mobile-Autres","Botswana -Mobile-Altri","Botswana-Mobilfunk-Andere","Botswana-Móvil-Otros"]
[{"$f":"IF(#REF!=\"English\",Translations!B489,IF(#REF!=\"French\",Translations!C489,IF(#REF!=\"Italian\",Translations!D489,IF(#REF!=\"German\",Translations!E489,IF(#REF!=\"Spanish\",Translations!F489,Translations!B489)))))","v":{"$error":"#REF!"}},"Brazil","Brésil","Brasile ","Brasilien","Brasil"]
[{"$f":"IF(#REF!=\"English\",Translations!B490,IF(#REF!=\"French\",Translations!C490,IF(#REF!=\"Italian\",Translations!D490,IF(#REF!=\"German\",Translations!E490,IF(#REF!=\"Spanish\",Translations!F490,Translations!B490)))))","v":{"$error":"#REF!"}},"Brazil-Belo Horizonte","Brésil-Belo Horizonte","Brasile -Belo Horizonte","Brasilien-Belo Horizonte","Brasil-Belo Horizonte"]
[{"$f":"IF(#REF!=\"English\",Translations!B491,IF(#REF!=\"French\",Translations!C491,IF(#REF!=\"Italian\",Translations!D491,IF(#REF!=\"German\",Translations!E491,IF(#REF!=\"Spanish\",Translations!F491,Translations!B491)))))","v":{"$error":"#REF!"}},"Brazil-Brasilia","Brésil-Brasilia","Brasile -Brasilia","Brasilien-Brasilia","Brasil-Brasilia"]
[{"$f":"IF(#REF!=\"English\",Translations!B492,IF(#REF!=\"French\",Translations!C492,IF(#REF!=\"Italian\",Translations!D492,IF(#REF!=\"German\",Translations!E492,IF(#REF!=\"Spanish\",Translations!F492,Translations!B492)))))","v":{"$error":"#REF!"}},"Brazil-Campinas","Brésil-Campinas","Brasile -Campinas","Brasilien-Campinas","Brasil-Campinas"]
[{"$f":"IF(#REF!=\"English\",Translations!B493,IF(#REF!=\"French\",Translations!C493,IF(#REF!=\"Italian\",Translations!D493,IF(#REF!=\"German\",Translations!E493,IF(#REF!=\"Spanish\",Translations!F493,Translations!B493)))))","v":{"$error":"#REF!"}},"Brazil-Mobile","Brésil-Mobile","Brasile -Mobile","Brasilien-Mobilfunk","Brasil-Móvil"]
[{"$f":"IF(#REF!=\"English\",Translations!B494,IF(#REF!=\"French\",Translations!C494,IF(#REF!=\"Italian\",Translations!D494,IF(#REF!=\"German\",Translations!E494,IF(#REF!=\"Spanish\",Translations!F494,Translations!B494)))))","v":{"$error":"#REF!"}},"Brazil-Rio de Janeiro","Brésil-Rio de Janeiro","Brasile -Rio de Janeiro","Brasilien-Rio de Janeiro","Brasil-Rio de Janeiro"]
[{"$f":"IF(#REF!=\"English\",Translations!B495,IF(#REF!=\"French\",Translations!C495,IF(#REF!=\"Italian\",Translations!D495,IF(#REF!=\"German\",Translations!E495,IF(#REF!=\"Spanish\",Translations!F495,Translations!B495)))))","v":{"$error":"#REF!"}},"Brazil-Sao Paulo","Brésil-Sao Paulo","Brasile -Sao Paulo","Brasilien-Sao Paulo","Brasil-Sao Paulo"]
[{"$f":"IF(#REF!=\"English\",Translations!B496,IF(#REF!=\"French\",Translations!C496,IF(#REF!=\"Italian\",Translations!D496,IF(#REF!=\"German\",Translations!E496,IF(#REF!=\"Spanish\",Translations!F496,Translations!B496)))))","v":{"$error":"#REF!"}},"Brunei Darussalam","Brunéi Darussalam","Brunei Darussalam","Brunei Darussalam","Brunei Darussalam"]
[{"$f":"IF(#REF!=\"English\",Translations!B497,IF(#REF!=\"French\",Translations!C497,IF(#REF!=\"Italian\",Translations!D497,IF(#REF!=\"German\",Translations!E497,IF(#REF!=\"Spanish\",Translations!F497,Translations!B497)))))","v":{"$error":"#REF!"}},"Brunei Darussalam-Mobile","Brunéi Darussalam-Mobile","Brunei Darussalam-Mobile","Brunei Darussalam-Mobilfunk","Brunei Darussalam-Móvil"]
[{"$f":"IF(#REF!=\"English\",Translations!B498,IF(#REF!=\"French\",Translations!C498,IF(#REF!=\"Italian\",Translations!D498,IF(#REF!=\"German\",Translations!E498,IF(#REF!=\"Spanish\",Translations!F498,Translations!B498)))))","v":{"$error":"#REF!"}},"Bulgaria","Bulgarie","Bulgaria","Bulgarien","Bulgaria"]
[{"$f":"IF(#REF!=\"English\",Translations!B499,IF(#REF!=\"French\",Translations!C499,IF(#REF!=\"Italian\",Translations!D499,IF(#REF!=\"German\",Translations!E499,IF(#REF!=\"Spanish\",Translations!F499,Translations!B499)))))","v":{"$error":"#REF!"}},"Bulgaria-Mobile-BTC","Bulgarie-Mobile-BTC","Bulgaria-Mobile-BTC","Bulgarien-Mobilfunk-BTC","Bulgaria-Móvil-BTC"]
[{"$f":"IF(#REF!=\"English\",Translations!B500,IF(#REF!=\"French\",Translations!C500,IF(#REF!=\"Italian\",Translations!D500,IF(#REF!=\"German\",Translations!E500,IF(#REF!=\"Spanish\",Translations!F500,Translations!B500)))))","v":{"$error":"#REF!"}},"Bulgaria-Mobile-Globul","Bulgarie-Mobile-Globul","Bulgaria-Mobile-Globul","Bulgarien-Mobilfunk-Globul","Bulgaria-Móvil-Globul"]
[{"$f":"IF(#REF!=\"English\",Translations!B501,IF(#REF!=\"French\",Translations!C501,IF(#REF!=\"Italian\",Translations!D501,IF(#REF!=\"German\",Translations!E501,IF(#REF!=\"Spanish\",Translations!F501,Translations!B501)))))","v":{"$error":"#REF!"}},"Bulgaria-Mobile-Mobitel","Bulgarie-Mobile-Mobitel","Bulgaria-Mobile-Mobitel","Bulgarien-Mobilfunk-Mobitel","Bulgaria-Móvil-Mobitel"]
[{"$f":"IF(#REF!=\"English\",Translations!B502,IF(#REF!=\"French\",Translations!C502,IF(#REF!=\"Italian\",Translations!D502,IF(#REF!=\"German\",Translations!E502,IF(#REF!=\"Spanish\",Translations!F502,Translations!B502)))))","v":{"$error":"#REF!"}},"Bulgaria-Mobile-Others","Bulgarie-Mobile-Autres","Bulgaria-Mobile-Altri","Bulgarien-Mobilfunk-Andere","Bulgaria-Móvil-Otros"]
[{"$f":"IF(#REF!=\"English\",Translations!B503,IF(#REF!=\"French\",Translations!C503,IF(#REF!=\"Italian\",Translations!D503,IF(#REF!=\"German\",Translations!E503,IF(#REF!=\"Spanish\",Translations!F503,Translations!B503)))))","v":{"$error":"#REF!"}},"Bulgaria-Sofia","Bulgarie-Sofia","Bulgaria-Sofia","Bulgarien-Sofia","Bulgaria-Sofia"]
[{"$f":"IF(#REF!=\"English\",Translations!B504,IF(#REF!=\"French\",Translations!C504,IF(#REF!=\"Italian\",Translations!D504,IF(#REF!=\"German\",Translations!E504,IF(#REF!=\"Spanish\",Translations!F504,Translations!B504)))))","v":{"$error":"#REF!"}},"Burkina Faso","Burkina Faso","Burkina Faso","Burkina Faso","Burkina Faso"]
[{"$f":"IF(#REF!=\"English\",Translations!B505,IF(#REF!=\"French\",Translations!C505,IF(#REF!=\"Italian\",Translations!D505,IF(#REF!=\"German\",Translations!E505,IF(#REF!=\"Spanish\",Translations!F505,Translations!B505)))))","v":{"$error":"#REF!"}},"Burkina Faso-Mobile-Celtel","Burkina Faso-Mobile-Celtel","Burkina Faso-Mobile-Celtel","Burkina Faso-Mobilfunk-Celtel","Burkina Faso-Móvil-Celtel"]
[{"$f":"IF(#REF!=\"English\",Translations!B506,IF(#REF!=\"French\",Translations!C506,IF(#REF!=\"Italian\",Translations!D506,IF(#REF!=\"German\",Translations!E506,IF(#REF!=\"Spanish\",Translations!F506,Translations!B506)))))","v":{"$error":"#REF!"}},"Burkina Faso-Mobile-Others","Burkina Faso-Mobile-Autres","Burkina Faso-Mobile-Altri","Burkina Faso-Mobilfunk-Andere","Burkina Faso-Móvil-Otros"]
[{"$f":"IF(#REF!=\"English\",Translations!B507,IF(#REF!=\"French\",Translations!C507,IF(#REF!=\"Italian\",Translations!D507,IF(#REF!=\"German\",Translations!E507,IF(#REF!=\"Spanish\",Translations!F507,Translations!B507)))))","v":{"$error":"#REF!"}},"Burkina Faso-Mobile-Telecel","Burkina Faso-Mobile-Telecel","Burkina Faso-Mobile-Telecel","Burkina Faso-Mobilfunk-Telecel","Burkina Faso-Móvil-Telecel"]
[{"$f":"IF(#REF!=\"English\",Translations!B508,IF(#REF!=\"French\",Translations!C508,IF(#REF!=\"Italian\",Translations!D508,IF(#REF!=\"German\",Translations!E508,IF(#REF!=\"Spanish\",Translations!F508,Translations!B508)))))","v":{"$error":"#REF!"}},"Burundi","Burundi","Burundi","Burundi","Burundi"]
[{"$f":"IF(#REF!=\"English\",Translations!B509,IF(#REF!=\"French\",Translations!C509,IF(#REF!=\"Italian\",Translations!D509,IF(#REF!=\"German\",Translations!E509,IF(#REF!=\"Spanish\",Translations!F509,Translations!B509)))))","v":{"$error":"#REF!"}},"Burundi-Mobile-Onatel","Burundi-Mobile-Onatel","Burundi-Mobile-Onatel","Burundi-Mobilfunk-Onatel","Burundi-Móvil-Onatel"]
[{"$f":"IF(#REF!=\"English\",Translations!B510,IF(#REF!=\"French\",Translations!C510,IF(#REF!=\"Italian\",Translations!D510,IF(#REF!=\"German\",Translations!E510,IF(#REF!=\"Spanish\",Translations!F510,Translations!B510)))))","v":{"$error":"#REF!"}},"Burundi-Mobile-Others","Burundi-Mobile-Autres","Burundi-Mobile-Altri","Burundi-Mobilfunk-Andere","Burundi-Móvil-Otros"]
[{"$f":"IF(#REF!=\"English\",Translations!B511,IF(#REF!=\"French\",Translations!C511,IF(#REF!=\"Italian\",Translations!D511,IF(#REF!=\"German\",Translations!E511,IF(#REF!=\"Spanish\",Translations!F511,Translations!B511)))))","v":{"$error":"#REF!"}},"Burundi-Mobile-Ucom","Burundi-Mobile-Ucom","Burundi-Mobile-Ucom","Burundi-Mobilfunk-Ucom","Burundi-Móvil-Ucom"]
[{"$f":"IF(#REF!=\"English\",Translations!B512,IF(#REF!=\"French\",Translations!C512,IF(#REF!=\"Italian\",Translations!D512,IF(#REF!=\"German\",Translations!E512,IF(#REF!=\"Spanish\",Translations!F512,Translations!B512)))))","v":{"$error":"#REF!"}},"Cambodia","Cambodge","Cambogia","Kambodscha","Camboya"]
[{"$f":"IF(#REF!=\"English\",Translations!B513,IF(#REF!=\"French\",Translations!C513,IF(#REF!=\"Italian\",Translations!D513,IF(#REF!=\"German\",Translations!E513,IF(#REF!=\"Spanish\",Translations!F513,Translations!B513)))))","v":{"$error":"#REF!"}},"Cambodia-Mobile","Cambodge-Mobile","Cambogia-Mobile","Kambodscha-Mobilfunk","Camboya-Móvil"]
[{"$f":"IF(#REF!=\"English\",Translations!B514,IF(#REF!=\"French\",Translations!C514,IF(#REF!=\"Italian\",Translations!D514,IF(#REF!=\"German\",Translations!E514,IF(#REF!=\"Spanish\",Translations!F514,Translations!B514)))))","v":{"$error":"#REF!"}},"Cameroon","Cameroun","Camerun ","Kamerun","Camerún"]
[{"$f":"IF(#REF!=\"English\",Translations!B515,IF(#REF!=\"French\",Translations!C515,IF(#REF!=\"Italian\",Translations!D515,IF(#REF!=\"German\",Translations!E515,IF(#REF!=\"Spanish\",Translations!F515,Translations!B515)))))","v":{"$error":"#REF!"}},"Cameroon-Mobile-MTN","Cameroun-Mobile-MTN","Camerun-Mobile-MTN","Kamerun-Mobilfunk-MTN","Camerún-Móvil-MTN"]
[{"$f":"IF(#REF!=\"English\",Translations!B516,IF(#REF!=\"French\",Translations!C516,IF(#REF!=\"Italian\",Translations!D516,IF(#REF!=\"German\",Translations!E516,IF(#REF!=\"Spanish\",Translations!F516,Translations!B516)))))","v":{"$error":"#REF!"}},"Cameroon-Mobile-Orange","Cameroun-Mobile-Orange","Camerun-Mobile-Orange","Kamerun-Mobilfunk-Orange","Camerún-Móvil-Orange"]
[{"$f":"IF(#REF!=\"English\",Translations!B517,IF(#REF!=\"French\",Translations!C517,IF(#REF!=\"Italian\",Translations!D517,IF(#REF!=\"German\",Translations!E517,IF(#REF!=\"Spanish\",Translations!F517,Translations!B517)))))","v":{"$error":"#REF!"}},"Cameroon-Mobile-Others","Cameroun-Mobile-Autres","Camerun-Mobile-Altri","Kamerun-Mobilfunk-Andere","Camerún-Móvil-Otros"]
[{"$f":"IF(#REF!=\"English\",Translations!B518,IF(#REF!=\"French\",Translations!C518,IF(#REF!=\"Italian\",Translations!D518,IF(#REF!=\"German\",Translations!E518,IF(#REF!=\"Spanish\",Translations!F518,Translations!B518)))))","v":{"$error":"#REF!"}},"Cameroon-Special Service","Cameroun-Special Service","Camerun-Special Service","Kamerun-Special Service","Camerún-Special Service"]
[{"$f":"IF(#REF!=\"English\",Translations!B519,IF(#REF!=\"French\",Translations!C519,IF(#REF!=\"Italian\",Translations!D519,IF(#REF!=\"German\",Translations!E519,IF(#REF!=\"Spanish\",Translations!F519,Translations!B519)))))","v":{"$error":"#REF!"}},"Canada","Canada","Canada","Kanada","Canadá"]
[{"$f":"IF(#REF!=\"English\",Translations!B520,IF(#REF!=\"French\",Translations!C520,IF(#REF!=\"Italian\",Translations!D520,IF(#REF!=\"German\",Translations!E520,IF(#REF!=\"Spanish\",Translations!F520,Translations!B520)))))","v":{"$error":"#REF!"}},"Canada-Rural","Canada-Rural","Canada-Rural","Kanada-Rural","Canadá-Rural"]
[{"$f":"IF(#REF!=\"English\",Translations!B521,IF(#REF!=\"French\",Translations!C521,IF(#REF!=\"Italian\",Translations!D521,IF(#REF!=\"German\",Translations!E521,IF(#REF!=\"Spanish\",Translations!F521,Translations!B521)))))","v":{"$error":"#REF!"}},"Cape Verde","Cap-Vert","Capo Verde, Isole","Kap Verde","Cabo Verde"]
[{"$f":"IF(#REF!=\"English\",Translations!B522,IF(#REF!=\"French\",Translations!C522,IF(#REF!=\"Italian\",Translations!D522,IF(#REF!=\"German\",Translations!E522,IF(#REF!=\"Spanish\",Translations!F522,Translations!B522)))))","v":{"$error":"#REF!"}},"Cape Verde-Mobile","Cap-Vert-Mobile","Capo Verde, Isole-Mobile","Kap Verde-Mobilfunk","Cabo Verde-Móvil"]
[{"$f":"IF(#REF!=\"English\",Translations!B523,IF(#REF!=\"French\",Translations!C523,IF(#REF!=\"Italian\",Translations!D523,IF(#REF!=\"German\",Translations!E523,IF(#REF!=\"Spanish\",Translations!F523,Translations!B523)))))","v":{"$error":"#REF!"}},"Cayman Islands","Îles Caïmans","Isole Cayman","Kaimaninsel","Islas Caimán"]
[{"$f":"IF(#REF!=\"English\",Translations!B524,IF(#REF!=\"French\",Translations!C524,IF(#REF!=\"Italian\",Translations!D524,IF(#REF!=\"German\",Translations!E524,IF(#REF!=\"Spanish\",Translations!F524,Translations!B524)))))","v":{"$error":"#REF!"}},"Central Africa","Rép. centrafricaine","Repubblica Centroafricana ","Zentralafrikanische Rep.","Rep. Centroafricana"]
[{"$f":"IF(#REF!=\"English\",Translations!B525,IF(#REF!=\"French\",Translations!C525,IF(#REF!=\"Italian\",Translations!D525,IF(#REF!=\"German\",Translations!E525,IF(#REF!=\"Spanish\",Translations!F525,Translations!B525)))))","v":{"$error":"#REF!"}},"Central Africa-Mobile","Rép. centrafricaine-Mobile","Repubblica Centroafricana -Mobile","Zentralafrikanische Rep.-Mobilfunk","Rep. Centroafricana-Móvil"]
[{"$f":"IF(#REF!=\"English\",Translations!B526,IF(#REF!=\"French\",Translations!C526,IF(#REF!=\"Italian\",Translations!D526,IF(#REF!=\"German\",Translations!E526,IF(#REF!=\"Spanish\",Translations!F526,Translations!B526)))))","v":{"$error":"#REF!"}},"Chad","Tchad","Ciad","Tschad","Chad"]
[{"$f":"IF(#REF!=\"English\",Translations!B527,IF(#REF!=\"French\",Translations!C527,IF(#REF!=\"Italian\",Translations!D527,IF(#REF!=\"German\",Translations!E527,IF(#REF!=\"Spanish\",Translations!F527,Translations!B527)))))","v":{"$error":"#REF!"}},"Chad-Mobile-Celtel","Tchad-Mobile-Celtel","Ciad-Mobile-Celtel","Tschad-Mobilfunk-Celtel","Chad-Móvil-Celtel"]
[{"$f":"IF(#REF!=\"English\",Translations!B528,IF(#REF!=\"French\",Translations!C528,IF(#REF!=\"Italian\",Translations!D528,IF(#REF!=\"German\",Translations!E528,IF(#REF!=\"Spanish\",Translations!F528,Translations!B528)))))","v":{"$error":"#REF!"}},"Chad-Mobile-Millicom","Tchad-Mobile-Millicom","Ciad-Mobile-Millicom","Tschad-Mobilfunk-Millicom","Chad-Móvil-Millicom"]
[{"$f":"IF(#REF!=\"English\",Translations!B529,IF(#REF!=\"French\",Translations!C529,IF(#REF!=\"Italian\",Translations!D529,IF(#REF!=\"German\",Translations!E529,IF(#REF!=\"Spanish\",Translations!F529,Translations!B529)))))","v":{"$error":"#REF!"}},"Chile","Chili","Cile","Chile","Chile"]
[{"$f":"IF(#REF!=\"English\",Translations!B530,IF(#REF!=\"French\",Translations!C530,IF(#REF!=\"Italian\",Translations!D530,IF(#REF!=\"German\",Translations!E530,IF(#REF!=\"Spanish\",Translations!F530,Translations!B530)))))","v":{"$error":"#REF!"}},"Chile-Easter Island","Chili-Easter Island","Cile-Easter Island","Chile-Easter Island","Chile-Easter Island"]
[{"$f":"IF(#REF!=\"English\",Translations!B531,IF(#REF!=\"French\",Translations!C531,IF(#REF!=\"Italian\",Translations!D531,IF(#REF!=\"German\",Translations!E531,IF(#REF!=\"Spanish\",Translations!F531,Translations!B531)))))","v":{"$error":"#REF!"}},"Chile-Mobile","Chili-Mobile","Cile-Mobile","Chile-Mobilfunk","Chile-Móvil"]
[{"$f":"IF(#REF!=\"English\",Translations!B532,IF(#REF!=\"French\",Translations!C532,IF(#REF!=\"Italian\",Translations!D532,IF(#REF!=\"German\",Translations!E532,IF(#REF!=\"Spanish\",Translations!F532,Translations!B532)))))","v":{"$error":"#REF!"}},"Chile-Santiago","Chili-Santiago","Cile-Santiago","Chile-Santiago","Chile-Santiago"]
[{"$f":"IF(#REF!=\"English\",Translations!B533,IF(#REF!=\"French\",Translations!C533,IF(#REF!=\"Italian\",Translations!D533,IF(#REF!=\"German\",Translations!E533,IF(#REF!=\"Spanish\",Translations!F533,Translations!B533)))))","v":{"$error":"#REF!"}},"Chile-Rural","Chili-Rural","Cile-Rural","Chile-Rural","Chile-Rural"]
[{"$f":"IF(#REF!=\"English\",Translations!B534,IF(#REF!=\"French\",Translations!C534,IF(#REF!=\"Italian\",Translations!D534,IF(#REF!=\"German\",Translations!E534,IF(#REF!=\"Spanish\",Translations!F534,Translations!B534)))))","v":{"$error":"#REF!"}},"China","Chine","Cina","China","China"]
[{"$f":"IF(#REF!=\"English\",Translations!B535,IF(#REF!=\"French\",Translations!C535,IF(#REF!=\"Italian\",Translations!D535,IF(#REF!=\"German\",Translations!E535,IF(#REF!=\"Spanish\",Translations!F535,Translations!B535)))))","v":{"$error":"#REF!"}},"China-Beijing","Chine-Beijing","Cina-Beijing","China-Beijing","China-Beijing"]
[{"$f":"IF(#REF!=\"English\",Translations!B536,IF(#REF!=\"French\",Translations!C536,IF(#REF!=\"Italian\",Translations!D536,IF(#REF!=\"German\",Translations!E536,IF(#REF!=\"Spanish\",Translations!F536,Translations!B536)))))","v":{"$error":"#REF!"}},"China-Guangzhou","Chine-Guangzhou","Cina-Guangzhou","China-Guangzhou","China-Guangzhou"]
[{"$f":"IF(#REF!=\"English\",Translations!B537,IF(#REF!=\"French\",Translations!C537,IF(#REF!=\"Italian\",Translations!D537,IF(#REF!=\"German\",Translations!E537,IF(#REF!=\"Spanish\",Translations!F537,Translations!B537)))))","v":{"$error":"#REF!"}},"China-Mobile","Chine-Mobile","Cina-Mobile","China-Mobilfunk","China-Móvil"]
[{"$f":"IF(#REF!=\"English\",Translations!B538,IF(#REF!=\"French\",Translations!C538,IF(#REF!=\"Italian\",Translations!D538,IF(#REF!=\"German\",Translations!E538,IF(#REF!=\"Spanish\",Translations!F538,Translations!B538)))))","v":{"$error":"#REF!"}},"China-Shanghai","Chine-Shanghai","Cina-Shanghai","China-Shanghai","China-Shanghai"]
[{"$f":"IF(#REF!=\"English\",Translations!B539,IF(#REF!=\"French\",Translations!C539,IF(#REF!=\"Italian\",Translations!D539,IF(#REF!=\"German\",Translations!E539,IF(#REF!=\"Spanish\",Translations!F539,Translations!B539)))))","v":{"$error":"#REF!"}},"China-Shenzhen","Chine-Shenzhen","Cina-Shenzhen","China-Shenzhen","China-Shenzhen"]
[{"$f":"IF(#REF!=\"English\",Translations!B540,IF(#REF!=\"French\",Translations!C540,IF(#REF!=\"Italian\",Translations!D540,IF(#REF!=\"German\",Translations!E540,IF(#REF!=\"Spanish\",Translations!F540,Translations!B540)))))","v":{"$error":"#REF!"}},"Colombia","Colombie","Colombia","Kolumbien","Colombia"]
[{"$f":"IF(#REF!=\"English\",Translations!B541,IF(#REF!=\"French\",Translations!C541,IF(#REF!=\"Italian\",Translations!D541,IF(#REF!=\"German\",Translations!E541,IF(#REF!=\"Spanish\",Translations!F541,Translations!B541)))))","v":{"$error":"#REF!"}},"Colombia-Armenia","Colombie-Armenia","Colombia-Armenia","Kolumbien-Armenia","Colombia-Armenia"]
[{"$f":"IF(#REF!=\"English\",Translations!B542,IF(#REF!=\"French\",Translations!C542,IF(#REF!=\"Italian\",Translations!D542,IF(#REF!=\"German\",Translations!E542,IF(#REF!=\"Spanish\",Translations!F542,Translations!B542)))))","v":{"$error":"#REF!"}},"Colombia-Barranquilla","Colombie-Barranquilla","Colombia-Barranquilla","Kolumbien-Barranquilla","Colombia-Barranquilla"]
[{"$f":"IF(#REF!=\"English\",Translations!B543,IF(#REF!=\"French\",Translations!C543,IF(#REF!=\"Italian\",Translations!D543,IF(#REF!=\"German\",Translations!E543,IF(#REF!=\"Spanish\",Translations!F543,Translations!B543)))))","v":{"$error":"#REF!"}},"Colombia-Bogota","Colombie-Bogota","Colombia-Bogota","Kolumbien-Bogota","Colombia-Bogota"]
[{"$f":"IF(#REF!=\"English\",Translations!B544,IF(#REF!=\"French\",Translations!C544,IF(#REF!=\"Italian\",Translations!D544,IF(#REF!=\"German\",Translations!E544,IF(#REF!=\"Spanish\",Translations!F544,Translations!B544)))))","v":{"$error":"#REF!"}},"Colombia-Cali","Colombie-Cali","Colombia-Cali","Kolumbien-Cali","Colombia-Cali"]
[{"$f":"IF(#REF!=\"English\",Translations!B545,IF(#REF!=\"French\",Translations!C545,IF(#REF!=\"Italian\",Translations!D545,IF(#REF!=\"German\",Translations!E545,IF(#REF!=\"Spanish\",Translations!F545,Translations!B545)))))","v":{"$error":"#REF!"}},"Colombia-Bucaramanga","Colombie-Bucaramanga","Colombia-Bucaramanga","Kolumbien-Bucaramanga","Colombia-Bucaramanga"]
[{"$f":"IF(#REF!=\"English\",Translations!B546,IF(#REF!=\"French\",Translations!C546,IF(#REF!=\"Italian\",Translations!D546,IF(#REF!=\"German\",Translations!E546,IF(#REF!=\"Spanish\",Translations!F546,Translations!B546)))))","v":{"$error":"#REF!"}},"Colombia-Manizales","Colombie-Manizales","Colombia-Manizales","Kolumbien-Manizales","Colombia-Manizales"]
[{"$f":"IF(#REF!=\"English\",Translations!B547,IF(#REF!=\"French\",Translations!C547,IF(#REF!=\"Italian\",Translations!D547,IF(#REF!=\"German\",Translations!E547,IF(#REF!=\"Spanish\",Translations!F547,Translations!B547)))))","v":{"$error":"#REF!"}},"Colombia-Medellin","Colombie-Medellin","Colombia-Medellin","Kolumbien-Medellin","Colombia-Medellin"]
[{"$f":"IF(#REF!=\"English\",Translations!B548,IF(#REF!=\"French\",Translations!C548,IF(#REF!=\"Italian\",Translations!D548,IF(#REF!=\"German\",Translations!E548,IF(#REF!=\"Spanish\",Translations!F548,Translations!B548)))))","v":{"$error":"#REF!"}},"Colombia-Mobile-Comcel","Colombie-Mobile-Comcel","Colombia-Mobile-Comcel","Kolumbien-Mobilfunk-Comcel","Colombia-Móvil-Comcel"]
[{"$f":"IF(#REF!=\"English\",Translations!B549,IF(#REF!=\"French\",Translations!C549,IF(#REF!=\"Italian\",Translations!D549,IF(#REF!=\"German\",Translations!E549,IF(#REF!=\"Spanish\",Translations!F549,Translations!B549)))))","v":{"$error":"#REF!"}},"Colombia-Mobile-Movistar","Colombie-Mobile-Movistar","Colombia-Mobile-Movistar","Kolumbien-Mobilfunk-Movistar","Colombia-Móvil-Movistar"]
[{"$f":"IF(#REF!=\"English\",Translations!B550,IF(#REF!=\"French\",Translations!C550,IF(#REF!=\"Italian\",Translations!D550,IF(#REF!=\"German\",Translations!E550,IF(#REF!=\"Spanish\",Translations!F550,Translations!B550)))))","v":{"$error":"#REF!"}},"Colombia-Mobile-Ola","Colombie-Mobile-Ola","Colombia-Mobile-Ola","Kolumbien-Mobilfunk-Ola","Colombia-Móvil-Ola"]
[{"$f":"IF(#REF!=\"English\",Translations!B551,IF(#REF!=\"French\",Translations!C551,IF(#REF!=\"Italian\",Translations!D551,IF(#REF!=\"German\",Translations!E551,IF(#REF!=\"Spanish\",Translations!F551,Translations!B551)))))","v":{"$error":"#REF!"}},"Colombia-Mobile-Others","Colombie-Mobile-Autres","Colombia-Mobile-Altri","Kolumbien-Mobilfunk-Andere","Colombia-Móvil-Otros"]
[{"$f":"IF(#REF!=\"English\",Translations!B552,IF(#REF!=\"French\",Translations!C552,IF(#REF!=\"Italian\",Translations!D552,IF(#REF!=\"German\",Translations!E552,IF(#REF!=\"Spanish\",Translations!F552,Translations!B552)))))","v":{"$error":"#REF!"}},"Colombia-Pereira","Colombie-Pereira","Colombia-Pereira","Kolumbien-Pereira","Colombia-Pereira"]
[{"$f":"IF(#REF!=\"English\",Translations!B553,IF(#REF!=\"French\",Translations!C553,IF(#REF!=\"Italian\",Translations!D553,IF(#REF!=\"German\",Translations!E553,IF(#REF!=\"Spanish\",Translations!F553,Translations!B553)))))","v":{"$error":"#REF!"}},"Comoros","Comores","Comore","Komoren","Comoras"]
[{"$f":"IF(#REF!=\"English\",Translations!B554,IF(#REF!=\"French\",Translations!C554,IF(#REF!=\"Italian\",Translations!D554,IF(#REF!=\"German\",Translations!E554,IF(#REF!=\"Spanish\",Translations!F554,Translations!B554)))))","v":{"$error":"#REF!"}},"Comoros-Mobile","Comores-Mobile","Comore-Mobile","Komoren-Mobilfunk","Comoras-Móvil"]
[{"$f":"IF(#REF!=\"English\",Translations!B555,IF(#REF!=\"French\",Translations!C555,IF(#REF!=\"Italian\",Translations!D555,IF(#REF!=\"German\",Translations!E555,IF(#REF!=\"Spanish\",Translations!F555,Translations!B555)))))","v":{"$error":"#REF!"}},"Congo","Congo","Congo","Kongo","Congo"]
[{"$f":"IF(#REF!=\"English\",Translations!B556,IF(#REF!=\"French\",Translations!C556,IF(#REF!=\"Italian\",Translations!D556,IF(#REF!=\"German\",Translations!E556,IF(#REF!=\"Spanish\",Translations!F556,Translations!B556)))))","v":{"$error":"#REF!"}},"Congo Dem Rep","Congo (Rép.dém.)","Congo Rep democratica","Dem Rep Kongo","Rep. Dem. del Congo"]
[{"$f":"IF(#REF!=\"English\",Translations!B557,IF(#REF!=\"French\",Translations!C557,IF(#REF!=\"Italian\",Translations!D557,IF(#REF!=\"German\",Translations!E557,IF(#REF!=\"Spanish\",Translations!F557,Translations!B557)))))","v":{"$error":"#REF!"}},"Congo Dem Rep-Mobile-Celtel","Congo (Rép.dém.)-Mobile-Celtel","Congo Rep democratica-Mobile-Celtel","Dem Rep Kongo-Mobile-Celtel","Rep. Dem. del Congo-Móvil-Celtel"]
[{"$f":"IF(#REF!=\"English\",Translations!B558,IF(#REF!=\"French\",Translations!C558,IF(#REF!=\"Italian\",Translations!D558,IF(#REF!=\"German\",Translations!E558,IF(#REF!=\"Spanish\",Translations!F558,Translations!B558)))))","v":{"$error":"#REF!"}},"Congo Dem Rep-Mobile-Others","Congo (Rép.dém.)-Mobile-Autres","Congo Rep democratica-Mobile-Altri","Dem Rep Kongo-Mobile-Andere","Rep. Dem. del Congo-Móvil-Otros"]
[{"$f":"IF(#REF!=\"English\",Translations!B559,IF(#REF!=\"French\",Translations!C559,IF(#REF!=\"Italian\",Translations!D559,IF(#REF!=\"German\",Translations!E559,IF(#REF!=\"Spanish\",Translations!F559,Translations!B559)))))","v":{"$error":"#REF!"}},"Congo Dem Rep-Mobile-SAIT","Congo (Rép.dém.)-Mobile-SAIT","Congo Rep democratica-Mobile-SAIT","Dem Rep Kongo-Mobile-SAIT","Rep. Dem. del Congo-Móvil-SAIT"]
[{"$f":"IF(#REF!=\"English\",Translations!B560,IF(#REF!=\"French\",Translations!C560,IF(#REF!=\"Italian\",Translations!D560,IF(#REF!=\"German\",Translations!E560,IF(#REF!=\"Spanish\",Translations!F560,Translations!B560)))))","v":{"$error":"#REF!"}},"Congo Dem Rep-Mobile-Vodacom","Congo (Rép.dém.)-Mobile-Vodacom","Congo Rep democratica-Mobile-Vodacom","Dem Rep Kongo-Mobile-Vodacom","Rep. Dem. del Congo-Móvil-Vodacom"]
[{"$f":"IF(#REF!=\"English\",Translations!B561,IF(#REF!=\"French\",Translations!C561,IF(#REF!=\"Italian\",Translations!D561,IF(#REF!=\"German\",Translations!E561,IF(#REF!=\"Spanish\",Translations!F561,Translations!B561)))))","v":{"$error":"#REF!"}},"Congo-Mobile-Celtel","Congo-Mobile-Celtel","Congo-Mobile-Celtel","Kongo-Mobilfunk-Celtel","Congo-Móvil-Celtel"]
[{"$f":"IF(#REF!=\"English\",Translations!B562,IF(#REF!=\"French\",Translations!C562,IF(#REF!=\"Italian\",Translations!D562,IF(#REF!=\"German\",Translations!E562,IF(#REF!=\"Spanish\",Translations!F562,Translations!B562)))))","v":{"$error":"#REF!"}},"Congo-Mobile-MTN","Congo-Mobile-MTN","Congo-Mobile-MTN","Kongo-Mobilfunk-MTN","Congo-Móvil-MTN"]
[{"$f":"IF(#REF!=\"English\",Translations!B563,IF(#REF!=\"French\",Translations!C563,IF(#REF!=\"Italian\",Translations!D563,IF(#REF!=\"German\",Translations!E563,IF(#REF!=\"Spanish\",Translations!F563,Translations!B563)))))","v":{"$error":"#REF!"}},"Congo-Mobile-Others","Congo-Mobile-Autres","Congo-Mobile-Altri","Kongo-Mobilfunk-Andere","Congo-Móvil-Otros"]
[{"$f":"IF(#REF!=\"English\",Translations!B564,IF(#REF!=\"French\",Translations!C564,IF(#REF!=\"Italian\",Translations!D564,IF(#REF!=\"German\",Translations!E564,IF(#REF!=\"Spanish\",Translations!F564,Translations!B564)))))","v":{"$error":"#REF!"}},"Cook Islands","Cook (îles)","Isole Cook","Cook-Inseln","Islas Cook"]
[{"$f":"IF(#REF!=\"English\",Translations!B565,IF(#REF!=\"French\",Translations!C565,IF(#REF!=\"Italian\",Translations!D565,IF(#REF!=\"German\",Translations!E565,IF(#REF!=\"Spanish\",Translations!F565,Translations!B565)))))","v":{"$error":"#REF!"}},"Costa Rica","Costa Rica","Costa Rica","Costa Rica","Costa Rica"]
[{"$f":"IF(#REF!=\"English\",Translations!B566,IF(#REF!=\"French\",Translations!C566,IF(#REF!=\"Italian\",Translations!D566,IF(#REF!=\"German\",Translations!E566,IF(#REF!=\"Spanish\",Translations!F566,Translations!B566)))))","v":{"$error":"#REF!"}},"Costa Rica-Mobile","Costa Rica-Mobile","Costa Rica-Mobile","Costa Rica-Mobilfunk","Costa Rica-Móvil"]
[{"$f":"IF(#REF!=\"English\",Translations!B567,IF(#REF!=\"French\",Translations!C567,IF(#REF!=\"Italian\",Translations!D567,IF(#REF!=\"German\",Translations!E567,IF(#REF!=\"Spanish\",Translations!F567,Translations!B567)))))","v":{"$error":"#REF!"}},"Cote dIvoire","Côte d'Ivoire","Costa d’Avorio","Elfenbeinküste","Costa de Marfil"]
[{"$f":"IF(#REF!=\"English\",Translations!B568,IF(#REF!=\"French\",Translations!C568,IF(#REF!=\"Italian\",Translations!D568,IF(#REF!=\"German\",Translations!E568,IF(#REF!=\"Spanish\",Translations!F568,Translations!B568)))))","v":{"$error":"#REF!"}},"Cote dIvoire-Abidjan","Côte d'Ivoire-Abidjan","Costa d’Avorio-Abidjan","Elfenbeinküste-Abidjan","Costa de Marfil-Abidjan"]
[{"$f":"IF(#REF!=\"English\",Translations!B569,IF(#REF!=\"French\",Translations!C569,IF(#REF!=\"Italian\",Translations!D569,IF(#REF!=\"German\",Translations!E569,IF(#REF!=\"Spanish\",Translations!F569,Translations!B569)))))","v":{"$error":"#REF!"}},"Cote dIvoire-Mobile-Comium","Côte d'Ivoire-Mobile-Comium","Costa d’Avorio-Mobile-Comium","Elfenbeinküste-Mobilfunk-Comium","Costa de Marfil-Móvil-Comium"]
[{"$f":"IF(#REF!=\"English\",Translations!B570,IF(#REF!=\"French\",Translations!C570,IF(#REF!=\"Italian\",Translations!D570,IF(#REF!=\"German\",Translations!E570,IF(#REF!=\"Spanish\",Translations!F570,Translations!B570)))))","v":{"$error":"#REF!"}},"Cote dIvoire-Mobile-Moov","Côte d'Ivoire-Mobile-Moov","Costa d’Avorio-Mobile-Moov","Elfenbeinküste-Mobilfunk-Moov","Costa de Marfil-Móvil-Moov"]
[{"$f":"IF(#REF!=\"English\",Translations!B571,IF(#REF!=\"French\",Translations!C571,IF(#REF!=\"Italian\",Translations!D571,IF(#REF!=\"German\",Translations!E571,IF(#REF!=\"Spanish\",Translations!F571,Translations!B571)))))","v":{"$error":"#REF!"}},"Cote dIvoire-Mobile-MTN","Côte d'Ivoire-Mobile-MTN","Costa d’Avorio-Mobile-MTN","Elfenbeinküste-Mobilfunk-MTN","Costa de Marfil-Móvil-MTN"]
[{"$f":"IF(#REF!=\"English\",Translations!B572,IF(#REF!=\"French\",Translations!C572,IF(#REF!=\"Italian\",Translations!D572,IF(#REF!=\"German\",Translations!E572,IF(#REF!=\"Spanish\",Translations!F572,Translations!B572)))))","v":{"$error":"#REF!"}},"Cote dIvoire-Mobile-Orange","Côte d'Ivoire-Mobile-Orange","Costa d’Avorio-Mobile-Orange","Elfenbeinküste-Mobilfunk-Orange","Costa de Marfil-Móvil-Orange"]
[{"$f":"IF(#REF!=\"English\",Translations!B573,IF(#REF!=\"French\",Translations!C573,IF(#REF!=\"Italian\",Translations!D573,IF(#REF!=\"German\",Translations!E573,IF(#REF!=\"Spanish\",Translations!F573,Translations!B573)))))","v":{"$error":"#REF!"}},"Cote dIvoire-Mobile-Others","Côte d'Ivoire-Mobile-Autres","Costa d’Avorio-Mobile-Altri","Elfenbeinküste-Mobilfunk-Andere","Costa de Marfil-Móvil-Otros"]
[{"$f":"IF(#REF!=\"English\",Translations!B574,IF(#REF!=\"French\",Translations!C574,IF(#REF!=\"Italian\",Translations!D574,IF(#REF!=\"German\",Translations!E574,IF(#REF!=\"Spanish\",Translations!F574,Translations!B574)))))","v":{"$error":"#REF!"}},"Cote dIvoire-Special Service","Côte d'Ivoire-Special Service","Costa d’Avorio-Special Service","Elfenbeinküste-Special Service","Costa de Marfil-Special Service"]
[{"$f":"IF(#REF!=\"English\",Translations!B575,IF(#REF!=\"French\",Translations!C575,IF(#REF!=\"Italian\",Translations!D575,IF(#REF!=\"German\",Translations!E575,IF(#REF!=\"Spanish\",Translations!F575,Translations!B575)))))","v":{"$error":"#REF!"}},"Croatia","Croatie","Croazia","Kroatien","Croacia"]
[{"$f":"IF(#REF!=\"English\",Translations!B576,IF(#REF!=\"French\",Translations!C576,IF(#REF!=\"Italian\",Translations!D576,IF(#REF!=\"German\",Translations!E576,IF(#REF!=\"Spanish\",Translations!F576,Translations!B576)))))","v":{"$error":"#REF!"}},"Croatia-Mobile-T-Mobile","Croatie-Mobile-T-Mobile","Croazia-Mobile-T-Mobile","Kroatien-Mobilfunk-T-Mobile","Croacia-Móvil-T-Mobile"]
[{"$f":"IF(#REF!=\"English\",Translations!B577,IF(#REF!=\"French\",Translations!C577,IF(#REF!=\"Italian\",Translations!D577,IF(#REF!=\"German\",Translations!E577,IF(#REF!=\"Spanish\",Translations!F577,Translations!B577)))))","v":{"$error":"#REF!"}},"Croatia-Mobile-Tele2","Croatie-Mobile-Tele2","Croazia-Mobile-Tele2","Kroatien-Mobilfunk-Tele2","Croacia-Móvil-Tele2"]
[{"$f":"IF(#REF!=\"English\",Translations!B578,IF(#REF!=\"French\",Translations!C578,IF(#REF!=\"Italian\",Translations!D578,IF(#REF!=\"German\",Translations!E578,IF(#REF!=\"Spanish\",Translations!F578,Translations!B578)))))","v":{"$error":"#REF!"}},"Croatia-Mobile-VIP NET","Croatie-Mobile-VIP NET","Croazia-Mobile-VIP NET","Kroatien-Mobilfunk-VIP NET","Croacia-Móvil-VIP NET"]
[{"$f":"IF(#REF!=\"English\",Translations!B579,IF(#REF!=\"French\",Translations!C579,IF(#REF!=\"Italian\",Translations!D579,IF(#REF!=\"German\",Translations!E579,IF(#REF!=\"Spanish\",Translations!F579,Translations!B579)))))","v":{"$error":"#REF!"}},"Cuba","Cuba","Cuba","Kuba","Cuba"]
[{"$f":"IF(#REF!=\"English\",Translations!B580,IF(#REF!=\"French\",Translations!C580,IF(#REF!=\"Italian\",Translations!D580,IF(#REF!=\"German\",Translations!E580,IF(#REF!=\"Spanish\",Translations!F580,Translations!B580)))))","v":{"$error":"#REF!"}},"Cuba-Guantanamo Bay","Cuba-Guantanamo Bay","Cuba-Guantanamo Bay","Kuba-Guantanamo Bay","Cuba-Guantanamo Bay"]
[{"$f":"IF(#REF!=\"English\",Translations!B581,IF(#REF!=\"French\",Translations!C581,IF(#REF!=\"Italian\",Translations!D581,IF(#REF!=\"German\",Translations!E581,IF(#REF!=\"Spanish\",Translations!F581,Translations!B581)))))","v":{"$error":"#REF!"}},"Cuba-Mobile","Cuba-Mobile","Cuba-Mobile","Kuba-Mobilfunk","Cuba-Móvil"]
[{"$f":"IF(#REF!=\"English\",Translations!B582,IF(#REF!=\"French\",Translations!C582,IF(#REF!=\"Italian\",Translations!D582,IF(#REF!=\"German\",Translations!E582,IF(#REF!=\"Spanish\",Translations!F582,Translations!B582)))))","v":{"$error":"#REF!"}},"Cyprus","Chypre","Cipro","Zypern","Chipre"]
[{"$f":"IF(#REF!=\"English\",Translations!B583,IF(#REF!=\"French\",Translations!C583,IF(#REF!=\"Italian\",Translations!D583,IF(#REF!=\"German\",Translations!E583,IF(#REF!=\"Spanish\",Translations!F583,Translations!B583)))))","v":{"$error":"#REF!"}},"Cyprus-Special Services","Chypre-Special Services","Cipro-Special Services","Zypern-Special Services","Chipre-Special Services"]
[{"$f":"IF(#REF!=\"English\",Translations!B584,IF(#REF!=\"French\",Translations!C584,IF(#REF!=\"Italian\",Translations!D584,IF(#REF!=\"German\",Translations!E584,IF(#REF!=\"Spanish\",Translations!F584,Translations!B584)))))","v":{"$error":"#REF!"}},"Cyprus-Mobile","Chypre-Mobile","Cipro-Mobile","Zypern-Mobilfunk","Chipre-Móvil"]
[{"$f":"IF(#REF!=\"English\",Translations!B585,IF(#REF!=\"French\",Translations!C585,IF(#REF!=\"Italian\",Translations!D585,IF(#REF!=\"German\",Translations!E585,IF(#REF!=\"Spanish\",Translations!F585,Translations!B585)))))","v":{"$error":"#REF!"}},"Czech Republic","République tchèque","Ceca Repubblica","Tschechien","República Checa"]
[{"$f":"IF(#REF!=\"English\",Translations!B586,IF(#REF!=\"French\",Translations!C586,IF(#REF!=\"Italian\",Translations!D586,IF(#REF!=\"German\",Translations!E586,IF(#REF!=\"Spanish\",Translations!F586,Translations!B586)))))","v":{"$error":"#REF!"}},"Czech Republic-Special Services","République tchèque-Special Services","Ceca Repubblica-Special Services","Tschechien-Special Services","República Checa-Special Services"]
[{"$f":"IF(#REF!=\"English\",Translations!B587,IF(#REF!=\"French\",Translations!C587,IF(#REF!=\"Italian\",Translations!D587,IF(#REF!=\"German\",Translations!E587,IF(#REF!=\"Spanish\",Translations!F587,Translations!B587)))))","v":{"$error":"#REF!"}},"Czech Republic-Mobile-O2","République tchèque-Mobile-O2","Cechia-Mobile-O2","Tschechien-Mobilfunk-O2","República Checa-Móvil-O2"]
[{"$f":"IF(#REF!=\"English\",Translations!B588,IF(#REF!=\"French\",Translations!C588,IF(#REF!=\"Italian\",Translations!D588,IF(#REF!=\"German\",Translations!E588,IF(#REF!=\"Spanish\",Translations!F588,Translations!B588)))))","v":{"$error":"#REF!"}},"Czech Republic-Mobile-Others","République tchèque-Mobile-Autres","Cechia-Mobile-Altri","Tschechien-Mobilfunk-Andere","República Checa-Móvil-Otros"]
[{"$f":"IF(#REF!=\"English\",Translations!B589,IF(#REF!=\"French\",Translations!C589,IF(#REF!=\"Italian\",Translations!D589,IF(#REF!=\"German\",Translations!E589,IF(#REF!=\"Spanish\",Translations!F589,Translations!B589)))))","v":{"$error":"#REF!"}},"Czech Republic-Mobile-T-Mobile","République tchèque-Mobile-T-Mobile","Cechia-Mobile-T-Mobile","Tschechien-Mobilfunk-T-Mobile","República Checa-Móvil-T-Mobile"]
[{"$f":"IF(#REF!=\"English\",Translations!B590,IF(#REF!=\"French\",Translations!C590,IF(#REF!=\"Italian\",Translations!D590,IF(#REF!=\"German\",Translations!E590,IF(#REF!=\"Spanish\",Translations!F590,Translations!B590)))))","v":{"$error":"#REF!"}},"Czech Republic-Mobile-Vodafone","République tchèque-Mobile-Vodafone","Cechia-Mobile-Vodafone","Tschechien-Mobilfunk-Vodafone","República Checa-Móvil-Vodafone"]
[{"$f":"IF(#REF!=\"English\",Translations!B591,IF(#REF!=\"French\",Translations!C591,IF(#REF!=\"Italian\",Translations!D591,IF(#REF!=\"German\",Translations!E591,IF(#REF!=\"Spanish\",Translations!F591,Translations!B591)))))","v":{"$error":"#REF!"}},"Czech Republic-Prague","République tchèque-Prague","Cechia-Prague","Tschechien-Prague","República Checa-Prague"]
[{"$f":"IF(#REF!=\"English\",Translations!B592,IF(#REF!=\"French\",Translations!C592,IF(#REF!=\"Italian\",Translations!D592,IF(#REF!=\"German\",Translations!E592,IF(#REF!=\"Spanish\",Translations!F592,Translations!B592)))))","v":{"$error":"#REF!"}},"Denmark","Danemark","Danimarca","Dänemark","Dinamarca"]
[{"$f":"IF(#REF!=\"English\",Translations!B593,IF(#REF!=\"French\",Translations!C593,IF(#REF!=\"Italian\",Translations!D593,IF(#REF!=\"German\",Translations!E593,IF(#REF!=\"Spanish\",Translations!F593,Translations!B593)))))","v":{"$error":"#REF!"}},"Denmark-Freephone","Danemark-Libre appel","Danimarca-Freephone","Dänemark-Freephone","Dinamarca-Freephone"]
[{"$f":"IF(#REF!=\"English\",Translations!B594,IF(#REF!=\"French\",Translations!C594,IF(#REF!=\"Italian\",Translations!D594,IF(#REF!=\"German\",Translations!E594,IF(#REF!=\"Spanish\",Translations!F594,Translations!B594)))))","v":{"$error":"#REF!"}},"Denmark-Mobile-Others","Danemark-Mobile-Autres","Danimarca-Mobile-Altri","Dänemark-Mobilfunk-Andere","Dinamarca-Móvil-Otros"]
[{"$f":"IF(#REF!=\"English\",Translations!B595,IF(#REF!=\"French\",Translations!C595,IF(#REF!=\"Italian\",Translations!D595,IF(#REF!=\"German\",Translations!E595,IF(#REF!=\"Spanish\",Translations!F595,Translations!B595)))))","v":{"$error":"#REF!"}},"Denmark-Mobile-Sonofon","Danemark-Mobile-Sonofon","Danimarca-Mobile-Sonofon","Dänemark-Mobilfunk-Sonofon","Dinamarca-Móvil-Sonofon"]
[{"$f":"IF(#REF!=\"English\",Translations!B596,IF(#REF!=\"French\",Translations!C596,IF(#REF!=\"Italian\",Translations!D596,IF(#REF!=\"German\",Translations!E596,IF(#REF!=\"Spanish\",Translations!F596,Translations!B596)))))","v":{"$error":"#REF!"}},"Denmark-Mobile-TDC","Danemark-Mobile-TDC","Danimarca-Mobile-TDC","Dänemark-Mobilfunk-TDC","Dinamarca-Móvil-TDC"]
[{"$f":"IF(#REF!=\"English\",Translations!B597,IF(#REF!=\"French\",Translations!C597,IF(#REF!=\"Italian\",Translations!D597,IF(#REF!=\"German\",Translations!E597,IF(#REF!=\"Spanish\",Translations!F597,Translations!B597)))))","v":{"$error":"#REF!"}},"Denmark-Mobile-Telia","Danemark-Mobile-Telia","Danimarca-Mobile-Telia","Dänemark-Mobilfunk-Telia","Dinamarca-Móvil-Telia"]
[{"$f":"IF(#REF!=\"English\",Translations!B598,IF(#REF!=\"French\",Translations!C598,IF(#REF!=\"Italian\",Translations!D598,IF(#REF!=\"German\",Translations!E598,IF(#REF!=\"Spanish\",Translations!F598,Translations!B598)))))","v":{"$error":"#REF!"}},"Denmark-Shared Cost","Danemark-Business Call","Danimarca-Shared Cost","Dänemark-Shared Cost","Dinamarca-Shared Cost"]
[{"$f":"IF(#REF!=\"English\",Translations!B599,IF(#REF!=\"French\",Translations!C599,IF(#REF!=\"Italian\",Translations!D599,IF(#REF!=\"German\",Translations!E599,IF(#REF!=\"Spanish\",Translations!F599,Translations!B599)))))","v":{"$error":"#REF!"}},"Diego Garcia","Diego Garcia","Diego Garcia","Diego Garcia","Diego García"]
[{"$f":"IF(#REF!=\"English\",Translations!B600,IF(#REF!=\"French\",Translations!C600,IF(#REF!=\"Italian\",Translations!D600,IF(#REF!=\"German\",Translations!E600,IF(#REF!=\"Spanish\",Translations!F600,Translations!B600)))))","v":{"$error":"#REF!"}},"Djibouti","Djibouti","Gibuti","Dschibuti","Yibuti"]
[{"$f":"IF(#REF!=\"English\",Translations!B601,IF(#REF!=\"French\",Translations!C601,IF(#REF!=\"Italian\",Translations!D601,IF(#REF!=\"German\",Translations!E601,IF(#REF!=\"Spanish\",Translations!F601,Translations!B601)))))","v":{"$error":"#REF!"}},"Djibouti-Mobile","Djibouti-Mobile","Gibuti-Mobile","Dschibuti-Mobilfunk","Yibuti-Móvil"]
[{"$f":"IF(#REF!=\"English\",Translations!B602,IF(#REF!=\"French\",Translations!C602,IF(#REF!=\"Italian\",Translations!D602,IF(#REF!=\"German\",Translations!E602,IF(#REF!=\"Spanish\",Translations!F602,Translations!B602)))))","v":{"$error":"#REF!"}},"Dominica","Dominique","Dominica","Dominica","Dominica "]
[{"$f":"IF(#REF!=\"English\",Translations!B603,IF(#REF!=\"French\",Translations!C603,IF(#REF!=\"Italian\",Translations!D603,IF(#REF!=\"German\",Translations!E603,IF(#REF!=\"Spanish\",Translations!F603,Translations!B603)))))","v":{"$error":"#REF!"}},"Dominican Republic","République dominicaine","Repubblica Dominicana","Dominikanische Rep.","República Dominicana"]
[{"$f":"IF(#REF!=\"English\",Translations!B604,IF(#REF!=\"French\",Translations!C604,IF(#REF!=\"Italian\",Translations!D604,IF(#REF!=\"German\",Translations!E604,IF(#REF!=\"Spanish\",Translations!F604,Translations!B604)))))","v":{"$error":"#REF!"}},"Dominican Republic-Mobile Oran","République dominicaine-Mobile-Oran","Repubblica Dominicana-Mobile-Oran","Dominikanische Rep.-Mobilfunk-Oran","Républica Dominicana-Móvil-Oran"]
[{"$f":"IF(#REF!=\"English\",Translations!B605,IF(#REF!=\"French\",Translations!C605,IF(#REF!=\"Italian\",Translations!D605,IF(#REF!=\"German\",Translations!E605,IF(#REF!=\"Spanish\",Translations!F605,Translations!B605)))))","v":{"$error":"#REF!"}},"Dominican Republic-Mobile Othe","République dominicaine-Mobile-Othe","Repubblica Dominicana-Mobile-Othe","Dominikanische Rep.-Mobilfunk-Othe","Républica Dominicana-Móvil-Othe"]
[{"$f":"IF(#REF!=\"English\",Translations!B606,IF(#REF!=\"French\",Translations!C606,IF(#REF!=\"Italian\",Translations!D606,IF(#REF!=\"German\",Translations!E606,IF(#REF!=\"Spanish\",Translations!F606,Translations!B606)))))","v":{"$error":"#REF!"}},"East Timor","Timor Leste","Timor Est ","Osttimor","Timor Oriental"]
[{"$f":"IF(#REF!=\"English\",Translations!B607,IF(#REF!=\"French\",Translations!C607,IF(#REF!=\"Italian\",Translations!D607,IF(#REF!=\"German\",Translations!E607,IF(#REF!=\"Spanish\",Translations!F607,Translations!B607)))))","v":{"$error":"#REF!"}},"Ecuador","Équateur","Equator","Ecuador","Ecuador"]
[{"$f":"IF(#REF!=\"English\",Translations!B608,IF(#REF!=\"French\",Translations!C608,IF(#REF!=\"Italian\",Translations!D608,IF(#REF!=\"German\",Translations!E608,IF(#REF!=\"Spanish\",Translations!F608,Translations!B608)))))","v":{"$error":"#REF!"}},"Ecuador-Cuenca","Équateur-Cuenca","Equator-Cuenca","Ecuador-Cuenca","Ecuador-Cuenca"]
[{"$f":"IF(#REF!=\"English\",Translations!B609,IF(#REF!=\"French\",Translations!C609,IF(#REF!=\"Italian\",Translations!D609,IF(#REF!=\"German\",Translations!E609,IF(#REF!=\"Spanish\",Translations!F609,Translations!B609)))))","v":{"$error":"#REF!"}},"Ecuador-Guayaquil","Équateur-Guayaquil","Equator-Guayaquil","Ecuador-Guayaquil","Ecuador-Guayaquil"]
[{"$f":"IF(#REF!=\"English\",Translations!B610,IF(#REF!=\"French\",Translations!C610,IF(#REF!=\"Italian\",Translations!D610,IF(#REF!=\"German\",Translations!E610,IF(#REF!=\"Spanish\",Translations!F610,Translations!B610)))))","v":{"$error":"#REF!"}},"Ecuador-Setel","Équateur-Setel","Equator-Setel","Ecuador-Setel","Ecuador-Setel"]
[{"$f":"IF(#REF!=\"English\",Translations!B611,IF(#REF!=\"French\",Translations!C611,IF(#REF!=\"Italian\",Translations!D611,IF(#REF!=\"German\",Translations!E611,IF(#REF!=\"Spanish\",Translations!F611,Translations!B611)))))","v":{"$error":"#REF!"}},"Ecuador-Mobile-BellSouth","Équateur-Mobile-BellSouth","Equator-Mobile-BellSouth","Ecuador-Mobilfunk-BellSouth","Ecuador-Móvil-BellSouth"]
[{"$f":"IF(#REF!=\"English\",Translations!B612,IF(#REF!=\"French\",Translations!C612,IF(#REF!=\"Italian\",Translations!D612,IF(#REF!=\"German\",Translations!E612,IF(#REF!=\"Spanish\",Translations!F612,Translations!B612)))))","v":{"$error":"#REF!"}},"Ecuador-Mobile-Others","Équateur-Mobile-Autres","Equator-Mobile-Altri","Ecuador-Mobilfunk-Andere","Ecuador-Móvil-Otros"]
[{"$f":"IF(#REF!=\"English\",Translations!B613,IF(#REF!=\"French\",Translations!C613,IF(#REF!=\"Italian\",Translations!D613,IF(#REF!=\"German\",Translations!E613,IF(#REF!=\"Spanish\",Translations!F613,Translations!B613)))))","v":{"$error":"#REF!"}},"Ecuador-Mobile-Porta","Équateur-Mobile-Porta","Equator-Mobile-Porta","Ecuador-Mobilfunk-Porta","Ecuador-Móvil-Porta"]
[{"$f":"IF(#REF!=\"English\",Translations!B614,IF(#REF!=\"French\",Translations!C614,IF(#REF!=\"Italian\",Translations!D614,IF(#REF!=\"German\",Translations!E614,IF(#REF!=\"Spanish\",Translations!F614,Translations!B614)))))","v":{"$error":"#REF!"}},"Ecuador-Quito","Équateur-Quito","Equator-Quito","Ecuador-Quito","Ecuador-Quito"]
[{"$f":"IF(#REF!=\"English\",Translations!B615,IF(#REF!=\"French\",Translations!C615,IF(#REF!=\"Italian\",Translations!D615,IF(#REF!=\"German\",Translations!E615,IF(#REF!=\"Spanish\",Translations!F615,Translations!B615)))))","v":{"$error":"#REF!"}},"Egypt","Égypte","Egitto","Ägypten","Egipto"]
[{"$f":"IF(#REF!=\"English\",Translations!B616,IF(#REF!=\"French\",Translations!C616,IF(#REF!=\"Italian\",Translations!D616,IF(#REF!=\"German\",Translations!E616,IF(#REF!=\"Spanish\",Translations!F616,Translations!B616)))))","v":{"$error":"#REF!"}},"Egypt-Cairo","Égypte-Cairo","Egitto-Cairo","Ägypten-Cairo","Egipto-Cairo"]
[{"$f":"IF(#REF!=\"English\",Translations!B617,IF(#REF!=\"French\",Translations!C617,IF(#REF!=\"Italian\",Translations!D617,IF(#REF!=\"German\",Translations!E617,IF(#REF!=\"Spanish\",Translations!F617,Translations!B617)))))","v":{"$error":"#REF!"}},"Egypt-Mobile-Mobinil","Égypte-Mobile-Mobinil","Egitto-Mobile-Mobinil","Ägypten-Mobilfunk-Mobinil","Egipto-Móvil-Mobinil"]
[{"$f":"IF(#REF!=\"English\",Translations!B618,IF(#REF!=\"French\",Translations!C618,IF(#REF!=\"Italian\",Translations!D618,IF(#REF!=\"German\",Translations!E618,IF(#REF!=\"Spanish\",Translations!F618,Translations!B618)))))","v":{"$error":"#REF!"}},"Egypt-Mobile-Others","Égypte-Mobile-Autres","Egitto-Mobile-Altri","Ägypten-Mobilfunk-Andere","Egipto-Móvil-Otros"]
[{"$f":"IF(#REF!=\"English\",Translations!B619,IF(#REF!=\"French\",Translations!C619,IF(#REF!=\"Italian\",Translations!D619,IF(#REF!=\"German\",Translations!E619,IF(#REF!=\"Spanish\",Translations!F619,Translations!B619)))))","v":{"$error":"#REF!"}},"Egypt-Mobile-Vodafone","Égypte-Mobile-Vodafone","Egitto-Mobile-Vodafone","Ägypten-Mobilfunk-Vodafone","Egipto-Móvil-Vodafone"]
[{"$f":"IF(#REF!=\"English\",Translations!B620,IF(#REF!=\"French\",Translations!C620,IF(#REF!=\"Italian\",Translations!D620,IF(#REF!=\"German\",Translations!E620,IF(#REF!=\"Spanish\",Translations!F620,Translations!B620)))))","v":{"$error":"#REF!"}},"El Salvador","El Salvador","El Salvador","El Salvador","El Salvador"]
[{"$f":"IF(#REF!=\"English\",Translations!B621,IF(#REF!=\"French\",Translations!C621,IF(#REF!=\"Italian\",Translations!D621,IF(#REF!=\"German\",Translations!E621,IF(#REF!=\"Spanish\",Translations!F621,Translations!B621)))))","v":{"$error":"#REF!"}},"El Salvador-Mobile-CTE","El Salvador-Mobile-CTE","El Salvador-Mobile-CTE","El Salvador-Mobilfunk-CTE","El Salvador-Móvil-CTE"]
[{"$f":"IF(#REF!=\"English\",Translations!B622,IF(#REF!=\"French\",Translations!C622,IF(#REF!=\"Italian\",Translations!D622,IF(#REF!=\"German\",Translations!E622,IF(#REF!=\"Spanish\",Translations!F622,Translations!B622)))))","v":{"$error":"#REF!"}},"El Salvador-Mobile-Digicel","El Salvador-Mobile-Digicel","El Salvador-Mobile-Digicel","El Salvador-Mobilfunk-Digicel","El Salvador-Móvil-Digicel"]
[{"$f":"IF(#REF!=\"English\",Translations!B623,IF(#REF!=\"French\",Translations!C623,IF(#REF!=\"Italian\",Translations!D623,IF(#REF!=\"German\",Translations!E623,IF(#REF!=\"Spanish\",Translations!F623,Translations!B623)))))","v":{"$error":"#REF!"}},"El Salvador-Mobile-Others","El Salvador-Mobile-Autres","El Salvador-Mobile-Altri","El Salvador-Mobilfunk-Andere","El Salvador-Móvil-Otros"]
[{"$f":"IF(#REF!=\"English\",Translations!B624,IF(#REF!=\"French\",Translations!C624,IF(#REF!=\"Italian\",Translations!D624,IF(#REF!=\"German\",Translations!E624,IF(#REF!=\"Spanish\",Translations!F624,Translations!B624)))))","v":{"$error":"#REF!"}},"El Salvador-Mobile-Telefonica","El Salvador-Mobile-Telefonica","El Salvador-Mobile-Telefonica","El Salvador-Mobilfunk-Telefonica","El Salvador-Móvil-Telefonica"]
[{"$f":"IF(#REF!=\"English\",Translations!B625,IF(#REF!=\"French\",Translations!C625,IF(#REF!=\"Italian\",Translations!D625,IF(#REF!=\"German\",Translations!E625,IF(#REF!=\"Spanish\",Translations!F625,Translations!B625)))))","v":{"$error":"#REF!"}},"El Salvador-Mobile-Telemovil","El Salvador-Mobile-Telemovil","El Salvador-Mobile-Telemovil","El Salvador-Mobilfunk-Telemovil","El Salvador-Móvil-Telemovil"]
[{"$f":"IF(#REF!=\"English\",Translations!B626,IF(#REF!=\"French\",Translations!C626,IF(#REF!=\"Italian\",Translations!D626,IF(#REF!=\"German\",Translations!E626,IF(#REF!=\"Spanish\",Translations!F626,Translations!B626)))))","v":{"$error":"#REF!"}},"Equatorial Guinea","Guinée équatoriale","Guinea Equatoriale","Äquatorialguinea","Guinea Ecuatorial"]
[{"$f":"IF(#REF!=\"English\",Translations!B627,IF(#REF!=\"French\",Translations!C627,IF(#REF!=\"Italian\",Translations!D627,IF(#REF!=\"German\",Translations!E627,IF(#REF!=\"Spanish\",Translations!F627,Translations!B627)))))","v":{"$error":"#REF!"}},"Equatorial Guinea-Mobile-Hits","Guinée équatoriale-Mobile-Hits","Guinea Equatoriale-Mobile-Hits","Äquatorialguinea-Mobilfunk-Hits","Guinea Ecuatorial-Móvil-Hits"]
[{"$f":"IF(#REF!=\"English\",Translations!B628,IF(#REF!=\"French\",Translations!C628,IF(#REF!=\"Italian\",Translations!D628,IF(#REF!=\"German\",Translations!E628,IF(#REF!=\"Spanish\",Translations!F628,Translations!B628)))))","v":{"$error":"#REF!"}},"Equatorial Guinea-Mobile-Orange","Guinée équatoriale-Mobile-Orange","Guinea Equatoriale-Mobile-Orange","Äquatorialguinea-Mobilfunk-Orange","Guinea Ecuatorial-Móvil-Orange"]
[{"$f":"IF(#REF!=\"English\",Translations!B629,IF(#REF!=\"French\",Translations!C629,IF(#REF!=\"Italian\",Translations!D629,IF(#REF!=\"German\",Translations!E629,IF(#REF!=\"Spanish\",Translations!F629,Translations!B629)))))","v":{"$error":"#REF!"}},"Equatorial Guinea-Mobile-Others","Guinée équatoriale-Mobile-Autres","Guinea Equatoriale-Mobile-Altri","Äquatorialguinea-Mobilfunk-Andere","Guinea Ecuatorial-Móvil-Otros"]
[{"$f":"IF(#REF!=\"English\",Translations!B630,IF(#REF!=\"French\",Translations!C630,IF(#REF!=\"Italian\",Translations!D630,IF(#REF!=\"German\",Translations!E630,IF(#REF!=\"Spanish\",Translations!F630,Translations!B630)))))","v":{"$error":"#REF!"}},"Eritrea","Érythrée","Eritrea","Eritrea","Eritrea"]
[{"$f":"IF(#REF!=\"English\",Translations!B631,IF(#REF!=\"French\",Translations!C631,IF(#REF!=\"Italian\",Translations!D631,IF(#REF!=\"German\",Translations!E631,IF(#REF!=\"Spanish\",Translations!F631,Translations!B631)))))","v":{"$error":"#REF!"}},"Eritrea-Mobile","Érythrée-Mobile","Eritrea-Mobile","Eritrea-Mobilfunk","Eritrea-Móvil"]
[{"$f":"IF(#REF!=\"English\",Translations!B632,IF(#REF!=\"French\",Translations!C632,IF(#REF!=\"Italian\",Translations!D632,IF(#REF!=\"German\",Translations!E632,IF(#REF!=\"Spanish\",Translations!F632,Translations!B632)))))","v":{"$error":"#REF!"}},"Estonia","Estonie","Estonia","Estland","Estonia"]
[{"$f":"IF(#REF!=\"English\",Translations!B633,IF(#REF!=\"French\",Translations!C633,IF(#REF!=\"Italian\",Translations!D633,IF(#REF!=\"German\",Translations!E633,IF(#REF!=\"Spanish\",Translations!F633,Translations!B633)))))","v":{"$error":"#REF!"}},"Estonia-Mobile-Elisa","Estonie-Mobile-Elisa","Estonia-Mobile-Elisa","Estland-Mobilfunk-Elisa","Estonia-Móvil-Elisa"]
[{"$f":"IF(#REF!=\"English\",Translations!B634,IF(#REF!=\"French\",Translations!C634,IF(#REF!=\"Italian\",Translations!D634,IF(#REF!=\"German\",Translations!E634,IF(#REF!=\"Spanish\",Translations!F634,Translations!B634)))))","v":{"$error":"#REF!"}},"Estonia-Mobile-EMT","Estonie-Mobile-EMT","Estonia-Mobile-EMT","Estland-Mobilfunk-EMT","Estonia-Móvil-EMT"]
[{"$f":"IF(#REF!=\"English\",Translations!B635,IF(#REF!=\"French\",Translations!C635,IF(#REF!=\"Italian\",Translations!D635,IF(#REF!=\"German\",Translations!E635,IF(#REF!=\"Spanish\",Translations!F635,Translations!B635)))))","v":{"$error":"#REF!"}},"Estonia-Mobile-Others","Estonie-Mobile-Autres","Estonia-Mobile-Altri","Estland-Mobilfunk-Andere","Estonia-Móvil-Otros"]
[{"$f":"IF(#REF!=\"English\",Translations!B636,IF(#REF!=\"French\",Translations!C636,IF(#REF!=\"Italian\",Translations!D636,IF(#REF!=\"German\",Translations!E636,IF(#REF!=\"Spanish\",Translations!F636,Translations!B636)))))","v":{"$error":"#REF!"}},"Estonia-Mobile-Tele2","Estonie-Mobile-Tele2","Estonia-Mobile-Tele2","Estland-Mobilfunk-Tele2","Estonia-Móvil-Tele2"]
[{"$f":"IF(#REF!=\"English\",Translations!B637,IF(#REF!=\"French\",Translations!C637,IF(#REF!=\"Italian\",Translations!D637,IF(#REF!=\"German\",Translations!E637,IF(#REF!=\"Spanish\",Translations!F637,Translations!B637)))))","v":{"$error":"#REF!"}},"Estonia-Special Services","Estonie-Special Services","Estonia-Special Services","Estland-Special Services","Estonia-Special Services"]
[{"$f":"IF(#REF!=\"English\",Translations!B638,IF(#REF!=\"French\",Translations!C638,IF(#REF!=\"Italian\",Translations!D638,IF(#REF!=\"German\",Translations!E638,IF(#REF!=\"Spanish\",Translations!F638,Translations!B638)))))","v":{"$error":"#REF!"}},"Estonia-Tallinn","Estonie-Tallinn","Estonia-Tallinn","Estland-Tallinn","Estonia-Tallinn"]
[{"$f":"IF(#REF!=\"English\",Translations!B639,IF(#REF!=\"French\",Translations!C639,IF(#REF!=\"Italian\",Translations!D639,IF(#REF!=\"German\",Translations!E639,IF(#REF!=\"Spanish\",Translations!F639,Translations!B639)))))","v":{"$error":"#REF!"}},"Ethiopia","Éthiopie","Etiopia","Äthiopien","Etiopía"]
[{"$f":"IF(#REF!=\"English\",Translations!B640,IF(#REF!=\"French\",Translations!C640,IF(#REF!=\"Italian\",Translations!D640,IF(#REF!=\"German\",Translations!E640,IF(#REF!=\"Spanish\",Translations!F640,Translations!B640)))))","v":{"$error":"#REF!"}},"Ethiopia-Addis Ababa","Éthiopie-Addis Ababa","Etiopia-Addis Ababa","Äthiopien-Addis Ababa","Etiopía-Addis Ababa"]
[{"$f":"IF(#REF!=\"English\",Translations!B641,IF(#REF!=\"French\",Translations!C641,IF(#REF!=\"Italian\",Translations!D641,IF(#REF!=\"German\",Translations!E641,IF(#REF!=\"Spanish\",Translations!F641,Translations!B641)))))","v":{"$error":"#REF!"}},"Ethiopia-Mobile-Addis Ababa","Éthiopie-Mobile-Addis Ababa","Etiopia-Mobile-Addis Ababa","Äthiopien-Mobilfunk-Addis Ababa","Etiopía-Móvil-Addis Ababa"]
[{"$f":"IF(#REF!=\"English\",Translations!B642,IF(#REF!=\"French\",Translations!C642,IF(#REF!=\"Italian\",Translations!D642,IF(#REF!=\"German\",Translations!E642,IF(#REF!=\"Spanish\",Translations!F642,Translations!B642)))))","v":{"$error":"#REF!"}},"Ethiopia-Mobile-Others","Éthiopie-Mobile-Autres","Etiopia-Mobile-Altri","Äthiopien-Mobilfunk-Andere","Etiopía-Móvil-Otros"]
[{"$f":"IF(#REF!=\"English\",Translations!B643,IF(#REF!=\"French\",Translations!C643,IF(#REF!=\"Italian\",Translations!D643,IF(#REF!=\"German\",Translations!E643,IF(#REF!=\"Spanish\",Translations!F643,Translations!B643)))))","v":{"$error":"#REF!"}},"Falkland Islands","Îles Malouines","Isole Falkland","Falkland-Inseln","Islas Malvinas"]
[{"$f":"IF(#REF!=\"English\",Translations!B644,IF(#REF!=\"French\",Translations!C644,IF(#REF!=\"Italian\",Translations!D644,IF(#REF!=\"German\",Translations!E644,IF(#REF!=\"Spanish\",Translations!F644,Translations!B644)))))","v":{"$error":"#REF!"}},"Faroe Islands","Îles Féroé","Fær Øer","Färöer-Inseln","Islas Feroe"]
[{"$f":"IF(#REF!=\"English\",Translations!B645,IF(#REF!=\"French\",Translations!C645,IF(#REF!=\"Italian\",Translations!D645,IF(#REF!=\"German\",Translations!E645,IF(#REF!=\"Spanish\",Translations!F645,Translations!B645)))))","v":{"$error":"#REF!"}},"Fiji","Fidji","Figi ","Fidschi-Inseln","Fiyi"]
[{"$f":"IF(#REF!=\"English\",Translations!B646,IF(#REF!=\"French\",Translations!C646,IF(#REF!=\"Italian\",Translations!D646,IF(#REF!=\"German\",Translations!E646,IF(#REF!=\"Spanish\",Translations!F646,Translations!B646)))))","v":{"$error":"#REF!"}},"Finland","Finlande","Finlandia","Finnland","Finlandia"]
[{"$f":"IF(#REF!=\"English\",Translations!B647,IF(#REF!=\"French\",Translations!C647,IF(#REF!=\"Italian\",Translations!D647,IF(#REF!=\"German\",Translations!E647,IF(#REF!=\"Spanish\",Translations!F647,Translations!B647)))))","v":{"$error":"#REF!"}},"Finland-Helsinki","Finlande-Helsinki","Finlandia-Helsinki","Finnland-Helsinki","Finlandia-Helsinki"]
[{"$f":"IF(#REF!=\"English\",Translations!B648,IF(#REF!=\"French\",Translations!C648,IF(#REF!=\"Italian\",Translations!D648,IF(#REF!=\"German\",Translations!E648,IF(#REF!=\"Spanish\",Translations!F648,Translations!B648)))))","v":{"$error":"#REF!"}},"Finland-Mobile-Elisa","Finlande-Mobile-Elisa","Finlandia-Mobile-Elisa","Finnland-Mobilfunk-Elisa","Finlandia-Móvil-Elisa"]
[{"$f":"IF(#REF!=\"English\",Translations!B649,IF(#REF!=\"French\",Translations!C649,IF(#REF!=\"Italian\",Translations!D649,IF(#REF!=\"German\",Translations!E649,IF(#REF!=\"Spanish\",Translations!F649,Translations!B649)))))","v":{"$error":"#REF!"}},"Finland-Mobile-Others","Finlande-Mobile-Autres","Finlandia-Mobile-Altri","Finnland-Mobilfunk-Andere","Finlandia-Móvil-Otros"]
[{"$f":"IF(#REF!=\"English\",Translations!B650,IF(#REF!=\"French\",Translations!C650,IF(#REF!=\"Italian\",Translations!D650,IF(#REF!=\"German\",Translations!E650,IF(#REF!=\"Spanish\",Translations!F650,Translations!B650)))))","v":{"$error":"#REF!"}},"Finland-Mobile-Sonera","Finlande-Mobile-Sonera","Finlandia-Mobile-Sonera","Finnland-Mobilfunk-Sonera","Finlandia-Móvil-Sonera"]
[{"$f":"IF(#REF!=\"English\",Translations!B651,IF(#REF!=\"French\",Translations!C651,IF(#REF!=\"Italian\",Translations!D651,IF(#REF!=\"German\",Translations!E651,IF(#REF!=\"Spanish\",Translations!F651,Translations!B651)))))","v":{"$error":"#REF!"}},"Finland-Personal Number","Finlande-Personal Number","Finlandia-Personal Number","Finnland-Personal Number","Finlandia-Personal Number"]
[{"$f":"IF(#REF!=\"English\",Translations!B652,IF(#REF!=\"French\",Translations!C652,IF(#REF!=\"Italian\",Translations!D652,IF(#REF!=\"German\",Translations!E652,IF(#REF!=\"Spanish\",Translations!F652,Translations!B652)))))","v":{"$error":"#REF!"}},"France","France","Francia","Frankreich","Francia"]
[{"$f":"IF(#REF!=\"English\",Translations!B653,IF(#REF!=\"French\",Translations!C653,IF(#REF!=\"Italian\",Translations!D653,IF(#REF!=\"German\",Translations!E653,IF(#REF!=\"Spanish\",Translations!F653,Translations!B653)))))","v":{"$error":"#REF!"}},"France-Freephone","France-Libre appel","Francia-Freephone","Frankreich-Freephone","Francia-Freephone"]
[{"$f":"IF(#REF!=\"English\",Translations!B654,IF(#REF!=\"French\",Translations!C654,IF(#REF!=\"Italian\",Translations!D654,IF(#REF!=\"German\",Translations!E654,IF(#REF!=\"Spanish\",Translations!F654,Translations!B654)))))","v":{"$error":"#REF!"}},"France-Mobile-Bouygues","France-Mobile-Bouygues","Francia-Mobile-Bouygues","Frankreich-Mobilfunk-Bouygues","Francia-Móvil-Bouygues"]
[{"$f":"IF(#REF!=\"English\",Translations!B655,IF(#REF!=\"French\",Translations!C655,IF(#REF!=\"Italian\",Translations!D655,IF(#REF!=\"German\",Translations!E655,IF(#REF!=\"Spanish\",Translations!F655,Translations!B655)))))","v":{"$error":"#REF!"}},"France-Mobile-Free","France-Mobile-Free","Francia-Mobile-Free","Frankreich-Mobilfunk-Free","Francia-Móvil-Free"]
[{"$f":"IF(#REF!=\"English\",Translations!B656,IF(#REF!=\"French\",Translations!C656,IF(#REF!=\"Italian\",Translations!D656,IF(#REF!=\"German\",Translations!E656,IF(#REF!=\"Spanish\",Translations!F656,Translations!B656)))))","v":{"$error":"#REF!"}},"France-Mobile-Orange","France-Mobile-Orange","Francia-Mobile-Orange","Frankreich-Mobilfunk-Orange","Francia-Móvil-Orange"]
[{"$f":"IF(#REF!=\"English\",Translations!B657,IF(#REF!=\"French\",Translations!C657,IF(#REF!=\"Italian\",Translations!D657,IF(#REF!=\"German\",Translations!E657,IF(#REF!=\"Spanish\",Translations!F657,Translations!B657)))))","v":{"$error":"#REF!"}},"France-Mobile-Others","France-Mobile-Autres","Francia-Mobile-Altri","Frankreich-Mobilfunk-Andere","Francia-Móvil-Otros"]
[{"$f":"IF(#REF!=\"English\",Translations!B658,IF(#REF!=\"French\",Translations!C658,IF(#REF!=\"Italian\",Translations!D658,IF(#REF!=\"German\",Translations!E658,IF(#REF!=\"Spanish\",Translations!F658,Translations!B658)))))","v":{"$error":"#REF!"}},"France-Mobile-SFR","France-Mobile-SFR","Francia-Mobile-SFR","Frankreich-Mobilfunk-SFR","Francia-Móvil-SFR"]
[{"$f":"IF(#REF!=\"English\",Translations!B659,IF(#REF!=\"French\",Translations!C659,IF(#REF!=\"Italian\",Translations!D659,IF(#REF!=\"German\",Translations!E659,IF(#REF!=\"Spanish\",Translations!F659,Translations!B659)))))","v":{"$error":"#REF!"}},"France-Mobile-Lycamobile","France-Mobile-Lycamobile","Francia-Mobile-Lycamobile","Frankreich-Mobilfunk-Lycamobile","Francia-Móvil-Lycamobile"]
[{"$f":"IF(#REF!=\"English\",Translations!B660,IF(#REF!=\"French\",Translations!C660,IF(#REF!=\"Italian\",Translations!D660,IF(#REF!=\"German\",Translations!E660,IF(#REF!=\"Spanish\",Translations!F660,Translations!B660)))))","v":{"$error":"#REF!"}},"France-Mobile-NRJ","France-Mobile-NRJ","Francia-Mobile-NRJ","Frankreich-Mobilfunk-NRJ","Francia-Móvil-NRJ"]
[{"$f":"IF(#REF!=\"English\",Translations!B661,IF(#REF!=\"French\",Translations!C661,IF(#REF!=\"Italian\",Translations!D661,IF(#REF!=\"German\",Translations!E661,IF(#REF!=\"Spanish\",Translations!F661,Translations!B661)))))","v":{"$error":"#REF!"}},"France-Mobile-Omer","France-Mobile-Omer","Francia-Mobile-Omer","Frankreich-Mobilfunk-Omer","Francia-Móvil-Omer"]
[{"$f":"IF(#REF!=\"English\",Translations!B662,IF(#REF!=\"French\",Translations!C662,IF(#REF!=\"Italian\",Translations!D662,IF(#REF!=\"German\",Translations!E662,IF(#REF!=\"Spanish\",Translations!F662,Translations!B662)))))","v":{"$error":"#REF!"}},"France-Personal Number","France-Numéro personnel","Francia-Personal Number","Frackreich-Persönliche Nummer","Francia-Número Personal"]
[{"$f":"IF(#REF!=\"English\",Translations!B663,IF(#REF!=\"French\",Translations!C663,IF(#REF!=\"Italian\",Translations!D663,IF(#REF!=\"German\",Translations!E663,IF(#REF!=\"Spanish\",Translations!F663,Translations!B663)))))","v":{"$error":"#REF!"}},"France-Shared Cost","France-Business Call","Francia-Shared Cost","Frankreich-Shared Cost","Francia-Shared Cost"]
[{"$f":"IF(#REF!=\"English\",Translations!B664,IF(#REF!=\"French\",Translations!C664,IF(#REF!=\"Italian\",Translations!D664,IF(#REF!=\"German\",Translations!E664,IF(#REF!=\"Spanish\",Translations!F664,Translations!B664)))))","v":{"$error":"#REF!"}},"French Polynesia","Polynésie française","Polinesia Francese","Französisch-Polynesien","Polinesia Francesa"]
[{"$f":"IF(#REF!=\"English\",Translations!B665,IF(#REF!=\"French\",Translations!C665,IF(#REF!=\"Italian\",Translations!D665,IF(#REF!=\"German\",Translations!E665,IF(#REF!=\"Spanish\",Translations!F665,Translations!B665)))))","v":{"$error":"#REF!"}},"Gabon","Gabon","Gabon","Gabun","Gabón"]
[{"$f":"IF(#REF!=\"English\",Translations!B666,IF(#REF!=\"French\",Translations!C666,IF(#REF!=\"Italian\",Translations!D666,IF(#REF!=\"German\",Translations!E666,IF(#REF!=\"Spanish\",Translations!F666,Translations!B666)))))","v":{"$error":"#REF!"}},"Gabon-Mobile-Azur","Gabon-Mobile-Azur","Gabon-Mobile-Azur","Gabun-Mobilfunk-Azur","Gabón-Móvil-Azur"]
[{"$f":"IF(#REF!=\"English\",Translations!B667,IF(#REF!=\"French\",Translations!C667,IF(#REF!=\"Italian\",Translations!D667,IF(#REF!=\"German\",Translations!E667,IF(#REF!=\"Spanish\",Translations!F667,Translations!B667)))))","v":{"$error":"#REF!"}},"Gabon-Mobile-Celtel","Gabon-Mobile-Celtel","Gabon-Mobile-Celtel","Gabun-Mobilfunk-Celtel","Gabón-Móvil-Celtel"]
[{"$f":"IF(#REF!=\"English\",Translations!B668,IF(#REF!=\"French\",Translations!C668,IF(#REF!=\"Italian\",Translations!D668,IF(#REF!=\"German\",Translations!E668,IF(#REF!=\"Spanish\",Translations!F668,Translations!B668)))))","v":{"$error":"#REF!"}},"Gabon-Mobile-Libertis","Gabon-Mobile-Libertis","Gabon-Mobile-Libertis","Gabun-Mobilfunk-Libertis","Gabón-Móvil-Libertis"]
[{"$f":"IF(#REF!=\"English\",Translations!B669,IF(#REF!=\"French\",Translations!C669,IF(#REF!=\"Italian\",Translations!D669,IF(#REF!=\"German\",Translations!E669,IF(#REF!=\"Spanish\",Translations!F669,Translations!B669)))))","v":{"$error":"#REF!"}},"Gabon-Mobile-Telecel","Gabon-Mobile-Telecel","Gabon-Mobile-Telecel","Gabun-Mobilfunk-Telecel","Gabón-Móvil-Telecel"]
[{"$f":"IF(#REF!=\"English\",Translations!B670,IF(#REF!=\"French\",Translations!C670,IF(#REF!=\"Italian\",Translations!D670,IF(#REF!=\"German\",Translations!E670,IF(#REF!=\"Spanish\",Translations!F670,Translations!B670)))))","v":{"$error":"#REF!"}},"Gambia","Gambie","Gambia","Gambia","Gambia"]
[{"$f":"IF(#REF!=\"English\",Translations!B671,IF(#REF!=\"French\",Translations!C671,IF(#REF!=\"Italian\",Translations!D671,IF(#REF!=\"German\",Translations!E671,IF(#REF!=\"Spanish\",Translations!F671,Translations!B671)))))","v":{"$error":"#REF!"}},"Gambia-Mobile-Africell","Gambie-Mobile-Africell","Gambia-Mobile-Africell","Gambia-Mobilfunk-Africell","Gambia-Móvil-Africell"]
[{"$f":"IF(#REF!=\"English\",Translations!B672,IF(#REF!=\"French\",Translations!C672,IF(#REF!=\"Italian\",Translations!D672,IF(#REF!=\"German\",Translations!E672,IF(#REF!=\"Spanish\",Translations!F672,Translations!B672)))))","v":{"$error":"#REF!"}},"Gambia-Mobile-Comium","Gambie-Mobile-Comium","Gambia-Mobile-Comium","Gambia-Mobilfunk-Comium","Gambia-Móvil-Comium"]
[{"$f":"IF(#REF!=\"English\",Translations!B673,IF(#REF!=\"French\",Translations!C673,IF(#REF!=\"Italian\",Translations!D673,IF(#REF!=\"German\",Translations!E673,IF(#REF!=\"Spanish\",Translations!F673,Translations!B673)))))","v":{"$error":"#REF!"}},"Gambia-Mobile-Gamcel","Gambie-Mobile-Gamcel","Gambia-Mobile-Gamcel","Gambia-Mobilfunk-Gamcel","Gambia-Móvil-Gamcel"]
[{"$f":"IF(#REF!=\"English\",Translations!B674,IF(#REF!=\"French\",Translations!C674,IF(#REF!=\"Italian\",Translations!D674,IF(#REF!=\"German\",Translations!E674,IF(#REF!=\"Spanish\",Translations!F674,Translations!B674)))))","v":{"$error":"#REF!"}},"Gambia-Mobile-QCELL","Gambie-Mobile-QCELL","Gambia-Mobile-QCELL","Gambia-Mobilfunk-QCELL","Gambia-Móvil-QCELL"]
[{"$f":"IF(#REF!=\"English\",Translations!B675,IF(#REF!=\"French\",Translations!C675,IF(#REF!=\"Italian\",Translations!D675,IF(#REF!=\"German\",Translations!E675,IF(#REF!=\"Spanish\",Translations!F675,Translations!B675)))))","v":{"$error":"#REF!"}},"Gambia-Mobile-Others","Gambie-Mobile-Autres","Gambia-Mobile-Altri","Gambia-Mobilfunk-Andere","Gambia-Móvil-Otros"]
[{"$f":"IF(#REF!=\"English\",Translations!B676,IF(#REF!=\"French\",Translations!C676,IF(#REF!=\"Italian\",Translations!D676,IF(#REF!=\"German\",Translations!E676,IF(#REF!=\"Spanish\",Translations!F676,Translations!B676)))))","v":{"$error":"#REF!"}},"Georgia","Géorgie","Georgia","Georgien","Georgia"]
[{"$f":"IF(#REF!=\"English\",Translations!B677,IF(#REF!=\"French\",Translations!C677,IF(#REF!=\"Italian\",Translations!D677,IF(#REF!=\"German\",Translations!E677,IF(#REF!=\"Spanish\",Translations!F677,Translations!B677)))))","v":{"$error":"#REF!"}},"Georgia-Abkhasia","Géorgie-Abkhazie","Georgia-Abcasia","Georgien-Abchasien","Georgia-Abjasia"]
[{"$f":"IF(#REF!=\"English\",Translations!B678,IF(#REF!=\"French\",Translations!C678,IF(#REF!=\"Italian\",Translations!D678,IF(#REF!=\"German\",Translations!E678,IF(#REF!=\"Spanish\",Translations!F678,Translations!B678)))))","v":{"$error":"#REF!"}},"Georgia-Mobile-GeoCell","Georgie-Mobile-GeoCell","Georgia-Mobile-GeoCell","Georgien-Mobilfunk-GeoCell","Georgia-Móvil-GeoCell"]
[{"$f":"IF(#REF!=\"English\",Translations!B679,IF(#REF!=\"French\",Translations!C679,IF(#REF!=\"Italian\",Translations!D679,IF(#REF!=\"German\",Translations!E679,IF(#REF!=\"Spanish\",Translations!F679,Translations!B679)))))","v":{"$error":"#REF!"}},"Georgia-Mobile-MagtiCom","Georgie-Mobile-MagtiCom","Georgia-Mobile-MagtiCom","Georgien-Mobilfunk-MagtiCom","Georgia-Móvil-MagtiCom"]
[{"$f":"IF(#REF!=\"English\",Translations!B680,IF(#REF!=\"French\",Translations!C680,IF(#REF!=\"Italian\",Translations!D680,IF(#REF!=\"German\",Translations!E680,IF(#REF!=\"Spanish\",Translations!F680,Translations!B680)))))","v":{"$error":"#REF!"}},"Georgia-Mobile-Mobitel","Georgie-Mobile-Mobitel","Georgia-Mobile-Mobitel","Georgien-Mobilfunk-Mobitel","Georgia-Móvil-Mobitel"]
[{"$f":"IF(#REF!=\"English\",Translations!B681,IF(#REF!=\"French\",Translations!C681,IF(#REF!=\"Italian\",Translations!D681,IF(#REF!=\"German\",Translations!E681,IF(#REF!=\"Spanish\",Translations!F681,Translations!B681)))))","v":{"$error":"#REF!"}},"Georgia-Mobile-Others","Georgie-Mobile-Autres","Georgia-Mobile-Altri","Georgien-Mobilfunk-Andere","Georgia-Móvil-Otros"]
[{"$f":"IF(#REF!=\"English\",Translations!B682,IF(#REF!=\"French\",Translations!C682,IF(#REF!=\"Italian\",Translations!D682,IF(#REF!=\"German\",Translations!E682,IF(#REF!=\"Spanish\",Translations!F682,Translations!B682)))))","v":{"$error":"#REF!"}},"Georgia-Tbilisi","Géorgie-Tbilisi","Georgia-Tbilisi","Georgien-Tiflis","Georgia-Tbilisi"]
[{"$f":"IF(#REF!=\"English\",Translations!B683,IF(#REF!=\"French\",Translations!C683,IF(#REF!=\"Italian\",Translations!D683,IF(#REF!=\"German\",Translations!E683,IF(#REF!=\"Spanish\",Translations!F683,Translations!B683)))))","v":{"$error":"#REF!"}},"Germany","Allemagne","Germania","Deutschland ","Alemania"]
[{"$f":"IF(#REF!=\"English\",Translations!B684,IF(#REF!=\"French\",Translations!C684,IF(#REF!=\"Italian\",Translations!D684,IF(#REF!=\"German\",Translations!E684,IF(#REF!=\"Spanish\",Translations!F684,Translations!B684)))))","v":{"$error":"#REF!"}},"Germany-Freephone","Allemagne-Libre appel","Germania-Freephone","Deutschland-Freephone","Alemania-Freephone"]
[{"$f":"IF(#REF!=\"English\",Translations!B685,IF(#REF!=\"French\",Translations!C685,IF(#REF!=\"Italian\",Translations!D685,IF(#REF!=\"German\",Translations!E685,IF(#REF!=\"Spanish\",Translations!F685,Translations!B685)))))","v":{"$error":"#REF!"}},"Germany-Mobile-EPlus","Allemagne-Mobile-EPlus","Germania-Mobile-EPlus","Deutschland-Mobilfunk-EPlus","Alemania-Móvil-EPlus"]
[{"$f":"IF(#REF!=\"English\",Translations!B686,IF(#REF!=\"French\",Translations!C686,IF(#REF!=\"Italian\",Translations!D686,IF(#REF!=\"German\",Translations!E686,IF(#REF!=\"Spanish\",Translations!F686,Translations!B686)))))","v":{"$error":"#REF!"}},"Germany-Mobile-O2","Allemagne-Mobile-O2","Germania-Mobile-O2","Deutschland-Mobilfunk-O2","Alemania-Móvil-O2"]
[{"$f":"IF(#REF!=\"English\",Translations!B687,IF(#REF!=\"French\",Translations!C687,IF(#REF!=\"Italian\",Translations!D687,IF(#REF!=\"German\",Translations!E687,IF(#REF!=\"Spanish\",Translations!F687,Translations!B687)))))","v":{"$error":"#REF!"}},"Germany-Mobile-Others","Allemagne-Mobile-Autres","Germania-Mobile-Altri","Deutschland-Mobilfunk-Andere","Alemania-Móvil-Otros"]
[{"$f":"IF(#REF!=\"English\",Translations!B688,IF(#REF!=\"French\",Translations!C688,IF(#REF!=\"Italian\",Translations!D688,IF(#REF!=\"German\",Translations!E688,IF(#REF!=\"Spanish\",Translations!F688,Translations!B688)))))","v":{"$error":"#REF!"}},"Germany-Mobile-TMobil","Allemagne-Mobile-TMobil","Germania-Mobile-TMobil","Deutschland-Mobilfunk-TMobil","Alemania-Móvil-TMobil"]
[{"$f":"IF(#REF!=\"English\",Translations!B689,IF(#REF!=\"French\",Translations!C689,IF(#REF!=\"Italian\",Translations!D689,IF(#REF!=\"German\",Translations!E689,IF(#REF!=\"Spanish\",Translations!F689,Translations!B689)))))","v":{"$error":"#REF!"}},"Germany-Mobile-Vodafone","Allemagne-Mobile-Vodafone","Germania-Mobile-Vodafone","Deutschland-Mobilfunk-Vodafone","Alemania-Móvil-Vodafone"]
[{"$f":"IF(#REF!=\"English\",Translations!B690,IF(#REF!=\"French\",Translations!C690,IF(#REF!=\"Italian\",Translations!D690,IF(#REF!=\"German\",Translations!E690,IF(#REF!=\"Spanish\",Translations!F690,Translations!B690)))))","v":{"$error":"#REF!"}},"Germany-Mobile-Lycamobile","Allemagne-Mobile-Lycamobile","Germania-Mobile-Lycamobile","Deutschland-Mobilfunk-Lycamobile","Alemania-Móvil-Lycamobile"]
[{"$f":"IF(#REF!=\"English\",Translations!B691,IF(#REF!=\"French\",Translations!C691,IF(#REF!=\"Italian\",Translations!D691,IF(#REF!=\"German\",Translations!E691,IF(#REF!=\"Spanish\",Translations!F691,Translations!B691)))))","v":{"$error":"#REF!"}},"Germany-Personal Number","Allemagne-Numéro personnel","Germania-Personal Number","Deutschland-Persönliche Nummer","Alemania-Número Personal"]
[{"$f":"IF(#REF!=\"English\",Translations!B692,IF(#REF!=\"French\",Translations!C692,IF(#REF!=\"Italian\",Translations!D692,IF(#REF!=\"German\",Translations!E692,IF(#REF!=\"Spanish\",Translations!F692,Translations!B692)))))","v":{"$error":"#REF!"}},"Germany-Shared Cost","Allemagne-Business Call","Germania-Shared Cost","Deutschland-Shared Cost","Alemania-Shared Cost"]
[{"$f":"IF(#REF!=\"English\",Translations!B693,IF(#REF!=\"French\",Translations!C693,IF(#REF!=\"Italian\",Translations!D693,IF(#REF!=\"German\",Translations!E693,IF(#REF!=\"Spanish\",Translations!F693,Translations!B693)))))","v":{"$error":"#REF!"}},"Ghana","Ghana","Ghana","Ghana","Ghana"]
[{"$f":"IF(#REF!=\"English\",Translations!B694,IF(#REF!=\"French\",Translations!C694,IF(#REF!=\"Italian\",Translations!D694,IF(#REF!=\"German\",Translations!E694,IF(#REF!=\"Spanish\",Translations!F694,Translations!B694)))))","v":{"$error":"#REF!"}},"Ghana-Accra","Ghana-Accra","Ghana-Accra","Ghana-Accra","Ghana-Accra"]
[{"$f":"IF(#REF!=\"English\",Translations!B695,IF(#REF!=\"French\",Translations!C695,IF(#REF!=\"Italian\",Translations!D695,IF(#REF!=\"German\",Translations!E695,IF(#REF!=\"Spanish\",Translations!F695,Translations!B695)))))","v":{"$error":"#REF!"}},"Ghana-Mobile-Mobiltel","Ghana-Mobile-Mobiltel","Ghana-Mobile-Mobiltel","Ghana-Mobilfunk-Mobiltel","Ghana-Móvil-Mobiltel"]
[{"$f":"IF(#REF!=\"English\",Translations!B696,IF(#REF!=\"French\",Translations!C696,IF(#REF!=\"Italian\",Translations!D696,IF(#REF!=\"German\",Translations!E696,IF(#REF!=\"Spanish\",Translations!F696,Translations!B696)))))","v":{"$error":"#REF!"}},"Ghana-Mobile-MTN","Ghana-Mobile-MTN","Ghana-Mobile-MTN","Ghana-Mobilfunk-MTN","Ghana-Móvil-MTN"]
[{"$f":"IF(#REF!=\"English\",Translations!B697,IF(#REF!=\"French\",Translations!C697,IF(#REF!=\"Italian\",Translations!D697,IF(#REF!=\"German\",Translations!E697,IF(#REF!=\"Spanish\",Translations!F697,Translations!B697)))))","v":{"$error":"#REF!"}},"Ghana-Mobile-Others","Ghana-Mobile-Autres","Ghana-Mobile-Altri","Ghana-Mobilfunk-Andere","Ghana-Móvil-Otros"]
[{"$f":"IF(#REF!=\"English\",Translations!B698,IF(#REF!=\"French\",Translations!C698,IF(#REF!=\"Italian\",Translations!D698,IF(#REF!=\"German\",Translations!E698,IF(#REF!=\"Spanish\",Translations!F698,Translations!B698)))))","v":{"$error":"#REF!"}},"Ghana-Mobile-Vodafone","Ghana-Mobile-Vodafone","Ghana-Mobile-Vodafone","Ghana-Mobilfunk-Vodafone","Ghana-Móvil-Vodafone"]
[{"$f":"IF(#REF!=\"English\",Translations!B699,IF(#REF!=\"French\",Translations!C699,IF(#REF!=\"Italian\",Translations!D699,IF(#REF!=\"German\",Translations!E699,IF(#REF!=\"Spanish\",Translations!F699,Translations!B699)))))","v":{"$error":"#REF!"}},"Gibraltar","Gibraltar","Gibilterra","Gibraltar","Gibraltar"]
[{"$f":"IF(#REF!=\"English\",Translations!B700,IF(#REF!=\"French\",Translations!C700,IF(#REF!=\"Italian\",Translations!D700,IF(#REF!=\"German\",Translations!E700,IF(#REF!=\"Spanish\",Translations!F700,Translations!B700)))))","v":{"$error":"#REF!"}},"Gibraltar-Mobile","Gibraltar-Mobile","Gibilterra-Mobile","Gibraltar-Mobilfunk","Gibraltar-Móvil"]
[{"$f":"IF(#REF!=\"English\",Translations!B701,IF(#REF!=\"French\",Translations!C701,IF(#REF!=\"Italian\",Translations!D701,IF(#REF!=\"German\",Translations!E701,IF(#REF!=\"Spanish\",Translations!F701,Translations!B701)))))","v":{"$error":"#REF!"}},"GMSS","GMSS","GMSS","GMSS","GMSS"]
[{"$f":"IF(#REF!=\"English\",Translations!B702,IF(#REF!=\"French\",Translations!C702,IF(#REF!=\"Italian\",Translations!D702,IF(#REF!=\"German\",Translations!E702,IF(#REF!=\"Spanish\",Translations!F702,Translations!B702)))))","v":{"$error":"#REF!"}},"GMSS-Iridium","GMSS-Iridium","GMSS-Iridium","GMSS-Iridium","GMSS-Iridium"]
[{"$f":"IF(#REF!=\"English\",Translations!B703,IF(#REF!=\"French\",Translations!C703,IF(#REF!=\"Italian\",Translations!D703,IF(#REF!=\"German\",Translations!E703,IF(#REF!=\"Spanish\",Translations!F703,Translations!B703)))))","v":{"$error":"#REF!"}},"Greece","Grèce","Grecia","Griechenland","Grecia"]
[{"$f":"IF(#REF!=\"English\",Translations!B704,IF(#REF!=\"French\",Translations!C704,IF(#REF!=\"Italian\",Translations!D704,IF(#REF!=\"German\",Translations!E704,IF(#REF!=\"Spanish\",Translations!F704,Translations!B704)))))","v":{"$error":"#REF!"}},"Greece-Athens","Grèce-Athene","Grecia-Athens","Griechenland-Athen","Grecia-Athens"]
[{"$f":"IF(#REF!=\"English\",Translations!B705,IF(#REF!=\"French\",Translations!C705,IF(#REF!=\"Italian\",Translations!D705,IF(#REF!=\"German\",Translations!E705,IF(#REF!=\"Spanish\",Translations!F705,Translations!B705)))))","v":{"$error":"#REF!"}},"Greece-Mobile-Cosmote","Grèce-Mobile-Cosmote","Grecia-Mobile-Cosmote","Griechenland-Mobilfunk-Cosmote","Grecia-Móvil-Cosmote"]
[{"$f":"IF(#REF!=\"English\",Translations!B706,IF(#REF!=\"French\",Translations!C706,IF(#REF!=\"Italian\",Translations!D706,IF(#REF!=\"German\",Translations!E706,IF(#REF!=\"Spanish\",Translations!F706,Translations!B706)))))","v":{"$error":"#REF!"}},"Greece-Mobile-Others","Grèce-Mobile-Autres","Grecia-Mobile-Altri","Griechenland-Mobilfunk-Andere","Grecia-Móvil-Otros"]
[{"$f":"IF(#REF!=\"English\",Translations!B707,IF(#REF!=\"French\",Translations!C707,IF(#REF!=\"Italian\",Translations!D707,IF(#REF!=\"German\",Translations!E707,IF(#REF!=\"Spanish\",Translations!F707,Translations!B707)))))","v":{"$error":"#REF!"}},"Greece-Mobile-Vodafone","Grèce-Mobile-Vodafone","Grecia-Mobile-Vodafone","Griechenland-Mobilfunk-Vodafone","Grecia-Móvil-Vodafone"]
[{"$f":"IF(#REF!=\"English\",Translations!B708,IF(#REF!=\"French\",Translations!C708,IF(#REF!=\"Italian\",Translations!D708,IF(#REF!=\"German\",Translations!E708,IF(#REF!=\"Spanish\",Translations!F708,Translations!B708)))))","v":{"$error":"#REF!"}},"Greece-Mobile-Wind","Grèce-Mobile-Wind","Grecia-Mobile-Wind","Griechenland-Mobilfunk-Wind","Grecia-Móvil-Wind"]
[{"$f":"IF(#REF!=\"English\",Translations!B709,IF(#REF!=\"French\",Translations!C709,IF(#REF!=\"Italian\",Translations!D709,IF(#REF!=\"German\",Translations!E709,IF(#REF!=\"Spanish\",Translations!F709,Translations!B709)))))","v":{"$error":"#REF!"}},"Greece-Thessaloniki","Grèce-Thessaloniki","Grecia-Thessaloniki","Griechenland-Thessaloniki","Grecia-Thessaloniki"]
[{"$f":"IF(#REF!=\"English\",Translations!B710,IF(#REF!=\"French\",Translations!C710,IF(#REF!=\"Italian\",Translations!D710,IF(#REF!=\"German\",Translations!E710,IF(#REF!=\"Spanish\",Translations!F710,Translations!B710)))))","v":{"$error":"#REF!"}},"Greenland","Groenland","Groenlandia","Grönland","Groenlandia"]
[{"$f":"IF(#REF!=\"English\",Translations!B711,IF(#REF!=\"French\",Translations!C711,IF(#REF!=\"Italian\",Translations!D711,IF(#REF!=\"German\",Translations!E711,IF(#REF!=\"Spanish\",Translations!F711,Translations!B711)))))","v":{"$error":"#REF!"}},"Greenland-Mobile","Groenland-Mobile","Groenlandia-Mobile","Grönland-Mobilfunk","Groenlandia-Móvil"]
[{"$f":"IF(#REF!=\"English\",Translations!B712,IF(#REF!=\"French\",Translations!C712,IF(#REF!=\"Italian\",Translations!D712,IF(#REF!=\"German\",Translations!E712,IF(#REF!=\"Spanish\",Translations!F712,Translations!B712)))))","v":{"$error":"#REF!"}},"Grenada","Grenade","Grenada","Grenada","Granada"]
[{"$f":"IF(#REF!=\"English\",Translations!B713,IF(#REF!=\"French\",Translations!C713,IF(#REF!=\"Italian\",Translations!D713,IF(#REF!=\"German\",Translations!E713,IF(#REF!=\"Spanish\",Translations!F713,Translations!B713)))))","v":{"$error":"#REF!"}},"Grenada-Mobile","Grenade-Mobile","Grenada-Mobile","Grenada-Mobilfunk","Granada-Móvil"]
[{"$f":"IF(#REF!=\"English\",Translations!B714,IF(#REF!=\"French\",Translations!C714,IF(#REF!=\"Italian\",Translations!D714,IF(#REF!=\"German\",Translations!E714,IF(#REF!=\"Spanish\",Translations!F714,Translations!B714)))))","v":{"$error":"#REF!"}},"Guadeloupe","Guadeloupe","Guadalupa","Guadeloupe","Guadalupe"]
[{"$f":"IF(#REF!=\"English\",Translations!B715,IF(#REF!=\"French\",Translations!C715,IF(#REF!=\"Italian\",Translations!D715,IF(#REF!=\"German\",Translations!E715,IF(#REF!=\"Spanish\",Translations!F715,Translations!B715)))))","v":{"$error":"#REF!"}},"Guadeloupe-Mobile-Digicel","Guadeloupe-Mobile-Digicel","Guadalupa-Mobile-Digicel","Guadeloupe-Mobilfunk-Digicel","Guadalupe-Móvil-Digicel"]
[{"$f":"IF(#REF!=\"English\",Translations!B716,IF(#REF!=\"French\",Translations!C716,IF(#REF!=\"Italian\",Translations!D716,IF(#REF!=\"German\",Translations!E716,IF(#REF!=\"Spanish\",Translations!F716,Translations!B716)))))","v":{"$error":"#REF!"}},"Guadeloupe-Mobile-Dauphin","Guadeloupe-Mobile-Dauphin","Guadalupa-Mobile-Dauphin","Guadeloupe-Mobilfunk-Dauphin","Guadalupe-Móvil-Dauphin"]
[{"$f":"IF(#REF!=\"English\",Translations!B717,IF(#REF!=\"French\",Translations!C717,IF(#REF!=\"Italian\",Translations!D717,IF(#REF!=\"German\",Translations!E717,IF(#REF!=\"Spanish\",Translations!F717,Translations!B717)))))","v":{"$error":"#REF!"}},"Guadeloupe-Mobile-Orange Caraibe","Guadeloupe-Mobile-Orange Caraibe","Guadalupa-Mobile-Orange Caraibe","Guadeloupe-Mobilfunk-Orange Caraibe","Guadalupe-Móvil-Orange Caraibe"]
[{"$f":"IF(#REF!=\"English\",Translations!B718,IF(#REF!=\"French\",Translations!C718,IF(#REF!=\"Italian\",Translations!D718,IF(#REF!=\"German\",Translations!E718,IF(#REF!=\"Spanish\",Translations!F718,Translations!B718)))))","v":{"$error":"#REF!"}},"Guadeloupe-Mobile-Outremer","Guadeloupe-Mobile-Outremer","Guadalupa-Mobile-Outremer","Guadeloupe-Mobilfunk-Outremer","Guadalupe-Móvil-Outremer"]
[{"$f":"IF(#REF!=\"English\",Translations!B719,IF(#REF!=\"French\",Translations!C719,IF(#REF!=\"Italian\",Translations!D719,IF(#REF!=\"German\",Translations!E719,IF(#REF!=\"Spanish\",Translations!F719,Translations!B719)))))","v":{"$error":"#REF!"}},"Guadeloupe-Mobile-Others","Guadeloupe-Mobile-Autres","Guadalupa-Mobile-Altri","Guadeloupe-Mobilfunk-Andere","Guadalupe-Móvil-Otros"]
[{"$f":"IF(#REF!=\"English\",Translations!B720,IF(#REF!=\"French\",Translations!C720,IF(#REF!=\"Italian\",Translations!D720,IF(#REF!=\"German\",Translations!E720,IF(#REF!=\"Spanish\",Translations!F720,Translations!B720)))))","v":{"$error":"#REF!"}},"Guam","Guam","Guam","Guam","Guam"]
[{"$f":"IF(#REF!=\"English\",Translations!B721,IF(#REF!=\"French\",Translations!C721,IF(#REF!=\"Italian\",Translations!D721,IF(#REF!=\"German\",Translations!E721,IF(#REF!=\"Spanish\",Translations!F721,Translations!B721)))))","v":{"$error":"#REF!"}},"Guatemala","Guatemala","Guatemala","Guatemala","Guatemala"]
[{"$f":"IF(#REF!=\"English\",Translations!B722,IF(#REF!=\"French\",Translations!C722,IF(#REF!=\"Italian\",Translations!D722,IF(#REF!=\"German\",Translations!E722,IF(#REF!=\"Spanish\",Translations!F722,Translations!B722)))))","v":{"$error":"#REF!"}},"Guatemala-OLO","Guatemala-OLO","Guatemala-OLO","Guatemala-OLO","Guatemala-OLO"]
[{"$f":"IF(#REF!=\"English\",Translations!B723,IF(#REF!=\"French\",Translations!C723,IF(#REF!=\"Italian\",Translations!D723,IF(#REF!=\"German\",Translations!E723,IF(#REF!=\"Spanish\",Translations!F723,Translations!B723)))))","v":{"$error":"#REF!"}},"Guatemala-Mobile-Comcel","Guatemala-Mobile-Comcel","Guatemala-Mobile-Comcel","Guatemala-Mobilfunk-Comcel","Guatemala-Móvil-Comcel"]
[{"$f":"IF(#REF!=\"English\",Translations!B724,IF(#REF!=\"French\",Translations!C724,IF(#REF!=\"Italian\",Translations!D724,IF(#REF!=\"German\",Translations!E724,IF(#REF!=\"Spanish\",Translations!F724,Translations!B724)))))","v":{"$error":"#REF!"}},"Guatemala-Mobile-Others","Guatemala-Mobile-Autres","Guatemala-Mobile-Altri","Guatemala-Mobilfunk-Andere","Guatemala-Móvil-Otros"]
[{"$f":"IF(#REF!=\"English\",Translations!B725,IF(#REF!=\"French\",Translations!C725,IF(#REF!=\"Italian\",Translations!D725,IF(#REF!=\"German\",Translations!E725,IF(#REF!=\"Spanish\",Translations!F725,Translations!B725)))))","v":{"$error":"#REF!"}},"Guatemala-Mobile-PCS","Guatemala-Mobile-PCS","Guatemala-Mobile-PCS","Guatemala-Mobilfunk-PCS","Guatemala-Móvil-PCS"]
[{"$f":"IF(#REF!=\"English\",Translations!B726,IF(#REF!=\"French\",Translations!C726,IF(#REF!=\"Italian\",Translations!D726,IF(#REF!=\"German\",Translations!E726,IF(#REF!=\"Spanish\",Translations!F726,Translations!B726)))))","v":{"$error":"#REF!"}},"Guatemala-Mobile-Telefonica","Guatemala-Mobile-Telefonica","Guatemala-Mobile-Telefonica","Guatemala-Mobilfunk-Telefonica","Guatemala-Móvil-Telefonica"]
[{"$f":"IF(#REF!=\"English\",Translations!B727,IF(#REF!=\"French\",Translations!C727,IF(#REF!=\"Italian\",Translations!D727,IF(#REF!=\"German\",Translations!E727,IF(#REF!=\"Spanish\",Translations!F727,Translations!B727)))))","v":{"$error":"#REF!"}},"Guiana French","Guyane française","Guyana Francese","Französisch Guyana","Guayana Francesa"]
[{"$f":"IF(#REF!=\"English\",Translations!B728,IF(#REF!=\"French\",Translations!C728,IF(#REF!=\"Italian\",Translations!D728,IF(#REF!=\"German\",Translations!E728,IF(#REF!=\"Spanish\",Translations!F728,Translations!B728)))))","v":{"$error":"#REF!"}},"Guiana French-Mobile-Digicel","Guyane française-Mobile-Digicel","Guyana Francese-Mobile-Digicel","Französisch Guyana-Mobilfunk-Digicel","Guayana Francesa-Móvil-Digicel"]
[{"$f":"IF(#REF!=\"English\",Translations!B729,IF(#REF!=\"French\",Translations!C729,IF(#REF!=\"Italian\",Translations!D729,IF(#REF!=\"German\",Translations!E729,IF(#REF!=\"Spanish\",Translations!F729,Translations!B729)))))","v":{"$error":"#REF!"}},"Guiana French-Mobile-Orange Caraibe","Guyane française-Mobile-Orange Caraibe","Guyana Francese-Mobile-Orange Caraibe","Französisch Guyana-Mobilfunk-Orange Caraibe","Guayana Francesa-Móvil-Orange Caraibe"]
[{"$f":"IF(#REF!=\"English\",Translations!B730,IF(#REF!=\"French\",Translations!C730,IF(#REF!=\"Italian\",Translations!D730,IF(#REF!=\"German\",Translations!E730,IF(#REF!=\"Spanish\",Translations!F730,Translations!B730)))))","v":{"$error":"#REF!"}},"Guiana French-Mobile-Others","Guyane française-Mobile-Autres","Guyana Francese-Mobile-Altri","Französisch Guyana-Mobilfunk-Andere","Guayana Francesa-Móvil-Otros"]
[{"$f":"IF(#REF!=\"English\",Translations!B731,IF(#REF!=\"French\",Translations!C731,IF(#REF!=\"Italian\",Translations!D731,IF(#REF!=\"German\",Translations!E731,IF(#REF!=\"Spanish\",Translations!F731,Translations!B731)))))","v":{"$error":"#REF!"}},"Guiana French-Mobile-Outremer","Guyane française-Mobile-Outremer","Guyana Francese-Mobile-Outremer","Französisch Guyana-Mobilfunk-Outremer","Guayana Francesa-Móvil-Outremer"]
[{"$f":"IF(#REF!=\"English\",Translations!B732,IF(#REF!=\"French\",Translations!C732,IF(#REF!=\"Italian\",Translations!D732,IF(#REF!=\"German\",Translations!E732,IF(#REF!=\"Spanish\",Translations!F732,Translations!B732)))))","v":{"$error":"#REF!"}},"Guinea","Guinée","Guinea","Guinea","Guinea"]
[{"$f":"IF(#REF!=\"English\",Translations!B733,IF(#REF!=\"French\",Translations!C733,IF(#REF!=\"Italian\",Translations!D733,IF(#REF!=\"German\",Translations!E733,IF(#REF!=\"Spanish\",Translations!F733,Translations!B733)))))","v":{"$error":"#REF!"}},"Guinea-Bissau","Guinée Bissau","Guine-Bissau","Guinea Bissau","Guinea Bissau"]
[{"$f":"IF(#REF!=\"English\",Translations!B734,IF(#REF!=\"French\",Translations!C734,IF(#REF!=\"Italian\",Translations!D734,IF(#REF!=\"German\",Translations!E734,IF(#REF!=\"Spanish\",Translations!F734,Translations!B734)))))","v":{"$error":"#REF!"}},"Guinea-Bissau-Mobile-Guinetel","Guinée Bissau-Mobile-Guinetel","Guine-Bissau-Mobile-Guinetel","Guinea Bissau-Mobilfunk-Guinetel","Guinea Bissau-Móvil-Guinetel"]
[{"$f":"IF(#REF!=\"English\",Translations!B735,IF(#REF!=\"French\",Translations!C735,IF(#REF!=\"Italian\",Translations!D735,IF(#REF!=\"German\",Translations!E735,IF(#REF!=\"Spanish\",Translations!F735,Translations!B735)))))","v":{"$error":"#REF!"}},"Guinea-Bissau-Mobile-MTN","Guinée Bissau-Mobile-MTN","Guine-Bissau-Mobile-MTN","Guinea Bissau-Mobilfunk-MTN","Guinea Bissau-Móvil-MTN"]
[{"$f":"IF(#REF!=\"English\",Translations!B736,IF(#REF!=\"French\",Translations!C736,IF(#REF!=\"Italian\",Translations!D736,IF(#REF!=\"German\",Translations!E736,IF(#REF!=\"Spanish\",Translations!F736,Translations!B736)))))","v":{"$error":"#REF!"}},"Guinea-Bissau-Mobile-Orange","Guinée Bissau-Mobile-Orange","Guine-Bissau-Mobile-Orange","Guinea Bissau-Mobilfunk-Orange","Guinea Bissau-Móvil-Orange"]
[{"$f":"IF(#REF!=\"English\",Translations!B737,IF(#REF!=\"French\",Translations!C737,IF(#REF!=\"Italian\",Translations!D737,IF(#REF!=\"German\",Translations!E737,IF(#REF!=\"Spanish\",Translations!F737,Translations!B737)))))","v":{"$error":"#REF!"}},"Guinea-Mobile-Cellcom","Guinée-Mobile-Cellcom","Guinea-Mobile-Cellcom","Guinea-Mobilfunk-Cellcom","Guinea-Móvil-Cellcom"]
[{"$f":"IF(#REF!=\"English\",Translations!B738,IF(#REF!=\"French\",Translations!C738,IF(#REF!=\"Italian\",Translations!D738,IF(#REF!=\"German\",Translations!E738,IF(#REF!=\"Spanish\",Translations!F738,Translations!B738)))))","v":{"$error":"#REF!"}},"Guinea-Mobile-MTN","Guinée-Mobile-MTN","Guinea-Mobile-MTN","Guinea-Mobilfunk-MTN","Guinea-Móvil-MTN"]
[{"$f":"IF(#REF!=\"English\",Translations!B739,IF(#REF!=\"French\",Translations!C739,IF(#REF!=\"Italian\",Translations!D739,IF(#REF!=\"German\",Translations!E739,IF(#REF!=\"Spanish\",Translations!F739,Translations!B739)))))","v":{"$error":"#REF!"}},"Guinea-Mobile-Orange","Guinée-Mobile-Orange","Guinea-Mobile-Orange","Guinea-Mobilfunk-Orange","Guinea-Móvil-Orange"]
[{"$f":"IF(#REF!=\"English\",Translations!B740,IF(#REF!=\"French\",Translations!C740,IF(#REF!=\"Italian\",Translations!D740,IF(#REF!=\"German\",Translations!E740,IF(#REF!=\"Spanish\",Translations!F740,Translations!B740)))))","v":{"$error":"#REF!"}},"Guinea-Mobile-Others","Guinée-Mobile-Autres","Guinea-Mobile-Altri","Guinea-Mobilfunk-Andere","Guinea-Móvil-Otros"]
[{"$f":"IF(#REF!=\"English\",Translations!B741,IF(#REF!=\"French\",Translations!C741,IF(#REF!=\"Italian\",Translations!D741,IF(#REF!=\"German\",Translations!E741,IF(#REF!=\"Spanish\",Translations!F741,Translations!B741)))))","v":{"$error":"#REF!"}},"Guinea-Mobile-Sotelguy","Guinée-Mobile-Sotelguy","Guinea-Mobile-Sotelguy","Guinea-Mobilfunk-Sotelguy","Guinea-Móvil-Sotelguy"]
[{"$f":"IF(#REF!=\"English\",Translations!B742,IF(#REF!=\"French\",Translations!C742,IF(#REF!=\"Italian\",Translations!D742,IF(#REF!=\"German\",Translations!E742,IF(#REF!=\"Spanish\",Translations!F742,Translations!B742)))))","v":{"$error":"#REF!"}},"Guyana","Guyana","Guyana","Guyana","Guyana"]
[{"$f":"IF(#REF!=\"English\",Translations!B743,IF(#REF!=\"French\",Translations!C743,IF(#REF!=\"Italian\",Translations!D743,IF(#REF!=\"German\",Translations!E743,IF(#REF!=\"Spanish\",Translations!F743,Translations!B743)))))","v":{"$error":"#REF!"}},"Guyana-Mobile-Digicel","Guyana-Mobile-Digicel","Guyana-Mobile-Digicel","Guyana-Mobilfunk-Digicel","Guyana-Móvil-Digicel"]
[{"$f":"IF(#REF!=\"English\",Translations!B744,IF(#REF!=\"French\",Translations!C744,IF(#REF!=\"Italian\",Translations!D744,IF(#REF!=\"German\",Translations!E744,IF(#REF!=\"Spanish\",Translations!F744,Translations!B744)))))","v":{"$error":"#REF!"}},"Guyana-Mobile-Others","Guyana-Mobile-Autres","Guyana-Mobile-Altri","Guyana-Mobilfunk-Andere","Guyana-Móvil-Otros"]
[{"$f":"IF(#REF!=\"English\",Translations!B745,IF(#REF!=\"French\",Translations!C745,IF(#REF!=\"Italian\",Translations!D745,IF(#REF!=\"German\",Translations!E745,IF(#REF!=\"Spanish\",Translations!F745,Translations!B745)))))","v":{"$error":"#REF!"}},"Haiti","Haïti","Haiti","Haiti","Haití"]
[{"$f":"IF(#REF!=\"English\",Translations!B746,IF(#REF!=\"French\",Translations!C746,IF(#REF!=\"Italian\",Translations!D746,IF(#REF!=\"German\",Translations!E746,IF(#REF!=\"Spanish\",Translations!F746,Translations!B746)))))","v":{"$error":"#REF!"}},"Haiti-Mobile-Comcel","Haïti-Mobile-Comcel","Haiti-Mobile-Comcel","Haiti-Mobilfunk-Comcel","Haití-Móvil-Comcel"]
[{"$f":"IF(#REF!=\"English\",Translations!B747,IF(#REF!=\"French\",Translations!C747,IF(#REF!=\"Italian\",Translations!D747,IF(#REF!=\"German\",Translations!E747,IF(#REF!=\"Spanish\",Translations!F747,Translations!B747)))))","v":{"$error":"#REF!"}},"Haiti-Mobile-Digicel","Haïti-Mobile-Digicel","Haiti-Mobile-Digicel","Haiti-Mobilfunk-Digicel","Haití-Móvil-Digicel"]
[{"$f":"IF(#REF!=\"English\",Translations!B748,IF(#REF!=\"French\",Translations!C748,IF(#REF!=\"Italian\",Translations!D748,IF(#REF!=\"German\",Translations!E748,IF(#REF!=\"Spanish\",Translations!F748,Translations!B748)))))","v":{"$error":"#REF!"}},"Haiti-Mobile-Haitel","Haïti-Mobile-Haitel","Haiti-Mobile-Haitel","Haiti-Mobilfunk-Haitel","Haití-Móvil-Haitel"]
[{"$f":"IF(#REF!=\"English\",Translations!B749,IF(#REF!=\"French\",Translations!C749,IF(#REF!=\"Italian\",Translations!D749,IF(#REF!=\"German\",Translations!E749,IF(#REF!=\"Spanish\",Translations!F749,Translations!B749)))))","v":{"$error":"#REF!"}},"Haiti-Mobile-Others","Haïti-Mobile-Autres","Haiti-Mobile-Altri","Haiti-Mobilfunk-Andere","Haití-Móvil-Otros"]
[{"$f":"IF(#REF!=\"English\",Translations!B750,IF(#REF!=\"French\",Translations!C750,IF(#REF!=\"Italian\",Translations!D750,IF(#REF!=\"German\",Translations!E750,IF(#REF!=\"Spanish\",Translations!F750,Translations!B750)))))","v":{"$error":"#REF!"}},"Honduras","Honduras","Honduras","Honduras","Honduras"]
[{"$f":"IF(#REF!=\"English\",Translations!B751,IF(#REF!=\"French\",Translations!C751,IF(#REF!=\"Italian\",Translations!D751,IF(#REF!=\"German\",Translations!E751,IF(#REF!=\"Spanish\",Translations!F751,Translations!B751)))))","v":{"$error":"#REF!"}},"Honduras-Mobile-Celtel","Honduras-Mobile-Celtel","Honduras-Mobile-Celtel","Honduras-Mobilfunk-Celtel","Honduras-Móvil-Celtel"]
[{"$f":"IF(#REF!=\"English\",Translations!B752,IF(#REF!=\"French\",Translations!C752,IF(#REF!=\"Italian\",Translations!D752,IF(#REF!=\"German\",Translations!E752,IF(#REF!=\"Spanish\",Translations!F752,Translations!B752)))))","v":{"$error":"#REF!"}},"Honduras-Mobile-Digicel","Honduras-Mobile-Digicel","Honduras-Mobile-Digicel","Honduras-Mobilfunk-Digicel","Honduras-Móvil-Digicel"]
[{"$f":"IF(#REF!=\"English\",Translations!B753,IF(#REF!=\"French\",Translations!C753,IF(#REF!=\"Italian\",Translations!D753,IF(#REF!=\"German\",Translations!E753,IF(#REF!=\"Spanish\",Translations!F753,Translations!B753)))))","v":{"$error":"#REF!"}},"Honduras-Mobile-Megatel","Honduras-Mobile-Megatel","Honduras-Mobile-Megatel","Honduras-Mobilfunk-Megatel","Honduras-Móvil-Megatel"]
[{"$f":"IF(#REF!=\"English\",Translations!B754,IF(#REF!=\"French\",Translations!C754,IF(#REF!=\"Italian\",Translations!D754,IF(#REF!=\"German\",Translations!E754,IF(#REF!=\"Spanish\",Translations!F754,Translations!B754)))))","v":{"$error":"#REF!"}},"Honduras-Mobile-Others","Honduras-Mobile-Autres","Honduras-Mobile-Altri","Honduras-Mobilfunk-Andere","Honduras-Móvil-Otros"]
[{"$f":"IF(#REF!=\"English\",Translations!B755,IF(#REF!=\"French\",Translations!C755,IF(#REF!=\"Italian\",Translations!D755,IF(#REF!=\"German\",Translations!E755,IF(#REF!=\"Spanish\",Translations!F755,Translations!B755)))))","v":{"$error":"#REF!"}},"Hong Kong","Hong Kong","Hong Kong","Hongkong","Hong Kong"]
[{"$f":"IF(#REF!=\"English\",Translations!B756,IF(#REF!=\"French\",Translations!C756,IF(#REF!=\"Italian\",Translations!D756,IF(#REF!=\"German\",Translations!E756,IF(#REF!=\"Spanish\",Translations!F756,Translations!B756)))))","v":{"$error":"#REF!"}},"Hong Kong-Mobile","Hong Kong-Mobile","Hong Kong-Mobile","Hongkong-Mobilfunk","Hong Kong-Móvil"]
[{"$f":"IF(#REF!=\"English\",Translations!B757,IF(#REF!=\"French\",Translations!C757,IF(#REF!=\"Italian\",Translations!D757,IF(#REF!=\"German\",Translations!E757,IF(#REF!=\"Spanish\",Translations!F757,Translations!B757)))))","v":{"$error":"#REF!"}},"Hungary","Hongrie","Ungheria","Ungarn","Hungría"]
[{"$f":"IF(#REF!=\"English\",Translations!B758,IF(#REF!=\"French\",Translations!C758,IF(#REF!=\"Italian\",Translations!D758,IF(#REF!=\"German\",Translations!E758,IF(#REF!=\"Spanish\",Translations!F758,Translations!B758)))))","v":{"$error":"#REF!"}},"Hungary-Budapest","Hongrie-Budapest","Ungheria-Budapest","Ungarn-Budapest","Hungría-Budapest"]
[{"$f":"IF(#REF!=\"English\",Translations!B759,IF(#REF!=\"French\",Translations!C759,IF(#REF!=\"Italian\",Translations!D759,IF(#REF!=\"German\",Translations!E759,IF(#REF!=\"Spanish\",Translations!F759,Translations!B759)))))","v":{"$error":"#REF!"}},"Hungary-Mobile-Pannon","Hongrie-Mobile-Pannon","Ungheria-Mobile-Pannon","Ungarn-Mobilfunk-Pannon","Hungría-Móvil-Pannon"]
[{"$f":"IF(#REF!=\"English\",Translations!B760,IF(#REF!=\"French\",Translations!C760,IF(#REF!=\"Italian\",Translations!D760,IF(#REF!=\"German\",Translations!E760,IF(#REF!=\"Spanish\",Translations!F760,Translations!B760)))))","v":{"$error":"#REF!"}},"Hungary-Mobile-Vodafone","Hongrie-Mobile-Vodafone","Ungheria-Mobile-Vodafone","Ungarn-Mobilfunk-Vodafone","Hungría-Móvil-Vodafone"]
[{"$f":"IF(#REF!=\"English\",Translations!B761,IF(#REF!=\"French\",Translations!C761,IF(#REF!=\"Italian\",Translations!D761,IF(#REF!=\"German\",Translations!E761,IF(#REF!=\"Spanish\",Translations!F761,Translations!B761)))))","v":{"$error":"#REF!"}},"Hungary-Mobile-Westel","Hongrie-Mobile-Westel","Ungheria-Mobile-Westel","Ungarn-Mobilfunk-Westel","Hungría-Móvil-Westel"]
[{"$f":"IF(#REF!=\"English\",Translations!B762,IF(#REF!=\"French\",Translations!C762,IF(#REF!=\"Italian\",Translations!D762,IF(#REF!=\"German\",Translations!E762,IF(#REF!=\"Spanish\",Translations!F762,Translations!B762)))))","v":{"$error":"#REF!"}},"Hungary-Mobile-Tesco","Hongrie-Mobile-Tesco","Ungheria-Mobile-Tesco","Ungarn-Mobilfunk-Tesco","Hungría-Móvil-Tesco"]
[{"$f":"IF(#REF!=\"English\",Translations!B763,IF(#REF!=\"French\",Translations!C763,IF(#REF!=\"Italian\",Translations!D763,IF(#REF!=\"German\",Translations!E763,IF(#REF!=\"Spanish\",Translations!F763,Translations!B763)))))","v":{"$error":"#REF!"}},"Iceland","Islande","Islanda","Island","Islandia"]
[{"$f":"IF(#REF!=\"English\",Translations!B764,IF(#REF!=\"French\",Translations!C764,IF(#REF!=\"Italian\",Translations!D764,IF(#REF!=\"German\",Translations!E764,IF(#REF!=\"Spanish\",Translations!F764,Translations!B764)))))","v":{"$error":"#REF!"}},"Iceland-Mobile","Islande-Mobile","Islanda-Mobile","Island-Mobilfunk","Islandia-Móvil"]
[{"$f":"IF(#REF!=\"English\",Translations!B765,IF(#REF!=\"French\",Translations!C765,IF(#REF!=\"Italian\",Translations!D765,IF(#REF!=\"German\",Translations!E765,IF(#REF!=\"Spanish\",Translations!F765,Translations!B765)))))","v":{"$error":"#REF!"}},"India","Inde","India","Indien","Índia"]
[{"$f":"IF(#REF!=\"English\",Translations!B766,IF(#REF!=\"French\",Translations!C766,IF(#REF!=\"Italian\",Translations!D766,IF(#REF!=\"German\",Translations!E766,IF(#REF!=\"Spanish\",Translations!F766,Translations!B766)))))","v":{"$error":"#REF!"}},"India-Ahmedabad","Inde-Ahmedabad","India-Ahmedabad","Indien-Ahmedabad","Índia-Ahmedabad"]
[{"$f":"IF(#REF!=\"English\",Translations!B767,IF(#REF!=\"French\",Translations!C767,IF(#REF!=\"Italian\",Translations!D767,IF(#REF!=\"German\",Translations!E767,IF(#REF!=\"Spanish\",Translations!F767,Translations!B767)))))","v":{"$error":"#REF!"}},"India-Bangalore","Inde-Bangalore","India-Bangalore","Indien-Bangalore","Índia-Bangalore"]
[{"$f":"IF(#REF!=\"English\",Translations!B768,IF(#REF!=\"French\",Translations!C768,IF(#REF!=\"Italian\",Translations!D768,IF(#REF!=\"German\",Translations!E768,IF(#REF!=\"Spanish\",Translations!F768,Translations!B768)))))","v":{"$error":"#REF!"}},"India-Baroda","Inde-Baroda","India-Baroda","Indien-Baroda","Índia-Baroda"]
[{"$f":"IF(#REF!=\"English\",Translations!B769,IF(#REF!=\"French\",Translations!C769,IF(#REF!=\"Italian\",Translations!D769,IF(#REF!=\"German\",Translations!E769,IF(#REF!=\"Spanish\",Translations!F769,Translations!B769)))))","v":{"$error":"#REF!"}},"India-Bombay","Inde-Bombay","India-Bombay","Indien-Bombay","Índia-Bombay"]
[{"$f":"IF(#REF!=\"English\",Translations!B770,IF(#REF!=\"French\",Translations!C770,IF(#REF!=\"Italian\",Translations!D770,IF(#REF!=\"German\",Translations!E770,IF(#REF!=\"Spanish\",Translations!F770,Translations!B770)))))","v":{"$error":"#REF!"}},"India-Calcutta","Inde-Calcutta","India-Calcutta","Indien-Calcutta","Índia-Calcutta"]
[{"$f":"IF(#REF!=\"English\",Translations!B771,IF(#REF!=\"French\",Translations!C771,IF(#REF!=\"Italian\",Translations!D771,IF(#REF!=\"German\",Translations!E771,IF(#REF!=\"Spanish\",Translations!F771,Translations!B771)))))","v":{"$error":"#REF!"}},"India-Hyderabad","Inde-Hyderabad","India-Hyderabad","Indien-Hyderabad","Índia-Hyderabad"]
[{"$f":"IF(#REF!=\"English\",Translations!B772,IF(#REF!=\"French\",Translations!C772,IF(#REF!=\"Italian\",Translations!D772,IF(#REF!=\"German\",Translations!E772,IF(#REF!=\"Spanish\",Translations!F772,Translations!B772)))))","v":{"$error":"#REF!"}},"India-Madras","Inde-Madras","India-Madras","Indien-Madras","Índia-Madras"]
[{"$f":"IF(#REF!=\"English\",Translations!B773,IF(#REF!=\"French\",Translations!C773,IF(#REF!=\"Italian\",Translations!D773,IF(#REF!=\"German\",Translations!E773,IF(#REF!=\"Spanish\",Translations!F773,Translations!B773)))))","v":{"$error":"#REF!"}},"India-Mobile-BSNL","Inde-Mobile-BSNL","India-Mobile-BSNL","Indien-Mobilfunk-BSNL","Índia-Móvil-BSNL"]
[{"$f":"IF(#REF!=\"English\",Translations!B774,IF(#REF!=\"French\",Translations!C774,IF(#REF!=\"Italian\",Translations!D774,IF(#REF!=\"German\",Translations!E774,IF(#REF!=\"Spanish\",Translations!F774,Translations!B774)))))","v":{"$error":"#REF!"}},"India-Mobile-Others","Inde-Mobile-Autres","India-Mobile-Altri","Indien-Mobilfunk-Andere","Índia-Móvil-Otros"]
[{"$f":"IF(#REF!=\"English\",Translations!B775,IF(#REF!=\"French\",Translations!C775,IF(#REF!=\"Italian\",Translations!D775,IF(#REF!=\"German\",Translations!E775,IF(#REF!=\"Spanish\",Translations!F775,Translations!B775)))))","v":{"$error":"#REF!"}},"India-New Delhi","Inde-New Delhi","India-New Delhi","Indien-New Delhi","Índia-New Delhi"]
[{"$f":"IF(#REF!=\"English\",Translations!B776,IF(#REF!=\"French\",Translations!C776,IF(#REF!=\"Italian\",Translations!D776,IF(#REF!=\"German\",Translations!E776,IF(#REF!=\"Spanish\",Translations!F776,Translations!B776)))))","v":{"$error":"#REF!"}},"India-Pune","Inde-Pune","India-Pune","Indien-Pune","Índia-Pune"]
[{"$f":"IF(#REF!=\"English\",Translations!B777,IF(#REF!=\"French\",Translations!C777,IF(#REF!=\"Italian\",Translations!D777,IF(#REF!=\"German\",Translations!E777,IF(#REF!=\"Spanish\",Translations!F777,Translations!B777)))))","v":{"$error":"#REF!"}},"India-Punjab","Inde-Punjab","India-Punjab","Indien-Punjab","Índia-Punjab"]
[{"$f":"IF(#REF!=\"English\",Translations!B778,IF(#REF!=\"French\",Translations!C778,IF(#REF!=\"Italian\",Translations!D778,IF(#REF!=\"German\",Translations!E778,IF(#REF!=\"Spanish\",Translations!F778,Translations!B778)))))","v":{"$error":"#REF!"}},"Indonesia","Indonésie","Indonesia","Indonesien","Indonesia"]
[{"$f":"IF(#REF!=\"English\",Translations!B779,IF(#REF!=\"French\",Translations!C779,IF(#REF!=\"Italian\",Translations!D779,IF(#REF!=\"German\",Translations!E779,IF(#REF!=\"Spanish\",Translations!F779,Translations!B779)))))","v":{"$error":"#REF!"}},"Indonesia-Jakarta","Indonésie-Jakarta","Indonesia-Jakarta","Indonesien-Jakarta","Indonesia-Jakarta"]
[{"$f":"IF(#REF!=\"English\",Translations!B780,IF(#REF!=\"French\",Translations!C780,IF(#REF!=\"Italian\",Translations!D780,IF(#REF!=\"German\",Translations!E780,IF(#REF!=\"Spanish\",Translations!F780,Translations!B780)))))","v":{"$error":"#REF!"}},"Indonesia-Mobile-Indosat","Indonésie-Mobile-Indosat","Indonesia-Mobile-Indosat","Indonesien-Mobilfunk-Indosat","Indonesia-Móvil-Indosat"]
[{"$f":"IF(#REF!=\"English\",Translations!B781,IF(#REF!=\"French\",Translations!C781,IF(#REF!=\"Italian\",Translations!D781,IF(#REF!=\"German\",Translations!E781,IF(#REF!=\"Spanish\",Translations!F781,Translations!B781)))))","v":{"$error":"#REF!"}},"Indonesia-Mobile-Others","Indonésie-Mobile-Autres","Indonesia-Mobile-Altri","Indonesien-Mobilfunk-Andere","Indonesia-Móvil-Otros"]
[{"$f":"IF(#REF!=\"English\",Translations!B782,IF(#REF!=\"French\",Translations!C782,IF(#REF!=\"Italian\",Translations!D782,IF(#REF!=\"German\",Translations!E782,IF(#REF!=\"Spanish\",Translations!F782,Translations!B782)))))","v":{"$error":"#REF!"}},"Indonesia-Mobile-Telkomsel","Indonésie-Mobile-Telkomsel","Indonesia-Mobile-Telkomsel","Indonesien-Mobilfunk-Telkomsel","Indonesia-Móvil-Telkomsel"]
[{"$f":"IF(#REF!=\"English\",Translations!B783,IF(#REF!=\"French\",Translations!C783,IF(#REF!=\"Italian\",Translations!D783,IF(#REF!=\"German\",Translations!E783,IF(#REF!=\"Spanish\",Translations!F783,Translations!B783)))))","v":{"$error":"#REF!"}},"Indonesia-Mobile-XLCom","Indonésie-Mobile-XLCom","Indonesia-Mobile-XLCom","Indonesien-Mobilfunk-XLCom","Indonesia-Móvil-XLCom"]
[{"$f":"IF(#REF!=\"English\",Translations!B784,IF(#REF!=\"French\",Translations!C784,IF(#REF!=\"Italian\",Translations!D784,IF(#REF!=\"German\",Translations!E784,IF(#REF!=\"Spanish\",Translations!F784,Translations!B784)))))","v":{"$error":"#REF!"}},"Inmarsat","Inmarsat","Inmarsat","Inmarsat","Inmarsat"]
[{"$f":"IF(#REF!=\"English\",Translations!B785,IF(#REF!=\"French\",Translations!C785,IF(#REF!=\"Italian\",Translations!D785,IF(#REF!=\"German\",Translations!E785,IF(#REF!=\"Spanish\",Translations!F785,Translations!B785)))))","v":{"$error":"#REF!"}},"Inmarsat-B","Inmarsat-B","Inmarsat-B","Inmarsat-B","Inmarsat-B"]
[{"$f":"IF(#REF!=\"English\",Translations!B786,IF(#REF!=\"French\",Translations!C786,IF(#REF!=\"Italian\",Translations!D786,IF(#REF!=\"German\",Translations!E786,IF(#REF!=\"Spanish\",Translations!F786,Translations!B786)))))","v":{"$error":"#REF!"}},"Inmarsat-B-HSD","Inmarsat-B-HSD","Inmarsat-B-HSD","Inmarsat-B-HSD","Inmarsat-B-HSD"]
[{"$f":"IF(#REF!=\"English\",Translations!B787,IF(#REF!=\"French\",Translations!C787,IF(#REF!=\"Italian\",Translations!D787,IF(#REF!=\"German\",Translations!E787,IF(#REF!=\"Spanish\",Translations!F787,Translations!B787)))))","v":{"$error":"#REF!"}},"Inmarsat-BGAN","Inmarsat-BGAN","Inmarsat-BGAN","Inmarsat-BGAN","Inmarsat-BGAN"]
[{"$f":"IF(#REF!=\"English\",Translations!B788,IF(#REF!=\"French\",Translations!C788,IF(#REF!=\"Italian\",Translations!D788,IF(#REF!=\"German\",Translations!E788,IF(#REF!=\"Spanish\",Translations!F788,Translations!B788)))))","v":{"$error":"#REF!"}},"Inmarsat-BGAN-HSD","Inmarsat-BGAN-HSD","Inmarsat-BGAN-HSD","Inmarsat-BGAN-HSD","Inmarsat-BGAN-HSD"]
[{"$f":"IF(#REF!=\"English\",Translations!B789,IF(#REF!=\"French\",Translations!C789,IF(#REF!=\"Italian\",Translations!D789,IF(#REF!=\"German\",Translations!E789,IF(#REF!=\"Spanish\",Translations!F789,Translations!B789)))))","v":{"$error":"#REF!"}},"Inmarsat-M","Inmarsat-M","Inmarsat-M","Inmarsat-M","Inmarsat-M"]
[{"$f":"IF(#REF!=\"English\",Translations!B790,IF(#REF!=\"French\",Translations!C790,IF(#REF!=\"Italian\",Translations!D790,IF(#REF!=\"German\",Translations!E790,IF(#REF!=\"Spanish\",Translations!F790,Translations!B790)))))","v":{"$error":"#REF!"}},"Inmarsat-M4-HSD","Inmarsat-M4-HSD","Inmarsat-M4-HSD","Inmarsat-M4-HSD","Inmarsat-M4-HSD"]
[{"$f":"IF(#REF!=\"English\",Translations!B791,IF(#REF!=\"French\",Translations!C791,IF(#REF!=\"Italian\",Translations!D791,IF(#REF!=\"German\",Translations!E791,IF(#REF!=\"Spanish\",Translations!F791,Translations!B791)))))","v":{"$error":"#REF!"}},"Inmarsat-Mini M","Inmarsat-Mini M","Inmarsat-Mini M","Inmarsat-Mini M","Inmarsat-Mini M"]
[{"$f":"IF(#REF!=\"English\",Translations!B792,IF(#REF!=\"French\",Translations!C792,IF(#REF!=\"Italian\",Translations!D792,IF(#REF!=\"German\",Translations!E792,IF(#REF!=\"Spanish\",Translations!F792,Translations!B792)))))","v":{"$error":"#REF!"}},"Intl Freephone Service","Libre appel international","Int'l Freephone Service","Int'l Freephone Service","Int'l Freephone Service"]
[{"$f":"IF(#REF!=\"English\",Translations!B793,IF(#REF!=\"French\",Translations!C793,IF(#REF!=\"Italian\",Translations!D793,IF(#REF!=\"German\",Translations!E793,IF(#REF!=\"Spanish\",Translations!F793,Translations!B793)))))","v":{"$error":"#REF!"}},"Intl Networks-EMSAT","Int'l Networks-EMSAT","Int'l Networks-EMSAT","Int'l Networks-EMSAT","Int'l Networks-EMSAT"]
[{"$f":"IF(#REF!=\"English\",Translations!B794,IF(#REF!=\"French\",Translations!C794,IF(#REF!=\"Italian\",Translations!D794,IF(#REF!=\"German\",Translations!E794,IF(#REF!=\"Spanish\",Translations!F794,Translations!B794)))))","v":{"$error":"#REF!"}},"Intl Networks-iNum","Int'l Networks-iNum","Int'l Networks-iNum","Int'l Networks-iNum","Int'l Networks-Voxbone"]
[{"$f":"IF(#REF!=\"English\",Translations!B795,IF(#REF!=\"French\",Translations!C795,IF(#REF!=\"Italian\",Translations!D795,IF(#REF!=\"German\",Translations!E795,IF(#REF!=\"Spanish\",Translations!F795,Translations!B795)))))","v":{"$error":"#REF!"}},"Intl Networks-Seanet","Int'l Networks-Seanet","Int'l Networks-Seanet","Int'l Networks-Seanet","Int'l Networks-Seanet"]
[{"$f":"IF(#REF!=\"English\",Translations!B796,IF(#REF!=\"French\",Translations!C796,IF(#REF!=\"Italian\",Translations!D796,IF(#REF!=\"German\",Translations!E796,IF(#REF!=\"Spanish\",Translations!F796,Translations!B796)))))","v":{"$error":"#REF!"}},"Intl Networks-Thuraya","Int'l Networks-Thuraya","Int'l Networks-Thuraya","Int'l Networks-Thuraya","Int'l Networks-Thuraya"]
[{"$f":"IF(#REF!=\"English\",Translations!B797,IF(#REF!=\"French\",Translations!C797,IF(#REF!=\"Italian\",Translations!D797,IF(#REF!=\"German\",Translations!E797,IF(#REF!=\"Spanish\",Translations!F797,Translations!B797)))))","v":{"$error":"#REF!"}},"Intl Networks-Vodafone","Int'l Networks-Vodafone","Int'l Networks-Vodafone","Int'l Networks-Vodafone","Int'l Networks-Vodafone"]
[{"$f":"IF(#REF!=\"English\",Translations!B798,IF(#REF!=\"French\",Translations!C798,IF(#REF!=\"Italian\",Translations!D798,IF(#REF!=\"German\",Translations!E798,IF(#REF!=\"Spanish\",Translations!F798,Translations!B798)))))","v":{"$error":"#REF!"}},"Intl Networks-Aeromobile","Int'l Networks-Aeromobile","Int'l Networks-Aeromobile","Int'l Networks-Aeromobile","Int'l Networks-Aeromobile"]
[{"$f":"IF(#REF!=\"English\",Translations!B799,IF(#REF!=\"French\",Translations!C799,IF(#REF!=\"Italian\",Translations!D799,IF(#REF!=\"German\",Translations!E799,IF(#REF!=\"Spanish\",Translations!F799,Translations!B799)))))","v":{"$error":"#REF!"}},"Intl Networks-MCP","Int'l Networks-MCP","Int'l Networks-MCP","Int'l Networks-MCP","Int'l Networks-MCP"]
[{"$f":"IF(#REF!=\"English\",Translations!B800,IF(#REF!=\"French\",Translations!C800,IF(#REF!=\"Italian\",Translations!D800,IF(#REF!=\"German\",Translations!E800,IF(#REF!=\"Spanish\",Translations!F800,Translations!B800)))))","v":{"$error":"#REF!"}},"Iran","Iran (Rép.Isl.)","Iran","Iran","Irán"]
[{"$f":"IF(#REF!=\"English\",Translations!B801,IF(#REF!=\"French\",Translations!C801,IF(#REF!=\"Italian\",Translations!D801,IF(#REF!=\"German\",Translations!E801,IF(#REF!=\"Spanish\",Translations!F801,Translations!B801)))))","v":{"$error":"#REF!"}},"Iran-Mobile-MTN","Iran (Rép. Isl.)-Mobile-MTN","Iran-Mobile-MTN","Iran-Mobilfunk-MTN","Irán-Móvil-MTN"]
[{"$f":"IF(#REF!=\"English\",Translations!B802,IF(#REF!=\"French\",Translations!C802,IF(#REF!=\"Italian\",Translations!D802,IF(#REF!=\"German\",Translations!E802,IF(#REF!=\"Spanish\",Translations!F802,Translations!B802)))))","v":{"$error":"#REF!"}},"Iran-Mobile-Others","Iran (Rép. Isl.)-Mobile-Autres","Iran-Mobile-Altri","Iran-Mobilfunk-Andere","Irán-Móvil-Otros"]
[{"$f":"IF(#REF!=\"English\",Translations!B803,IF(#REF!=\"French\",Translations!C803,IF(#REF!=\"Italian\",Translations!D803,IF(#REF!=\"German\",Translations!E803,IF(#REF!=\"Spanish\",Translations!F803,Translations!B803)))))","v":{"$error":"#REF!"}},"Iran-Tehran","Iran (Rép.Isl.)-Tehran","Iran-Tehran","Iran-Tehran","Irán-Tehran"]
[{"$f":"IF(#REF!=\"English\",Translations!B804,IF(#REF!=\"French\",Translations!C804,IF(#REF!=\"Italian\",Translations!D804,IF(#REF!=\"German\",Translations!E804,IF(#REF!=\"Spanish\",Translations!F804,Translations!B804)))))","v":{"$error":"#REF!"}},"Iraq","Iraq","Iraq","Irak","Iraq"]
[{"$f":"IF(#REF!=\"English\",Translations!B805,IF(#REF!=\"French\",Translations!C805,IF(#REF!=\"Italian\",Translations!D805,IF(#REF!=\"German\",Translations!E805,IF(#REF!=\"Spanish\",Translations!F805,Translations!B805)))))","v":{"$error":"#REF!"}},"Iraq-Baghdad","Iraq-Baghdad","Iraq-Baghdad","Irak-Bagdad","Iraq-Baghdad"]
[{"$f":"IF(#REF!=\"English\",Translations!B806,IF(#REF!=\"French\",Translations!C806,IF(#REF!=\"Italian\",Translations!D806,IF(#REF!=\"German\",Translations!E806,IF(#REF!=\"Spanish\",Translations!F806,Translations!B806)))))","v":{"$error":"#REF!"}},"Iraq-Duhuk","Iraq-Duhuk","Iraq-Duhuk","Irak-Bagdad","Iraq-Duhuk"]
[{"$f":"IF(#REF!=\"English\",Translations!B807,IF(#REF!=\"French\",Translations!C807,IF(#REF!=\"Italian\",Translations!D807,IF(#REF!=\"German\",Translations!E807,IF(#REF!=\"Spanish\",Translations!F807,Translations!B807)))))","v":{"$error":"#REF!"}},"Iraq-Special Services","Iraq-Special Services","Iraq-Special Services","Irak-Bagdad","Iraq-Special Services"]
[{"$f":"IF(#REF!=\"English\",Translations!B808,IF(#REF!=\"French\",Translations!C808,IF(#REF!=\"Italian\",Translations!D808,IF(#REF!=\"German\",Translations!E808,IF(#REF!=\"Spanish\",Translations!F808,Translations!B808)))))","v":{"$error":"#REF!"}},"Iraq-Mobile-Asiacell","Iraq-Mobile-Asiacell","Iraq-Mobile-Asiacell","Irak-Mobilfunk-Asiacell","Iraq-Móvil-Asiacell"]
[{"$f":"IF(#REF!=\"English\",Translations!B809,IF(#REF!=\"French\",Translations!C809,IF(#REF!=\"Italian\",Translations!D809,IF(#REF!=\"German\",Translations!E809,IF(#REF!=\"Spanish\",Translations!F809,Translations!B809)))))","v":{"$error":"#REF!"}},"Iraq-Mobile-Korek","Iraq-Mobile-Korek","Iraq-Mobile-Korek","Irak-Mobilfunk-Korek","Iraq-Móvil-Korek"]
[{"$f":"IF(#REF!=\"English\",Translations!B810,IF(#REF!=\"French\",Translations!C810,IF(#REF!=\"Italian\",Translations!D810,IF(#REF!=\"German\",Translations!E810,IF(#REF!=\"Spanish\",Translations!F810,Translations!B810)))))","v":{"$error":"#REF!"}},"Iraq-Mobile-Others","Iraq-Mobile-Autres","Iraq-Mobile-Altri","Irak-Mobilfunk-Andere","Iraq-Móvil-Otros"]
[{"$f":"IF(#REF!=\"English\",Translations!B811,IF(#REF!=\"French\",Translations!C811,IF(#REF!=\"Italian\",Translations!D811,IF(#REF!=\"German\",Translations!E811,IF(#REF!=\"Spanish\",Translations!F811,Translations!B811)))))","v":{"$error":"#REF!"}},"Iraq-Mobile-Sana","Iraq-Mobile-Sana","Iraq-Mobile-Sana","Irak-Mobilfunk-Sana","Iraq-Móvil-Sana"]
[{"$f":"IF(#REF!=\"English\",Translations!B812,IF(#REF!=\"French\",Translations!C812,IF(#REF!=\"Italian\",Translations!D812,IF(#REF!=\"German\",Translations!E812,IF(#REF!=\"Spanish\",Translations!F812,Translations!B812)))))","v":{"$error":"#REF!"}},"Iraq-Mobile-Zain","Iraq-Mobile-Zain","Iraq-Mobile-Zain","Irak-Mobilfunk-Zain","Iraq-Móvil-Zain"]
[{"$f":"IF(#REF!=\"English\",Translations!B813,IF(#REF!=\"French\",Translations!C813,IF(#REF!=\"Italian\",Translations!D813,IF(#REF!=\"German\",Translations!E813,IF(#REF!=\"Spanish\",Translations!F813,Translations!B813)))))","v":{"$error":"#REF!"}},"Ireland","Irlande","Irlanda","Irland (Republik)","Irlanda"]
[{"$f":"IF(#REF!=\"English\",Translations!B814,IF(#REF!=\"French\",Translations!C814,IF(#REF!=\"Italian\",Translations!D814,IF(#REF!=\"German\",Translations!E814,IF(#REF!=\"Spanish\",Translations!F814,Translations!B814)))))","v":{"$error":"#REF!"}},"Ireland-Dublin","Irlande-Dublin","Irlanda-Dublin","Irland (Republik)-Dublin","Irlanda-Dublin"]
[{"$f":"IF(#REF!=\"English\",Translations!B815,IF(#REF!=\"French\",Translations!C815,IF(#REF!=\"Italian\",Translations!D815,IF(#REF!=\"German\",Translations!E815,IF(#REF!=\"Spanish\",Translations!F815,Translations!B815)))))","v":{"$error":"#REF!"}},"Ireland-Freephone","Irlande-Libre appel","Iraq-Freephone","Irland-Freephone","Irlanda-Freephone"]
[{"$f":"IF(#REF!=\"English\",Translations!B816,IF(#REF!=\"French\",Translations!C816,IF(#REF!=\"Italian\",Translations!D816,IF(#REF!=\"German\",Translations!E816,IF(#REF!=\"Spanish\",Translations!F816,Translations!B816)))))","v":{"$error":"#REF!"}},"Ireland-Mobile-H3G","Irlande-Mobile-H3G","Irlanda-Mobile-H3G","Irland-Mobilfunk-H3G","Irlanda-Móvil-H3G"]
[{"$f":"IF(#REF!=\"English\",Translations!B817,IF(#REF!=\"French\",Translations!C817,IF(#REF!=\"Italian\",Translations!D817,IF(#REF!=\"German\",Translations!E817,IF(#REF!=\"Spanish\",Translations!F817,Translations!B817)))))","v":{"$error":"#REF!"}},"Ireland-Mobile-Meteror","Irlande-Mobile-Meteror","Irlanda-Mobile-Meteror","Irland-Mobilfunk-Meteror","Irlanda-Móvil-Meteror"]
[{"$f":"IF(#REF!=\"English\",Translations!B818,IF(#REF!=\"French\",Translations!C818,IF(#REF!=\"Italian\",Translations!D818,IF(#REF!=\"German\",Translations!E818,IF(#REF!=\"Spanish\",Translations!F818,Translations!B818)))))","v":{"$error":"#REF!"}},"Ireland-Mobile-O2","Irlande-Mobile-O2","Irlanda-Mobile-O2","Irland-Mobilfunk-O2","Irlanda-Móvil-O2"]
[{"$f":"IF(#REF!=\"English\",Translations!B819,IF(#REF!=\"French\",Translations!C819,IF(#REF!=\"Italian\",Translations!D819,IF(#REF!=\"German\",Translations!E819,IF(#REF!=\"Spanish\",Translations!F819,Translations!B819)))))","v":{"$error":"#REF!"}},"Ireland-Mobile-Others","Irlande-Mobile-Autres","Irlanda-Mobile-Altri","Irland-Mobilfunk-Andere","Irlanda-Móvil-Otros"]
[{"$f":"IF(#REF!=\"English\",Translations!B820,IF(#REF!=\"French\",Translations!C820,IF(#REF!=\"Italian\",Translations!D820,IF(#REF!=\"German\",Translations!E820,IF(#REF!=\"Spanish\",Translations!F820,Translations!B820)))))","v":{"$error":"#REF!"}},"Ireland-Mobile-Lycamobile","Irlande-Mobile-Lycamobile","Irlanda-Mobile-Lycamobile","Irland-Mobilfunk-Lycamobile","Irlanda-Móvil-Lycamobile"]
[{"$f":"IF(#REF!=\"English\",Translations!B821,IF(#REF!=\"French\",Translations!C821,IF(#REF!=\"Italian\",Translations!D821,IF(#REF!=\"German\",Translations!E821,IF(#REF!=\"Spanish\",Translations!F821,Translations!B821)))))","v":{"$error":"#REF!"}},"Ireland-Mobile-Tesco","Irlande-Mobile-Tesco","Irlanda-Mobile-Tesco","Irland-Mobilfunk-Tesco","Irlanda-Móvil-Tesco"]
[{"$f":"IF(#REF!=\"English\",Translations!B822,IF(#REF!=\"French\",Translations!C822,IF(#REF!=\"Italian\",Translations!D822,IF(#REF!=\"German\",Translations!E822,IF(#REF!=\"Spanish\",Translations!F822,Translations!B822)))))","v":{"$error":"#REF!"}},"Ireland-Mobile-Vodafone","Irlande-Mobile-Vodafone","Irlanda-Mobile-Vodafone","Irland-Mobilfunk-Vodafone","Irlanda-Móvil-Vodafone"]
[{"$f":"IF(#REF!=\"English\",Translations!B823,IF(#REF!=\"French\",Translations!C823,IF(#REF!=\"Italian\",Translations!D823,IF(#REF!=\"German\",Translations!E823,IF(#REF!=\"Spanish\",Translations!F823,Translations!B823)))))","v":{"$error":"#REF!"}},"Ireland-Personal Number","Irlande-Numéro Personnel","Irlanda-Personal Number","Irland-Perönliche Nummer","Irlanda-Número Personal"]
[{"$f":"IF(#REF!=\"English\",Translations!B824,IF(#REF!=\"French\",Translations!C824,IF(#REF!=\"Italian\",Translations!D824,IF(#REF!=\"German\",Translations!E824,IF(#REF!=\"Spanish\",Translations!F824,Translations!B824)))))","v":{"$error":"#REF!"}},"Ireland-Shannon","Irlande-Shannon","Irlanda-Shannon","Irland (Republik)-Shannon","Irlanda-Shannon"]
[{"$f":"IF(#REF!=\"English\",Translations!B825,IF(#REF!=\"French\",Translations!C825,IF(#REF!=\"Italian\",Translations!D825,IF(#REF!=\"German\",Translations!E825,IF(#REF!=\"Spanish\",Translations!F825,Translations!B825)))))","v":{"$error":"#REF!"}},"Ireland-Shared Cost","Irlande-Business Call","Irlanda-Shared Cost","Irland-Shared Cost","Irlanda-Shared Cost"]
[{"$f":"IF(#REF!=\"English\",Translations!B826,IF(#REF!=\"French\",Translations!C826,IF(#REF!=\"Italian\",Translations!D826,IF(#REF!=\"German\",Translations!E826,IF(#REF!=\"Spanish\",Translations!F826,Translations!B826)))))","v":{"$error":"#REF!"}},"Israel","Israël","Israele","Israel","Israel"]
[{"$f":"IF(#REF!=\"English\",Translations!B827,IF(#REF!=\"French\",Translations!C827,IF(#REF!=\"Italian\",Translations!D827,IF(#REF!=\"German\",Translations!E827,IF(#REF!=\"Spanish\",Translations!F827,Translations!B827)))))","v":{"$error":"#REF!"}},"Israel-Mobile","Israël-Mobile","Israele-Mobile","Israel-Mobilfunk","Israel-Móvil"]
[{"$f":"IF(#REF!=\"English\",Translations!B828,IF(#REF!=\"French\",Translations!C828,IF(#REF!=\"Italian\",Translations!D828,IF(#REF!=\"German\",Translations!E828,IF(#REF!=\"Spanish\",Translations!F828,Translations!B828)))))","v":{"$error":"#REF!"}},"Israel-Palestine","Israël-Palestine","Israele-Palestina","Israel-Palestina","Israel-Palestina"]
[{"$f":"IF(#REF!=\"English\",Translations!B829,IF(#REF!=\"French\",Translations!C829,IF(#REF!=\"Italian\",Translations!D829,IF(#REF!=\"German\",Translations!E829,IF(#REF!=\"Spanish\",Translations!F829,Translations!B829)))))","v":{"$error":"#REF!"}},"Israel-Palestine-Mobile","Israël-Palestine-Mobile","Israele-Palestina-Mobile","Israel-Palestina-Mobilfunk","Israel-Palestina-Móvil"]
[{"$f":"IF(#REF!=\"English\",Translations!B830,IF(#REF!=\"French\",Translations!C830,IF(#REF!=\"Italian\",Translations!D830,IF(#REF!=\"German\",Translations!E830,IF(#REF!=\"Spanish\",Translations!F830,Translations!B830)))))","v":{"$error":"#REF!"}},"Israel-Tel Aviv","Israël-Tel Aviv","Israele-Tel Aviv","Israel-Tel Aviv","Israel-Tel Aviv"]
[{"$f":"IF(#REF!=\"English\",Translations!B831,IF(#REF!=\"French\",Translations!C831,IF(#REF!=\"Italian\",Translations!D831,IF(#REF!=\"German\",Translations!E831,IF(#REF!=\"Spanish\",Translations!F831,Translations!B831)))))","v":{"$error":"#REF!"}},"Italy","Italie","Italia","Italien","Italia"]
[{"$f":"IF(#REF!=\"English\",Translations!B832,IF(#REF!=\"French\",Translations!C832,IF(#REF!=\"Italian\",Translations!D832,IF(#REF!=\"German\",Translations!E832,IF(#REF!=\"Spanish\",Translations!F832,Translations!B832)))))","v":{"$error":"#REF!"}},"Italy-Freephone","Irlande-Libre appel","Italia-Freephone","Italien-Freephone","Italia-Freephone"]
[{"$f":"IF(#REF!=\"English\",Translations!B833,IF(#REF!=\"French\",Translations!C833,IF(#REF!=\"Italian\",Translations!D833,IF(#REF!=\"German\",Translations!E833,IF(#REF!=\"Spanish\",Translations!F833,Translations!B833)))))","v":{"$error":"#REF!"}},"Italy-Mobile-H3G","Italie-Mobile-H3G","Italia-Mobile-H3G","Italien-Mobilfunk-H3G","Italia-Móvil-H3G"]
[{"$f":"IF(#REF!=\"English\",Translations!B834,IF(#REF!=\"French\",Translations!C834,IF(#REF!=\"Italian\",Translations!D834,IF(#REF!=\"German\",Translations!E834,IF(#REF!=\"Spanish\",Translations!F834,Translations!B834)))))","v":{"$error":"#REF!"}},"Italy-Mobile-Others","Italie-Mobile-Autres","Italia-Mobile-Altri","Italien-Mobilfunk-Andere","Italia-Móvil-Otros"]
[{"$f":"IF(#REF!=\"English\",Translations!B835,IF(#REF!=\"French\",Translations!C835,IF(#REF!=\"Italian\",Translations!D835,IF(#REF!=\"German\",Translations!E835,IF(#REF!=\"Spanish\",Translations!F835,Translations!B835)))))","v":{"$error":"#REF!"}},"Italy-Mobile-TIM","Italie-Mobile-TIM","Italia-Mobile-TIM","Italien-Mobilfunk-TIM","Italia-Móvil-TIM"]
[{"$f":"IF(#REF!=\"English\",Translations!B836,IF(#REF!=\"French\",Translations!C836,IF(#REF!=\"Italian\",Translations!D836,IF(#REF!=\"German\",Translations!E836,IF(#REF!=\"Spanish\",Translations!F836,Translations!B836)))))","v":{"$error":"#REF!"}},"Italy-Mobile-Satellites","Italie-Mobile-Satellites","Italia-Mobile-Satellites","Italien-Mobilfunk-Satellites","Italia-Móvil-Satellites"]
[{"$f":"IF(#REF!=\"English\",Translations!B837,IF(#REF!=\"French\",Translations!C837,IF(#REF!=\"Italian\",Translations!D837,IF(#REF!=\"German\",Translations!E837,IF(#REF!=\"Spanish\",Translations!F837,Translations!B837)))))","v":{"$error":"#REF!"}},"Italy-Mobile-Noverca","Italie-Mobile-Noverca","Italia-Mobile-Noverca","Italien-Mobilfunk-Noverca","Italia-Móvil-Noverca"]
[{"$f":"IF(#REF!=\"English\",Translations!B838,IF(#REF!=\"French\",Translations!C838,IF(#REF!=\"Italian\",Translations!D838,IF(#REF!=\"German\",Translations!E838,IF(#REF!=\"Spanish\",Translations!F838,Translations!B838)))))","v":{"$error":"#REF!"}},"Italy-Mobile-Vodafone Omnitel","Italie-Mobile-Vodafone Omnitel","Italia-Mobile-Vodafone Omnitel","Italien-Mobilfunk-Vodafone Omnitel","Italia-Móvil-Vodafone Omnitel"]
[{"$f":"IF(#REF!=\"English\",Translations!B839,IF(#REF!=\"French\",Translations!C839,IF(#REF!=\"Italian\",Translations!D839,IF(#REF!=\"German\",Translations!E839,IF(#REF!=\"Spanish\",Translations!F839,Translations!B839)))))","v":{"$error":"#REF!"}},"Italy-Mobile-Wind","Italie-Mobile-Wind","Italia-Mobile-Wind","Italien-Mobilfunk-Wind","Italia-Móvil-Wind"]
[{"$f":"IF(#REF!=\"English\",Translations!B840,IF(#REF!=\"French\",Translations!C840,IF(#REF!=\"Italian\",Translations!D840,IF(#REF!=\"German\",Translations!E840,IF(#REF!=\"Spanish\",Translations!F840,Translations!B840)))))","v":{"$error":"#REF!"}},"Italy-Personal Number","Italie-Numéro Personnel","Italia-Personal Number","Italien-Persönliche Nummer","Italia-Número Personal"]
[{"$f":"IF(#REF!=\"English\",Translations!B841,IF(#REF!=\"French\",Translations!C841,IF(#REF!=\"Italian\",Translations!D841,IF(#REF!=\"German\",Translations!E841,IF(#REF!=\"Spanish\",Translations!F841,Translations!B841)))))","v":{"$error":"#REF!"}},"Italy-Shared Cost","Italie-Business Call","Italia-Shared Cost","Italien-Shared Cost","Italia-Shared Cost"]
[{"$f":"IF(#REF!=\"English\",Translations!B842,IF(#REF!=\"French\",Translations!C842,IF(#REF!=\"Italian\",Translations!D842,IF(#REF!=\"German\",Translations!E842,IF(#REF!=\"Spanish\",Translations!F842,Translations!B842)))))","v":{"$error":"#REF!"}},"Italy-Vatican City","Italie-Cité du Vatican","Italia-Città del Vaticano","Italien-Vatikanstadt","Italia-Ciudad del Vaticano"]
[{"$f":"IF(#REF!=\"English\",Translations!B843,IF(#REF!=\"French\",Translations!C843,IF(#REF!=\"Italian\",Translations!D843,IF(#REF!=\"German\",Translations!E843,IF(#REF!=\"Spanish\",Translations!F843,Translations!B843)))))","v":{"$error":"#REF!"}},"Jamaica","Jamaïque","Giamaica","Jamaika","Jamaica"]
[{"$f":"IF(#REF!=\"English\",Translations!B844,IF(#REF!=\"French\",Translations!C844,IF(#REF!=\"Italian\",Translations!D844,IF(#REF!=\"German\",Translations!E844,IF(#REF!=\"Spanish\",Translations!F844,Translations!B844)))))","v":{"$error":"#REF!"}},"Jamaica-Mobile-CWJ","Jamaïque-Mobile-CWJ","Giamaica-Mobile-CWJ","Jamaika-Mobilfunk-CWJ","Jamaica-Móvil-CWJ"]
[{"$f":"IF(#REF!=\"English\",Translations!B845,IF(#REF!=\"French\",Translations!C845,IF(#REF!=\"Italian\",Translations!D845,IF(#REF!=\"German\",Translations!E845,IF(#REF!=\"Spanish\",Translations!F845,Translations!B845)))))","v":{"$error":"#REF!"}},"Jamaica-Mobile-Digicel","Jamaïque-Mobile-Digicel","Giamaica-Mobile-Digicel","Jamaika-Mobilfunk-Digicel","Jamaica-Móvil-Digicel"]
[{"$f":"IF(#REF!=\"English\",Translations!B846,IF(#REF!=\"French\",Translations!C846,IF(#REF!=\"Italian\",Translations!D846,IF(#REF!=\"German\",Translations!E846,IF(#REF!=\"Spanish\",Translations!F846,Translations!B846)))))","v":{"$error":"#REF!"}},"Jamaica-Mobile-Others","Jamaïque-Mobile-Autres","Giamaica-Mobile-Altri","Jamaika-Mobilfunk-Andere","Jamaica-Móvil-Otros"]
[{"$f":"IF(#REF!=\"English\",Translations!B847,IF(#REF!=\"French\",Translations!C847,IF(#REF!=\"Italian\",Translations!D847,IF(#REF!=\"German\",Translations!E847,IF(#REF!=\"Spanish\",Translations!F847,Translations!B847)))))","v":{"$error":"#REF!"}},"Japan","Japon","Giappone","Japan","Japón"]
[{"$f":"IF(#REF!=\"English\",Translations!B848,IF(#REF!=\"French\",Translations!C848,IF(#REF!=\"Italian\",Translations!D848,IF(#REF!=\"German\",Translations!E848,IF(#REF!=\"Spanish\",Translations!F848,Translations!B848)))))","v":{"$error":"#REF!"}},"Japan-Mobile","Japon-Mobile","Giappone-Mobile","Japan-Mobilfunk","Japón-Móvil"]
[{"$f":"IF(#REF!=\"English\",Translations!B849,IF(#REF!=\"French\",Translations!C849,IF(#REF!=\"Italian\",Translations!D849,IF(#REF!=\"German\",Translations!E849,IF(#REF!=\"Spanish\",Translations!F849,Translations!B849)))))","v":{"$error":"#REF!"}},"Japan-Nagoya","Japon-Nagoya","Giappone-Nagoya","Japan-Nagoya","Japón-Nagoya"]
[{"$f":"IF(#REF!=\"English\",Translations!B850,IF(#REF!=\"French\",Translations!C850,IF(#REF!=\"Italian\",Translations!D850,IF(#REF!=\"German\",Translations!E850,IF(#REF!=\"Spanish\",Translations!F850,Translations!B850)))))","v":{"$error":"#REF!"}},"Japan-Osaka","Japon-Osaka","Giappone-Osaka","Japan-Osaka","Japón-Osaka"]
[{"$f":"IF(#REF!=\"English\",Translations!B851,IF(#REF!=\"French\",Translations!C851,IF(#REF!=\"Italian\",Translations!D851,IF(#REF!=\"German\",Translations!E851,IF(#REF!=\"Spanish\",Translations!F851,Translations!B851)))))","v":{"$error":"#REF!"}},"Japan-Tokyo","Japon-Tokyo","Giappone-Tokyo","Japan-Tokyo","Japón-Tokyo"]
[{"$f":"IF(#REF!=\"English\",Translations!B852,IF(#REF!=\"French\",Translations!C852,IF(#REF!=\"Italian\",Translations!D852,IF(#REF!=\"German\",Translations!E852,IF(#REF!=\"Spanish\",Translations!F852,Translations!B852)))))","v":{"$error":"#REF!"}},"Japan-VoIP","Japon-VoIP","Giappone-VoIP","Japan-VoIP","Japón-VoIP"]
[{"$f":"IF(#REF!=\"English\",Translations!B853,IF(#REF!=\"French\",Translations!C853,IF(#REF!=\"Italian\",Translations!D853,IF(#REF!=\"German\",Translations!E853,IF(#REF!=\"Spanish\",Translations!F853,Translations!B853)))))","v":{"$error":"#REF!"}},"Jordan","Jordanie","Giordania","Jordanien","Jordania"]
[{"$f":"IF(#REF!=\"English\",Translations!B854,IF(#REF!=\"French\",Translations!C854,IF(#REF!=\"Italian\",Translations!D854,IF(#REF!=\"German\",Translations!E854,IF(#REF!=\"Spanish\",Translations!F854,Translations!B854)))))","v":{"$error":"#REF!"}},"Jordan-Amman","Jordanie-Amman","Giordania-Amman","Jordanien-Amman","Jordania-Amman"]
[{"$f":"IF(#REF!=\"English\",Translations!B855,IF(#REF!=\"French\",Translations!C855,IF(#REF!=\"Italian\",Translations!D855,IF(#REF!=\"German\",Translations!E855,IF(#REF!=\"Spanish\",Translations!F855,Translations!B855)))))","v":{"$error":"#REF!"}},"Jordan-Mobile-Fastlink","Jordanie-Mobile-Fastlink","Giordania-Mobile-Fastlink","Jordanien-Mobilfunk-Fastlink","Jordania-Móvil-Fastlink"]
[{"$f":"IF(#REF!=\"English\",Translations!B856,IF(#REF!=\"French\",Translations!C856,IF(#REF!=\"Italian\",Translations!D856,IF(#REF!=\"German\",Translations!E856,IF(#REF!=\"Spanish\",Translations!F856,Translations!B856)))))","v":{"$error":"#REF!"}},"Jordan-Mobile-Others","Jordanie-Mobile-Autres","Giordania-Mobile-Altri","Jordanien-Mobilfunk-Andere","Jordania-Móvil-Otros"]
[{"$f":"IF(#REF!=\"English\",Translations!B857,IF(#REF!=\"French\",Translations!C857,IF(#REF!=\"Italian\",Translations!D857,IF(#REF!=\"German\",Translations!E857,IF(#REF!=\"Spanish\",Translations!F857,Translations!B857)))))","v":{"$error":"#REF!"}},"Kazakhstan","Kazakhstan","Kazakhstan","Kasachstan","Kazajistán"]
[{"$f":"IF(#REF!=\"English\",Translations!B858,IF(#REF!=\"French\",Translations!C858,IF(#REF!=\"Italian\",Translations!D858,IF(#REF!=\"German\",Translations!E858,IF(#REF!=\"Spanish\",Translations!F858,Translations!B858)))))","v":{"$error":"#REF!"}},"Kazakhstan-Almaty","Kazakhstan-Almaty","Kazakhstan-Almaty","Kasachstan-Almaty","Kazajistán-Almaty"]
[{"$f":"IF(#REF!=\"English\",Translations!B859,IF(#REF!=\"French\",Translations!C859,IF(#REF!=\"Italian\",Translations!D859,IF(#REF!=\"German\",Translations!E859,IF(#REF!=\"Spanish\",Translations!F859,Translations!B859)))))","v":{"$error":"#REF!"}},"Kazakhstan-Astana","Kazakhstan-Astana","Kazakhstan-Astana","Kasachstan-Astana","Kazajistán-Astana"]
[{"$f":"IF(#REF!=\"English\",Translations!B860,IF(#REF!=\"French\",Translations!C860,IF(#REF!=\"Italian\",Translations!D860,IF(#REF!=\"German\",Translations!E860,IF(#REF!=\"Spanish\",Translations!F860,Translations!B860)))))","v":{"$error":"#REF!"}},"Kazakhstan-Karaganda","Kazakhstan-Karaganda","Kazakhstan-Karaganda","Kasachstan-Karaganda","Kazajistán-Karaganda"]
[{"$f":"IF(#REF!=\"English\",Translations!B861,IF(#REF!=\"French\",Translations!C861,IF(#REF!=\"Italian\",Translations!D861,IF(#REF!=\"German\",Translations!E861,IF(#REF!=\"Spanish\",Translations!F861,Translations!B861)))))","v":{"$error":"#REF!"}},"Kazakhstan-Mobile-KaR-Tel","Kazakhstan-Mobile-KaR-Tel","Kazakhstan-Mobile-KaR-Tel","Kasachstan-Mobilfunk-KaR-Tel","Kazajistán-Móvil-KaR-Tel"]
[{"$f":"IF(#REF!=\"English\",Translations!B862,IF(#REF!=\"French\",Translations!C862,IF(#REF!=\"Italian\",Translations!D862,IF(#REF!=\"German\",Translations!E862,IF(#REF!=\"Spanish\",Translations!F862,Translations!B862)))))","v":{"$error":"#REF!"}},"Kazakhstan-Mobile-K-Cell","Kazakhstan-Mobile-K-Cell","Kazakhstan-Mobile-K-Cell","Kasachstan-Mobilfunk-K-Cell","Kazajistán-Móvil-K-Cell"]
[{"$f":"IF(#REF!=\"English\",Translations!B863,IF(#REF!=\"French\",Translations!C863,IF(#REF!=\"Italian\",Translations!D863,IF(#REF!=\"German\",Translations!E863,IF(#REF!=\"Spanish\",Translations!F863,Translations!B863)))))","v":{"$error":"#REF!"}},"Kazakhstan-Mobile-Others","Kazakhstan-Mobile-Autres","Kazakhstan-Mobile-Altri","Kasachstan-Mobilfunk-Andere","Kazajistán-Móvil-Otros"]
[{"$f":"IF(#REF!=\"English\",Translations!B864,IF(#REF!=\"French\",Translations!C864,IF(#REF!=\"Italian\",Translations!D864,IF(#REF!=\"German\",Translations!E864,IF(#REF!=\"Spanish\",Translations!F864,Translations!B864)))))","v":{"$error":"#REF!"}},"Kenya","Kenya","Kenya","Kenia","Kenia"]
[{"$f":"IF(#REF!=\"English\",Translations!B865,IF(#REF!=\"French\",Translations!C865,IF(#REF!=\"Italian\",Translations!D865,IF(#REF!=\"German\",Translations!E865,IF(#REF!=\"Spanish\",Translations!F865,Translations!B865)))))","v":{"$error":"#REF!"}},"Kenya-Mobile-Airtel","Kenya-Mobile-Airtel","Kenya-Mobile-Airtel","Kenia-Mobilfunk-Airtel","Kenia-Móvil-Airtel"]
[{"$f":"IF(#REF!=\"English\",Translations!B866,IF(#REF!=\"French\",Translations!C866,IF(#REF!=\"Italian\",Translations!D866,IF(#REF!=\"German\",Translations!E866,IF(#REF!=\"Spanish\",Translations!F866,Translations!B866)))))","v":{"$error":"#REF!"}},"Kenya-Mobile-Orange","Kenya-Mobile-Orange","Kenya-Mobile-Orange","Kenia-Mobilfunk-Orange","Kenia-Móvil-Orange"]
[{"$f":"IF(#REF!=\"English\",Translations!B867,IF(#REF!=\"French\",Translations!C867,IF(#REF!=\"Italian\",Translations!D867,IF(#REF!=\"German\",Translations!E867,IF(#REF!=\"Spanish\",Translations!F867,Translations!B867)))))","v":{"$error":"#REF!"}},"Kenya-Mobile-Others","Kenya-Mobile-Autres","Kenya-Mobile-Altri","Kenia-Mobilfunk-Andere","Kenia-Móvil-Otros"]
[{"$f":"IF(#REF!=\"English\",Translations!B868,IF(#REF!=\"French\",Translations!C868,IF(#REF!=\"Italian\",Translations!D868,IF(#REF!=\"German\",Translations!E868,IF(#REF!=\"Spanish\",Translations!F868,Translations!B868)))))","v":{"$error":"#REF!"}},"Kenya-Mobile-Safarikom","Kenya-Mobile-Safarikom","Kenya-Mobile-Safarikom","Kenia-Mobilfunk-Safarikom","Kenia-Móvil-Safarikom"]
[{"$f":"IF(#REF!=\"English\",Translations!B869,IF(#REF!=\"French\",Translations!C869,IF(#REF!=\"Italian\",Translations!D869,IF(#REF!=\"German\",Translations!E869,IF(#REF!=\"Spanish\",Translations!F869,Translations!B869)))))","v":{"$error":"#REF!"}},"Kenya-Mombasa","Kenya-Mombasa","Kenya-Mombasa","Kenia-Mombasa","Kenia-Mombasa"]
[{"$f":"IF(#REF!=\"English\",Translations!B870,IF(#REF!=\"French\",Translations!C870,IF(#REF!=\"Italian\",Translations!D870,IF(#REF!=\"German\",Translations!E870,IF(#REF!=\"Spanish\",Translations!F870,Translations!B870)))))","v":{"$error":"#REF!"}},"Kenya-Nairobi","Kenya-Nairobi","Kenya-Nairobi","Kenia-Nairobi","Kenia-Nairobi"]
[{"$f":"IF(#REF!=\"English\",Translations!B871,IF(#REF!=\"French\",Translations!C871,IF(#REF!=\"Italian\",Translations!D871,IF(#REF!=\"German\",Translations!E871,IF(#REF!=\"Spanish\",Translations!F871,Translations!B871)))))","v":{"$error":"#REF!"}},"Kiribati","Kiribati","Kiribati","Kiribati","Kiribati"]
[{"$f":"IF(#REF!=\"English\",Translations!B872,IF(#REF!=\"French\",Translations!C872,IF(#REF!=\"Italian\",Translations!D872,IF(#REF!=\"German\",Translations!E872,IF(#REF!=\"Spanish\",Translations!F872,Translations!B872)))))","v":{"$error":"#REF!"}},"Korea Dem Peoples Rep","Corée du Nord","Corea del Nord ","Korea (Nord)","Corea del Norte"]
[{"$f":"IF(#REF!=\"English\",Translations!B873,IF(#REF!=\"French\",Translations!C873,IF(#REF!=\"Italian\",Translations!D873,IF(#REF!=\"German\",Translations!E873,IF(#REF!=\"Spanish\",Translations!F873,Translations!B873)))))","v":{"$error":"#REF!"}},"Korea Republic of","Corée du Sud","Corea del Sud ","Korea (Süd)","Corea del Sur"]
[{"$f":"IF(#REF!=\"English\",Translations!B874,IF(#REF!=\"French\",Translations!C874,IF(#REF!=\"Italian\",Translations!D874,IF(#REF!=\"German\",Translations!E874,IF(#REF!=\"Spanish\",Translations!F874,Translations!B874)))))","v":{"$error":"#REF!"}},"Korea Republic of-Mobile","Corée du sud-Mobile","Corea del Sud -Mobile","Korea (Süd)-Mobilfunk","Corea del Sur-Móvil"]
[{"$f":"IF(#REF!=\"English\",Translations!B875,IF(#REF!=\"French\",Translations!C875,IF(#REF!=\"Italian\",Translations!D875,IF(#REF!=\"German\",Translations!E875,IF(#REF!=\"Spanish\",Translations!F875,Translations!B875)))))","v":{"$error":"#REF!"}},"Korea Republic of-Seoul","Corée du Sud-Seoul","Corea del Sud -Seoul","Korea (Süd)-Seoul","Corea del Sur-Seoul"]
[{"$f":"IF(#REF!=\"English\",Translations!B876,IF(#REF!=\"French\",Translations!C876,IF(#REF!=\"Italian\",Translations!D876,IF(#REF!=\"German\",Translations!E876,IF(#REF!=\"Spanish\",Translations!F876,Translations!B876)))))","v":{"$error":"#REF!"}},"Kuwait","Koweït","Kuwait","Kuwait","Kuwait"]
[{"$f":"IF(#REF!=\"English\",Translations!B877,IF(#REF!=\"French\",Translations!C877,IF(#REF!=\"Italian\",Translations!D877,IF(#REF!=\"German\",Translations!E877,IF(#REF!=\"Spanish\",Translations!F877,Translations!B877)))))","v":{"$error":"#REF!"}},"Kuwait-Mobile-Others","Koweït-Mobile-Autres","Kuwait-Mobile-Altri","Kuwait-Mobilfunk-Andere","Kuwait-Móvil-Otros"]
[{"$f":"IF(#REF!=\"English\",Translations!B878,IF(#REF!=\"French\",Translations!C878,IF(#REF!=\"Italian\",Translations!D878,IF(#REF!=\"German\",Translations!E878,IF(#REF!=\"Spanish\",Translations!F878,Translations!B878)))))","v":{"$error":"#REF!"}},"Kuwait-Mobile-Wataniya","Koweït-Mobile-Wataniya","Kuwait-Mobile-Wataniya","Kuwait-Mobilfunk-Wataniya","Kuwait-Móvil-Wataniya"]
[{"$f":"IF(#REF!=\"English\",Translations!B879,IF(#REF!=\"French\",Translations!C879,IF(#REF!=\"Italian\",Translations!D879,IF(#REF!=\"German\",Translations!E879,IF(#REF!=\"Spanish\",Translations!F879,Translations!B879)))))","v":{"$error":"#REF!"}},"Kuwait-Mobile-Zain","Koweït-Mobile-Zain","Kuwait-Mobile-Zain","Kuwait-Mobilfunk-Zain","Kuwait-Móvil-Zain"]
[{"$f":"IF(#REF!=\"English\",Translations!B880,IF(#REF!=\"French\",Translations!C880,IF(#REF!=\"Italian\",Translations!D880,IF(#REF!=\"German\",Translations!E880,IF(#REF!=\"Spanish\",Translations!F880,Translations!B880)))))","v":{"$error":"#REF!"}},"Kyrgyzstan","Kirghizistan","Kirghizistan","Kirgisistan","Kirguistán"]
[{"$f":"IF(#REF!=\"English\",Translations!B881,IF(#REF!=\"French\",Translations!C881,IF(#REF!=\"Italian\",Translations!D881,IF(#REF!=\"German\",Translations!E881,IF(#REF!=\"Spanish\",Translations!F881,Translations!B881)))))","v":{"$error":"#REF!"}},"Kyrgyzstan-Mobile","Kirghizistan-Mobile","Kirghizistan-Mobile","Kirgisistan-Mobilfunk","Kirguistán-Móvil"]
[{"$f":"IF(#REF!=\"English\",Translations!B882,IF(#REF!=\"French\",Translations!C882,IF(#REF!=\"Italian\",Translations!D882,IF(#REF!=\"German\",Translations!E882,IF(#REF!=\"Spanish\",Translations!F882,Translations!B882)))))","v":{"$error":"#REF!"}},"Laos PDR","Laos","Laos","Laos","Laos"]
[{"$f":"IF(#REF!=\"English\",Translations!B883,IF(#REF!=\"French\",Translations!C883,IF(#REF!=\"Italian\",Translations!D883,IF(#REF!=\"German\",Translations!E883,IF(#REF!=\"Spanish\",Translations!F883,Translations!B883)))))","v":{"$error":"#REF!"}},"Laos PDR-Mobile","Laos-Mobile","Laos-Mobile","Laos-Mobilfunk","Laos-Móvil"]
[{"$f":"IF(#REF!=\"English\",Translations!B884,IF(#REF!=\"French\",Translations!C884,IF(#REF!=\"Italian\",Translations!D884,IF(#REF!=\"German\",Translations!E884,IF(#REF!=\"Spanish\",Translations!F884,Translations!B884)))))","v":{"$error":"#REF!"}},"Latvia","Lettonie","Lettonia","Lettland","Letonia"]
[{"$f":"IF(#REF!=\"English\",Translations!B885,IF(#REF!=\"French\",Translations!C885,IF(#REF!=\"Italian\",Translations!D885,IF(#REF!=\"German\",Translations!E885,IF(#REF!=\"Spanish\",Translations!F885,Translations!B885)))))","v":{"$error":"#REF!"}},"Latvia-Mobile-LMT","Lettonie-Mobile-LMT","Lettonia-Mobile-LMT","Lettland-Mobilfunk-LMT","Letonia-Móvil-LMT"]
[{"$f":"IF(#REF!=\"English\",Translations!B886,IF(#REF!=\"French\",Translations!C886,IF(#REF!=\"Italian\",Translations!D886,IF(#REF!=\"German\",Translations!E886,IF(#REF!=\"Spanish\",Translations!F886,Translations!B886)))))","v":{"$error":"#REF!"}},"Latvia-Mobile-Others","Lettonie-Mobile-Autres","Lettonia-Mobile-Altri","Lettland-Mobilfunk-Andere","Letonia-Móvil-Otros"]
[{"$f":"IF(#REF!=\"English\",Translations!B887,IF(#REF!=\"French\",Translations!C887,IF(#REF!=\"Italian\",Translations!D887,IF(#REF!=\"German\",Translations!E887,IF(#REF!=\"Spanish\",Translations!F887,Translations!B887)))))","v":{"$error":"#REF!"}},"Latvia-Mobile-Tele2","Lettonie-Mobile-Tele2","Lettonia-Mobile-Tele2","Lettland-Mobilfunk-Tele2","Letonia-Móvil-Tele2"]
[{"$f":"IF(#REF!=\"English\",Translations!B888,IF(#REF!=\"French\",Translations!C888,IF(#REF!=\"Italian\",Translations!D888,IF(#REF!=\"German\",Translations!E888,IF(#REF!=\"Spanish\",Translations!F888,Translations!B888)))))","v":{"$error":"#REF!"}},"Latvia-Riga","Lettonie-Riga","Lettonia-Riga","Lettland-Riga","Letonia-Riga"]
[{"$f":"IF(#REF!=\"English\",Translations!B889,IF(#REF!=\"French\",Translations!C889,IF(#REF!=\"Italian\",Translations!D889,IF(#REF!=\"German\",Translations!E889,IF(#REF!=\"Spanish\",Translations!F889,Translations!B889)))))","v":{"$error":"#REF!"}},"Latvia-OLO","Lettonie-OLO","Lettonia-OLO","Lettland-OLO","Letonia-OLO"]
[{"$f":"IF(#REF!=\"English\",Translations!B890,IF(#REF!=\"French\",Translations!C890,IF(#REF!=\"Italian\",Translations!D890,IF(#REF!=\"German\",Translations!E890,IF(#REF!=\"Spanish\",Translations!F890,Translations!B890)))))","v":{"$error":"#REF!"}},"Lebanon","Liban","Libano","Libanon","Líbano"]
[{"$f":"IF(#REF!=\"English\",Translations!B891,IF(#REF!=\"French\",Translations!C891,IF(#REF!=\"Italian\",Translations!D891,IF(#REF!=\"German\",Translations!E891,IF(#REF!=\"Spanish\",Translations!F891,Translations!B891)))))","v":{"$error":"#REF!"}},"Lebanon-Beirut","Liban-Beirut","Libano-Beirut","Libanon-Beirut","Líbano-Beirut"]
[{"$f":"IF(#REF!=\"English\",Translations!B892,IF(#REF!=\"French\",Translations!C892,IF(#REF!=\"Italian\",Translations!D892,IF(#REF!=\"German\",Translations!E892,IF(#REF!=\"Spanish\",Translations!F892,Translations!B892)))))","v":{"$error":"#REF!"}},"Lebanon-Mobile","Liban-Mobile","Libano-Mobile","Libanon-Mobilfunk","Líbano-Móvil"]
[{"$f":"IF(#REF!=\"English\",Translations!B893,IF(#REF!=\"French\",Translations!C893,IF(#REF!=\"Italian\",Translations!D893,IF(#REF!=\"German\",Translations!E893,IF(#REF!=\"Spanish\",Translations!F893,Translations!B893)))))","v":{"$error":"#REF!"}},"Lesotho","Lesotho","Lesotho","Lesotho","Lesoto"]
[{"$f":"IF(#REF!=\"English\",Translations!B894,IF(#REF!=\"French\",Translations!C894,IF(#REF!=\"Italian\",Translations!D894,IF(#REF!=\"German\",Translations!E894,IF(#REF!=\"Spanish\",Translations!F894,Translations!B894)))))","v":{"$error":"#REF!"}},"Liberia","Libéria","Liberia","Liberia","Liberia"]
[{"$f":"IF(#REF!=\"English\",Translations!B895,IF(#REF!=\"French\",Translations!C895,IF(#REF!=\"Italian\",Translations!D895,IF(#REF!=\"German\",Translations!E895,IF(#REF!=\"Spanish\",Translations!F895,Translations!B895)))))","v":{"$error":"#REF!"}},"Liberia-Mobile-Cellcom","Libéria-Mobile-Cellcom","Liberia-Mobile-Cellcom","Liberia-Mobilfunk-Cellcom","Liberia-Móvil-Cellcom"]
[{"$f":"IF(#REF!=\"English\",Translations!B896,IF(#REF!=\"French\",Translations!C896,IF(#REF!=\"Italian\",Translations!D896,IF(#REF!=\"German\",Translations!E896,IF(#REF!=\"Spanish\",Translations!F896,Translations!B896)))))","v":{"$error":"#REF!"}},"Liberia-Mobile-Comium","Libéria-Mobile-Comium","Liberia-Mobile-Comium","Liberia-Mobilfunk-Comium","Liberia-Móvil-Comium"]
[{"$f":"IF(#REF!=\"English\",Translations!B897,IF(#REF!=\"French\",Translations!C897,IF(#REF!=\"Italian\",Translations!D897,IF(#REF!=\"German\",Translations!E897,IF(#REF!=\"Spanish\",Translations!F897,Translations!B897)))))","v":{"$error":"#REF!"}},"Liberia-Mobile-MTN","Libéria-Mobile-MTN","Liberia-Mobile-MTN","Liberia-Mobilfunk-MTN","Liberia-Móvil-MTN"]
[{"$f":"IF(#REF!=\"English\",Translations!B898,IF(#REF!=\"French\",Translations!C898,IF(#REF!=\"Italian\",Translations!D898,IF(#REF!=\"German\",Translations!E898,IF(#REF!=\"Spanish\",Translations!F898,Translations!B898)))))","v":{"$error":"#REF!"}},"Liberia-Mobile-Others","Libéria-Mobile-Autres","Liberia-Mobile-Altri","Liberia-Mobilfunk-Andere","Liberia-Móvil-Otros"]
[{"$f":"IF(#REF!=\"English\",Translations!B899,IF(#REF!=\"French\",Translations!C899,IF(#REF!=\"Italian\",Translations!D899,IF(#REF!=\"German\",Translations!E899,IF(#REF!=\"Spanish\",Translations!F899,Translations!B899)))))","v":{"$error":"#REF!"}},"Libya","Libye","Libia","Libyen","Libia"]
[{"$f":"IF(#REF!=\"English\",Translations!B900,IF(#REF!=\"French\",Translations!C900,IF(#REF!=\"Italian\",Translations!D900,IF(#REF!=\"German\",Translations!E900,IF(#REF!=\"Spanish\",Translations!F900,Translations!B900)))))","v":{"$error":"#REF!"}},"Libya-Mobile-Al Hurra","Libye-Mobile-Al Hurra","Libia-Mobile-Al Hurra","Libyen-Mobilfunk-Al Hurra","Libia-Móvil-Al Hurra"]
[{"$f":"IF(#REF!=\"English\",Translations!B901,IF(#REF!=\"French\",Translations!C901,IF(#REF!=\"Italian\",Translations!D901,IF(#REF!=\"German\",Translations!E901,IF(#REF!=\"Spanish\",Translations!F901,Translations!B901)))))","v":{"$error":"#REF!"}},"Libya-Mobile-Others","Libye-Mobile-Autres","Libia-Mobile-Altri","Libyen-Mobilfunk-Andere","Libia-Móvil-Otros"]
[{"$f":"IF(#REF!=\"English\",Translations!B902,IF(#REF!=\"French\",Translations!C902,IF(#REF!=\"Italian\",Translations!D902,IF(#REF!=\"German\",Translations!E902,IF(#REF!=\"Spanish\",Translations!F902,Translations!B902)))))","v":{"$error":"#REF!"}},"Liechtenstein","Liechtenstein","Liechtenstein","Liechtenstein","Liechtenstein"]
[{"$f":"IF(#REF!=\"English\",Translations!B903,IF(#REF!=\"French\",Translations!C903,IF(#REF!=\"Italian\",Translations!D903,IF(#REF!=\"German\",Translations!E903,IF(#REF!=\"Spanish\",Translations!F903,Translations!B903)))))","v":{"$error":"#REF!"}},"Liechtenstein-Mobile-Mobilkom","Liechtenstein-Mobile-Mobilkom","Liechtenstein-Mobile-Mobilkom","Liechtenstein-Mobilfunk-Mobilkom","Liechtenstein-Móvil-Mobilkom"]
[{"$f":"IF(#REF!=\"English\",Translations!B904,IF(#REF!=\"French\",Translations!C904,IF(#REF!=\"Italian\",Translations!D904,IF(#REF!=\"German\",Translations!E904,IF(#REF!=\"Spanish\",Translations!F904,Translations!B904)))))","v":{"$error":"#REF!"}},"Liechtenstein-Mobile-Orange","Liechtenstein-Mobile-Orange","Liechtenstein-Mobile-Orange","Liechtenstein-Mobilfunk-Orange","Liechtenstein-Móvil-Orange"]
[{"$f":"IF(#REF!=\"English\",Translations!B905,IF(#REF!=\"French\",Translations!C905,IF(#REF!=\"Italian\",Translations!D905,IF(#REF!=\"German\",Translations!E905,IF(#REF!=\"Spanish\",Translations!F905,Translations!B905)))))","v":{"$error":"#REF!"}},"Liechtenstein-Mobile-Others","Liechtenstein-Mobile-Autres","Liechtenstein-Mobile-Altri","Liechtenstein-Mobilfunk-Andere","Liechtenstein-Móvil-Otros"]
[{"$f":"IF(#REF!=\"English\",Translations!B906,IF(#REF!=\"French\",Translations!C906,IF(#REF!=\"Italian\",Translations!D906,IF(#REF!=\"German\",Translations!E906,IF(#REF!=\"Spanish\",Translations!F906,Translations!B906)))))","v":{"$error":"#REF!"}},"Liechtenstein-Mobile-Swisscom","Liechtenstein-Mobile-Swisscom","Liechtenstein-Mobile-Swisscom","Liechtenstein-Mobilfunk-Swisscom","Liechtenstein-Móvil-Swisscom"]
[{"$f":"IF(#REF!=\"English\",Translations!B907,IF(#REF!=\"French\",Translations!C907,IF(#REF!=\"Italian\",Translations!D907,IF(#REF!=\"German\",Translations!E907,IF(#REF!=\"Spanish\",Translations!F907,Translations!B907)))))","v":{"$error":"#REF!"}},"Liechtenstein-Mobile-Tele2","Liechtenstein-Mobile-Tele2","Liechtenstein-Mobile-Tele2","Liechtenstein-Mobilfunk-Tele2","Liechtenstein-Móvil-Tele2"]
[{"$f":"IF(#REF!=\"English\",Translations!B908,IF(#REF!=\"French\",Translations!C908,IF(#REF!=\"Italian\",Translations!D908,IF(#REF!=\"German\",Translations!E908,IF(#REF!=\"Spanish\",Translations!F908,Translations!B908)))))","v":{"$error":"#REF!"}},"Lithuania","Lituanie","Lituania","Litauen","Lituania"]
[{"$f":"IF(#REF!=\"English\",Translations!B909,IF(#REF!=\"French\",Translations!C909,IF(#REF!=\"Italian\",Translations!D909,IF(#REF!=\"German\",Translations!E909,IF(#REF!=\"Spanish\",Translations!F909,Translations!B909)))))","v":{"$error":"#REF!"}},"Lithuania-Mobile-Bite","Lituanie-Mobile-Bite","Lituania-Mobile-Bite","Litauen-Mobilfunk-Bite","Lituania-Móvil-Bite"]
[{"$f":"IF(#REF!=\"English\",Translations!B910,IF(#REF!=\"French\",Translations!C910,IF(#REF!=\"Italian\",Translations!D910,IF(#REF!=\"German\",Translations!E910,IF(#REF!=\"Spanish\",Translations!F910,Translations!B910)))))","v":{"$error":"#REF!"}},"Lithuania-Mobile-Others","Lituanie-Mobile-Autres","Lituania-Mobile-Altri","Litauen-Mobilfunk-Andere","Lituania-Móvil-Otros"]
[{"$f":"IF(#REF!=\"English\",Translations!B911,IF(#REF!=\"French\",Translations!C911,IF(#REF!=\"Italian\",Translations!D911,IF(#REF!=\"German\",Translations!E911,IF(#REF!=\"Spanish\",Translations!F911,Translations!B911)))))","v":{"$error":"#REF!"}},"Lithuania-Mobile-Tele2","Lituanie-Mobile-Tele2","Lituania-Mobile-Tele2","Litauen-Mobilfunk-Tele2","Lituania-Móvil-Tele2"]
[{"$f":"IF(#REF!=\"English\",Translations!B912,IF(#REF!=\"French\",Translations!C912,IF(#REF!=\"Italian\",Translations!D912,IF(#REF!=\"German\",Translations!E912,IF(#REF!=\"Spanish\",Translations!F912,Translations!B912)))))","v":{"$error":"#REF!"}},"Lithuania-Special Services","Lituanie-Special Services","Lituania-Special Services","Litauen-Special Services","Lituania-Special Services"]
[{"$f":"IF(#REF!=\"English\",Translations!B913,IF(#REF!=\"French\",Translations!C913,IF(#REF!=\"Italian\",Translations!D913,IF(#REF!=\"German\",Translations!E913,IF(#REF!=\"Spanish\",Translations!F913,Translations!B913)))))","v":{"$error":"#REF!"}},"Luxembourg","Luxembourg","Lussemburgo","Luxemburg","Luxemburgo"]
[{"$f":"IF(#REF!=\"English\",Translations!B914,IF(#REF!=\"French\",Translations!C914,IF(#REF!=\"Italian\",Translations!D914,IF(#REF!=\"German\",Translations!E914,IF(#REF!=\"Spanish\",Translations!F914,Translations!B914)))))","v":{"$error":"#REF!"}},"Luxembourg-Mobile-LUX","Luxembourg-Mobile-LUX","Lussemburgo-Mobile-LUX","Luxemburg-Mobilfunk-LUX","Luxemburgo-Móvil-LUX"]
[{"$f":"IF(#REF!=\"English\",Translations!B915,IF(#REF!=\"French\",Translations!C915,IF(#REF!=\"Italian\",Translations!D915,IF(#REF!=\"German\",Translations!E915,IF(#REF!=\"Spanish\",Translations!F915,Translations!B915)))))","v":{"$error":"#REF!"}},"Luxembourg-Mobile-Tango","Luxembourg-Mobile-Tango","Lussemburgo-Mobile-Tango","Luxemburg-Mobilfunk-Tango","Luxemburgo-Móvil-Tango"]
[{"$f":"IF(#REF!=\"English\",Translations!B916,IF(#REF!=\"French\",Translations!C916,IF(#REF!=\"Italian\",Translations!D916,IF(#REF!=\"German\",Translations!E916,IF(#REF!=\"Spanish\",Translations!F916,Translations!B916)))))","v":{"$error":"#REF!"}},"Luxembourg-Mobile-VOX","Luxembourg-Mobile-VOX","Lussemburgo-Mobile-VOX","Luxemburg-Mobilfunk-VOX","Luxemburgo-Móvil-VOX"]
[{"$f":"IF(#REF!=\"English\",Translations!B917,IF(#REF!=\"French\",Translations!C917,IF(#REF!=\"Italian\",Translations!D917,IF(#REF!=\"German\",Translations!E917,IF(#REF!=\"Spanish\",Translations!F917,Translations!B917)))))","v":{"$error":"#REF!"}},"Macao","Macao","Macao","Macao","Macao"]
[{"$f":"IF(#REF!=\"English\",Translations!B918,IF(#REF!=\"French\",Translations!C918,IF(#REF!=\"Italian\",Translations!D918,IF(#REF!=\"German\",Translations!E918,IF(#REF!=\"Spanish\",Translations!F918,Translations!B918)))))","v":{"$error":"#REF!"}},"Macao-Mobile","Macao-Mobile","Macao-Mobile","Macao-Mobilfunk","Macao-Móvil"]
[{"$f":"IF(#REF!=\"English\",Translations!B919,IF(#REF!=\"French\",Translations!C919,IF(#REF!=\"Italian\",Translations!D919,IF(#REF!=\"German\",Translations!E919,IF(#REF!=\"Spanish\",Translations!F919,Translations!B919)))))","v":{"$error":"#REF!"}},"Macedonia","Macédoine","Macedonia","Mazedonien","Macedonia"]
[{"$f":"IF(#REF!=\"English\",Translations!B920,IF(#REF!=\"French\",Translations!C920,IF(#REF!=\"Italian\",Translations!D920,IF(#REF!=\"German\",Translations!E920,IF(#REF!=\"Spanish\",Translations!F920,Translations!B920)))))","v":{"$error":"#REF!"}},"Macedonia-Mobile-Albafone","Macédoine-Mobile-Albafone","Macedonia-Mobile-Albafone","Mazedonien-Mobilfunk-Albafone","Macedonia-Móvil-Albafone"]
[{"$f":"IF(#REF!=\"English\",Translations!B921,IF(#REF!=\"French\",Translations!C921,IF(#REF!=\"Italian\",Translations!D921,IF(#REF!=\"German\",Translations!E921,IF(#REF!=\"Spanish\",Translations!F921,Translations!B921)))))","v":{"$error":"#REF!"}},"Macedonia-Mobile-Cosmofon","Macédoine-Mobile-Cosmofon","Macedonia-Mobile-Cosmofon","Mazedonien-Mobilfunk-Cosmofon","Macedonia-Móvil-Cosmofon"]
[{"$f":"IF(#REF!=\"English\",Translations!B922,IF(#REF!=\"French\",Translations!C922,IF(#REF!=\"Italian\",Translations!D922,IF(#REF!=\"German\",Translations!E922,IF(#REF!=\"Spanish\",Translations!F922,Translations!B922)))))","v":{"$error":"#REF!"}},"Macedonia-Mobile-Nov","Macédoine-Mobile-Nov","Macedonia-Mobile-Nov","Mazedonien-Mobilfunk-Nov","Macedonia-Móvil-Nov"]
[{"$f":"IF(#REF!=\"English\",Translations!B923,IF(#REF!=\"French\",Translations!C923,IF(#REF!=\"Italian\",Translations!D923,IF(#REF!=\"German\",Translations!E923,IF(#REF!=\"Spanish\",Translations!F923,Translations!B923)))))","v":{"$error":"#REF!"}},"Macedonia-Mobile-T-Mobile","Macédoine-Mobile-T-Mobile","Macedonia-Mobile-T-Mobile","Mazedonien-Mobilfunk-T-Mobile","Macedonia-Móvil-T-Mobile"]
[{"$f":"IF(#REF!=\"English\",Translations!B924,IF(#REF!=\"French\",Translations!C924,IF(#REF!=\"Italian\",Translations!D924,IF(#REF!=\"German\",Translations!E924,IF(#REF!=\"Spanish\",Translations!F924,Translations!B924)))))","v":{"$error":"#REF!"}},"Macedonia-Mobile-Others","Macédoine-Mobile-Autres","Macedonia-Mobile-Altri","Mazedonien-Mobilfunk-Andere","Macedonia-Móvil-Otros"]
[{"$f":"IF(#REF!=\"English\",Translations!B925,IF(#REF!=\"French\",Translations!C925,IF(#REF!=\"Italian\",Translations!D925,IF(#REF!=\"German\",Translations!E925,IF(#REF!=\"Spanish\",Translations!F925,Translations!B925)))))","v":{"$error":"#REF!"}},"Madagascar","Madagascar","Madagascar","Madagaskar","Madagascar"]
[{"$f":"IF(#REF!=\"English\",Translations!B926,IF(#REF!=\"French\",Translations!C926,IF(#REF!=\"Italian\",Translations!D926,IF(#REF!=\"German\",Translations!E926,IF(#REF!=\"Spanish\",Translations!F926,Translations!B926)))))","v":{"$error":"#REF!"}},"Madagascar-Mobile-Madacom","Madagascar-Mobile-Madacom","Madagascar-Mobile-Madacom","Madagaskar-Mobilfunk-Madacom","Madagascar-Móvil-Madacom"]
[{"$f":"IF(#REF!=\"English\",Translations!B927,IF(#REF!=\"French\",Translations!C927,IF(#REF!=\"Italian\",Translations!D927,IF(#REF!=\"German\",Translations!E927,IF(#REF!=\"Spanish\",Translations!F927,Translations!B927)))))","v":{"$error":"#REF!"}},"Madagascar-Mobile-Orange","Madagascar-Mobile-Orange","Madagascar-Mobile-Orange","Madagaskar-Mobilfunk-Orange","Madagascar-Móvil-Orange"]
[{"$f":"IF(#REF!=\"English\",Translations!B928,IF(#REF!=\"French\",Translations!C928,IF(#REF!=\"Italian\",Translations!D928,IF(#REF!=\"German\",Translations!E928,IF(#REF!=\"Spanish\",Translations!F928,Translations!B928)))))","v":{"$error":"#REF!"}},"Madagascar-Mobile-Others","Madagascar-Mobile-Autres","Madagascar-Mobile-Altri","Madagaskar-Mobilfunk-Andere","Madagascar-Móvil-Otros"]
[{"$f":"IF(#REF!=\"English\",Translations!B929,IF(#REF!=\"French\",Translations!C929,IF(#REF!=\"Italian\",Translations!D929,IF(#REF!=\"German\",Translations!E929,IF(#REF!=\"Spanish\",Translations!F929,Translations!B929)))))","v":{"$error":"#REF!"}},"Madagascar-Mobile-Telma","Madagascar-Mobile-Telma","Madagascar-Mobile-Telma","Madagaskar-Mobilfunk-Telma","Madagascar-Móvil-Telma"]
[{"$f":"IF(#REF!=\"English\",Translations!B930,IF(#REF!=\"French\",Translations!C930,IF(#REF!=\"Italian\",Translations!D930,IF(#REF!=\"German\",Translations!E930,IF(#REF!=\"Spanish\",Translations!F930,Translations!B930)))))","v":{"$error":"#REF!"}},"Malawi","Malawi","Malawi","Malawi","Malaui"]
[{"$f":"IF(#REF!=\"English\",Translations!B931,IF(#REF!=\"French\",Translations!C931,IF(#REF!=\"Italian\",Translations!D931,IF(#REF!=\"German\",Translations!E931,IF(#REF!=\"Spanish\",Translations!F931,Translations!B931)))))","v":{"$error":"#REF!"}},"Malawi-Mobile-Others","Malawi-Mobile-Autres","Malawi-Mobile-Altri","Malawi-Mobilfunk-Andere","Malaui-Móvil-Otros"]
[{"$f":"IF(#REF!=\"English\",Translations!B932,IF(#REF!=\"French\",Translations!C932,IF(#REF!=\"Italian\",Translations!D932,IF(#REF!=\"German\",Translations!E932,IF(#REF!=\"Spanish\",Translations!F932,Translations!B932)))))","v":{"$error":"#REF!"}},"Malawi-Mobile-Zain","Malawi-Mobile-Zain","Malawi-Mobile-Zain","Malawi-Mobilfunk-Zain","Malaui-Móvil-Zain"]
[{"$f":"IF(#REF!=\"English\",Translations!B933,IF(#REF!=\"French\",Translations!C933,IF(#REF!=\"Italian\",Translations!D933,IF(#REF!=\"German\",Translations!E933,IF(#REF!=\"Spanish\",Translations!F933,Translations!B933)))))","v":{"$error":"#REF!"}},"Malaysia","Malaisie","Malesia","Malaysia","Malasia"]
[{"$f":"IF(#REF!=\"English\",Translations!B934,IF(#REF!=\"French\",Translations!C934,IF(#REF!=\"Italian\",Translations!D934,IF(#REF!=\"German\",Translations!E934,IF(#REF!=\"Spanish\",Translations!F934,Translations!B934)))))","v":{"$error":"#REF!"}},"Malaysia-Kuala Lumpur","Malaisie-Kuala Lumpur","Malesia-Kuala Lumpur","Malaysia-Kuala Lumpur","Malasia-Kuala Lumpur"]
[{"$f":"IF(#REF!=\"English\",Translations!B935,IF(#REF!=\"French\",Translations!C935,IF(#REF!=\"Italian\",Translations!D935,IF(#REF!=\"German\",Translations!E935,IF(#REF!=\"Spanish\",Translations!F935,Translations!B935)))))","v":{"$error":"#REF!"}},"Malaysia-Mobile-Celcom","Malaisie-Mobile-Celcom","Malesia-Mobile-Celcom","Malaysia-Mobilfunk-Celcom","Malasia-Móvil-Celcom"]
[{"$f":"IF(#REF!=\"English\",Translations!B936,IF(#REF!=\"French\",Translations!C936,IF(#REF!=\"Italian\",Translations!D936,IF(#REF!=\"German\",Translations!E936,IF(#REF!=\"Spanish\",Translations!F936,Translations!B936)))))","v":{"$error":"#REF!"}},"Malaysia-Mobile-Digi","Malaisie-Mobile-Digi","Malesia-Mobile-Digi","Malaysia-Mobilfunk-Digi","Malasia-Móvil-Digi"]
[{"$f":"IF(#REF!=\"English\",Translations!B937,IF(#REF!=\"French\",Translations!C937,IF(#REF!=\"Italian\",Translations!D937,IF(#REF!=\"German\",Translations!E937,IF(#REF!=\"Spanish\",Translations!F937,Translations!B937)))))","v":{"$error":"#REF!"}},"Malaysia-Mobile-Maxis","Malaisie-Mobile-Maxis","Malesia-Mobile-Maxis","Malaysia-Mobilfunk-Maxis","Malasia-Móvil-Maxis"]
[{"$f":"IF(#REF!=\"English\",Translations!B938,IF(#REF!=\"French\",Translations!C938,IF(#REF!=\"Italian\",Translations!D938,IF(#REF!=\"German\",Translations!E938,IF(#REF!=\"Spanish\",Translations!F938,Translations!B938)))))","v":{"$error":"#REF!"}},"Malaysia-Mobile-Others","Malaisie-Mobile-Autres","Malesia-Mobile-Altri","Malaysia-Mobilfunk-Andere","Malasia-Móvil-Otros"]
[{"$f":"IF(#REF!=\"English\",Translations!B939,IF(#REF!=\"French\",Translations!C939,IF(#REF!=\"Italian\",Translations!D939,IF(#REF!=\"German\",Translations!E939,IF(#REF!=\"Spanish\",Translations!F939,Translations!B939)))))","v":{"$error":"#REF!"}},"Maldives","Maldives","Maldive","Malediven","Maldivas"]
[{"$f":"IF(#REF!=\"English\",Translations!B940,IF(#REF!=\"French\",Translations!C940,IF(#REF!=\"Italian\",Translations!D940,IF(#REF!=\"German\",Translations!E940,IF(#REF!=\"Spanish\",Translations!F940,Translations!B940)))))","v":{"$error":"#REF!"}},"Mali","Mali","Mali","Mali","Malí"]
[{"$f":"IF(#REF!=\"English\",Translations!B941,IF(#REF!=\"French\",Translations!C941,IF(#REF!=\"Italian\",Translations!D941,IF(#REF!=\"German\",Translations!E941,IF(#REF!=\"Spanish\",Translations!F941,Translations!B941)))))","v":{"$error":"#REF!"}},"Mali-OLO-Orange","Mali-OLO-Orange","Mali-OLO-Orange","Mali-OLO-Orange","Malí-OLO-Orange"]
[{"$f":"IF(#REF!=\"English\",Translations!B942,IF(#REF!=\"French\",Translations!C942,IF(#REF!=\"Italian\",Translations!D942,IF(#REF!=\"German\",Translations!E942,IF(#REF!=\"Spanish\",Translations!F942,Translations!B942)))))","v":{"$error":"#REF!"}},"Mali-Bamako","Mali-Bamako","Mali-Bamako","Mali-Bamako","Malí-Bamako"]
[{"$f":"IF(#REF!=\"English\",Translations!B943,IF(#REF!=\"French\",Translations!C943,IF(#REF!=\"Italian\",Translations!D943,IF(#REF!=\"German\",Translations!E943,IF(#REF!=\"Spanish\",Translations!F943,Translations!B943)))))","v":{"$error":"#REF!"}},"Mali-Mobile-Orange","Mali-Mobile-Orange","Mali-Mobile-Orange","Mali-Mobilfunk-Orange","Malí-Móvil-Orange"]
[{"$f":"IF(#REF!=\"English\",Translations!B944,IF(#REF!=\"French\",Translations!C944,IF(#REF!=\"Italian\",Translations!D944,IF(#REF!=\"German\",Translations!E944,IF(#REF!=\"Spanish\",Translations!F944,Translations!B944)))))","v":{"$error":"#REF!"}},"Mali-Mobile-Others","Mali-Mobile-Autres","Mali-Mobile-Altri","Mali-Mobilfunk-Andere","Malí-Móvil-Otros"]
[{"$f":"IF(#REF!=\"English\",Translations!B945,IF(#REF!=\"French\",Translations!C945,IF(#REF!=\"Italian\",Translations!D945,IF(#REF!=\"German\",Translations!E945,IF(#REF!=\"Spanish\",Translations!F945,Translations!B945)))))","v":{"$error":"#REF!"}},"Malta","Malte","Malta","Malta","Malta"]
[{"$f":"IF(#REF!=\"English\",Translations!B946,IF(#REF!=\"French\",Translations!C946,IF(#REF!=\"Italian\",Translations!D946,IF(#REF!=\"German\",Translations!E946,IF(#REF!=\"Spanish\",Translations!F946,Translations!B946)))))","v":{"$error":"#REF!"}},"Malta-Mobile","Malte-Mobile","Malta-Mobile","Malta-Mobilfunk","Malta-Móvil"]
[{"$f":"IF(#REF!=\"English\",Translations!B947,IF(#REF!=\"French\",Translations!C947,IF(#REF!=\"Italian\",Translations!D947,IF(#REF!=\"German\",Translations!E947,IF(#REF!=\"Spanish\",Translations!F947,Translations!B947)))))","v":{"$error":"#REF!"}},"Marshall Islands","Îles Marshall","Isole Marshall","Marschallinseln","Islas Marshall"]
[{"$f":"IF(#REF!=\"English\",Translations!B948,IF(#REF!=\"French\",Translations!C948,IF(#REF!=\"Italian\",Translations!D948,IF(#REF!=\"German\",Translations!E948,IF(#REF!=\"Spanish\",Translations!F948,Translations!B948)))))","v":{"$error":"#REF!"}},"Martinique","Martinique","Martinica","Martinique","Martinica"]
[{"$f":"IF(#REF!=\"English\",Translations!B949,IF(#REF!=\"French\",Translations!C949,IF(#REF!=\"Italian\",Translations!D949,IF(#REF!=\"German\",Translations!E949,IF(#REF!=\"Spanish\",Translations!F949,Translations!B949)))))","v":{"$error":"#REF!"}},"Martinique-Mobile-Digicel","Martinique-Mobile-Digicel","Martinica-Mobile-Digicel","Martinique-Mobilfunk-Digicel","Martinica-Móvil-Digicel"]
[{"$f":"IF(#REF!=\"English\",Translations!B950,IF(#REF!=\"French\",Translations!C950,IF(#REF!=\"Italian\",Translations!D950,IF(#REF!=\"German\",Translations!E950,IF(#REF!=\"Spanish\",Translations!F950,Translations!B950)))))","v":{"$error":"#REF!"}},"Martinique-Mobile-Orange Caraibe","Martinique-Mobile-Orange Caraibe","Martinica-Mobile-Orange Caraibe","Martinique-Mobilfunk-Orange Caraibe","Martinica-Móvil-Orange Caraibe"]
[{"$f":"IF(#REF!=\"English\",Translations!B951,IF(#REF!=\"French\",Translations!C951,IF(#REF!=\"Italian\",Translations!D951,IF(#REF!=\"German\",Translations!E951,IF(#REF!=\"Spanish\",Translations!F951,Translations!B951)))))","v":{"$error":"#REF!"}},"Martinique-Mobile-Outremer","Martinique-Mobile-Outremer","Martinica-Mobile-Outremer","Martinique-Mobilfunk-Outremer","Martinica-Móvil-Outremer"]
[{"$f":"IF(#REF!=\"English\",Translations!B952,IF(#REF!=\"French\",Translations!C952,IF(#REF!=\"Italian\",Translations!D952,IF(#REF!=\"German\",Translations!E952,IF(#REF!=\"Spanish\",Translations!F952,Translations!B952)))))","v":{"$error":"#REF!"}},"Martinique-Mobile-Others","Martinique-Mobile-Autres","Martinica-Mobile-Altri","Martinique-Mobilfunk-Andere","Martinica-Móvil-Otros"]
[{"$f":"IF(#REF!=\"English\",Translations!B953,IF(#REF!=\"French\",Translations!C953,IF(#REF!=\"Italian\",Translations!D953,IF(#REF!=\"German\",Translations!E953,IF(#REF!=\"Spanish\",Translations!F953,Translations!B953)))))","v":{"$error":"#REF!"}},"Mauritania","Mauritanie","Mauritania","Mauretanien","Mauritania"]
[{"$f":"IF(#REF!=\"English\",Translations!B954,IF(#REF!=\"French\",Translations!C954,IF(#REF!=\"Italian\",Translations!D954,IF(#REF!=\"German\",Translations!E954,IF(#REF!=\"Spanish\",Translations!F954,Translations!B954)))))","v":{"$error":"#REF!"}},"Mauritania-Mobile-Chinguitel","Mauritanie-Mobile-Chinguitel","Mauritania-Mobile-Chinguitel","Mauretanien-Mobile-Chinguitel","Mauritania-Mobile-Chinguitel"]
[{"$f":"IF(#REF!=\"English\",Translations!B955,IF(#REF!=\"French\",Translations!C955,IF(#REF!=\"Italian\",Translations!D955,IF(#REF!=\"German\",Translations!E955,IF(#REF!=\"Spanish\",Translations!F955,Translations!B955)))))","v":{"$error":"#REF!"}},"Mauritania-Mobile-Mattel","Mauritanie-Mobile-Mattel","Mauritania-Mobile-Mattel","Mauretanien-Mobilfunk-Mattel","Mauritania-Móvil-Mattel"]
[{"$f":"IF(#REF!=\"English\",Translations!B956,IF(#REF!=\"French\",Translations!C956,IF(#REF!=\"Italian\",Translations!D956,IF(#REF!=\"German\",Translations!E956,IF(#REF!=\"Spanish\",Translations!F956,Translations!B956)))))","v":{"$error":"#REF!"}},"Mauritania-Mobile-Mauritel","Mauritanie-Mobile-Mauritel","Mauritania-Mobile-Mauritel","Mauretanien-Mobilfunk-Mauritel","Mauritania-Móvil-Mauritel"]
[{"$f":"IF(#REF!=\"English\",Translations!B957,IF(#REF!=\"French\",Translations!C957,IF(#REF!=\"Italian\",Translations!D957,IF(#REF!=\"German\",Translations!E957,IF(#REF!=\"Spanish\",Translations!F957,Translations!B957)))))","v":{"$error":"#REF!"}},"Mauritius","Maurice","Maurizio","Mauritius","Mauricio"]
[{"$f":"IF(#REF!=\"English\",Translations!B958,IF(#REF!=\"French\",Translations!C958,IF(#REF!=\"Italian\",Translations!D958,IF(#REF!=\"German\",Translations!E958,IF(#REF!=\"Spanish\",Translations!F958,Translations!B958)))))","v":{"$error":"#REF!"}},"Mauritius-Mobile","Maurice-Mobile","Maurizio-Mobile","Mauritius-Mobilfunk","Mauricio-Móvil"]
[{"$f":"IF(#REF!=\"English\",Translations!B959,IF(#REF!=\"French\",Translations!C959,IF(#REF!=\"Italian\",Translations!D959,IF(#REF!=\"German\",Translations!E959,IF(#REF!=\"Spanish\",Translations!F959,Translations!B959)))))","v":{"$error":"#REF!"}},"Mayotte","Mayotte","Mayotte","Mayotte","Mayotte"]
[{"$f":"IF(#REF!=\"English\",Translations!B960,IF(#REF!=\"French\",Translations!C960,IF(#REF!=\"Italian\",Translations!D960,IF(#REF!=\"German\",Translations!E960,IF(#REF!=\"Spanish\",Translations!F960,Translations!B960)))))","v":{"$error":"#REF!"}},"Mayotte-Mobile-Others","Mayotte-Mobile-Autres","Mayotte-Mobile-Altri","Mayotte-Mobilfunk-Andere","Mayotte-Móvil-Otros"]
[{"$f":"IF(#REF!=\"English\",Translations!B961,IF(#REF!=\"French\",Translations!C961,IF(#REF!=\"Italian\",Translations!D961,IF(#REF!=\"German\",Translations!E961,IF(#REF!=\"Spanish\",Translations!F961,Translations!B961)))))","v":{"$error":"#REF!"}},"Mayotte-Mobile-Outremer","Mayotte-Mobile-Outremer","Mayotte-Mobile-Outremer","Mayotte-Mobilfunk-Outremer","Mayotte-Móvil-Outremer"]
[{"$f":"IF(#REF!=\"English\",Translations!B962,IF(#REF!=\"French\",Translations!C962,IF(#REF!=\"Italian\",Translations!D962,IF(#REF!=\"German\",Translations!E962,IF(#REF!=\"Spanish\",Translations!F962,Translations!B962)))))","v":{"$error":"#REF!"}},"Mayotte-Mobile-SRR","Mayotte-Mobile-SRR","Mayotte-Mobile-SRR","Mayotte-Mobilfunk-SRR","Mayotte-Móvil-SRR"]
[{"$f":"IF(#REF!=\"English\",Translations!B963,IF(#REF!=\"French\",Translations!C963,IF(#REF!=\"Italian\",Translations!D963,IF(#REF!=\"German\",Translations!E963,IF(#REF!=\"Spanish\",Translations!F963,Translations!B963)))))","v":{"$error":"#REF!"}},"Mexico","Mexique","Messico","Mexiko","México"]
[{"$f":"IF(#REF!=\"English\",Translations!B964,IF(#REF!=\"French\",Translations!C964,IF(#REF!=\"Italian\",Translations!D964,IF(#REF!=\"German\",Translations!E964,IF(#REF!=\"Spanish\",Translations!F964,Translations!B964)))))","v":{"$error":"#REF!"}},"Mexico-Guadalajara","Mexique-Guadalajara","Messico-Guadalajara","Mexiko-Guadalajara","México-Guadalajara"]
[{"$f":"IF(#REF!=\"English\",Translations!B965,IF(#REF!=\"French\",Translations!C965,IF(#REF!=\"Italian\",Translations!D965,IF(#REF!=\"German\",Translations!E965,IF(#REF!=\"Spanish\",Translations!F965,Translations!B965)))))","v":{"$error":"#REF!"}},"Mexico-Mexico City","Mexique-Mexico City","Messico-Mexico City","Mexiko-Mexico City","México-Mexico City"]
[{"$f":"IF(#REF!=\"English\",Translations!B966,IF(#REF!=\"French\",Translations!C966,IF(#REF!=\"Italian\",Translations!D966,IF(#REF!=\"German\",Translations!E966,IF(#REF!=\"Spanish\",Translations!F966,Translations!B966)))))","v":{"$error":"#REF!"}},"Mexico-Mobile","Mexique-Mobile","Messico-Mobile","Mexiko-Mobilfunk","México-Móvil"]
[{"$f":"IF(#REF!=\"English\",Translations!B967,IF(#REF!=\"French\",Translations!C967,IF(#REF!=\"Italian\",Translations!D967,IF(#REF!=\"German\",Translations!E967,IF(#REF!=\"Spanish\",Translations!F967,Translations!B967)))))","v":{"$error":"#REF!"}},"Mexico-Monterrey","Mexique-Monterrey","Messico-Monterrey","Mexiko-Monterrey","México-Monterrey"]
[{"$f":"IF(#REF!=\"English\",Translations!B968,IF(#REF!=\"French\",Translations!C968,IF(#REF!=\"Italian\",Translations!D968,IF(#REF!=\"German\",Translations!E968,IF(#REF!=\"Spanish\",Translations!F968,Translations!B968)))))","v":{"$error":"#REF!"}},"Micronesia","Micronésie","Micronesia","Mikronesien","Micronesia"]
[{"$f":"IF(#REF!=\"English\",Translations!B969,IF(#REF!=\"French\",Translations!C969,IF(#REF!=\"Italian\",Translations!D969,IF(#REF!=\"German\",Translations!E969,IF(#REF!=\"Spanish\",Translations!F969,Translations!B969)))))","v":{"$error":"#REF!"}},"Moldova","Moldavie","Moldavia","Moldawien","Moldavia"]
[{"$f":"IF(#REF!=\"English\",Translations!B970,IF(#REF!=\"French\",Translations!C970,IF(#REF!=\"Italian\",Translations!D970,IF(#REF!=\"German\",Translations!E970,IF(#REF!=\"Spanish\",Translations!F970,Translations!B970)))))","v":{"$error":"#REF!"}},"Moldova-Pridnestrovie","Moldavie-Pridnestrovie","Moldavia-Pridnestrovie","Moldawien-Pridnestrovie","Moldavia-Pridnestrovie"]
[{"$f":"IF(#REF!=\"English\",Translations!B971,IF(#REF!=\"French\",Translations!C971,IF(#REF!=\"Italian\",Translations!D971,IF(#REF!=\"German\",Translations!E971,IF(#REF!=\"Spanish\",Translations!F971,Translations!B971)))))","v":{"$error":"#REF!"}},"Moldova-Mobile-Moldcel","Moldavie-Mobile-Moldcel","Moldavia-Mobile-Moldcel","Moldawien-Mobilfunk-Moldcel","Moldavia-Móvil-Moldcel"]
[{"$f":"IF(#REF!=\"English\",Translations!B972,IF(#REF!=\"French\",Translations!C972,IF(#REF!=\"Italian\",Translations!D972,IF(#REF!=\"German\",Translations!E972,IF(#REF!=\"Spanish\",Translations!F972,Translations!B972)))))","v":{"$error":"#REF!"}},"Moldova-Mobile-Orange","Moldavie-Mobile-Orange","Moldavia-Mobile-Orange","Moldawien-Mobilfunk-Orange","Moldavia-Móvil-Orange"]
[{"$f":"IF(#REF!=\"English\",Translations!B973,IF(#REF!=\"French\",Translations!C973,IF(#REF!=\"Italian\",Translations!D973,IF(#REF!=\"German\",Translations!E973,IF(#REF!=\"Spanish\",Translations!F973,Translations!B973)))))","v":{"$error":"#REF!"}},"Moldova-Mobile-Others","Moldavie-Mobile-Autres","Moldavia-Mobile-Altri","Moldawien-Mobilfunk-Andere","Moldavia-Móvil-Otros"]
[{"$f":"IF(#REF!=\"English\",Translations!B974,IF(#REF!=\"French\",Translations!C974,IF(#REF!=\"Italian\",Translations!D974,IF(#REF!=\"German\",Translations!E974,IF(#REF!=\"Spanish\",Translations!F974,Translations!B974)))))","v":{"$error":"#REF!"}},"Moldova-Special Service","Moldavie-Special Service","Moldavia-Special Service","Moldawien-Special Service","Moldavia-Special Service"]
[{"$f":"IF(#REF!=\"English\",Translations!B975,IF(#REF!=\"French\",Translations!C975,IF(#REF!=\"Italian\",Translations!D975,IF(#REF!=\"German\",Translations!E975,IF(#REF!=\"Spanish\",Translations!F975,Translations!B975)))))","v":{"$error":"#REF!"}},"Monaco","Monaco","Monaco","Monaco","Mónaco"]
[{"$f":"IF(#REF!=\"English\",Translations!B976,IF(#REF!=\"French\",Translations!C976,IF(#REF!=\"Italian\",Translations!D976,IF(#REF!=\"German\",Translations!E976,IF(#REF!=\"Spanish\",Translations!F976,Translations!B976)))))","v":{"$error":"#REF!"}},"Monaco-Mobile-EX","Monaco-Mobile-EX","Monaco-Mobile-EX","Monaco-Mobilfunk-EX","Mónaco-Móvil-EX"]
[{"$f":"IF(#REF!=\"English\",Translations!B977,IF(#REF!=\"French\",Translations!C977,IF(#REF!=\"Italian\",Translations!D977,IF(#REF!=\"German\",Translations!E977,IF(#REF!=\"Spanish\",Translations!F977,Translations!B977)))))","v":{"$error":"#REF!"}},"Monaco-Mobile-KFOR","Monaco-Mobile-KFOR","Monaco-Mobile-KFOR","Monaco-Mobilfunk-KFOR","Mónaco-Móvil-KFOR"]
[{"$f":"IF(#REF!=\"English\",Translations!B978,IF(#REF!=\"French\",Translations!C978,IF(#REF!=\"Italian\",Translations!D978,IF(#REF!=\"German\",Translations!E978,IF(#REF!=\"Spanish\",Translations!F978,Translations!B978)))))","v":{"$error":"#REF!"}},"Monaco-Mobile-Others","Monaco-Mobile-Autres","Monaco-Mobile-Altri","Monaco-Mobilfunk-Andere","Mónaco-Móvil-Otros"]
[{"$f":"IF(#REF!=\"English\",Translations!B979,IF(#REF!=\"French\",Translations!C979,IF(#REF!=\"Italian\",Translations!D979,IF(#REF!=\"German\",Translations!E979,IF(#REF!=\"Spanish\",Translations!F979,Translations!B979)))))","v":{"$error":"#REF!"}},"Mongolia","Mongolie","Mongolia","Mongolei","Mongolia"]
[{"$f":"IF(#REF!=\"English\",Translations!B980,IF(#REF!=\"French\",Translations!C980,IF(#REF!=\"Italian\",Translations!D980,IF(#REF!=\"German\",Translations!E980,IF(#REF!=\"Spanish\",Translations!F980,Translations!B980)))))","v":{"$error":"#REF!"}},"Mongolia-Mobile","Mongolie-Mobile","Mongolia-Mobile","Mongolei-Mobilfunk","Mongolia-Móvil"]
[{"$f":"IF(#REF!=\"English\",Translations!B981,IF(#REF!=\"French\",Translations!C981,IF(#REF!=\"Italian\",Translations!D981,IF(#REF!=\"German\",Translations!E981,IF(#REF!=\"Spanish\",Translations!F981,Translations!B981)))))","v":{"$error":"#REF!"}},"Montenegro","Monténégro","Montenegro","Montenegro","Montenegro"]
[{"$f":"IF(#REF!=\"English\",Translations!B982,IF(#REF!=\"French\",Translations!C982,IF(#REF!=\"Italian\",Translations!D982,IF(#REF!=\"German\",Translations!E982,IF(#REF!=\"Spanish\",Translations!F982,Translations!B982)))))","v":{"$error":"#REF!"}},"Montenegro-Mobile","Monténégro-Mobile","Montenegro-Mobile","Montenegro-Mobilfunk","Montenegro-Móvil"]
[{"$f":"IF(#REF!=\"English\",Translations!B983,IF(#REF!=\"French\",Translations!C983,IF(#REF!=\"Italian\",Translations!D983,IF(#REF!=\"German\",Translations!E983,IF(#REF!=\"Spanish\",Translations!F983,Translations!B983)))))","v":{"$error":"#REF!"}},"Montserrat","Montserrat","Montserrat ","Montserrat","Montserrat"]
[{"$f":"IF(#REF!=\"English\",Translations!B984,IF(#REF!=\"French\",Translations!C984,IF(#REF!=\"Italian\",Translations!D984,IF(#REF!=\"German\",Translations!E984,IF(#REF!=\"Spanish\",Translations!F984,Translations!B984)))))","v":{"$error":"#REF!"}},"Morocco","Maroc","Marocco","Marokko","Marruecos"]
[{"$f":"IF(#REF!=\"English\",Translations!B985,IF(#REF!=\"French\",Translations!C985,IF(#REF!=\"Italian\",Translations!D985,IF(#REF!=\"German\",Translations!E985,IF(#REF!=\"Spanish\",Translations!F985,Translations!B985)))))","v":{"$error":"#REF!"}},"Morocco-Mobile-Globalstar","Maroc-Mobile-Globalstar","Marocco-Mobile-Globalstar","Marokko-Mobilfunk-Globalstar","Marruecos-Móvil-Globalstar"]
[{"$f":"IF(#REF!=\"English\",Translations!B986,IF(#REF!=\"French\",Translations!C986,IF(#REF!=\"Italian\",Translations!D986,IF(#REF!=\"German\",Translations!E986,IF(#REF!=\"Spanish\",Translations!F986,Translations!B986)))))","v":{"$error":"#REF!"}},"Morocco-Mobile-IAM","Maroc-Mobile-IAM","Marocco-Mobile-IAM","Marokko-Mobilfunk-IAM","Marruecos-Móvil-IAM"]
[{"$f":"IF(#REF!=\"English\",Translations!B987,IF(#REF!=\"French\",Translations!C987,IF(#REF!=\"Italian\",Translations!D987,IF(#REF!=\"German\",Translations!E987,IF(#REF!=\"Spanish\",Translations!F987,Translations!B987)))))","v":{"$error":"#REF!"}},"Morocco-Mobile-Meditel","Maroc-Mobile-Meditel","Marocco-Mobile-Meditel","Marokko-Mobilfunk-Meditel","Marruecos-Móvil-Meditel"]
[{"$f":"IF(#REF!=\"English\",Translations!B988,IF(#REF!=\"French\",Translations!C988,IF(#REF!=\"Italian\",Translations!D988,IF(#REF!=\"German\",Translations!E988,IF(#REF!=\"Spanish\",Translations!F988,Translations!B988)))))","v":{"$error":"#REF!"}},"Morocco-Mobile-Others","Maroc-Mobile-Autres","Marocco-Mobile-Altri","Marokko-Mobilfunk-Andere","Marruecos-Móvil-Otros"]
[{"$f":"IF(#REF!=\"English\",Translations!B989,IF(#REF!=\"French\",Translations!C989,IF(#REF!=\"Italian\",Translations!D989,IF(#REF!=\"German\",Translations!E989,IF(#REF!=\"Spanish\",Translations!F989,Translations!B989)))))","v":{"$error":"#REF!"}},"Morocco-Mobile-Wana","Maroc-Mobile-Wana","Marocco-Mobile-Wana","Marokko-Mobilfunk-Wana","Marruecos-Móvil-Wana"]
[{"$f":"IF(#REF!=\"English\",Translations!B990,IF(#REF!=\"French\",Translations!C990,IF(#REF!=\"Italian\",Translations!D990,IF(#REF!=\"German\",Translations!E990,IF(#REF!=\"Spanish\",Translations!F990,Translations!B990)))))","v":{"$error":"#REF!"}},"Morocco-OLO-Meditel","Maroc-OLO-Meditel","Marocco-OLO-Meditel","Marokko-OLO-Meditel","Marruecos-OLO-Meditel"]
[{"$f":"IF(#REF!=\"English\",Translations!B991,IF(#REF!=\"French\",Translations!C991,IF(#REF!=\"Italian\",Translations!D991,IF(#REF!=\"German\",Translations!E991,IF(#REF!=\"Spanish\",Translations!F991,Translations!B991)))))","v":{"$error":"#REF!"}},"Morocco-OLO-Wana","Maroc-OLO-Wana","Marocco-OLO-Wana","Marokko-OLO-Wana","Marruecos-OLO-Wana"]
[{"$f":"IF(#REF!=\"English\",Translations!B992,IF(#REF!=\"French\",Translations!C992,IF(#REF!=\"Italian\",Translations!D992,IF(#REF!=\"German\",Translations!E992,IF(#REF!=\"Spanish\",Translations!F992,Translations!B992)))))","v":{"$error":"#REF!"}},"Morocco-OLO-Wana-WLL","Maroc-OLO-Wana-WLL","Marocco-OLO-Wana-WLL","Marokko-OLO-Wana-WLL","Marruecos-OLO-Wana-WLL"]
[{"$f":"IF(#REF!=\"English\",Translations!B993,IF(#REF!=\"French\",Translations!C993,IF(#REF!=\"Italian\",Translations!D993,IF(#REF!=\"German\",Translations!E993,IF(#REF!=\"Spanish\",Translations!F993,Translations!B993)))))","v":{"$error":"#REF!"}},"Mozambique","Mozambique","Mozambico","Mosambik","Mozambique"]
[{"$f":"IF(#REF!=\"English\",Translations!B994,IF(#REF!=\"French\",Translations!C994,IF(#REF!=\"Italian\",Translations!D994,IF(#REF!=\"German\",Translations!E994,IF(#REF!=\"Spanish\",Translations!F994,Translations!B994)))))","v":{"$error":"#REF!"}},"Mozambique-Maputo","Mozambique-Maputo","Mozambico-Maputo","Mosambik-Maputo","Mozambique-Maputo"]
[{"$f":"IF(#REF!=\"English\",Translations!B995,IF(#REF!=\"French\",Translations!C995,IF(#REF!=\"Italian\",Translations!D995,IF(#REF!=\"German\",Translations!E995,IF(#REF!=\"Spanish\",Translations!F995,Translations!B995)))))","v":{"$error":"#REF!"}},"Mozambique-Mobile-Others","Mozambique-Mobile-Autres","Mozambico-Mobile-Altri","Mosambik-Mobilfunk-Andere","Mozambique-Móvil-Otros"]
[{"$f":"IF(#REF!=\"English\",Translations!B996,IF(#REF!=\"French\",Translations!C996,IF(#REF!=\"Italian\",Translations!D996,IF(#REF!=\"German\",Translations!E996,IF(#REF!=\"Spanish\",Translations!F996,Translations!B996)))))","v":{"$error":"#REF!"}},"Mozambique-Mobile-Vodacom","Mozambique-Mobile-Vodacom","Mozambico-Mobile-Vodacom","Mosambik-Mobilfunk-Vodacom","Mozambique-Móvil-Vodacom"]
[{"$f":"IF(#REF!=\"English\",Translations!B997,IF(#REF!=\"French\",Translations!C997,IF(#REF!=\"Italian\",Translations!D997,IF(#REF!=\"German\",Translations!E997,IF(#REF!=\"Spanish\",Translations!F997,Translations!B997)))))","v":{"$error":"#REF!"}},"Myanmar","Myanmar","Myanmar (Birmania)","Myanmar","Myanmar"]
[{"$f":"IF(#REF!=\"English\",Translations!B998,IF(#REF!=\"French\",Translations!C998,IF(#REF!=\"Italian\",Translations!D998,IF(#REF!=\"German\",Translations!E998,IF(#REF!=\"Spanish\",Translations!F998,Translations!B998)))))","v":{"$error":"#REF!"}},"Myanmar-Mobile","Myanmar-Mobile","Myanmar (Birmania)-Mobile","Myanmar-Mobilfunk","Myanmar-Móvil"]
[{"$f":"IF(#REF!=\"English\",Translations!B999,IF(#REF!=\"French\",Translations!C999,IF(#REF!=\"Italian\",Translations!D999,IF(#REF!=\"German\",Translations!E999,IF(#REF!=\"Spanish\",Translations!F999,Translations!B999)))))","v":{"$error":"#REF!"}},"Namibia","Namibie","Namibia","Namibia","Namibia"]
[{"$f":"IF(#REF!=\"English\",Translations!B1000,IF(#REF!=\"French\",Translations!C1000,IF(#REF!=\"Italian\",Translations!D1000,IF(#REF!=\"German\",Translations!E1000,IF(#REF!=\"Spanish\",Translations!F1000,Translations!B1000)))))","v":{"$error":"#REF!"}},"Namibia-Mobile","Namibie-Mobile","Namibia-Mobile","Namibia-Mobilfunk","Namibia-Móvil"]
[{"$f":"IF(#REF!=\"English\",Translations!B1001,IF(#REF!=\"French\",Translations!C1001,IF(#REF!=\"Italian\",Translations!D1001,IF(#REF!=\"German\",Translations!E1001,IF(#REF!=\"Spanish\",Translations!F1001,Translations!B1001)))))","v":{"$error":"#REF!"}},"Nauru","Nauru","Nauru","Nauru","Nauru"]
[{"$f":"IF(#REF!=\"English\",Translations!B1002,IF(#REF!=\"French\",Translations!C1002,IF(#REF!=\"Italian\",Translations!D1002,IF(#REF!=\"German\",Translations!E1002,IF(#REF!=\"Spanish\",Translations!F1002,Translations!B1002)))))","v":{"$error":"#REF!"}},"Nepal","Népal","Nepal","Nepal","Nepal"]
[{"$f":"IF(#REF!=\"English\",Translations!B1003,IF(#REF!=\"French\",Translations!C1003,IF(#REF!=\"Italian\",Translations!D1003,IF(#REF!=\"German\",Translations!E1003,IF(#REF!=\"Spanish\",Translations!F1003,Translations!B1003)))))","v":{"$error":"#REF!"}},"Nepal-Kathmandu","Népal-Kathmandu","Nepal-Kathmandu","Nepal-Kathmandu","Nepal-Kathmandu"]
[{"$f":"IF(#REF!=\"English\",Translations!B1004,IF(#REF!=\"French\",Translations!C1004,IF(#REF!=\"Italian\",Translations!D1004,IF(#REF!=\"German\",Translations!E1004,IF(#REF!=\"Spanish\",Translations!F1004,Translations!B1004)))))","v":{"$error":"#REF!"}},"Nepal-Mobile-NTC","Népal-Mobile-NTC","Nepal-Mobile-NTC","Nepal-Mobilfunk-NTC","Nepal-Móvil-NTC"]
[{"$f":"IF(#REF!=\"English\",Translations!B1005,IF(#REF!=\"French\",Translations!C1005,IF(#REF!=\"Italian\",Translations!D1005,IF(#REF!=\"German\",Translations!E1005,IF(#REF!=\"Spanish\",Translations!F1005,Translations!B1005)))))","v":{"$error":"#REF!"}},"Nepal-Mobile-Smart","Népal-Mobile-Smart","Nepal-Mobile-Smart","Nepal-Mobilfunk-Smart","Nepal-Móvil-Smart"]
[{"$f":"IF(#REF!=\"English\",Translations!B1006,IF(#REF!=\"French\",Translations!C1006,IF(#REF!=\"Italian\",Translations!D1006,IF(#REF!=\"German\",Translations!E1006,IF(#REF!=\"Spanish\",Translations!F1006,Translations!B1006)))))","v":{"$error":"#REF!"}},"Nepal-Mobile-Others","Népal-Mobile-Autres","Nepal-Mobile-Altri","Nepal-Mobilfunk-Andere","Nepal-Móvil-Otros"]
[{"$f":"IF(#REF!=\"English\",Translations!B1007,IF(#REF!=\"French\",Translations!C1007,IF(#REF!=\"Italian\",Translations!D1007,IF(#REF!=\"German\",Translations!E1007,IF(#REF!=\"Spanish\",Translations!F1007,Translations!B1007)))))","v":{"$error":"#REF!"}},"Netherlands","Pays-Bas","Paesi Bassi","Niederlande","Países Bajos"]
[{"$f":"IF(#REF!=\"English\",Translations!B1008,IF(#REF!=\"French\",Translations!C1008,IF(#REF!=\"Italian\",Translations!D1008,IF(#REF!=\"German\",Translations!E1008,IF(#REF!=\"Spanish\",Translations!F1008,Translations!B1008)))))","v":{"$error":"#REF!"}},"Netherlands Antilles","Antilles néerlandaises","Antille Olandesi","Niederländische Antillen","Antillas Neerlandesas"]
[{"$f":"IF(#REF!=\"English\",Translations!B1009,IF(#REF!=\"French\",Translations!C1009,IF(#REF!=\"Italian\",Translations!D1009,IF(#REF!=\"German\",Translations!E1009,IF(#REF!=\"Spanish\",Translations!F1009,Translations!B1009)))))","v":{"$error":"#REF!"}},"Netherlands-Freephone","Pays-Bas-Libre appel","Paesi Bassi-Freephone","Niederlande-Freephone","Países Bajos-Freephone"]
[{"$f":"IF(#REF!=\"English\",Translations!B1010,IF(#REF!=\"French\",Translations!C1010,IF(#REF!=\"Italian\",Translations!D1010,IF(#REF!=\"German\",Translations!E1010,IF(#REF!=\"Spanish\",Translations!F1010,Translations!B1010)))))","v":{"$error":"#REF!"}},"Netherlands-Mobile-KPN","PaysBas-Mobile-KPN","Paesi Bassi-Mobile-KPN","Niederlande-Mobilfunk-KPN","Países Bajos-Móvil-KPN"]
[{"$f":"IF(#REF!=\"English\",Translations!B1011,IF(#REF!=\"French\",Translations!C1011,IF(#REF!=\"Italian\",Translations!D1011,IF(#REF!=\"German\",Translations!E1011,IF(#REF!=\"Spanish\",Translations!F1011,Translations!B1011)))))","v":{"$error":"#REF!"}},"Netherlands-Mobile-Lycamobile","PaysBas-Mobile-Lycamobile","Paesi Bassi-Mobile-Lycamobile","Niederlande-Mobilfunk-Lycamobile","Países Bajos-Móvil-Lycamobile"]
[{"$f":"IF(#REF!=\"English\",Translations!B1012,IF(#REF!=\"French\",Translations!C1012,IF(#REF!=\"Italian\",Translations!D1012,IF(#REF!=\"German\",Translations!E1012,IF(#REF!=\"Spanish\",Translations!F1012,Translations!B1012)))))","v":{"$error":"#REF!"}},"Netherlands-Mobile-Others","PaysBas-Mobile-Autres","Paesi Bassi-Mobile-Altri","Niederlande-Mobilfunk-Andere","Países Bajos-Móvil-Otros"]
[{"$f":"IF(#REF!=\"English\",Translations!B1013,IF(#REF!=\"French\",Translations!C1013,IF(#REF!=\"Italian\",Translations!D1013,IF(#REF!=\"German\",Translations!E1013,IF(#REF!=\"Spanish\",Translations!F1013,Translations!B1013)))))","v":{"$error":"#REF!"}},"Netherlands-Mobile-Tele2","PaysBas-Mobile-Tele2","Paesi Bassi-Mobile-Tele2","Niederlande-Mobilfunk-Tele2","Países Bajos-Móvil-Tele2"]
[{"$f":"IF(#REF!=\"English\",Translations!B1014,IF(#REF!=\"French\",Translations!C1014,IF(#REF!=\"Italian\",Translations!D1014,IF(#REF!=\"German\",Translations!E1014,IF(#REF!=\"Spanish\",Translations!F1014,Translations!B1014)))))","v":{"$error":"#REF!"}},"Netherlands-Mobile-TMobile","PaysBas-Mobile-TMobile","Paesi Bassi-Mobile-TMobile","Niederlande-Mobilfunk-TMobile","Países Bajos-Móvil-TMobile"]
[{"$f":"IF(#REF!=\"English\",Translations!B1015,IF(#REF!=\"French\",Translations!C1015,IF(#REF!=\"Italian\",Translations!D1015,IF(#REF!=\"German\",Translations!E1015,IF(#REF!=\"Spanish\",Translations!F1015,Translations!B1015)))))","v":{"$error":"#REF!"}},"Netherlands-Mobile-Vodafone","PaysBas-Mobile-Vodafone","Paesi Bassi-Mobile-Vodafone","Niederlande-Mobilfunk-Vodafone","Países Bajos-Móvil-Vodafone"]
[{"$f":"IF(#REF!=\"English\",Translations!B1016,IF(#REF!=\"French\",Translations!C1016,IF(#REF!=\"Italian\",Translations!D1016,IF(#REF!=\"German\",Translations!E1016,IF(#REF!=\"Spanish\",Translations!F1016,Translations!B1016)))))","v":{"$error":"#REF!"}},"Netherlands-Business Numbers ","Pays-Bas-Business Numbers ","Paesi Bassi-Business Numbers ","Niederlande-Business Numbers ","Países Bajos-Business Numbers "]
[{"$f":"IF(#REF!=\"English\",Translations!B1017,IF(#REF!=\"French\",Translations!C1017,IF(#REF!=\"Italian\",Translations!D1017,IF(#REF!=\"German\",Translations!E1017,IF(#REF!=\"Spanish\",Translations!F1017,Translations!B1017)))))","v":{"$error":"#REF!"}},"Netherlands-VoIP Numbers ","Pays-Bas-VoIP Numbers ","Paesi Bassi-VoIP Numbers ","Niederlande-VoIP Numbers ","Países Bajos-VoIP Numbers "]
[{"$f":"IF(#REF!=\"English\",Translations!B1018,IF(#REF!=\"French\",Translations!C1018,IF(#REF!=\"Italian\",Translations!D1018,IF(#REF!=\"German\",Translations!E1018,IF(#REF!=\"Spanish\",Translations!F1018,Translations!B1018)))))","v":{"$error":"#REF!"}},"New Caledonia","Nouvelle Calédonie","Nuova Caledonia","Neukaledonien","Nueva Caledonia"]
[{"$f":"IF(#REF!=\"English\",Translations!B1019,IF(#REF!=\"French\",Translations!C1019,IF(#REF!=\"Italian\",Translations!D1019,IF(#REF!=\"German\",Translations!E1019,IF(#REF!=\"Spanish\",Translations!F1019,Translations!B1019)))))","v":{"$error":"#REF!"}},"New Caledonia-Mobile","Nouvelle Calédonie-Mobile","Nuova Caledonia-Mobile","Neukaledonien-Mobilfunk","Nueva Caledonia-Móvil"]
[{"$f":"IF(#REF!=\"English\",Translations!B1020,IF(#REF!=\"French\",Translations!C1020,IF(#REF!=\"Italian\",Translations!D1020,IF(#REF!=\"German\",Translations!E1020,IF(#REF!=\"Spanish\",Translations!F1020,Translations!B1020)))))","v":{"$error":"#REF!"}},"New Zealand","Nouvelle Zélande","Nuova Zelanda","Neuseeland","Nueva Zelanda"]
[{"$f":"IF(#REF!=\"English\",Translations!B1021,IF(#REF!=\"French\",Translations!C1021,IF(#REF!=\"Italian\",Translations!D1021,IF(#REF!=\"German\",Translations!E1021,IF(#REF!=\"Spanish\",Translations!F1021,Translations!B1021)))))","v":{"$error":"#REF!"}},"New Zealand-Auckland","Nouvelle Zélande-Auckland","Nuova Zelanda-Auckland","Neuseeland-Auckland","Nueva Zelanda-Auckland"]
[{"$f":"IF(#REF!=\"English\",Translations!B1022,IF(#REF!=\"French\",Translations!C1022,IF(#REF!=\"Italian\",Translations!D1022,IF(#REF!=\"German\",Translations!E1022,IF(#REF!=\"Spanish\",Translations!F1022,Translations!B1022)))))","v":{"$error":"#REF!"}},"New Zealand-Mobile","Nouvelle Zélande-Mobile","Nuova Zelanda-Mobile","Neuseeland-Mobilfunk","Nueva Zelanda-Móvil"]
[{"$f":"IF(#REF!=\"English\",Translations!B1023,IF(#REF!=\"French\",Translations!C1023,IF(#REF!=\"Italian\",Translations!D1023,IF(#REF!=\"German\",Translations!E1023,IF(#REF!=\"Spanish\",Translations!F1023,Translations!B1023)))))","v":{"$error":"#REF!"}},"New Zealand-Wellington","Nouvelle Zélande-Wellington","Nuova Zelanda-Wellington","Neuseeland-Wellington","Nueva Zelanda-Wellington"]
[{"$f":"IF(#REF!=\"English\",Translations!B1024,IF(#REF!=\"French\",Translations!C1024,IF(#REF!=\"Italian\",Translations!D1024,IF(#REF!=\"German\",Translations!E1024,IF(#REF!=\"Spanish\",Translations!F1024,Translations!B1024)))))","v":{"$error":"#REF!"}},"Nicaragua","Nicaragua","Nicaragua","Nicaragua","Nicaragua"]
[{"$f":"IF(#REF!=\"English\",Translations!B1025,IF(#REF!=\"French\",Translations!C1025,IF(#REF!=\"Italian\",Translations!D1025,IF(#REF!=\"German\",Translations!E1025,IF(#REF!=\"Spanish\",Translations!F1025,Translations!B1025)))))","v":{"$error":"#REF!"}},"Nicaragua-Mobile-Bellsouth","Nicaragua-Mobile-Bellsouth","Nicaragua-Mobile-Bellsouth","Nicaragua-Mobilfunk-Bellsouth","Nicaragua-Móvil-Bellsouth"]
[{"$f":"IF(#REF!=\"English\",Translations!B1026,IF(#REF!=\"French\",Translations!C1026,IF(#REF!=\"Italian\",Translations!D1026,IF(#REF!=\"German\",Translations!E1026,IF(#REF!=\"Spanish\",Translations!F1026,Translations!B1026)))))","v":{"$error":"#REF!"}},"Nicaragua-Mobile-Others","Nicaragua-Mobile-Autres","Nicaragua-Mobile-Altri","Nicaragua-Mobilfunk-Andere","Nicaragua-Móvil-Otros"]
[{"$f":"IF(#REF!=\"English\",Translations!B1027,IF(#REF!=\"French\",Translations!C1027,IF(#REF!=\"Italian\",Translations!D1027,IF(#REF!=\"German\",Translations!E1027,IF(#REF!=\"Spanish\",Translations!F1027,Translations!B1027)))))","v":{"$error":"#REF!"}},"Niger","Niger","Niger","Niger","Niger"]
[{"$f":"IF(#REF!=\"English\",Translations!B1028,IF(#REF!=\"French\",Translations!C1028,IF(#REF!=\"Italian\",Translations!D1028,IF(#REF!=\"German\",Translations!E1028,IF(#REF!=\"Spanish\",Translations!F1028,Translations!B1028)))))","v":{"$error":"#REF!"}},"Niger-Mobile-Celtel","Niger-Mobile-Celtel","Nigeria-Mobile-Mobile-Celtel","Niger-Mobilfunk-Celtel","Niger-Móvil-Celtel"]
[{"$f":"IF(#REF!=\"English\",Translations!B1029,IF(#REF!=\"French\",Translations!C1029,IF(#REF!=\"Italian\",Translations!D1029,IF(#REF!=\"German\",Translations!E1029,IF(#REF!=\"Spanish\",Translations!F1029,Translations!B1029)))))","v":{"$error":"#REF!"}},"Niger-Mobile-Others","Niger-Mobile-Autres","Nigeria-Mobile-Mobile-Altri","Niger-Mobilfunk-Andere","Niger-Móvil-Otros"]
[{"$f":"IF(#REF!=\"English\",Translations!B1030,IF(#REF!=\"French\",Translations!C1030,IF(#REF!=\"Italian\",Translations!D1030,IF(#REF!=\"German\",Translations!E1030,IF(#REF!=\"Spanish\",Translations!F1030,Translations!B1030)))))","v":{"$error":"#REF!"}},"Nigeria","Nigéria","Nigeria","Nigeria","Nigeria"]
[{"$f":"IF(#REF!=\"English\",Translations!B1031,IF(#REF!=\"French\",Translations!C1031,IF(#REF!=\"Italian\",Translations!D1031,IF(#REF!=\"German\",Translations!E1031,IF(#REF!=\"Spanish\",Translations!F1031,Translations!B1031)))))","v":{"$error":"#REF!"}},"Nigeria-Lagos","Nigéria-Lagos","Nigeria-Lagos","Nigeria-Lagos","Nigeria-Lagos"]
[{"$f":"IF(#REF!=\"English\",Translations!B1032,IF(#REF!=\"French\",Translations!C1032,IF(#REF!=\"Italian\",Translations!D1032,IF(#REF!=\"German\",Translations!E1032,IF(#REF!=\"Spanish\",Translations!F1032,Translations!B1032)))))","v":{"$error":"#REF!"}},"Nigeria-Mobile-Etisalat","Nigéria-Mobile-Etisalat","Nigeria-Mobile-Etisalat","Nigeria-Mobilfunk-Etisalat","Nigeria-Móvil-Etisalat"]
[{"$f":"IF(#REF!=\"English\",Translations!B1033,IF(#REF!=\"French\",Translations!C1033,IF(#REF!=\"Italian\",Translations!D1033,IF(#REF!=\"German\",Translations!E1033,IF(#REF!=\"Spanish\",Translations!F1033,Translations!B1033)))))","v":{"$error":"#REF!"}},"Nigeria-Mobile-Globacom","Nigéria-Mobile-Globacom","Nigeria-Mobile-Globacom","Nigeria-Mobilfunk-Globacom","Nigeria-Móvil-Globacom"]
[{"$f":"IF(#REF!=\"English\",Translations!B1034,IF(#REF!=\"French\",Translations!C1034,IF(#REF!=\"Italian\",Translations!D1034,IF(#REF!=\"German\",Translations!E1034,IF(#REF!=\"Spanish\",Translations!F1034,Translations!B1034)))))","v":{"$error":"#REF!"}},"Nigeria-Mobile-Mtel","Nigéria-Mobile-Mtel","Nigeria-Mobile-Mtel","Nigeria-Mobilfunk-Mtel","Nigeria-Móvil-Mtel"]
[{"$f":"IF(#REF!=\"English\",Translations!B1035,IF(#REF!=\"French\",Translations!C1035,IF(#REF!=\"Italian\",Translations!D1035,IF(#REF!=\"German\",Translations!E1035,IF(#REF!=\"Spanish\",Translations!F1035,Translations!B1035)))))","v":{"$error":"#REF!"}},"Nigeria-Mobile-MTN","Nigéria-Mobile-MTN","Nigeria-Mobile-MTN","Nigeria-Mobilfunk-MTN","Nigeria-Móvil-MTN"]
[{"$f":"IF(#REF!=\"English\",Translations!B1036,IF(#REF!=\"French\",Translations!C1036,IF(#REF!=\"Italian\",Translations!D1036,IF(#REF!=\"German\",Translations!E1036,IF(#REF!=\"Spanish\",Translations!F1036,Translations!B1036)))))","v":{"$error":"#REF!"}},"Nigeria-Mobile-Others","Nigéria-Mobile-Autres","Nigeria-Mobile-Altri","Nigeria-Mobilfunk-Andere","Nigeria-Móvil-Otros"]
[{"$f":"IF(#REF!=\"English\",Translations!B1037,IF(#REF!=\"French\",Translations!C1037,IF(#REF!=\"Italian\",Translations!D1037,IF(#REF!=\"German\",Translations!E1037,IF(#REF!=\"Spanish\",Translations!F1037,Translations!B1037)))))","v":{"$error":"#REF!"}},"Nigeria-Mobile-Zain","Nigéria-Mobile-Zain","Nigeria-Mobile-Zain","Nigeria-Mobilfunk-Zain","Nigeria-Móvil-Zain"]
[{"$f":"IF(#REF!=\"English\",Translations!B1038,IF(#REF!=\"French\",Translations!C1038,IF(#REF!=\"Italian\",Translations!D1038,IF(#REF!=\"German\",Translations!E1038,IF(#REF!=\"Spanish\",Translations!F1038,Translations!B1038)))))","v":{"$error":"#REF!"}},"Niue Islands","Niue","Niue","Niue","Niue"]
[{"$f":"IF(#REF!=\"English\",Translations!B1039,IF(#REF!=\"French\",Translations!C1039,IF(#REF!=\"Italian\",Translations!D1039,IF(#REF!=\"German\",Translations!E1039,IF(#REF!=\"Spanish\",Translations!F1039,Translations!B1039)))))","v":{"$error":"#REF!"}},"Northern Mariana","Îles Mariannes du Nord","Isole Marianne  ","Nördliche Marianen","Islas Mariana del Norte"]
[{"$f":"IF(#REF!=\"English\",Translations!B1040,IF(#REF!=\"French\",Translations!C1040,IF(#REF!=\"Italian\",Translations!D1040,IF(#REF!=\"German\",Translations!E1040,IF(#REF!=\"Spanish\",Translations!F1040,Translations!B1040)))))","v":{"$error":"#REF!"}},"Norway","Norvège","Norvegia","Norwegen","Noruega"]
[{"$f":"IF(#REF!=\"English\",Translations!B1041,IF(#REF!=\"French\",Translations!C1041,IF(#REF!=\"Italian\",Translations!D1041,IF(#REF!=\"German\",Translations!E1041,IF(#REF!=\"Spanish\",Translations!F1041,Translations!B1041)))))","v":{"$error":"#REF!"}},"Norway-Special Service","Norvège-Special Service","Norvegia-Special Service","Norwegen-Special Service","Noruega-Special Service"]
[{"$f":"IF(#REF!=\"English\",Translations!B1042,IF(#REF!=\"French\",Translations!C1042,IF(#REF!=\"Italian\",Translations!D1042,IF(#REF!=\"German\",Translations!E1042,IF(#REF!=\"Spanish\",Translations!F1042,Translations!B1042)))))","v":{"$error":"#REF!"}},"Norway-Mobile-Netcom","Norvège-Mobile-Netcom","Norvegia-Mobile-Netcom","Norwegen-Mobilfunk-Netcom","Noruega-Móvil-Netcom"]
[{"$f":"IF(#REF!=\"English\",Translations!B1043,IF(#REF!=\"French\",Translations!C1043,IF(#REF!=\"Italian\",Translations!D1043,IF(#REF!=\"German\",Translations!E1043,IF(#REF!=\"Spanish\",Translations!F1043,Translations!B1043)))))","v":{"$error":"#REF!"}},"Norway-Mobile-Others","Norvège-Mobile-Autres","Norvegia-Mobile-Altri","Norwegen-Mobilfunk-Andere","Noruega-Móvil-Otros"]
[{"$f":"IF(#REF!=\"English\",Translations!B1044,IF(#REF!=\"French\",Translations!C1044,IF(#REF!=\"Italian\",Translations!D1044,IF(#REF!=\"German\",Translations!E1044,IF(#REF!=\"Spanish\",Translations!F1044,Translations!B1044)))))","v":{"$error":"#REF!"}},"Norway-Mobile-Tele2","Norvège-Mobile-Tele2","Norvegia-Mobile-Tele2","Norwegen-Mobilfunk-Tele2","Noruega-Móvil-Tele2"]
[{"$f":"IF(#REF!=\"English\",Translations!B1045,IF(#REF!=\"French\",Translations!C1045,IF(#REF!=\"Italian\",Translations!D1045,IF(#REF!=\"German\",Translations!E1045,IF(#REF!=\"Spanish\",Translations!F1045,Translations!B1045)))))","v":{"$error":"#REF!"}},"Norway-Mobile-Telenor","Norvège-Mobile-Telenor","Norvegia-Mobile-Telenor","Norwegen-Mobilfunk-Telenor","Noruega-Móvil-Telenor"]
[{"$f":"IF(#REF!=\"English\",Translations!B1046,IF(#REF!=\"French\",Translations!C1046,IF(#REF!=\"Italian\",Translations!D1046,IF(#REF!=\"German\",Translations!E1046,IF(#REF!=\"Spanish\",Translations!F1046,Translations!B1046)))))","v":{"$error":"#REF!"}},"Norway-Oslo","Norvège-Oslo","Norvegia-Oslo","Norwegen-Oslo","Noruega-Oslo"]
[{"$f":"IF(#REF!=\"English\",Translations!B1047,IF(#REF!=\"French\",Translations!C1047,IF(#REF!=\"Italian\",Translations!D1047,IF(#REF!=\"German\",Translations!E1047,IF(#REF!=\"Spanish\",Translations!F1047,Translations!B1047)))))","v":{"$error":"#REF!"}},"Oman","Oman","Oman","Oman","Omán"]
[{"$f":"IF(#REF!=\"English\",Translations!B1048,IF(#REF!=\"French\",Translations!C1048,IF(#REF!=\"Italian\",Translations!D1048,IF(#REF!=\"German\",Translations!E1048,IF(#REF!=\"Spanish\",Translations!F1048,Translations!B1048)))))","v":{"$error":"#REF!"}},"Oman-OLO","Oman-OLO","Oman-OLO","Oman-OLO","Omán-OLO"]
[{"$f":"IF(#REF!=\"English\",Translations!B1049,IF(#REF!=\"French\",Translations!C1049,IF(#REF!=\"Italian\",Translations!D1049,IF(#REF!=\"German\",Translations!E1049,IF(#REF!=\"Spanish\",Translations!F1049,Translations!B1049)))))","v":{"$error":"#REF!"}},"Oman-Mobile","Oman-Mobile","Oman-Mobile","Oman-Mobilfunk","Omán-Móvil"]
[{"$f":"IF(#REF!=\"English\",Translations!B1050,IF(#REF!=\"French\",Translations!C1050,IF(#REF!=\"Italian\",Translations!D1050,IF(#REF!=\"German\",Translations!E1050,IF(#REF!=\"Spanish\",Translations!F1050,Translations!B1050)))))","v":{"$error":"#REF!"}},"Pakistan","Pakistan","Pakistan","Pakistan","Pakistán"]
[{"$f":"IF(#REF!=\"English\",Translations!B1051,IF(#REF!=\"French\",Translations!C1051,IF(#REF!=\"Italian\",Translations!D1051,IF(#REF!=\"German\",Translations!E1051,IF(#REF!=\"Spanish\",Translations!F1051,Translations!B1051)))))","v":{"$error":"#REF!"}},"Pakistan-Islamabad","Pakistan-Islamabad","Pakistan-Islamabad","Pakistan-Islamabad","Pakistán-Islamabad"]
[{"$f":"IF(#REF!=\"English\",Translations!B1052,IF(#REF!=\"French\",Translations!C1052,IF(#REF!=\"Italian\",Translations!D1052,IF(#REF!=\"German\",Translations!E1052,IF(#REF!=\"Spanish\",Translations!F1052,Translations!B1052)))))","v":{"$error":"#REF!"}},"Pakistan-Karachi","Pakistan-Karachi","Pakistan-Karachi","Pakistan-Karachi","Pakistán-Karachi"]
[{"$f":"IF(#REF!=\"English\",Translations!B1053,IF(#REF!=\"French\",Translations!C1053,IF(#REF!=\"Italian\",Translations!D1053,IF(#REF!=\"German\",Translations!E1053,IF(#REF!=\"Spanish\",Translations!F1053,Translations!B1053)))))","v":{"$error":"#REF!"}},"Pakistan-Lahore","Pakistan-Lahore","Pakistan-Lahore","Pakistan-Lahore","Pakistán-Lahore"]
[{"$f":"IF(#REF!=\"English\",Translations!B1054,IF(#REF!=\"French\",Translations!C1054,IF(#REF!=\"Italian\",Translations!D1054,IF(#REF!=\"German\",Translations!E1054,IF(#REF!=\"Spanish\",Translations!F1054,Translations!B1054)))))","v":{"$error":"#REF!"}},"Pakistan-Mobile-Mobilink","Pakistan-Mobile-Mobilink","Pakistan-Mobile-Mobilink","Pakistan-Mobilfunk-Mobilink","Pakistán-Móvil-Mobilink"]
[{"$f":"IF(#REF!=\"English\",Translations!B1055,IF(#REF!=\"French\",Translations!C1055,IF(#REF!=\"Italian\",Translations!D1055,IF(#REF!=\"German\",Translations!E1055,IF(#REF!=\"Spanish\",Translations!F1055,Translations!B1055)))))","v":{"$error":"#REF!"}},"Pakistan-Mobile-Paktel","Pakistan-Mobile-Paktel","Pakistan-Mobile-Paktel","Pakistan-Mobilfunk-Paktel","Pakistán-Móvil-Paktel"]
[{"$f":"IF(#REF!=\"English\",Translations!B1056,IF(#REF!=\"French\",Translations!C1056,IF(#REF!=\"Italian\",Translations!D1056,IF(#REF!=\"German\",Translations!E1056,IF(#REF!=\"Spanish\",Translations!F1056,Translations!B1056)))))","v":{"$error":"#REF!"}},"Pakistan-Mobile-Telenor","Pakistan-Mobile-Telenor","Pakistan-Mobile-Telenor","Pakistan-Mobilfunk-Telenor","Pakistán-Móvil-Telenor"]
[{"$f":"IF(#REF!=\"English\",Translations!B1057,IF(#REF!=\"French\",Translations!C1057,IF(#REF!=\"Italian\",Translations!D1057,IF(#REF!=\"German\",Translations!E1057,IF(#REF!=\"Spanish\",Translations!F1057,Translations!B1057)))))","v":{"$error":"#REF!"}},"Pakistan-Mobile-Uphone","Pakistan-Mobile-Uphone","Pakistan-Mobile-Uphone","Pakistan-Mobilfunk-Uphone","Pakistán-Móvil-Uphone"]
[{"$f":"IF(#REF!=\"English\",Translations!B1058,IF(#REF!=\"French\",Translations!C1058,IF(#REF!=\"Italian\",Translations!D1058,IF(#REF!=\"German\",Translations!E1058,IF(#REF!=\"Spanish\",Translations!F1058,Translations!B1058)))))","v":{"$error":"#REF!"}},"Pakistan-Mobile-Warid","Pakistan-Mobile-Warid","Pakistan-Mobile-Warid","Pakistan-Mobilfunk-Warid","Pakistán-Móvil-Warid"]
[{"$f":"IF(#REF!=\"English\",Translations!B1059,IF(#REF!=\"French\",Translations!C1059,IF(#REF!=\"Italian\",Translations!D1059,IF(#REF!=\"German\",Translations!E1059,IF(#REF!=\"Spanish\",Translations!F1059,Translations!B1059)))))","v":{"$error":"#REF!"}},"Pakistan-Mobile-Others","Pakistan-Mobile-Autres","Pakistan-Mobile-Altri","Pakistan-Mobilfunk-Andere","Pakistán-Móvil-Otros"]
[{"$f":"IF(#REF!=\"English\",Translations!B1060,IF(#REF!=\"French\",Translations!C1060,IF(#REF!=\"Italian\",Translations!D1060,IF(#REF!=\"German\",Translations!E1060,IF(#REF!=\"Spanish\",Translations!F1060,Translations!B1060)))))","v":{"$error":"#REF!"}},"Palau","Palau","Palau","Palau","Palau"]
[{"$f":"IF(#REF!=\"English\",Translations!B1061,IF(#REF!=\"French\",Translations!C1061,IF(#REF!=\"Italian\",Translations!D1061,IF(#REF!=\"German\",Translations!E1061,IF(#REF!=\"Spanish\",Translations!F1061,Translations!B1061)))))","v":{"$error":"#REF!"}},"Palestine","Palestine","Palestina","Palestina","Palestina"]
[{"$f":"IF(#REF!=\"English\",Translations!B1062,IF(#REF!=\"French\",Translations!C1062,IF(#REF!=\"Italian\",Translations!D1062,IF(#REF!=\"German\",Translations!E1062,IF(#REF!=\"Spanish\",Translations!F1062,Translations!B1062)))))","v":{"$error":"#REF!"}},"Palestine-Jerusalem","Palestine-Jerusalem","Palestina-Jerusalem","Palestina-Jerusalem","Palestina-Jerusalem"]
[{"$f":"IF(#REF!=\"English\",Translations!B1063,IF(#REF!=\"French\",Translations!C1063,IF(#REF!=\"Italian\",Translations!D1063,IF(#REF!=\"German\",Translations!E1063,IF(#REF!=\"Spanish\",Translations!F1063,Translations!B1063)))))","v":{"$error":"#REF!"}},"Palestine-Mobile","Palestine-Mobile","Palestina-Mobile","Palestina-Mobilfunk","Palestina-Móvil"]
[{"$f":"IF(#REF!=\"English\",Translations!B1064,IF(#REF!=\"French\",Translations!C1064,IF(#REF!=\"Italian\",Translations!D1064,IF(#REF!=\"German\",Translations!E1064,IF(#REF!=\"Spanish\",Translations!F1064,Translations!B1064)))))","v":{"$error":"#REF!"}},"Panama","Panama","Panamá","Panama","Panamá"]
[{"$f":"IF(#REF!=\"English\",Translations!B1065,IF(#REF!=\"French\",Translations!C1065,IF(#REF!=\"Italian\",Translations!D1065,IF(#REF!=\"German\",Translations!E1065,IF(#REF!=\"Spanish\",Translations!F1065,Translations!B1065)))))","v":{"$error":"#REF!"}},"Panama-Mobile","Panama-Mobile","Panamá-Mobile","Panama-Mobilfunk","Panamá-Móvil"]
[{"$f":"IF(#REF!=\"English\",Translations!B1066,IF(#REF!=\"French\",Translations!C1066,IF(#REF!=\"Italian\",Translations!D1066,IF(#REF!=\"German\",Translations!E1066,IF(#REF!=\"Spanish\",Translations!F1066,Translations!B1066)))))","v":{"$error":"#REF!"}},"Papua New Guinea","Papouasie-Nouvelle-Guinée","Papua-Nuova Guinea","Papua Neuguinea","Papua Nueva Guinea"]
[{"$f":"IF(#REF!=\"English\",Translations!B1067,IF(#REF!=\"French\",Translations!C1067,IF(#REF!=\"Italian\",Translations!D1067,IF(#REF!=\"German\",Translations!E1067,IF(#REF!=\"Spanish\",Translations!F1067,Translations!B1067)))))","v":{"$error":"#REF!"}},"Paraguay","Paraguay","Paraguay","Paraguay","Paraguay"]
[{"$f":"IF(#REF!=\"English\",Translations!B1068,IF(#REF!=\"French\",Translations!C1068,IF(#REF!=\"Italian\",Translations!D1068,IF(#REF!=\"German\",Translations!E1068,IF(#REF!=\"Spanish\",Translations!F1068,Translations!B1068)))))","v":{"$error":"#REF!"}},"Paraguay-Asuncion","Paraguay-Asuncion","Paraguay-Asuncion","Paraguay-Asuncion","Paraguay-Asuncion"]
[{"$f":"IF(#REF!=\"English\",Translations!B1069,IF(#REF!=\"French\",Translations!C1069,IF(#REF!=\"Italian\",Translations!D1069,IF(#REF!=\"German\",Translations!E1069,IF(#REF!=\"Spanish\",Translations!F1069,Translations!B1069)))))","v":{"$error":"#REF!"}},"Paraguay-Mobile-Personal","Paraguay-Mobile-Personal","Paraguay-Mobile-Personal","Paraguay-Mobilfunk-Personal","Paraguay-Móvil-Personal"]
[{"$f":"IF(#REF!=\"English\",Translations!B1070,IF(#REF!=\"French\",Translations!C1070,IF(#REF!=\"Italian\",Translations!D1070,IF(#REF!=\"German\",Translations!E1070,IF(#REF!=\"Spanish\",Translations!F1070,Translations!B1070)))))","v":{"$error":"#REF!"}},"Paraguay-Mobile-Tigo","Paraguay-Mobile-Tigo","Paraguay-Mobile-Tigo","Paraguay-Mobilfunk-Tigo","Paraguay-Móvil-Tigo"]
[{"$f":"IF(#REF!=\"English\",Translations!B1071,IF(#REF!=\"French\",Translations!C1071,IF(#REF!=\"Italian\",Translations!D1071,IF(#REF!=\"German\",Translations!E1071,IF(#REF!=\"Spanish\",Translations!F1071,Translations!B1071)))))","v":{"$error":"#REF!"}},"Paraguay-Mobile-VOX","Paraguay-Mobile-VOX","Paraguay-Mobile-VOX","Paraguay-Mobilfunk-VOX","Paraguay-Móvil-VOX"]
[{"$f":"IF(#REF!=\"English\",Translations!B1072,IF(#REF!=\"French\",Translations!C1072,IF(#REF!=\"Italian\",Translations!D1072,IF(#REF!=\"German\",Translations!E1072,IF(#REF!=\"Spanish\",Translations!F1072,Translations!B1072)))))","v":{"$error":"#REF!"}},"Paraguay-Mobile-Others","Paraguay-Mobile-Autres","Paraguay-Mobile-Altri","Paraguay-Mobilfunk-Andere","Paraguay-Móvil-Otros"]
[{"$f":"IF(#REF!=\"English\",Translations!B1073,IF(#REF!=\"French\",Translations!C1073,IF(#REF!=\"Italian\",Translations!D1073,IF(#REF!=\"German\",Translations!E1073,IF(#REF!=\"Spanish\",Translations!F1073,Translations!B1073)))))","v":{"$error":"#REF!"}},"Peru","Pérou","Perù","Peru","Perú"]
[{"$f":"IF(#REF!=\"English\",Translations!B1074,IF(#REF!=\"French\",Translations!C1074,IF(#REF!=\"Italian\",Translations!D1074,IF(#REF!=\"German\",Translations!E1074,IF(#REF!=\"Spanish\",Translations!F1074,Translations!B1074)))))","v":{"$error":"#REF!"}},"Peru-Lima","Pérou-Lima","Perù-Lima","Peru-Lima","Perú-Lima"]
[{"$f":"IF(#REF!=\"English\",Translations!B1075,IF(#REF!=\"French\",Translations!C1075,IF(#REF!=\"Italian\",Translations!D1075,IF(#REF!=\"German\",Translations!E1075,IF(#REF!=\"Spanish\",Translations!F1075,Translations!B1075)))))","v":{"$error":"#REF!"}},"Peru-Mobile-Claro","Pérou-Mobile-Claro","Perù-Mobile-Claro","Peru-Mobilfunk-Claro","Perú-Móvil-Claro"]
[{"$f":"IF(#REF!=\"English\",Translations!B1076,IF(#REF!=\"French\",Translations!C1076,IF(#REF!=\"Italian\",Translations!D1076,IF(#REF!=\"German\",Translations!E1076,IF(#REF!=\"Spanish\",Translations!F1076,Translations!B1076)))))","v":{"$error":"#REF!"}},"Peru-Mobile-Movistar","Pérou-Mobile-Movistar","Perù-Mobile-Movistar","Peru-Mobilfunk-Movistar","Perú-Móvil-Movistar"]
[{"$f":"IF(#REF!=\"English\",Translations!B1077,IF(#REF!=\"French\",Translations!C1077,IF(#REF!=\"Italian\",Translations!D1077,IF(#REF!=\"German\",Translations!E1077,IF(#REF!=\"Spanish\",Translations!F1077,Translations!B1077)))))","v":{"$error":"#REF!"}},"Peru-Mobile-Others","Pérou-Mobile-Others","Perù-Mobile-Others","Peru-Mobilfunk-Others","Perú-Móvil-Others"]
[{"$f":"IF(#REF!=\"English\",Translations!B1078,IF(#REF!=\"French\",Translations!C1078,IF(#REF!=\"Italian\",Translations!D1078,IF(#REF!=\"German\",Translations!E1078,IF(#REF!=\"Spanish\",Translations!F1078,Translations!B1078)))))","v":{"$error":"#REF!"}},"Peru-Mobile-Lima","Pérou-Mobile-Lima","Perù-Mobile-Lima","Peru-Mobilfunk-Lima","Perú-Móvil-Lima"]
[{"$f":"IF(#REF!=\"English\",Translations!B1079,IF(#REF!=\"French\",Translations!C1079,IF(#REF!=\"Italian\",Translations!D1079,IF(#REF!=\"German\",Translations!E1079,IF(#REF!=\"Spanish\",Translations!F1079,Translations!B1079)))))","v":{"$error":"#REF!"}},"Peru-Rural","Pérou-Rural","Perù-Rural","Peru-Rural","Perú-Rural"]
[{"$f":"IF(#REF!=\"English\",Translations!B1080,IF(#REF!=\"French\",Translations!C1080,IF(#REF!=\"Italian\",Translations!D1080,IF(#REF!=\"German\",Translations!E1080,IF(#REF!=\"Spanish\",Translations!F1080,Translations!B1080)))))","v":{"$error":"#REF!"}},"Philippines","Philippines","Filippine","Philippinen","Filipinas"]
[{"$f":"IF(#REF!=\"English\",Translations!B1081,IF(#REF!=\"French\",Translations!C1081,IF(#REF!=\"Italian\",Translations!D1081,IF(#REF!=\"German\",Translations!E1081,IF(#REF!=\"Spanish\",Translations!F1081,Translations!B1081)))))","v":{"$error":"#REF!"}},"Philippines-Cebu","Philippines-Cebu","Filippine-Cebu","Philippinen-Cebu","Filipinas-Cebu"]
[{"$f":"IF(#REF!=\"English\",Translations!B1082,IF(#REF!=\"French\",Translations!C1082,IF(#REF!=\"Italian\",Translations!D1082,IF(#REF!=\"German\",Translations!E1082,IF(#REF!=\"Spanish\",Translations!F1082,Translations!B1082)))))","v":{"$error":"#REF!"}},"Philippines-Manila","Philippines-Manila","Filippine-Manila","Philippinen-Manila","Filipinas-Manila"]
[{"$f":"IF(#REF!=\"English\",Translations!B1083,IF(#REF!=\"French\",Translations!C1083,IF(#REF!=\"Italian\",Translations!D1083,IF(#REF!=\"German\",Translations!E1083,IF(#REF!=\"Spanish\",Translations!F1083,Translations!B1083)))))","v":{"$error":"#REF!"}},"Philippines-Mobile-Globe","Philippines-Mobile-Globe","Filippine-Mobile-Globe","Philippinen-Mobilfunk-Globe","Filipinas-Móvil-Globe"]
[{"$f":"IF(#REF!=\"English\",Translations!B1084,IF(#REF!=\"French\",Translations!C1084,IF(#REF!=\"Italian\",Translations!D1084,IF(#REF!=\"German\",Translations!E1084,IF(#REF!=\"Spanish\",Translations!F1084,Translations!B1084)))))","v":{"$error":"#REF!"}},"Philippines-Mobile-Others","Philippines-Mobile-Autres","Filippine-Mobile-Altri","Philippinen-Mobilfunk-Andere","Filipinas-Móvil-Otros"]
[{"$f":"IF(#REF!=\"English\",Translations!B1085,IF(#REF!=\"French\",Translations!C1085,IF(#REF!=\"Italian\",Translations!D1085,IF(#REF!=\"German\",Translations!E1085,IF(#REF!=\"Spanish\",Translations!F1085,Translations!B1085)))))","v":{"$error":"#REF!"}},"Philippines-Mobile-Smart","Philippines-Mobile-Smart","Filippine-Mobile-Smart","Philippinen-Mobilfunk-Smart","Filipinas-Móvil-Smart"]
[{"$f":"IF(#REF!=\"English\",Translations!B1086,IF(#REF!=\"French\",Translations!C1086,IF(#REF!=\"Italian\",Translations!D1086,IF(#REF!=\"German\",Translations!E1086,IF(#REF!=\"Spanish\",Translations!F1086,Translations!B1086)))))","v":{"$error":"#REF!"}},"Poland","Pologne","Polonia","Polen","Polonia"]
[{"$f":"IF(#REF!=\"English\",Translations!B1087,IF(#REF!=\"French\",Translations!C1087,IF(#REF!=\"Italian\",Translations!D1087,IF(#REF!=\"German\",Translations!E1087,IF(#REF!=\"Spanish\",Translations!F1087,Translations!B1087)))))","v":{"$error":"#REF!"}},"Poland-Gdansk","Pologne-Gdansk","Polonia-Gdansk","Polen-Gdansk","Polonia-Gdansk"]
[{"$f":"IF(#REF!=\"English\",Translations!B1088,IF(#REF!=\"French\",Translations!C1088,IF(#REF!=\"Italian\",Translations!D1088,IF(#REF!=\"German\",Translations!E1088,IF(#REF!=\"Spanish\",Translations!F1088,Translations!B1088)))))","v":{"$error":"#REF!"}},"Poland-Katowice","Pologne-Katowice","Polonia-Katowice","Polen-Katowice","Polonia-Katowice"]
[{"$f":"IF(#REF!=\"English\",Translations!B1089,IF(#REF!=\"French\",Translations!C1089,IF(#REF!=\"Italian\",Translations!D1089,IF(#REF!=\"German\",Translations!E1089,IF(#REF!=\"Spanish\",Translations!F1089,Translations!B1089)))))","v":{"$error":"#REF!"}},"Poland-Krakow","Pologne-Krakow","Polonia-Krakow","Polen-Krakow","Polonia-Krakow"]
[{"$f":"IF(#REF!=\"English\",Translations!B1090,IF(#REF!=\"French\",Translations!C1090,IF(#REF!=\"Italian\",Translations!D1090,IF(#REF!=\"German\",Translations!E1090,IF(#REF!=\"Spanish\",Translations!F1090,Translations!B1090)))))","v":{"$error":"#REF!"}},"Poland-Mobile-Era","Pologne-Mobile-Era","Polonia-Mobile-Era","Polen-Mobilfunk-Era","Polonia-Móvil-Era"]
[{"$f":"IF(#REF!=\"English\",Translations!B1091,IF(#REF!=\"French\",Translations!C1091,IF(#REF!=\"Italian\",Translations!D1091,IF(#REF!=\"German\",Translations!E1091,IF(#REF!=\"Spanish\",Translations!F1091,Translations!B1091)))))","v":{"$error":"#REF!"}},"Poland-Mobile-Idea","Pologne-Mobile-Idea","Polonia-Mobile-Idea","Polen-Mobilfunk-Idea","Polonia-Móvil-Idea"]
[{"$f":"IF(#REF!=\"English\",Translations!B1092,IF(#REF!=\"French\",Translations!C1092,IF(#REF!=\"Italian\",Translations!D1092,IF(#REF!=\"German\",Translations!E1092,IF(#REF!=\"Spanish\",Translations!F1092,Translations!B1092)))))","v":{"$error":"#REF!"}},"Poland-Mobile-Others","Pologne-Mobile-Autres","Polonia-Mobile-Altri","Polen-Mobilfunk-Andere","Polonia-Móvil-Otros"]
[{"$f":"IF(#REF!=\"English\",Translations!B1093,IF(#REF!=\"French\",Translations!C1093,IF(#REF!=\"Italian\",Translations!D1093,IF(#REF!=\"German\",Translations!E1093,IF(#REF!=\"Spanish\",Translations!F1093,Translations!B1093)))))","v":{"$error":"#REF!"}},"Poland-Mobile-Play","Pologne-Mobile-Play","Polonia-Mobile-Play","Polen-Mobilfunk-Play","Polonia-Móvil-Play"]
[{"$f":"IF(#REF!=\"English\",Translations!B1094,IF(#REF!=\"French\",Translations!C1094,IF(#REF!=\"Italian\",Translations!D1094,IF(#REF!=\"German\",Translations!E1094,IF(#REF!=\"Spanish\",Translations!F1094,Translations!B1094)))))","v":{"$error":"#REF!"}},"Poland-Mobile-Plus","Pologne-Mobile-Plus","Polonia-Mobile-Plus","Polen-Mobilfunk-Plus","Polonia-Móvil-Plus"]
[{"$f":"IF(#REF!=\"English\",Translations!B1095,IF(#REF!=\"French\",Translations!C1095,IF(#REF!=\"Italian\",Translations!D1095,IF(#REF!=\"German\",Translations!E1095,IF(#REF!=\"Spanish\",Translations!F1095,Translations!B1095)))))","v":{"$error":"#REF!"}},"Poland-Warsaw","Pologne-Warsaw","Polonia-Warsaw","Polen-Warsaw","Polonia-Warsaw"]
[{"$f":"IF(#REF!=\"English\",Translations!B1096,IF(#REF!=\"French\",Translations!C1096,IF(#REF!=\"Italian\",Translations!D1096,IF(#REF!=\"German\",Translations!E1096,IF(#REF!=\"Spanish\",Translations!F1096,Translations!B1096)))))","v":{"$error":"#REF!"}},"Portugal","Portugal","Portogallo","Portugal","Portugal"]
[{"$f":"IF(#REF!=\"English\",Translations!B1097,IF(#REF!=\"French\",Translations!C1097,IF(#REF!=\"Italian\",Translations!D1097,IF(#REF!=\"German\",Translations!E1097,IF(#REF!=\"Spanish\",Translations!F1097,Translations!B1097)))))","v":{"$error":"#REF!"}},"Portugal-Freephone","Portugal-Libre appel","Portogallo-Freephone","Portugal-Freephone","Portugal-Freephone"]
[{"$f":"IF(#REF!=\"English\",Translations!B1098,IF(#REF!=\"French\",Translations!C1098,IF(#REF!=\"Italian\",Translations!D1098,IF(#REF!=\"German\",Translations!E1098,IF(#REF!=\"Spanish\",Translations!F1098,Translations!B1098)))))","v":{"$error":"#REF!"}},"Portugal-Mobile-Optimus","Portugal-Mobile-Optimus","Portogallo-Mobile-Optimus","Portugal-Mobilfunk-Optimus","Portugal-Móvil-Optimus"]
[{"$f":"IF(#REF!=\"English\",Translations!B1099,IF(#REF!=\"French\",Translations!C1099,IF(#REF!=\"Italian\",Translations!D1099,IF(#REF!=\"German\",Translations!E1099,IF(#REF!=\"Spanish\",Translations!F1099,Translations!B1099)))))","v":{"$error":"#REF!"}},"Portugal-Mobile-Others","Portugal-Mobile-Autres","Portogallo-Mobile-Altri","Portugal-Mobilfunk-Andere","Portugal-Móvil-Otros"]
[{"$f":"IF(#REF!=\"English\",Translations!B1100,IF(#REF!=\"French\",Translations!C1100,IF(#REF!=\"Italian\",Translations!D1100,IF(#REF!=\"German\",Translations!E1100,IF(#REF!=\"Spanish\",Translations!F1100,Translations!B1100)))))","v":{"$error":"#REF!"}},"Portugal-Mobile-TMN","Portugal-Mobile-TMN","Portogallo-Mobile-TMN","Portugal-Mobilfunk-TMN","Portugal-Móvil-TMN"]
[{"$f":"IF(#REF!=\"English\",Translations!B1101,IF(#REF!=\"French\",Translations!C1101,IF(#REF!=\"Italian\",Translations!D1101,IF(#REF!=\"German\",Translations!E1101,IF(#REF!=\"Spanish\",Translations!F1101,Translations!B1101)))))","v":{"$error":"#REF!"}},"Portugal-Mobile-Vodafone","Portugal-Mobile-Vodafone","Portogallo-Mobile-Vodafone","Portugal-Mobilfunk-Vodafone","Portugal-Móvil-Vodafone"]
[{"$f":"IF(#REF!=\"English\",Translations!B1102,IF(#REF!=\"French\",Translations!C1102,IF(#REF!=\"Italian\",Translations!D1102,IF(#REF!=\"German\",Translations!E1102,IF(#REF!=\"Spanish\",Translations!F1102,Translations!B1102)))))","v":{"$error":"#REF!"}},"Portugal-OLO","Portugal-OLO","Portogallo-OLO","Portugal-OLO","Portugal -OLO"]
[{"$f":"IF(#REF!=\"English\",Translations!B1103,IF(#REF!=\"French\",Translations!C1103,IF(#REF!=\"Italian\",Translations!D1103,IF(#REF!=\"German\",Translations!E1103,IF(#REF!=\"Spanish\",Translations!F1103,Translations!B1103)))))","v":{"$error":"#REF!"}},"Portugal-Personal Number","Portugal-Numéro personnel","Portogallo-Personal Number","Portugal-Persönliche Nummer","Portugal-Número Personal"]
[{"$f":"IF(#REF!=\"English\",Translations!B1104,IF(#REF!=\"French\",Translations!C1104,IF(#REF!=\"Italian\",Translations!D1104,IF(#REF!=\"German\",Translations!E1104,IF(#REF!=\"Spanish\",Translations!F1104,Translations!B1104)))))","v":{"$error":"#REF!"}},"Portugal-Shared Cost","Portugal-Business Call","Portogallo-Shared Cost","Portugal-Shared Cost","Portugal-Shared Cost"]
[{"$f":"IF(#REF!=\"English\",Translations!B1105,IF(#REF!=\"French\",Translations!C1105,IF(#REF!=\"Italian\",Translations!D1105,IF(#REF!=\"German\",Translations!E1105,IF(#REF!=\"Spanish\",Translations!F1105,Translations!B1105)))))","v":{"$error":"#REF!"}},"Puerto Rico","Porto Rico","Porto Rico","Puerto Rico","Puerto Rico"]
[{"$f":"IF(#REF!=\"English\",Translations!B1106,IF(#REF!=\"French\",Translations!C1106,IF(#REF!=\"Italian\",Translations!D1106,IF(#REF!=\"German\",Translations!E1106,IF(#REF!=\"Spanish\",Translations!F1106,Translations!B1106)))))","v":{"$error":"#REF!"}},"Qatar","Qatar","Qatar","Katar","Qatar"]
[{"$f":"IF(#REF!=\"English\",Translations!B1107,IF(#REF!=\"French\",Translations!C1107,IF(#REF!=\"Italian\",Translations!D1107,IF(#REF!=\"German\",Translations!E1107,IF(#REF!=\"Spanish\",Translations!F1107,Translations!B1107)))))","v":{"$error":"#REF!"}},"Qatar-Mobile","Qatar-Mobile","Qatar-Mobile","Katar-Mobilfunk","Qatar-Móvil"]
[{"$f":"IF(#REF!=\"English\",Translations!B1108,IF(#REF!=\"French\",Translations!C1108,IF(#REF!=\"Italian\",Translations!D1108,IF(#REF!=\"German\",Translations!E1108,IF(#REF!=\"Spanish\",Translations!F1108,Translations!B1108)))))","v":{"$error":"#REF!"}},"Reunion","Réunion","Riunione","Reunion","Reunión"]
[{"$f":"IF(#REF!=\"English\",Translations!B1109,IF(#REF!=\"French\",Translations!C1109,IF(#REF!=\"Italian\",Translations!D1109,IF(#REF!=\"German\",Translations!E1109,IF(#REF!=\"Spanish\",Translations!F1109,Translations!B1109)))))","v":{"$error":"#REF!"}},"Reunion-Mobile-Orange Reunion","Réunion-Mobile-Orange Reunion","Riunione-Mobile-Orange Reunion","Reunion-Mobilfunk-Orange Reunion","Reunión-Móvil-Orange Reunion"]
[{"$f":"IF(#REF!=\"English\",Translations!B1110,IF(#REF!=\"French\",Translations!C1110,IF(#REF!=\"Italian\",Translations!D1110,IF(#REF!=\"German\",Translations!E1110,IF(#REF!=\"Spanish\",Translations!F1110,Translations!B1110)))))","v":{"$error":"#REF!"}},"Reunion-Mobile-Outremer","Réunion-Mobile-Outremer","Riunione-Mobile-Outremer","Reunion-Mobilfunk-Outremer","Reunión-Móvil-Outremer"]
[{"$f":"IF(#REF!=\"English\",Translations!B1111,IF(#REF!=\"French\",Translations!C1111,IF(#REF!=\"Italian\",Translations!D1111,IF(#REF!=\"German\",Translations!E1111,IF(#REF!=\"Spanish\",Translations!F1111,Translations!B1111)))))","v":{"$error":"#REF!"}},"Reunion-Mobile-Others","Réunion-Mobile-Autres","Riunione-Mobile-Altri","Reunion-Mobilfunk-Andere","Reunión-Móvil-Otros"]
[{"$f":"IF(#REF!=\"English\",Translations!B1112,IF(#REF!=\"French\",Translations!C1112,IF(#REF!=\"Italian\",Translations!D1112,IF(#REF!=\"German\",Translations!E1112,IF(#REF!=\"Spanish\",Translations!F1112,Translations!B1112)))))","v":{"$error":"#REF!"}},"Reunion-Mobile-SRR","Réunion-Mobile-SRR","Riunione-Mobile-SRR","Reunion-Mobilfunk-SRR","Reunión-Móvil-SRR"]
[{"$f":"IF(#REF!=\"English\",Translations!B1113,IF(#REF!=\"French\",Translations!C1113,IF(#REF!=\"Italian\",Translations!D1113,IF(#REF!=\"German\",Translations!E1113,IF(#REF!=\"Spanish\",Translations!F1113,Translations!B1113)))))","v":{"$error":"#REF!"}},"Romania","Roumanie","Romania","Rumänien","Rumanía"]
[{"$f":"IF(#REF!=\"English\",Translations!B1114,IF(#REF!=\"French\",Translations!C1114,IF(#REF!=\"Italian\",Translations!D1114,IF(#REF!=\"German\",Translations!E1114,IF(#REF!=\"Spanish\",Translations!F1114,Translations!B1114)))))","v":{"$error":"#REF!"}},"Romania-Bucharest","Roumanie-Bucharest","Romania-Bucharest","Rumänien-Bucharest","Rumanía-Bucharest"]
[{"$f":"IF(#REF!=\"English\",Translations!B1115,IF(#REF!=\"French\",Translations!C1115,IF(#REF!=\"Italian\",Translations!D1115,IF(#REF!=\"German\",Translations!E1115,IF(#REF!=\"Spanish\",Translations!F1115,Translations!B1115)))))","v":{"$error":"#REF!"}},"Romania-Mobile-Cosmorom","Roumanie-Mobile-Cosmorom","Romania-Mobile-Cosmorom","Rumänien-Mobilfunk-Cosmorom","Rumanía-Móvil-Cosmorom"]
[{"$f":"IF(#REF!=\"English\",Translations!B1116,IF(#REF!=\"French\",Translations!C1116,IF(#REF!=\"Italian\",Translations!D1116,IF(#REF!=\"German\",Translations!E1116,IF(#REF!=\"Spanish\",Translations!F1116,Translations!B1116)))))","v":{"$error":"#REF!"}},"Romania-Mobile-Mobifon","Roumanie-Mobile-Mobifon","Romania-Mobile-Mobifon","Rumänien-Mobilfunk-Mobifon","Rumanía-Móvil-Mobifon"]
[{"$f":"IF(#REF!=\"English\",Translations!B1117,IF(#REF!=\"French\",Translations!C1117,IF(#REF!=\"Italian\",Translations!D1117,IF(#REF!=\"German\",Translations!E1117,IF(#REF!=\"Spanish\",Translations!F1117,Translations!B1117)))))","v":{"$error":"#REF!"}},"Romania-Mobile-Orange","Roumanie-Mobile-Orange","Romania-Mobile-Orange","Rumänien-Mobilfunk-Orange","Rumanía-Móvil-Orange"]
[{"$f":"IF(#REF!=\"English\",Translations!B1118,IF(#REF!=\"French\",Translations!C1118,IF(#REF!=\"Italian\",Translations!D1118,IF(#REF!=\"German\",Translations!E1118,IF(#REF!=\"Spanish\",Translations!F1118,Translations!B1118)))))","v":{"$error":"#REF!"}},"Romania-Mobile-Others","Roumanie-Mobile-Autres","Romania-Mobile-Altri","Rumänien-Mobilfunk-Andere","Rumanía-Móvil-Otros"]
[{"$f":"IF(#REF!=\"English\",Translations!B1119,IF(#REF!=\"French\",Translations!C1119,IF(#REF!=\"Italian\",Translations!D1119,IF(#REF!=\"German\",Translations!E1119,IF(#REF!=\"Spanish\",Translations!F1119,Translations!B1119)))))","v":{"$error":"#REF!"}},"Romania-Mobile-Telemobil","Roumanie-Mobile-Telemobil","Romania-Mobile-Telemobil","Rumänien-Mobilfunk-Telemobil","Rumanía-Móvil-Telemobil"]
[{"$f":"IF(#REF!=\"English\",Translations!B1120,IF(#REF!=\"French\",Translations!C1120,IF(#REF!=\"Italian\",Translations!D1120,IF(#REF!=\"German\",Translations!E1120,IF(#REF!=\"Spanish\",Translations!F1120,Translations!B1120)))))","v":{"$error":"#REF!"}},"Romania-OLO","Roumanie-OLO","Romania-OLO","Rumänien-OLO","Rumanía-OLO"]
[{"$f":"IF(#REF!=\"English\",Translations!B1121,IF(#REF!=\"French\",Translations!C1121,IF(#REF!=\"Italian\",Translations!D1121,IF(#REF!=\"German\",Translations!E1121,IF(#REF!=\"Spanish\",Translations!F1121,Translations!B1121)))))","v":{"$error":"#REF!"}},"Russia","Russie","Russia","Russland","Rusia"]
[{"$f":"IF(#REF!=\"English\",Translations!B1122,IF(#REF!=\"French\",Translations!C1122,IF(#REF!=\"Italian\",Translations!D1122,IF(#REF!=\"German\",Translations!E1122,IF(#REF!=\"Spanish\",Translations!F1122,Translations!B1122)))))","v":{"$error":"#REF!"}},"Russia-Area 1","Russie-Area 1","Russia-Area 1","Russland-Area 1","Rusia-Area 1"]
[{"$f":"IF(#REF!=\"English\",Translations!B1123,IF(#REF!=\"French\",Translations!C1123,IF(#REF!=\"Italian\",Translations!D1123,IF(#REF!=\"German\",Translations!E1123,IF(#REF!=\"Spanish\",Translations!F1123,Translations!B1123)))))","v":{"$error":"#REF!"}},"Russia-Area 2","Russie-Area 2","Russia-Area 2","Russland-Area 2","Rusia-Area 2"]
[{"$f":"IF(#REF!=\"English\",Translations!B1124,IF(#REF!=\"French\",Translations!C1124,IF(#REF!=\"Italian\",Translations!D1124,IF(#REF!=\"German\",Translations!E1124,IF(#REF!=\"Spanish\",Translations!F1124,Translations!B1124)))))","v":{"$error":"#REF!"}},"Russia-Area 3","Russie-Area 3","Russia-Area 3","Russland-Area 3","Rusia-Area 3"]
[{"$f":"IF(#REF!=\"English\",Translations!B1125,IF(#REF!=\"French\",Translations!C1125,IF(#REF!=\"Italian\",Translations!D1125,IF(#REF!=\"German\",Translations!E1125,IF(#REF!=\"Spanish\",Translations!F1125,Translations!B1125)))))","v":{"$error":"#REF!"}},"Russia-Area 4","Russie-Area 4","Russia-Area 4","Russland-Area 4","Rusia-Area 4"]
[{"$f":"IF(#REF!=\"English\",Translations!B1126,IF(#REF!=\"French\",Translations!C1126,IF(#REF!=\"Italian\",Translations!D1126,IF(#REF!=\"German\",Translations!E1126,IF(#REF!=\"Spanish\",Translations!F1126,Translations!B1126)))))","v":{"$error":"#REF!"}},"Russia-Area 5","Russie-Area 5","Russia-Area 5","Russland-Area 5","Rusia-Area 5"]
[{"$f":"IF(#REF!=\"English\",Translations!B1127,IF(#REF!=\"French\",Translations!C1127,IF(#REF!=\"Italian\",Translations!D1127,IF(#REF!=\"German\",Translations!E1127,IF(#REF!=\"Spanish\",Translations!F1127,Translations!B1127)))))","v":{"$error":"#REF!"}},"Russia-Mobile-Beeline","Russie-Mobile-Beeline","Russia-Mobile-Beeline","Russland-Mobilfunk-Beeline","Rusia-Móvil-Beeline"]
[{"$f":"IF(#REF!=\"English\",Translations!B1128,IF(#REF!=\"French\",Translations!C1128,IF(#REF!=\"Italian\",Translations!D1128,IF(#REF!=\"German\",Translations!E1128,IF(#REF!=\"Spanish\",Translations!F1128,Translations!B1128)))))","v":{"$error":"#REF!"}},"Russia-Mobile-Megafon","Russie-Mobile-Megafon","Russia-Mobile-Megafon","Russland-Mobilfunk-Megafon","Rusia-Móvil-Megafon"]
[{"$f":"IF(#REF!=\"English\",Translations!B1129,IF(#REF!=\"French\",Translations!C1129,IF(#REF!=\"Italian\",Translations!D1129,IF(#REF!=\"German\",Translations!E1129,IF(#REF!=\"Spanish\",Translations!F1129,Translations!B1129)))))","v":{"$error":"#REF!"}},"Russia-Mobile-MTS","Russie-Mobile-MTS","Russia-Mobile-MTS","Russland-Mobilfunk-MTS","Rusia-Móvil-MTS"]
[{"$f":"IF(#REF!=\"English\",Translations!B1130,IF(#REF!=\"French\",Translations!C1130,IF(#REF!=\"Italian\",Translations!D1130,IF(#REF!=\"German\",Translations!E1130,IF(#REF!=\"Spanish\",Translations!F1130,Translations!B1130)))))","v":{"$error":"#REF!"}},"Russia-Mobile-Globaltel","Russie-Mobile-Globaltel","Russia-Mobile-Globaltel","Russland-Mobilfunk-Globaltel","Rusia-Móvil-Globaltel"]
[{"$f":"IF(#REF!=\"English\",Translations!B1131,IF(#REF!=\"French\",Translations!C1131,IF(#REF!=\"Italian\",Translations!D1131,IF(#REF!=\"German\",Translations!E1131,IF(#REF!=\"Spanish\",Translations!F1131,Translations!B1131)))))","v":{"$error":"#REF!"}},"Russia-Mobile-GTNT","Russie-Mobile-GTNT","Russia-Mobile-GTNT","Russland-Mobilfunk-GTNT","Rusia-Móvil-GTNT"]
[{"$f":"IF(#REF!=\"English\",Translations!B1132,IF(#REF!=\"French\",Translations!C1132,IF(#REF!=\"Italian\",Translations!D1132,IF(#REF!=\"German\",Translations!E1132,IF(#REF!=\"Spanish\",Translations!F1132,Translations!B1132)))))","v":{"$error":"#REF!"}},"Russia-Mobile-Iridium","Russie-Mobile-Iridium","Russia-Mobile-Iridium","Russland-Mobilfunk-Iridium","Rusia-Móvil-Iridium"]
[{"$f":"IF(#REF!=\"English\",Translations!B1133,IF(#REF!=\"French\",Translations!C1133,IF(#REF!=\"Italian\",Translations!D1133,IF(#REF!=\"German\",Translations!E1133,IF(#REF!=\"Spanish\",Translations!F1133,Translations!B1133)))))","v":{"$error":"#REF!"}},"Russia-Mobile-Rostelecom","Russie-Mobile-Rostelecom","Russia-Mobile-Rostelecom","Russland-Mobilfunk-Rostelecom","Rusia-Móvil-Rostelecom"]
[{"$f":"IF(#REF!=\"English\",Translations!B1134,IF(#REF!=\"French\",Translations!C1134,IF(#REF!=\"Italian\",Translations!D1134,IF(#REF!=\"German\",Translations!E1134,IF(#REF!=\"Spanish\",Translations!F1134,Translations!B1134)))))","v":{"$error":"#REF!"}},"Russia-Mobile-Others","Russie-Mobile-Autres","Russia-Mobile-Altri","Russland-Mobilfunk-Andere","Rusia-Móvil-Otros"]
[{"$f":"IF(#REF!=\"English\",Translations!B1135,IF(#REF!=\"French\",Translations!C1135,IF(#REF!=\"Italian\",Translations!D1135,IF(#REF!=\"German\",Translations!E1135,IF(#REF!=\"Spanish\",Translations!F1135,Translations!B1135)))))","v":{"$error":"#REF!"}},"Russia-Moscow","Russie-Moscow","Russia-Moscow","Russland-Moscow","Rusia-Moscow"]
[{"$f":"IF(#REF!=\"English\",Translations!B1136,IF(#REF!=\"French\",Translations!C1136,IF(#REF!=\"Italian\",Translations!D1136,IF(#REF!=\"German\",Translations!E1136,IF(#REF!=\"Spanish\",Translations!F1136,Translations!B1136)))))","v":{"$error":"#REF!"}},"Russia-St Petersburg","Russie-St Petersburg","Russia-St Petersburg","Russland-St Petersburg","Rusia-St Petersburg"]
[{"$f":"IF(#REF!=\"English\",Translations!B1137,IF(#REF!=\"French\",Translations!C1137,IF(#REF!=\"Italian\",Translations!D1137,IF(#REF!=\"German\",Translations!E1137,IF(#REF!=\"Spanish\",Translations!F1137,Translations!B1137)))))","v":{"$error":"#REF!"}},"Rwanda","Rwanda","Ruanda","Ruanda","Ruanda"]
[{"$f":"IF(#REF!=\"English\",Translations!B1138,IF(#REF!=\"French\",Translations!C1138,IF(#REF!=\"Italian\",Translations!D1138,IF(#REF!=\"German\",Translations!E1138,IF(#REF!=\"Spanish\",Translations!F1138,Translations!B1138)))))","v":{"$error":"#REF!"}},"Rwanda-Mobile-MTN","Rwanda-Mobile-MTN","Ruanda-Mobile-MTN","Ruanda-Mobilfunk-MTN","Ruanda-Móvil-MTN"]
[{"$f":"IF(#REF!=\"English\",Translations!B1139,IF(#REF!=\"French\",Translations!C1139,IF(#REF!=\"Italian\",Translations!D1139,IF(#REF!=\"German\",Translations!E1139,IF(#REF!=\"Spanish\",Translations!F1139,Translations!B1139)))))","v":{"$error":"#REF!"}},"Rwanda-Mobile-Other","Rwanda-Mobile-Others","Ruanda-Mobile-Others","Ruanda-Mobilfunk-Others","Ruanda-Móvil-Others"]
[{"$f":"IF(#REF!=\"English\",Translations!B1140,IF(#REF!=\"French\",Translations!C1140,IF(#REF!=\"Italian\",Translations!D1140,IF(#REF!=\"German\",Translations!E1140,IF(#REF!=\"Spanish\",Translations!F1140,Translations!B1140)))))","v":{"$error":"#REF!"}},"Rwanda-Mobile-Tigo","Rwanda-Mobile-Tigo","Ruanda-Mobile-Tigo","Ruanda-Mobilfunk-Tigo","Ruanda-Móvil-Tigo"]
[{"$f":"IF(#REF!=\"English\",Translations!B1141,IF(#REF!=\"French\",Translations!C1141,IF(#REF!=\"Italian\",Translations!D1141,IF(#REF!=\"German\",Translations!E1141,IF(#REF!=\"Spanish\",Translations!F1141,Translations!B1141)))))","v":{"$error":"#REF!"}},"Samoa American","Samoa américaines","Samoa Americane","Amerikanisch-Samoa","Samoa Americana"]
[{"$f":"IF(#REF!=\"English\",Translations!B1142,IF(#REF!=\"French\",Translations!C1142,IF(#REF!=\"Italian\",Translations!D1142,IF(#REF!=\"German\",Translations!E1142,IF(#REF!=\"Spanish\",Translations!F1142,Translations!B1142)))))","v":{"$error":"#REF!"}},"Samoa Western","Samoa occidentales","Samoa occidentali","Samoa","Samoa Occidental"]
[{"$f":"IF(#REF!=\"English\",Translations!B1143,IF(#REF!=\"French\",Translations!C1143,IF(#REF!=\"Italian\",Translations!D1143,IF(#REF!=\"German\",Translations!E1143,IF(#REF!=\"Spanish\",Translations!F1143,Translations!B1143)))))","v":{"$error":"#REF!"}},"San Marino","Saint Marin","San Marino","San Marino","San Marino "]
[{"$f":"IF(#REF!=\"English\",Translations!B1144,IF(#REF!=\"French\",Translations!C1144,IF(#REF!=\"Italian\",Translations!D1144,IF(#REF!=\"German\",Translations!E1144,IF(#REF!=\"Spanish\",Translations!F1144,Translations!B1144)))))","v":{"$error":"#REF!"}},"San Marino-Mobile","Saint Marin-Mobile","San Marino-Mobile","San Marino-Mobilfunk","San Marino-Móvil"]
[{"$f":"IF(#REF!=\"English\",Translations!B1145,IF(#REF!=\"French\",Translations!C1145,IF(#REF!=\"Italian\",Translations!D1145,IF(#REF!=\"German\",Translations!E1145,IF(#REF!=\"Spanish\",Translations!F1145,Translations!B1145)))))","v":{"$error":"#REF!"}},"Sao Tome and Principe","Sao Tomé et Principe","São Tomé e Príncipe ","Sao Tome und Principe","Sto. Tomé y Príncipe"]
[{"$f":"IF(#REF!=\"English\",Translations!B1146,IF(#REF!=\"French\",Translations!C1146,IF(#REF!=\"Italian\",Translations!D1146,IF(#REF!=\"German\",Translations!E1146,IF(#REF!=\"Spanish\",Translations!F1146,Translations!B1146)))))","v":{"$error":"#REF!"}},"Saudi Arabia","Arabie Saoudite","Arabia Saudita","Saudi-Arabien","Arabia Saudí"]
[{"$f":"IF(#REF!=\"English\",Translations!B1147,IF(#REF!=\"French\",Translations!C1147,IF(#REF!=\"Italian\",Translations!D1147,IF(#REF!=\"German\",Translations!E1147,IF(#REF!=\"Spanish\",Translations!F1147,Translations!B1147)))))","v":{"$error":"#REF!"}},"Saudi Arabia-Jeddah","Arabie Saoudite-Jeddah","Arabia Saudita-Jeddah","Saudi-Arabien-Jeddah","Arabia Saudí-Jeddah"]
[{"$f":"IF(#REF!=\"English\",Translations!B1148,IF(#REF!=\"French\",Translations!C1148,IF(#REF!=\"Italian\",Translations!D1148,IF(#REF!=\"German\",Translations!E1148,IF(#REF!=\"Spanish\",Translations!F1148,Translations!B1148)))))","v":{"$error":"#REF!"}},"Saudi Arabia-Mekkah","Arabie Saoudite-Mekkah","Arabia Saudita-Mekkah","Saudi-Arabien-Mekkah","Arabia Saudí-Mekkah"]
[{"$f":"IF(#REF!=\"English\",Translations!B1149,IF(#REF!=\"French\",Translations!C1149,IF(#REF!=\"Italian\",Translations!D1149,IF(#REF!=\"German\",Translations!E1149,IF(#REF!=\"Spanish\",Translations!F1149,Translations!B1149)))))","v":{"$error":"#REF!"}},"Saudi Arabia-Mobile-Mobily","Arabie Saoudite-Mobile-Mobily","Arabia Saudita-Mobile-Mobily","Saudi-Arabien-Mobilfunk-Mobily","Arabia Saudi-Móvil-Mobily"]
[{"$f":"IF(#REF!=\"English\",Translations!B1150,IF(#REF!=\"French\",Translations!C1150,IF(#REF!=\"Italian\",Translations!D1150,IF(#REF!=\"German\",Translations!E1150,IF(#REF!=\"Spanish\",Translations!F1150,Translations!B1150)))))","v":{"$error":"#REF!"}},"Saudi Arabia-Mobile-Others","Arabie Saoudite-Mobile-Autres","Arabia Saudita-Mobile-Altri","Saudi-Arabien-Mobilfunk-Andere","Arabia Saudi-Móvil-Otros"]
[{"$f":"IF(#REF!=\"English\",Translations!B1151,IF(#REF!=\"French\",Translations!C1151,IF(#REF!=\"Italian\",Translations!D1151,IF(#REF!=\"German\",Translations!E1151,IF(#REF!=\"Spanish\",Translations!F1151,Translations!B1151)))))","v":{"$error":"#REF!"}},"Saudi Arabia-Mobile-STC","Arabie Saoudite-Mobile-STC","Arabia Saudita-Mobile-STC","Saudi-Arabien-Mobilfunk-STC","Arabia Saudi-Móvil-STC"]
[{"$f":"IF(#REF!=\"English\",Translations!B1152,IF(#REF!=\"French\",Translations!C1152,IF(#REF!=\"Italian\",Translations!D1152,IF(#REF!=\"German\",Translations!E1152,IF(#REF!=\"Spanish\",Translations!F1152,Translations!B1152)))))","v":{"$error":"#REF!"}},"Saudi Arabia-Mobile-Zain","Arabie Saoudite-Mobile-Zain","Arabia Saudita-Mobile-Zain","Saudi-Arabien-Mobilfunk-Zain","Arabia Saudi-Móvil-Zain"]
[{"$f":"IF(#REF!=\"English\",Translations!B1153,IF(#REF!=\"French\",Translations!C1153,IF(#REF!=\"Italian\",Translations!D1153,IF(#REF!=\"German\",Translations!E1153,IF(#REF!=\"Spanish\",Translations!F1153,Translations!B1153)))))","v":{"$error":"#REF!"}},"Saudi Arabia-Riyadh","Arabie Saoudite-Riyadh","Arabia Saudita-Riyadh","Saudi-Arabien-Riyadh","Arabia Saudí-Riyadh"]
[{"$f":"IF(#REF!=\"English\",Translations!B1154,IF(#REF!=\"French\",Translations!C1154,IF(#REF!=\"Italian\",Translations!D1154,IF(#REF!=\"German\",Translations!E1154,IF(#REF!=\"Spanish\",Translations!F1154,Translations!B1154)))))","v":{"$error":"#REF!"}},"Senegal","Sénégal","Senegal","Senegal","Senegal"]
[{"$f":"IF(#REF!=\"English\",Translations!B1155,IF(#REF!=\"French\",Translations!C1155,IF(#REF!=\"Italian\",Translations!D1155,IF(#REF!=\"German\",Translations!E1155,IF(#REF!=\"Spanish\",Translations!F1155,Translations!B1155)))))","v":{"$error":"#REF!"}},"Senegal-Expresso","Sénégal-Expresso","Senegal-Expresso","Senegal-Expresso","Senegal-Expresso"]
[{"$f":"IF(#REF!=\"English\",Translations!B1156,IF(#REF!=\"French\",Translations!C1156,IF(#REF!=\"Italian\",Translations!D1156,IF(#REF!=\"German\",Translations!E1156,IF(#REF!=\"Spanish\",Translations!F1156,Translations!B1156)))))","v":{"$error":"#REF!"}},"Senegal-Special Service","Sénégal-Special Service","Senegal-Special Service","Senegal-Special Service","Senegal-Special Service"]
[{"$f":"IF(#REF!=\"English\",Translations!B1157,IF(#REF!=\"French\",Translations!C1157,IF(#REF!=\"Italian\",Translations!D1157,IF(#REF!=\"German\",Translations!E1157,IF(#REF!=\"Spanish\",Translations!F1157,Translations!B1157)))))","v":{"$error":"#REF!"}},"Senegal-Dakar","Sénégal-Dakar","Senegal-Dakar","Senegal-Dakar","Senegal-Dakar"]
[{"$f":"IF(#REF!=\"English\",Translations!B1158,IF(#REF!=\"French\",Translations!C1158,IF(#REF!=\"Italian\",Translations!D1158,IF(#REF!=\"German\",Translations!E1158,IF(#REF!=\"Spanish\",Translations!F1158,Translations!B1158)))))","v":{"$error":"#REF!"}},"Senegal-Mobile-Orange","Sénégal-Mobile-Orange","Senegal-Mobile-Orange","Senegal-Mobilfunk-Orange","Senegal-Móvil-Orange"]
[{"$f":"IF(#REF!=\"English\",Translations!B1159,IF(#REF!=\"French\",Translations!C1159,IF(#REF!=\"Italian\",Translations!D1159,IF(#REF!=\"German\",Translations!E1159,IF(#REF!=\"Spanish\",Translations!F1159,Translations!B1159)))))","v":{"$error":"#REF!"}},"Senegal-Mobile-Others","Sénégal-Mobile-Autres","Senegal-Mobile-Altri","Senegal-Mobilfunk-Andere","Senegal-Móvil-Otros"]
[{"$f":"IF(#REF!=\"English\",Translations!B1160,IF(#REF!=\"French\",Translations!C1160,IF(#REF!=\"Italian\",Translations!D1160,IF(#REF!=\"German\",Translations!E1160,IF(#REF!=\"Spanish\",Translations!F1160,Translations!B1160)))))","v":{"$error":"#REF!"}},"Senegal-Mobile-Sentel","Sénégal-Mobile-Sentel","Senegal-Mobile-Sentel","Senegal-Mobilfunk-Sentel","Senegal-Móvil-Sentel"]
[{"$f":"IF(#REF!=\"English\",Translations!B1161,IF(#REF!=\"French\",Translations!C1161,IF(#REF!=\"Italian\",Translations!D1161,IF(#REF!=\"German\",Translations!E1161,IF(#REF!=\"Spanish\",Translations!F1161,Translations!B1161)))))","v":{"$error":"#REF!"}},"Serbia","Serbie","Serbia","Serbien","Serbia"]
[{"$f":"IF(#REF!=\"English\",Translations!B1162,IF(#REF!=\"French\",Translations!C1162,IF(#REF!=\"Italian\",Translations!D1162,IF(#REF!=\"German\",Translations!E1162,IF(#REF!=\"Spanish\",Translations!F1162,Translations!B1162)))))","v":{"$error":"#REF!"}},"Serbia-Ipkonet","Serbie-Ipkonet","Serbia-Ipkonet","Serbien-Ipkonet","Serbia-Ipkonet"]
[{"$f":"IF(#REF!=\"English\",Translations!B1163,IF(#REF!=\"French\",Translations!C1163,IF(#REF!=\"Italian\",Translations!D1163,IF(#REF!=\"German\",Translations!E1163,IF(#REF!=\"Spanish\",Translations!F1163,Translations!B1163)))))","v":{"$error":"#REF!"}},"Serbia-Kosovo","Serbie-Kosovo","Serbia-Kosovo","Serbien-Kosovo","Serbia-Kosovo"]
[{"$f":"IF(#REF!=\"English\",Translations!B1164,IF(#REF!=\"French\",Translations!C1164,IF(#REF!=\"Italian\",Translations!D1164,IF(#REF!=\"German\",Translations!E1164,IF(#REF!=\"Spanish\",Translations!F1164,Translations!B1164)))))","v":{"$error":"#REF!"}},"Serbia-Orion","Serbie-Orion","Serbia-Orion","Serbien-Orion","Serbia-Orion"]
[{"$f":"IF(#REF!=\"English\",Translations!B1165,IF(#REF!=\"French\",Translations!C1165,IF(#REF!=\"Italian\",Translations!D1165,IF(#REF!=\"German\",Translations!E1165,IF(#REF!=\"Spanish\",Translations!F1165,Translations!B1165)))))","v":{"$error":"#REF!"}},"Serbia-Mobile-Others","Serbie-Mobile-Autres","Serbia-Mobile-Altri","Serbien-Mobilfunk-Andere","Serbia-Móvil-Otros"]
[{"$f":"IF(#REF!=\"English\",Translations!B1166,IF(#REF!=\"French\",Translations!C1166,IF(#REF!=\"Italian\",Translations!D1166,IF(#REF!=\"German\",Translations!E1166,IF(#REF!=\"Spanish\",Translations!F1166,Translations!B1166)))))","v":{"$error":"#REF!"}},"Serbia-Mobile-Telenor","Serbie-Mobile-Telenor","Serbia-Mobile-Telenor","Serbien-Mobilfunk-Telenor","Serbia-Móvil-Telenor"]
[{"$f":"IF(#REF!=\"English\",Translations!B1167,IF(#REF!=\"French\",Translations!C1167,IF(#REF!=\"Italian\",Translations!D1167,IF(#REF!=\"German\",Translations!E1167,IF(#REF!=\"Spanish\",Translations!F1167,Translations!B1167)))))","v":{"$error":"#REF!"}},"Serbia-Mobile-Vip","Serbie-Mobile-Vip","Serbia-Mobile-Vip","Serbien-Mobilfunk-Vip","Serbia-Móvil-Vip"]
[{"$f":"IF(#REF!=\"English\",Translations!B1168,IF(#REF!=\"French\",Translations!C1168,IF(#REF!=\"Italian\",Translations!D1168,IF(#REF!=\"German\",Translations!E1168,IF(#REF!=\"Spanish\",Translations!F1168,Translations!B1168)))))","v":{"$error":"#REF!"}},"Seychelles","Seychelles","Seychelles","Seyschellen","Seychelles"]
[{"$f":"IF(#REF!=\"English\",Translations!B1169,IF(#REF!=\"French\",Translations!C1169,IF(#REF!=\"Italian\",Translations!D1169,IF(#REF!=\"German\",Translations!E1169,IF(#REF!=\"Spanish\",Translations!F1169,Translations!B1169)))))","v":{"$error":"#REF!"}},"Sierra Leone","Sierra Leone","Sierra Leone","Sierra Leone","Sierra Leona"]
[{"$f":"IF(#REF!=\"English\",Translations!B1170,IF(#REF!=\"French\",Translations!C1170,IF(#REF!=\"Italian\",Translations!D1170,IF(#REF!=\"German\",Translations!E1170,IF(#REF!=\"Spanish\",Translations!F1170,Translations!B1170)))))","v":{"$error":"#REF!"}},"Sierra Leone-Mobile-Africel","Sierra Leone-Mobile-Africel","Sierra Leone-Mobile-Africel","Sierra Leone-Mobilfunk-Africel","Sierra Leona-Móvil-Africel"]
[{"$f":"IF(#REF!=\"English\",Translations!B1171,IF(#REF!=\"French\",Translations!C1171,IF(#REF!=\"Italian\",Translations!D1171,IF(#REF!=\"German\",Translations!E1171,IF(#REF!=\"Spanish\",Translations!F1171,Translations!B1171)))))","v":{"$error":"#REF!"}},"Sierra Leone-Mobile-Celtel","Sierra Leone-Mobile-Celtel","Sierra Leone-Mobile-Celtel","Sierra Leone-Mobilfunk-Celtel","Sierra Leona-Móvil-Celtel"]
[{"$f":"IF(#REF!=\"English\",Translations!B1172,IF(#REF!=\"French\",Translations!C1172,IF(#REF!=\"Italian\",Translations!D1172,IF(#REF!=\"German\",Translations!E1172,IF(#REF!=\"Spanish\",Translations!F1172,Translations!B1172)))))","v":{"$error":"#REF!"}},"Sierra Leone-Mobile-Commium","Sierra Leone-Mobile-Commium","Sierra Leone-Mobile-Commium","Sierra Leone-Mobilfunk-Commium","Sierra Leona-Móvil-Commium"]
[{"$f":"IF(#REF!=\"English\",Translations!B1173,IF(#REF!=\"French\",Translations!C1173,IF(#REF!=\"Italian\",Translations!D1173,IF(#REF!=\"German\",Translations!E1173,IF(#REF!=\"Spanish\",Translations!F1173,Translations!B1173)))))","v":{"$error":"#REF!"}},"Sierra Leone-Mobile-Datatel","Sierra Leone-Mobile-Datatel","Sierra Leone-Mobile-Datatel","Sierra Leone-Mobilfunk-Datatel","Sierra Leona-Móvil-Datatel"]
[{"$f":"IF(#REF!=\"English\",Translations!B1174,IF(#REF!=\"French\",Translations!C1174,IF(#REF!=\"Italian\",Translations!D1174,IF(#REF!=\"German\",Translations!E1174,IF(#REF!=\"Spanish\",Translations!F1174,Translations!B1174)))))","v":{"$error":"#REF!"}},"Sierra Leone-Mobile-Millicom","Sierra Leone-Mobile-Millicom","Sierra Leone-Mobile-Millicom","Sierra Leone-Mobilfunk-Millicom","Sierra Leona-Móvil-Millicom"]
[{"$f":"IF(#REF!=\"English\",Translations!B1175,IF(#REF!=\"French\",Translations!C1175,IF(#REF!=\"Italian\",Translations!D1175,IF(#REF!=\"German\",Translations!E1175,IF(#REF!=\"Spanish\",Translations!F1175,Translations!B1175)))))","v":{"$error":"#REF!"}},"Sierra Leone-Mobile-Others","Sierra Leone-Mobile-Autres","Sierra Leone-Mobile-Altri","Sierra Leone-Mobilfunk-Andere","Sierra Leona-Móvil-Otros"]
[{"$f":"IF(#REF!=\"English\",Translations!B1176,IF(#REF!=\"French\",Translations!C1176,IF(#REF!=\"Italian\",Translations!D1176,IF(#REF!=\"German\",Translations!E1176,IF(#REF!=\"Spanish\",Translations!F1176,Translations!B1176)))))","v":{"$error":"#REF!"}},"Singapore","Singapour","Singapore","Singapur","Singapur"]
[{"$f":"IF(#REF!=\"English\",Translations!B1177,IF(#REF!=\"French\",Translations!C1177,IF(#REF!=\"Italian\",Translations!D1177,IF(#REF!=\"German\",Translations!E1177,IF(#REF!=\"Spanish\",Translations!F1177,Translations!B1177)))))","v":{"$error":"#REF!"}},"Singapore-Mobile","Singapour-Mobile","Singapore-Mobile","Singapur-Mobilfunk","Singapur-Móvil"]
[{"$f":"IF(#REF!=\"English\",Translations!B1178,IF(#REF!=\"French\",Translations!C1178,IF(#REF!=\"Italian\",Translations!D1178,IF(#REF!=\"German\",Translations!E1178,IF(#REF!=\"Spanish\",Translations!F1178,Translations!B1178)))))","v":{"$error":"#REF!"}},"Sint Maarten","Sint Maarten","Sint Maarten","Sint Maarten","Sint Maarten"]
[{"$f":"IF(#REF!=\"English\",Translations!B1179,IF(#REF!=\"French\",Translations!C1179,IF(#REF!=\"Italian\",Translations!D1179,IF(#REF!=\"German\",Translations!E1179,IF(#REF!=\"Spanish\",Translations!F1179,Translations!B1179)))))","v":{"$error":"#REF!"}},"Slovakia","Slovaquie","Slovacchia","Slowakei","República Eslovaca"]
[{"$f":"IF(#REF!=\"English\",Translations!B1180,IF(#REF!=\"French\",Translations!C1180,IF(#REF!=\"Italian\",Translations!D1180,IF(#REF!=\"German\",Translations!E1180,IF(#REF!=\"Spanish\",Translations!F1180,Translations!B1180)))))","v":{"$error":"#REF!"}},"Slovakia-Bratislava","Slovaquie-Bratislava","Slovacchia-Bratislava","Slowakei-Bratislava","República Eslovaca-Bratislava"]
[{"$f":"IF(#REF!=\"English\",Translations!B1181,IF(#REF!=\"French\",Translations!C1181,IF(#REF!=\"Italian\",Translations!D1181,IF(#REF!=\"German\",Translations!E1181,IF(#REF!=\"Spanish\",Translations!F1181,Translations!B1181)))))","v":{"$error":"#REF!"}},"Slovakia-Mobile-EuroTel","Slovaquie-Mobile-EuroTel","Slovacchia-Mobile-EuroTel","Slowakei-Mobilfunk-EuroTel","República Eslovaca-Móvil-EuroTel"]
[{"$f":"IF(#REF!=\"English\",Translations!B1182,IF(#REF!=\"French\",Translations!C1182,IF(#REF!=\"Italian\",Translations!D1182,IF(#REF!=\"German\",Translations!E1182,IF(#REF!=\"Spanish\",Translations!F1182,Translations!B1182)))))","v":{"$error":"#REF!"}},"Slovakia-Mobile-O2","Slovaquie-Mobile-O2","Slovacchia-Mobile-O2","Slowakei-Mobilfunk-O2","República Eslovaca-Móvil-O2"]
[{"$f":"IF(#REF!=\"English\",Translations!B1183,IF(#REF!=\"French\",Translations!C1183,IF(#REF!=\"Italian\",Translations!D1183,IF(#REF!=\"German\",Translations!E1183,IF(#REF!=\"Spanish\",Translations!F1183,Translations!B1183)))))","v":{"$error":"#REF!"}},"Slovakia-Mobile-Orange","Slovaquie-Mobile-Orange","Slovacchia-Mobile-Orange","Slowakei-Mobilfunk-Orange","República Eslovaca-Móvil-Orange"]
[{"$f":"IF(#REF!=\"English\",Translations!B1184,IF(#REF!=\"French\",Translations!C1184,IF(#REF!=\"Italian\",Translations!D1184,IF(#REF!=\"German\",Translations!E1184,IF(#REF!=\"Spanish\",Translations!F1184,Translations!B1184)))))","v":{"$error":"#REF!"}},"Slovakia-Mobile-Others","Slovaquie-Mobile-Autres","Slovacchia-Mobile-Altri","Slowakei-Mobilfunk-Andere","República Eslovaca-Móvil-Otros"]
[{"$f":"IF(#REF!=\"English\",Translations!B1185,IF(#REF!=\"French\",Translations!C1185,IF(#REF!=\"Italian\",Translations!D1185,IF(#REF!=\"German\",Translations!E1185,IF(#REF!=\"Spanish\",Translations!F1185,Translations!B1185)))))","v":{"$error":"#REF!"}},"Slovenia","Slovénie","Slovenia","Slowenien","Eslovenia"]
[{"$f":"IF(#REF!=\"English\",Translations!B1186,IF(#REF!=\"French\",Translations!C1186,IF(#REF!=\"Italian\",Translations!D1186,IF(#REF!=\"German\",Translations!E1186,IF(#REF!=\"Spanish\",Translations!F1186,Translations!B1186)))))","v":{"$error":"#REF!"}},"Slovenia-Mobile-IPKO","Slovénie-Mobile-IPKO","Slovenia-Mobile-IPKO","Slowenien-Mobilfunk-IPKO","Eslovenia-Móvil-IPKO"]
[{"$f":"IF(#REF!=\"English\",Translations!B1187,IF(#REF!=\"French\",Translations!C1187,IF(#REF!=\"Italian\",Translations!D1187,IF(#REF!=\"German\",Translations!E1187,IF(#REF!=\"Spanish\",Translations!F1187,Translations!B1187)))))","v":{"$error":"#REF!"}},"Slovenia-Mobile-Mobitel","Slovénie-Mobile-Mobitel","Slovenia-Mobile-Mobitel","Slowenien-Mobilfunk-Mobitel","Eslovenia-Móvil-Mobitel"]
[{"$f":"IF(#REF!=\"English\",Translations!B1188,IF(#REF!=\"French\",Translations!C1188,IF(#REF!=\"Italian\",Translations!D1188,IF(#REF!=\"German\",Translations!E1188,IF(#REF!=\"Spanish\",Translations!F1188,Translations!B1188)))))","v":{"$error":"#REF!"}},"Slovenia-Mobile-SI","Slovénie-Mobile-SI","Slovenia-Mobile-SI","Slowenien-Mobilfunk-SI","Eslovenia-Móvil-SI"]
[{"$f":"IF(#REF!=\"English\",Translations!B1189,IF(#REF!=\"French\",Translations!C1189,IF(#REF!=\"Italian\",Translations!D1189,IF(#REF!=\"German\",Translations!E1189,IF(#REF!=\"Spanish\",Translations!F1189,Translations!B1189)))))","v":{"$error":"#REF!"}},"Slovenia-Mobile-Others","Slovénie-Mobile-Autres","Slovenia-Mobile-Altri","Slowenien-Mobilfunk-Andere","Eslovenia-Móvil-Otros"]
[{"$f":"IF(#REF!=\"English\",Translations!B1190,IF(#REF!=\"French\",Translations!C1190,IF(#REF!=\"Italian\",Translations!D1190,IF(#REF!=\"German\",Translations!E1190,IF(#REF!=\"Spanish\",Translations!F1190,Translations!B1190)))))","v":{"$error":"#REF!"}},"Solomon Islands","Salomon (Îles)","Isole Salomone","Solomon-Inseln","Islas Salomón"]
[{"$f":"IF(#REF!=\"English\",Translations!B1191,IF(#REF!=\"French\",Translations!C1191,IF(#REF!=\"Italian\",Translations!D1191,IF(#REF!=\"German\",Translations!E1191,IF(#REF!=\"Spanish\",Translations!F1191,Translations!B1191)))))","v":{"$error":"#REF!"}},"Somalia","Somalie","Somalia","Somalia","Somalia"]
[{"$f":"IF(#REF!=\"English\",Translations!B1192,IF(#REF!=\"French\",Translations!C1192,IF(#REF!=\"Italian\",Translations!D1192,IF(#REF!=\"German\",Translations!E1192,IF(#REF!=\"Spanish\",Translations!F1192,Translations!B1192)))))","v":{"$error":"#REF!"}},"Somalia-Golis","Somalie-Golis","Somalia-Golis","Somalia-Golis","Somalia-Golis"]
[{"$f":"IF(#REF!=\"English\",Translations!B1193,IF(#REF!=\"French\",Translations!C1193,IF(#REF!=\"Italian\",Translations!D1193,IF(#REF!=\"German\",Translations!E1193,IF(#REF!=\"Spanish\",Translations!F1193,Translations!B1193)))))","v":{"$error":"#REF!"}},"Somalia-Hargeysa","Somalie-Hargeysa","Somalia-Hargeysa","Somalia-Hargeysa","Somalia-Hargeysa"]
[{"$f":"IF(#REF!=\"English\",Translations!B1194,IF(#REF!=\"French\",Translations!C1194,IF(#REF!=\"Italian\",Translations!D1194,IF(#REF!=\"German\",Translations!E1194,IF(#REF!=\"Spanish\",Translations!F1194,Translations!B1194)))))","v":{"$error":"#REF!"}},"Somalia-Telekom Somalia","Somalie-Telekom Somalia","Somalia-Telekom Somalia","Somalia-Telekom Somalia","Somalia-Telekom Somalia"]
[{"$f":"IF(#REF!=\"English\",Translations!B1195,IF(#REF!=\"French\",Translations!C1195,IF(#REF!=\"Italian\",Translations!D1195,IF(#REF!=\"German\",Translations!E1195,IF(#REF!=\"Spanish\",Translations!F1195,Translations!B1195)))))","v":{"$error":"#REF!"}},"Somalia-Mobile-ASGSM","Somalie-Mobile-ASGSM","Somalia-Mobile-ASGSM","Somalia-Mobilfunk-ASGSM","Somalia-Móvil-ASGSM"]
[{"$f":"IF(#REF!=\"English\",Translations!B1196,IF(#REF!=\"French\",Translations!C1196,IF(#REF!=\"Italian\",Translations!D1196,IF(#REF!=\"German\",Translations!E1196,IF(#REF!=\"Spanish\",Translations!F1196,Translations!B1196)))))","v":{"$error":"#REF!"}},"Somalia-Mobile-Hargeysa","Somalie-Mobile-Hargeysa","Somalia-Mobile-Hargeysa","Somalia-Mobilfunk-Hargeysa","Somalia-Móvil-Hargeysa"]
[{"$f":"IF(#REF!=\"English\",Translations!B1197,IF(#REF!=\"French\",Translations!C1197,IF(#REF!=\"Italian\",Translations!D1197,IF(#REF!=\"German\",Translations!E1197,IF(#REF!=\"Spanish\",Translations!F1197,Translations!B1197)))))","v":{"$error":"#REF!"}},"Somalia-Mobile-Hormuud","Somalie-Mobile-Hormuud","Somalia-Mobile-Hormuud","Somalia-Mobilfunk-Hormuud","Somalia-Móvil-Hormuud"]
[{"$f":"IF(#REF!=\"English\",Translations!B1198,IF(#REF!=\"French\",Translations!C1198,IF(#REF!=\"Italian\",Translations!D1198,IF(#REF!=\"German\",Translations!E1198,IF(#REF!=\"Spanish\",Translations!F1198,Translations!B1198)))))","v":{"$error":"#REF!"}},"Somalia-Mobile-Onkod","Somalie-Mobile-Onkod","Somalia-Mobile-Onkod","Somalia-Mobilfunk-Onkod","Somalia-Móvil-Onkod"]
[{"$f":"IF(#REF!=\"English\",Translations!B1199,IF(#REF!=\"French\",Translations!C1199,IF(#REF!=\"Italian\",Translations!D1199,IF(#REF!=\"German\",Translations!E1199,IF(#REF!=\"Spanish\",Translations!F1199,Translations!B1199)))))","v":{"$error":"#REF!"}},"Somalia-Mobile-Others","Somalie-Mobile-Autres","Somalia-Mobile-Altri","Somalia-Mobilfunk-Andere","Somalia-Móvil-Otros"]
[{"$f":"IF(#REF!=\"English\",Translations!B1200,IF(#REF!=\"French\",Translations!C1200,IF(#REF!=\"Italian\",Translations!D1200,IF(#REF!=\"German\",Translations!E1200,IF(#REF!=\"Spanish\",Translations!F1200,Translations!B1200)))))","v":{"$error":"#REF!"}},"Somalia-Special Services","Somalie-Special Services","Somalia-Special Services","Somalia-Special Services","Somalia-Special Services"]
[{"$f":"IF(#REF!=\"English\",Translations!B1201,IF(#REF!=\"French\",Translations!C1201,IF(#REF!=\"Italian\",Translations!D1201,IF(#REF!=\"German\",Translations!E1201,IF(#REF!=\"Spanish\",Translations!F1201,Translations!B1201)))))","v":{"$error":"#REF!"}},"South Africa","Afrique du Sud","Sudafrica","Südafrika","Sudáfrica"]
[{"$f":"IF(#REF!=\"English\",Translations!B1202,IF(#REF!=\"French\",Translations!C1202,IF(#REF!=\"Italian\",Translations!D1202,IF(#REF!=\"German\",Translations!E1202,IF(#REF!=\"Spanish\",Translations!F1202,Translations!B1202)))))","v":{"$error":"#REF!"}},"South Africa-Cape Town","Afrique du Sud-Cape Town","Sudafrica-Cape Town","Südafrika-Cape Town","Sudáfrica-Cape Town"]
[{"$f":"IF(#REF!=\"English\",Translations!B1203,IF(#REF!=\"French\",Translations!C1203,IF(#REF!=\"Italian\",Translations!D1203,IF(#REF!=\"German\",Translations!E1203,IF(#REF!=\"Spanish\",Translations!F1203,Translations!B1203)))))","v":{"$error":"#REF!"}},"South Africa-Johannesburg","Afrique du Sud-Johannesburg","Sudafrica-Johannesburg","Südafrika-Johannesburg","Sudáfrica-Johannesburg"]
[{"$f":"IF(#REF!=\"English\",Translations!B1204,IF(#REF!=\"French\",Translations!C1204,IF(#REF!=\"Italian\",Translations!D1204,IF(#REF!=\"German\",Translations!E1204,IF(#REF!=\"Spanish\",Translations!F1204,Translations!B1204)))))","v":{"$error":"#REF!"}},"South Africa-Mobile-CellC","Afrique du Sud-Mobile-CellC","Sudafrica-Mobile-CellC","Südafrika-Mobilfunk-CellC","Sudáfrica-Móvil-CellC"]
[{"$f":"IF(#REF!=\"English\",Translations!B1205,IF(#REF!=\"French\",Translations!C1205,IF(#REF!=\"Italian\",Translations!D1205,IF(#REF!=\"German\",Translations!E1205,IF(#REF!=\"Spanish\",Translations!F1205,Translations!B1205)))))","v":{"$error":"#REF!"}},"South Africa-Mobile-MTN","Afrique du Sud-Mobile-MTN","Sudafrica-Mobile-MTN","Südafrika-Mobilfunk-MTN","Sudáfrica-Móvil-MTN"]
[{"$f":"IF(#REF!=\"English\",Translations!B1206,IF(#REF!=\"French\",Translations!C1206,IF(#REF!=\"Italian\",Translations!D1206,IF(#REF!=\"German\",Translations!E1206,IF(#REF!=\"Spanish\",Translations!F1206,Translations!B1206)))))","v":{"$error":"#REF!"}},"South Africa-Mobile-Others","Afrique du Sud-Mobile-Autres","Sudafrica-Mobile-Altri","Südafrika-Mobilfunk-Andere","Sudáfrica-Móvil-Otros"]
[{"$f":"IF(#REF!=\"English\",Translations!B1207,IF(#REF!=\"French\",Translations!C1207,IF(#REF!=\"Italian\",Translations!D1207,IF(#REF!=\"German\",Translations!E1207,IF(#REF!=\"Spanish\",Translations!F1207,Translations!B1207)))))","v":{"$error":"#REF!"}},"South Africa-Mobile-Vodacom","Afrique du Sud-Mobile-Vodacom","Sudafrica-Mobile-Vodacom","Südafrika-Mobilfunk-Vodacom","Sudáfrica-Móvil-Vodacom"]
[{"$f":"IF(#REF!=\"English\",Translations!B1208,IF(#REF!=\"French\",Translations!C1208,IF(#REF!=\"Italian\",Translations!D1208,IF(#REF!=\"German\",Translations!E1208,IF(#REF!=\"Spanish\",Translations!F1208,Translations!B1208)))))","v":{"$error":"#REF!"}},"South Sudan","Soudan du Sud","Sudan del Sud","Südsudan","Sudán del Sur"]
[{"$f":"IF(#REF!=\"English\",Translations!B1209,IF(#REF!=\"French\",Translations!C1209,IF(#REF!=\"Italian\",Translations!D1209,IF(#REF!=\"German\",Translations!E1209,IF(#REF!=\"Spanish\",Translations!F1209,Translations!B1209)))))","v":{"$error":"#REF!"}},"South Sudan-Mobile","Soudan du Sud-Mobile","Sudan del Sud-Mobile","Südsudan-Mobilfunk","Sudán del Sur-Móvil"]
[{"$f":"IF(#REF!=\"English\",Translations!B1210,IF(#REF!=\"French\",Translations!C1210,IF(#REF!=\"Italian\",Translations!D1210,IF(#REF!=\"German\",Translations!E1210,IF(#REF!=\"Spanish\",Translations!F1210,Translations!B1210)))))","v":{"$error":"#REF!"}},"Spain","Espagne","Spagna","Spanien","España"]
[{"$f":"IF(#REF!=\"English\",Translations!B1211,IF(#REF!=\"French\",Translations!C1211,IF(#REF!=\"Italian\",Translations!D1211,IF(#REF!=\"German\",Translations!E1211,IF(#REF!=\"Spanish\",Translations!F1211,Translations!B1211)))))","v":{"$error":"#REF!"}},"Spain-Freephone","Espagne-Libre appel","Spagna-Freephone","Spanien-Freephone","España-Freephone"]
[{"$f":"IF(#REF!=\"English\",Translations!B1212,IF(#REF!=\"French\",Translations!C1212,IF(#REF!=\"Italian\",Translations!D1212,IF(#REF!=\"German\",Translations!E1212,IF(#REF!=\"Spanish\",Translations!F1212,Translations!B1212)))))","v":{"$error":"#REF!"}},"Spain-Mobile-Euskatel","Espagne-Mobile-Euskatel","Spagna-Mobile-Euskatel","Spanien-Mobilfunk-Euskatel","España-Móvil-Euskatel"]
[{"$f":"IF(#REF!=\"English\",Translations!B1213,IF(#REF!=\"French\",Translations!C1213,IF(#REF!=\"Italian\",Translations!D1213,IF(#REF!=\"German\",Translations!E1213,IF(#REF!=\"Spanish\",Translations!F1213,Translations!B1213)))))","v":{"$error":"#REF!"}},"Spain-Mobile-Orange","Espagne-Mobile-Orange","Spagna-Mobile-Orange","Spanien-Mobilfunk-Orange","España-Móvil-Orange"]
[{"$f":"IF(#REF!=\"English\",Translations!B1214,IF(#REF!=\"French\",Translations!C1214,IF(#REF!=\"Italian\",Translations!D1214,IF(#REF!=\"German\",Translations!E1214,IF(#REF!=\"Spanish\",Translations!F1214,Translations!B1214)))))","v":{"$error":"#REF!"}},"Spain-Mobile-Others","Espagne-Mobile-Autres","Spagna-Mobile-Altri","Spanien-Mobilfunk-Andere","España-Móvil-Otros"]
[{"$f":"IF(#REF!=\"English\",Translations!B1215,IF(#REF!=\"French\",Translations!C1215,IF(#REF!=\"Italian\",Translations!D1215,IF(#REF!=\"German\",Translations!E1215,IF(#REF!=\"Spanish\",Translations!F1215,Translations!B1215)))))","v":{"$error":"#REF!"}},"Spain-Mobile-Telefonica","Espagne-Mobile-Telefonica","Spagna-Mobile-Telefonica","Spanien-Mobilfunk-Telefonica","España-Móvil-Telefonica"]
[{"$f":"IF(#REF!=\"English\",Translations!B1216,IF(#REF!=\"French\",Translations!C1216,IF(#REF!=\"Italian\",Translations!D1216,IF(#REF!=\"German\",Translations!E1216,IF(#REF!=\"Spanish\",Translations!F1216,Translations!B1216)))))","v":{"$error":"#REF!"}},"Spain-Mobile-Vodafone","Espagne-Mobile-Vodafone","Spagna-Mobile-Vodafone","Spanien-Mobilfunk-Vodafone","España-Móvil-Vodafone"]
[{"$f":"IF(#REF!=\"English\",Translations!B1217,IF(#REF!=\"French\",Translations!C1217,IF(#REF!=\"Italian\",Translations!D1217,IF(#REF!=\"German\",Translations!E1217,IF(#REF!=\"Spanish\",Translations!F1217,Translations!B1217)))))","v":{"$error":"#REF!"}},"Spain-Mobile-Xfera","Espagne-Mobile-Xfera","Spagna-Mobile-Xfera","Spanien-Mobilfunk-Xfera","España-Móvil-Xfera"]
[{"$f":"IF(#REF!=\"English\",Translations!B1218,IF(#REF!=\"French\",Translations!C1218,IF(#REF!=\"Italian\",Translations!D1218,IF(#REF!=\"German\",Translations!E1218,IF(#REF!=\"Spanish\",Translations!F1218,Translations!B1218)))))","v":{"$error":"#REF!"}},"Spain-Personal Number","Espagne-Numéro personnel","Spagna-Personal Number","Spanien-Persönliche Nummer","España-Número Personal"]
[{"$f":"IF(#REF!=\"English\",Translations!B1219,IF(#REF!=\"French\",Translations!C1219,IF(#REF!=\"Italian\",Translations!D1219,IF(#REF!=\"German\",Translations!E1219,IF(#REF!=\"Spanish\",Translations!F1219,Translations!B1219)))))","v":{"$error":"#REF!"}},"Spain-Shared Cost","Espagne-Shared Cost","Spagna-Shared Cost","Spanien-Shared Cost","España-Shared Cost"]
[{"$f":"IF(#REF!=\"English\",Translations!B1220,IF(#REF!=\"French\",Translations!C1220,IF(#REF!=\"Italian\",Translations!D1220,IF(#REF!=\"German\",Translations!E1220,IF(#REF!=\"Spanish\",Translations!F1220,Translations!B1220)))))","v":{"$error":"#REF!"}},"Spain-Full Rate","Espagne-Full Rate","Spagna-Full Rate","Spanien-Full Rate","España-Full Rate"]
[{"$f":"IF(#REF!=\"English\",Translations!B1221,IF(#REF!=\"French\",Translations!C1221,IF(#REF!=\"Italian\",Translations!D1221,IF(#REF!=\"German\",Translations!E1221,IF(#REF!=\"Spanish\",Translations!F1221,Translations!B1221)))))","v":{"$error":"#REF!"}},"Sri Lanka","Sri Lanka","Sri Lanka","Sri Lanka","Sri Lanka"]
[{"$f":"IF(#REF!=\"English\",Translations!B1222,IF(#REF!=\"French\",Translations!C1222,IF(#REF!=\"Italian\",Translations!D1222,IF(#REF!=\"German\",Translations!E1222,IF(#REF!=\"Spanish\",Translations!F1222,Translations!B1222)))))","v":{"$error":"#REF!"}},"Sri Lanka-Mobile-Bharti","Sri Lanka-Mobile-Bharti","Sri Lanka-Mobile-Bharti","Sri Lanka-Mobilfunk-Bharti","Sri Lanka-Móvil-Bharti"]
[{"$f":"IF(#REF!=\"English\",Translations!B1223,IF(#REF!=\"French\",Translations!C1223,IF(#REF!=\"Italian\",Translations!D1223,IF(#REF!=\"German\",Translations!E1223,IF(#REF!=\"Spanish\",Translations!F1223,Translations!B1223)))))","v":{"$error":"#REF!"}},"Sri Lanka-Mobile-Mobitel","Sri Lanka-Mobile-Mobitel","Sri Lanka-Mobile-Mobitel","Sri Lanka-Mobilfunk-Mobitel","Sri Lanka-Móvil-Mobitel"]
[{"$f":"IF(#REF!=\"English\",Translations!B1224,IF(#REF!=\"French\",Translations!C1224,IF(#REF!=\"Italian\",Translations!D1224,IF(#REF!=\"German\",Translations!E1224,IF(#REF!=\"Spanish\",Translations!F1224,Translations!B1224)))))","v":{"$error":"#REF!"}},"Sri Lanka-Mobile-MTN","Sri Lanka-Mobile-MTN","Sri Lanka-Mobile-MTN","Sri Lanka-Mobilfunk-MTN","Sri Lanka-Móvil-MTN"]
[{"$f":"IF(#REF!=\"English\",Translations!B1225,IF(#REF!=\"French\",Translations!C1225,IF(#REF!=\"Italian\",Translations!D1225,IF(#REF!=\"German\",Translations!E1225,IF(#REF!=\"Spanish\",Translations!F1225,Translations!B1225)))))","v":{"$error":"#REF!"}},"Sri Lanka-Mobile-Others","Sri Lanka-Mobile-Autres","Sri Lanka-Mobile-Altri","Sri Lanka-Mobilfunk-Andere","Sri Lanka-Móvil-Otros"]
[{"$f":"IF(#REF!=\"English\",Translations!B1226,IF(#REF!=\"French\",Translations!C1226,IF(#REF!=\"Italian\",Translations!D1226,IF(#REF!=\"German\",Translations!E1226,IF(#REF!=\"Spanish\",Translations!F1226,Translations!B1226)))))","v":{"$error":"#REF!"}},"St Helena","Sainte Hélène","Sant'Elena  ","St. Helena","Santa Helena"]
[{"$f":"IF(#REF!=\"English\",Translations!B1227,IF(#REF!=\"French\",Translations!C1227,IF(#REF!=\"Italian\",Translations!D1227,IF(#REF!=\"German\",Translations!E1227,IF(#REF!=\"Spanish\",Translations!F1227,Translations!B1227)))))","v":{"$error":"#REF!"}},"St Kitts and Nevis","Saint Kitts et Nevis","Saint Kitts e Nevis","St. Kitts und Nevis","San Cristobal y Nieves"]
[{"$f":"IF(#REF!=\"English\",Translations!B1228,IF(#REF!=\"French\",Translations!C1228,IF(#REF!=\"Italian\",Translations!D1228,IF(#REF!=\"German\",Translations!E1228,IF(#REF!=\"Spanish\",Translations!F1228,Translations!B1228)))))","v":{"$error":"#REF!"}},"St Lucia","Sainte Lucie","Santa Lucia","St. Lucia","Santa Lucía"]
[{"$f":"IF(#REF!=\"English\",Translations!B1229,IF(#REF!=\"French\",Translations!C1229,IF(#REF!=\"Italian\",Translations!D1229,IF(#REF!=\"German\",Translations!E1229,IF(#REF!=\"Spanish\",Translations!F1229,Translations!B1229)))))","v":{"$error":"#REF!"}},"St Pierre and Miquelon","Saint Pierre et Miquelon","Saint Pierre e Miquelon","Saint Pierre und Miquelon","San Pedro y Miquelón"]
[{"$f":"IF(#REF!=\"English\",Translations!B1230,IF(#REF!=\"French\",Translations!C1230,IF(#REF!=\"Italian\",Translations!D1230,IF(#REF!=\"German\",Translations!E1230,IF(#REF!=\"Spanish\",Translations!F1230,Translations!B1230)))))","v":{"$error":"#REF!"}},"St Vincent Grenadines","Saint Vincent et les Grenadines","Saint Vincent e Grenadine","St. Vincent und die Grenadinen","San Vicente y las Granadinas "]
[{"$f":"IF(#REF!=\"English\",Translations!B1231,IF(#REF!=\"French\",Translations!C1231,IF(#REF!=\"Italian\",Translations!D1231,IF(#REF!=\"German\",Translations!E1231,IF(#REF!=\"Spanish\",Translations!F1231,Translations!B1231)))))","v":{"$error":"#REF!"}},"Sudan","Soudan","Sudan","Sudan","Sudán"]
[{"$f":"IF(#REF!=\"English\",Translations!B1232,IF(#REF!=\"French\",Translations!C1232,IF(#REF!=\"Italian\",Translations!D1232,IF(#REF!=\"German\",Translations!E1232,IF(#REF!=\"Spanish\",Translations!F1232,Translations!B1232)))))","v":{"$error":"#REF!"}},"Sudan-Mobile-MTN","Soudan-Mobile-MTN","Sudan-Mobile-MTN","Sudan-Mobilfunk-MTN","Sudán-Móvil-MTN"]
[{"$f":"IF(#REF!=\"English\",Translations!B1233,IF(#REF!=\"French\",Translations!C1233,IF(#REF!=\"Italian\",Translations!D1233,IF(#REF!=\"German\",Translations!E1233,IF(#REF!=\"Spanish\",Translations!F1233,Translations!B1233)))))","v":{"$error":"#REF!"}},"Sudan-Mobile-Others","Soudan-Mobile-Autres","Sudan-Mobile-Altri","Sudan-Mobilfunk-Andere","Sudán-Móvil-Otros"]
[{"$f":"IF(#REF!=\"English\",Translations!B1234,IF(#REF!=\"French\",Translations!C1234,IF(#REF!=\"Italian\",Translations!D1234,IF(#REF!=\"German\",Translations!E1234,IF(#REF!=\"Spanish\",Translations!F1234,Translations!B1234)))))","v":{"$error":"#REF!"}},"Sudan-Mobile-Zain","Soudan-Mobile-Zain","Sudan-Mobile-Zain","Sudan-Mobilfunk-Zain","Sudán-Móvil-Zain"]
[{"$f":"IF(#REF!=\"English\",Translations!B1235,IF(#REF!=\"French\",Translations!C1235,IF(#REF!=\"Italian\",Translations!D1235,IF(#REF!=\"German\",Translations!E1235,IF(#REF!=\"Spanish\",Translations!F1235,Translations!B1235)))))","v":{"$error":"#REF!"}},"Suriname","Suriname","Suriname","Suriname","Surinam"]
[{"$f":"IF(#REF!=\"English\",Translations!B1236,IF(#REF!=\"French\",Translations!C1236,IF(#REF!=\"Italian\",Translations!D1236,IF(#REF!=\"German\",Translations!E1236,IF(#REF!=\"Spanish\",Translations!F1236,Translations!B1236)))))","v":{"$error":"#REF!"}},"Suriname-Mobile-Digicel","Suriname-Mobile-Digicel","Suriname-Mobile-Digicel","Suriname-Mobilfunk-Digicel","Surinam-Móvil-Digicel"]
[{"$f":"IF(#REF!=\"English\",Translations!B1237,IF(#REF!=\"French\",Translations!C1237,IF(#REF!=\"Italian\",Translations!D1237,IF(#REF!=\"German\",Translations!E1237,IF(#REF!=\"Spanish\",Translations!F1237,Translations!B1237)))))","v":{"$error":"#REF!"}},"Suriname-Mobile-Intelsur","Suriname-Mobile-Intelsur","Suriname-Mobile-Intelsur","Suriname-Mobilfunk-Intelsur","Surinam-Móvil-Intelsur"]
[{"$f":"IF(#REF!=\"English\",Translations!B1238,IF(#REF!=\"French\",Translations!C1238,IF(#REF!=\"Italian\",Translations!D1238,IF(#REF!=\"German\",Translations!E1238,IF(#REF!=\"Spanish\",Translations!F1238,Translations!B1238)))))","v":{"$error":"#REF!"}},"Suriname-Mobile-Telesur","Suriname-Mobile-Telesur","Suriname-Mobile-Telesur","Suriname-Mobilfunk-Telesur","Surinam-Móvil-Telesur"]
[{"$f":"IF(#REF!=\"English\",Translations!B1239,IF(#REF!=\"French\",Translations!C1239,IF(#REF!=\"Italian\",Translations!D1239,IF(#REF!=\"German\",Translations!E1239,IF(#REF!=\"Spanish\",Translations!F1239,Translations!B1239)))))","v":{"$error":"#REF!"}},"Suriname-Mobile-Others","Suriname-Mobile-Autres","Suriname-Mobile-Altri","Suriname-Mobilfunk-Andere","Surinam-Móvil-Otros"]
[{"$f":"IF(#REF!=\"English\",Translations!B1240,IF(#REF!=\"French\",Translations!C1240,IF(#REF!=\"Italian\",Translations!D1240,IF(#REF!=\"German\",Translations!E1240,IF(#REF!=\"Spanish\",Translations!F1240,Translations!B1240)))))","v":{"$error":"#REF!"}},"Swaziland","Swaziland","Swaziland","Swasiland","Suazilândia"]
[{"$f":"IF(#REF!=\"English\",Translations!B1241,IF(#REF!=\"French\",Translations!C1241,IF(#REF!=\"Italian\",Translations!D1241,IF(#REF!=\"German\",Translations!E1241,IF(#REF!=\"Spanish\",Translations!F1241,Translations!B1241)))))","v":{"$error":"#REF!"}},"Swaziland-Mobile","Swaziland-Mobile","Swaziland-Mobile","Swasiland-Mobilfunk","Suazilândia-Móvil"]
[{"$f":"IF(#REF!=\"English\",Translations!B1242,IF(#REF!=\"French\",Translations!C1242,IF(#REF!=\"Italian\",Translations!D1242,IF(#REF!=\"German\",Translations!E1242,IF(#REF!=\"Spanish\",Translations!F1242,Translations!B1242)))))","v":{"$error":"#REF!"}},"Sweden","Suède","Svezia","Schweden","Suecia"]
[{"$f":"IF(#REF!=\"English\",Translations!B1243,IF(#REF!=\"French\",Translations!C1243,IF(#REF!=\"Italian\",Translations!D1243,IF(#REF!=\"German\",Translations!E1243,IF(#REF!=\"Spanish\",Translations!F1243,Translations!B1243)))))","v":{"$error":"#REF!"}},"Sweden-Freephone","Suède-Libre appel","Svezia-Freephone","Schweden-Freephone","Suecia-Freephone"]
[{"$f":"IF(#REF!=\"English\",Translations!B1244,IF(#REF!=\"French\",Translations!C1244,IF(#REF!=\"Italian\",Translations!D1244,IF(#REF!=\"German\",Translations!E1244,IF(#REF!=\"Spanish\",Translations!F1244,Translations!B1244)))))","v":{"$error":"#REF!"}},"Sweden-Mobile-Comviq","Suède-Mobile-Comviq","Svezia-Mobile-Comviq","Schweden-Mobilfunk-Comviq","Suecia-Móvil-Comviq"]
[{"$f":"IF(#REF!=\"English\",Translations!B1245,IF(#REF!=\"French\",Translations!C1245,IF(#REF!=\"Italian\",Translations!D1245,IF(#REF!=\"German\",Translations!E1245,IF(#REF!=\"Spanish\",Translations!F1245,Translations!B1245)))))","v":{"$error":"#REF!"}},"Sweden-Mobile-Hi3G","Suède-Mobile-Hi3G","Svezia-Mobile-Hi3G","Schweden-Mobilfunk-Hi3G","Suecia-Móvil-Hi3G"]
[{"$f":"IF(#REF!=\"English\",Translations!B1246,IF(#REF!=\"French\",Translations!C1246,IF(#REF!=\"Italian\",Translations!D1246,IF(#REF!=\"German\",Translations!E1246,IF(#REF!=\"Spanish\",Translations!F1246,Translations!B1246)))))","v":{"$error":"#REF!"}},"Sweden-Mobile-Others","Suède-Mobile-Autres","Svezia-Mobile-Altri","Schweden-Mobilfunk-Andere","Suecia-Móvil-Otros"]
[{"$f":"IF(#REF!=\"English\",Translations!B1247,IF(#REF!=\"French\",Translations!C1247,IF(#REF!=\"Italian\",Translations!D1247,IF(#REF!=\"German\",Translations!E1247,IF(#REF!=\"Spanish\",Translations!F1247,Translations!B1247)))))","v":{"$error":"#REF!"}},"Sweden-Mobile-Telenor","Suède-Mobile-Telenor","Svezia-Mobile-Telenor","Schweden-Mobilfunk-Telenor","Suecia-Móvil-Telenor"]
[{"$f":"IF(#REF!=\"English\",Translations!B1248,IF(#REF!=\"French\",Translations!C1248,IF(#REF!=\"Italian\",Translations!D1248,IF(#REF!=\"German\",Translations!E1248,IF(#REF!=\"Spanish\",Translations!F1248,Translations!B1248)))))","v":{"$error":"#REF!"}},"Sweden-Mobile-Telia","Suède-Mobile-Telia","Svezia-Mobile-Telia","Schweden-Mobilfunk-Telia","Suecia-Móvil-Telia"]
[{"$f":"IF(#REF!=\"English\",Translations!B1249,IF(#REF!=\"French\",Translations!C1249,IF(#REF!=\"Italian\",Translations!D1249,IF(#REF!=\"German\",Translations!E1249,IF(#REF!=\"Spanish\",Translations!F1249,Translations!B1249)))))","v":{"$error":"#REF!"}},"Sweden-Personal Number","Suède-Numéro personnel","Svezia-Personal Number","Schweden-Persönliche Nummer","Suecia-Número Personal"]
[{"$f":"IF(#REF!=\"English\",Translations!B1250,IF(#REF!=\"French\",Translations!C1250,IF(#REF!=\"Italian\",Translations!D1250,IF(#REF!=\"German\",Translations!E1250,IF(#REF!=\"Spanish\",Translations!F1250,Translations!B1250)))))","v":{"$error":"#REF!"}},"Sweden-Shared Cost","Suède-Business Call","Svezia-Shared Cost","Schweden-Shared Cost","Suecia-Shared Cost"]
[{"$f":"IF(#REF!=\"English\",Translations!B1251,IF(#REF!=\"French\",Translations!C1251,IF(#REF!=\"Italian\",Translations!D1251,IF(#REF!=\"German\",Translations!E1251,IF(#REF!=\"Spanish\",Translations!F1251,Translations!B1251)))))","v":{"$error":"#REF!"}},"Switzerland","Suisse","Svizzera","Schweiz","Suiza"]
[{"$f":"IF(#REF!=\"English\",Translations!B1252,IF(#REF!=\"French\",Translations!C1252,IF(#REF!=\"Italian\",Translations!D1252,IF(#REF!=\"German\",Translations!E1252,IF(#REF!=\"Spanish\",Translations!F1252,Translations!B1252)))))","v":{"$error":"#REF!"}},"Switzerland-Basel","Suisse-Basel","Svizzera-Basel","Schweiz-Basel","Suiza-Basel"]
[{"$f":"IF(#REF!=\"English\",Translations!B1253,IF(#REF!=\"French\",Translations!C1253,IF(#REF!=\"Italian\",Translations!D1253,IF(#REF!=\"German\",Translations!E1253,IF(#REF!=\"Spanish\",Translations!F1253,Translations!B1253)))))","v":{"$error":"#REF!"}},"Switzerland-Bern","Suisse-Bern","Svizzera-Bern","Schweiz-Bern","Suiza-Bern"]
[{"$f":"IF(#REF!=\"English\",Translations!B1254,IF(#REF!=\"French\",Translations!C1254,IF(#REF!=\"Italian\",Translations!D1254,IF(#REF!=\"German\",Translations!E1254,IF(#REF!=\"Spanish\",Translations!F1254,Translations!B1254)))))","v":{"$error":"#REF!"}},"Switzerland-Corporate Networks","Suisse-Corporate Networks","Svizzera-Corporate Networks","Schweiz-Corporate Networks","Suiza-Corporate Networks"]
[{"$f":"IF(#REF!=\"English\",Translations!B1255,IF(#REF!=\"French\",Translations!C1255,IF(#REF!=\"Italian\",Translations!D1255,IF(#REF!=\"German\",Translations!E1255,IF(#REF!=\"Spanish\",Translations!F1255,Translations!B1255)))))","v":{"$error":"#REF!"}},"Switzerland-Freephone","Suisse-Libre appel","Svizzera-Freephone","Schweiz-Freephone","Suiza-Freephone"]
[{"$f":"IF(#REF!=\"English\",Translations!B1256,IF(#REF!=\"French\",Translations!C1256,IF(#REF!=\"Italian\",Translations!D1256,IF(#REF!=\"German\",Translations!E1256,IF(#REF!=\"Spanish\",Translations!F1256,Translations!B1256)))))","v":{"$error":"#REF!"}},"Switzerland-Geneva","Suisse-Geneva","Svizzera-Geneva","Schweiz-Geneva","Suiza-Geneva"]
[{"$f":"IF(#REF!=\"English\",Translations!B1257,IF(#REF!=\"French\",Translations!C1257,IF(#REF!=\"Italian\",Translations!D1257,IF(#REF!=\"German\",Translations!E1257,IF(#REF!=\"Spanish\",Translations!F1257,Translations!B1257)))))","v":{"$error":"#REF!"}},"Switzerland-Lausanne","Suisse-Lausanne","Svizzera-Lausanne","Schweiz-Lausanne","Suiza-Lausanne"]
[{"$f":"IF(#REF!=\"English\",Translations!B1258,IF(#REF!=\"French\",Translations!C1258,IF(#REF!=\"Italian\",Translations!D1258,IF(#REF!=\"German\",Translations!E1258,IF(#REF!=\"Spanish\",Translations!F1258,Translations!B1258)))))","v":{"$error":"#REF!"}},"Switzerland-Lucerne","Suisse-Lucerne","Svizzera-Lucerne","Schweiz-Lucerne","Suiza-Lucerne"]
[{"$f":"IF(#REF!=\"English\",Translations!B1259,IF(#REF!=\"French\",Translations!C1259,IF(#REF!=\"Italian\",Translations!D1259,IF(#REF!=\"German\",Translations!E1259,IF(#REF!=\"Spanish\",Translations!F1259,Translations!B1259)))))","v":{"$error":"#REF!"}},"Switzerland-Mobile-Orange","Suisse-Mobile-Orange","Svizzera-Mobile-Orange","Schweiz-Mobilfunk-Orange","Suiza-Móvil-Orange"]
[{"$f":"IF(#REF!=\"English\",Translations!B1260,IF(#REF!=\"French\",Translations!C1260,IF(#REF!=\"Italian\",Translations!D1260,IF(#REF!=\"German\",Translations!E1260,IF(#REF!=\"Spanish\",Translations!F1260,Translations!B1260)))))","v":{"$error":"#REF!"}},"Switzerland-Mobile-Others","Suisse-Mobile-Autres","Svizzera-Mobile-Altri","Schweiz-Mobilfunk-Andere","Suiza-Móvil-Otros"]
[{"$f":"IF(#REF!=\"English\",Translations!B1261,IF(#REF!=\"French\",Translations!C1261,IF(#REF!=\"Italian\",Translations!D1261,IF(#REF!=\"German\",Translations!E1261,IF(#REF!=\"Spanish\",Translations!F1261,Translations!B1261)))))","v":{"$error":"#REF!"}},"Switzerland-Mobile-Sunrise","Suisse-Mobile-Sunrise","Svizzera-Mobile-Sunrise","Schweiz-Mobilfunk-Sunrise","Suiza-Móvil-Sunrise"]
[{"$f":"IF(#REF!=\"English\",Translations!B1262,IF(#REF!=\"French\",Translations!C1262,IF(#REF!=\"Italian\",Translations!D1262,IF(#REF!=\"German\",Translations!E1262,IF(#REF!=\"Spanish\",Translations!F1262,Translations!B1262)))))","v":{"$error":"#REF!"}},"Switzerland-Mobile-Swisscom","Suisse-Mobile-Swisscom","Svizzera-Mobile-Swisscom","Schweiz-Mobilfunk-Swisscom","Suiza-Móvil-Swisscom"]
[{"$f":"IF(#REF!=\"English\",Translations!B1263,IF(#REF!=\"French\",Translations!C1263,IF(#REF!=\"Italian\",Translations!D1263,IF(#REF!=\"German\",Translations!E1263,IF(#REF!=\"Spanish\",Translations!F1263,Translations!B1263)))))","v":{"$error":"#REF!"}},"Switzerland-Mobile-Lycamobile","Suisse-Mobile-Lycamobile","Svizzera-Mobile-Lycamobile","Schweiz-Mobilfunk-Lycamobile","Suiza-Móvil-Lycamobile"]
[{"$f":"IF(#REF!=\"English\",Translations!B1264,IF(#REF!=\"French\",Translations!C1264,IF(#REF!=\"Italian\",Translations!D1264,IF(#REF!=\"German\",Translations!E1264,IF(#REF!=\"Spanish\",Translations!F1264,Translations!B1264)))))","v":{"$error":"#REF!"}},"Switzerland-Personal Number","Suisse-Numéro personnel","Svizzera-Personal Number","Schweiz-Persönliche Nummer","Suiza-Número Personal"]
[{"$f":"IF(#REF!=\"English\",Translations!B1265,IF(#REF!=\"French\",Translations!C1265,IF(#REF!=\"Italian\",Translations!D1265,IF(#REF!=\"German\",Translations!E1265,IF(#REF!=\"Spanish\",Translations!F1265,Translations!B1265)))))","v":{"$error":"#REF!"}},"Switzerland-Shared Cost","Suisse-Business Call","Svizzera-Shared Cost","Schweiz-Shared Cost","Suiza-Shared Cost"]
[{"$f":"IF(#REF!=\"English\",Translations!B1266,IF(#REF!=\"French\",Translations!C1266,IF(#REF!=\"Italian\",Translations!D1266,IF(#REF!=\"German\",Translations!E1266,IF(#REF!=\"Spanish\",Translations!F1266,Translations!B1266)))))","v":{"$error":"#REF!"}},"Switzerland-Tessin","Suisse-Tessin","Svizzera-Tessin","Schweiz-Tessin","Suiza-Tessin"]
[{"$f":"IF(#REF!=\"English\",Translations!B1267,IF(#REF!=\"French\",Translations!C1267,IF(#REF!=\"Italian\",Translations!D1267,IF(#REF!=\"German\",Translations!E1267,IF(#REF!=\"Spanish\",Translations!F1267,Translations!B1267)))))","v":{"$error":"#REF!"}},"Switzerland-Zurich","Suisse-Zurich","Svizzera-Zurich","Schweiz-Zurich","Suiza-Zurich"]
[{"$f":"IF(#REF!=\"English\",Translations!B1268,IF(#REF!=\"French\",Translations!C1268,IF(#REF!=\"Italian\",Translations!D1268,IF(#REF!=\"German\",Translations!E1268,IF(#REF!=\"Spanish\",Translations!F1268,Translations!B1268)))))","v":{"$error":"#REF!"}},"Syria","Syrie","Siria","Syrien","Siria"]
[{"$f":"IF(#REF!=\"English\",Translations!B1269,IF(#REF!=\"French\",Translations!C1269,IF(#REF!=\"Italian\",Translations!D1269,IF(#REF!=\"German\",Translations!E1269,IF(#REF!=\"Spanish\",Translations!F1269,Translations!B1269)))))","v":{"$error":"#REF!"}},"Syria-Mobile","Syrie-Mobile","Siria-Mobile","Syrien-Mobilfunk","Siria-Móvil"]
[{"$f":"IF(#REF!=\"English\",Translations!B1270,IF(#REF!=\"French\",Translations!C1270,IF(#REF!=\"Italian\",Translations!D1270,IF(#REF!=\"German\",Translations!E1270,IF(#REF!=\"Spanish\",Translations!F1270,Translations!B1270)))))","v":{"$error":"#REF!"}},"Taiwan","Taïwan","Taiwan","Taiwan","Taiwán"]
[{"$f":"IF(#REF!=\"English\",Translations!B1271,IF(#REF!=\"French\",Translations!C1271,IF(#REF!=\"Italian\",Translations!D1271,IF(#REF!=\"German\",Translations!E1271,IF(#REF!=\"Spanish\",Translations!F1271,Translations!B1271)))))","v":{"$error":"#REF!"}},"Taiwan-Mobile","Taïwan-Mobile","Taiwan-Taipei","Taiwan-Mobilfunk","Taiwán-Móvil"]
[{"$f":"IF(#REF!=\"English\",Translations!B1272,IF(#REF!=\"French\",Translations!C1272,IF(#REF!=\"Italian\",Translations!D1272,IF(#REF!=\"German\",Translations!E1272,IF(#REF!=\"Spanish\",Translations!F1272,Translations!B1272)))))","v":{"$error":"#REF!"}},"Taiwan-Taipei","Taïwan-Taipei","Taiwan-Mobile","Taiwan-Taipei","Taiwán-Taipei"]
[{"$f":"IF(#REF!=\"English\",Translations!B1273,IF(#REF!=\"French\",Translations!C1273,IF(#REF!=\"Italian\",Translations!D1273,IF(#REF!=\"German\",Translations!E1273,IF(#REF!=\"Spanish\",Translations!F1273,Translations!B1273)))))","v":{"$error":"#REF!"}},"Tajikistan","Tadjikistan","Tagikistan","Tadschikistan","Tadjikistan "]
[{"$f":"IF(#REF!=\"English\",Translations!B1274,IF(#REF!=\"French\",Translations!C1274,IF(#REF!=\"Italian\",Translations!D1274,IF(#REF!=\"German\",Translations!E1274,IF(#REF!=\"Spanish\",Translations!F1274,Translations!B1274)))))","v":{"$error":"#REF!"}},"Tajikistan-Mobile-Babilon","Tadjikistan-Mobile-Babilon","Tagikistan-Mobile-Babilon","Tadschikistan-Mobilfunk-Babilon","Tadjikistan -Móvil-Babilon"]
[{"$f":"IF(#REF!=\"English\",Translations!B1275,IF(#REF!=\"French\",Translations!C1275,IF(#REF!=\"Italian\",Translations!D1275,IF(#REF!=\"German\",Translations!E1275,IF(#REF!=\"Spanish\",Translations!F1275,Translations!B1275)))))","v":{"$error":"#REF!"}},"Tajikistan-Mobile-Beeline","Tadjikistan-Mobile-Beeline","Tagikistan-Mobile-Beeline","Tadschikistan-Mobilfunk-Beeline","Tadjikistan -Móvil-Beeline"]
[{"$f":"IF(#REF!=\"English\",Translations!B1276,IF(#REF!=\"French\",Translations!C1276,IF(#REF!=\"Italian\",Translations!D1276,IF(#REF!=\"German\",Translations!E1276,IF(#REF!=\"Spanish\",Translations!F1276,Translations!B1276)))))","v":{"$error":"#REF!"}},"Tajikistan-Mobile-Indigo","Tadjikistan-Mobile-Indigo","Tagikistan-Mobile-Indigo","Tadschikistan-Mobilfunk-Indigo","Tadjikistan -Móvil-Indigo"]
[{"$f":"IF(#REF!=\"English\",Translations!B1277,IF(#REF!=\"French\",Translations!C1277,IF(#REF!=\"Italian\",Translations!D1277,IF(#REF!=\"German\",Translations!E1277,IF(#REF!=\"Spanish\",Translations!F1277,Translations!B1277)))))","v":{"$error":"#REF!"}},"Tajikistan-Mobile-MLT","Tadjikistan-Mobile-MLT","Tagikistan-Mobile-MLT","Tadschikistan-Mobilfunk-MLT","Tadjikistan -Móvil-MLT"]
[{"$f":"IF(#REF!=\"English\",Translations!B1278,IF(#REF!=\"French\",Translations!C1278,IF(#REF!=\"Italian\",Translations!D1278,IF(#REF!=\"German\",Translations!E1278,IF(#REF!=\"Spanish\",Translations!F1278,Translations!B1278)))))","v":{"$error":"#REF!"}},"Tajikistan-Mobile-Tajiktel","Tadjikistan-Mobile-Tajiktel","Tagikistan-Mobile-Tajiktel","Tadschikistan-Mobilfunk-Tajiktel","Tadjikistan -Móvil-Tajiktel"]
[{"$f":"IF(#REF!=\"English\",Translations!B1279,IF(#REF!=\"French\",Translations!C1279,IF(#REF!=\"Italian\",Translations!D1279,IF(#REF!=\"German\",Translations!E1279,IF(#REF!=\"Spanish\",Translations!F1279,Translations!B1279)))))","v":{"$error":"#REF!"}},"Tajikistan-Mobile-TKmob","Tadjikistan-Mobile-TKmob","Tagikistan-Mobile-TKmob","Tadschikistan-Mobilfunk-TKmob","Tadjikistan -Móvil-TKmob"]
[{"$f":"IF(#REF!=\"English\",Translations!B1280,IF(#REF!=\"French\",Translations!C1280,IF(#REF!=\"Italian\",Translations!D1280,IF(#REF!=\"German\",Translations!E1280,IF(#REF!=\"Spanish\",Translations!F1280,Translations!B1280)))))","v":{"$error":"#REF!"}},"Tajikistan-Mobile-Others","Tadjikistan-Mobile-Autres","Tagikistan-Mobile-Altri","Tadschikistan-Mobilfunk-Andere","Tadjikistan -Móvil-Otros"]
[{"$f":"IF(#REF!=\"English\",Translations!B1281,IF(#REF!=\"French\",Translations!C1281,IF(#REF!=\"Italian\",Translations!D1281,IF(#REF!=\"German\",Translations!E1281,IF(#REF!=\"Spanish\",Translations!F1281,Translations!B1281)))))","v":{"$error":"#REF!"}},"Tanzania","Tanzanie","Tanzania","Tansania","Tanzania"]
[{"$f":"IF(#REF!=\"English\",Translations!B1282,IF(#REF!=\"French\",Translations!C1282,IF(#REF!=\"Italian\",Translations!D1282,IF(#REF!=\"German\",Translations!E1282,IF(#REF!=\"Spanish\",Translations!F1282,Translations!B1282)))))","v":{"$error":"#REF!"}},"Tanzania-Dar es Salaam","Tanzanie-Dar es Salaam","Tanzania-Dar es Salaam","Tansania-Dar es Salaam","Tanzania-Dar es Salaam"]
[{"$f":"IF(#REF!=\"English\",Translations!B1283,IF(#REF!=\"French\",Translations!C1283,IF(#REF!=\"Italian\",Translations!D1283,IF(#REF!=\"German\",Translations!E1283,IF(#REF!=\"Spanish\",Translations!F1283,Translations!B1283)))))","v":{"$error":"#REF!"}},"Tanzania-Mobile-Celtel","Tanzanie-Mobile-Celtel","Tanzania-Mobile-Celtel","Tansania-Mobilfunk-Celtel","Tanzania-Móvil-Celtel"]
[{"$f":"IF(#REF!=\"English\",Translations!B1284,IF(#REF!=\"French\",Translations!C1284,IF(#REF!=\"Italian\",Translations!D1284,IF(#REF!=\"German\",Translations!E1284,IF(#REF!=\"Spanish\",Translations!F1284,Translations!B1284)))))","v":{"$error":"#REF!"}},"Tanzania-Mobile-Others","Tanzanie-Mobile-Autres","Tanzania-Mobile-Altri","Tansania-Mobilfunk-Andere","Tanzania-Móvil-Otros"]
[{"$f":"IF(#REF!=\"English\",Translations!B1285,IF(#REF!=\"French\",Translations!C1285,IF(#REF!=\"Italian\",Translations!D1285,IF(#REF!=\"German\",Translations!E1285,IF(#REF!=\"Spanish\",Translations!F1285,Translations!B1285)))))","v":{"$error":"#REF!"}},"Tanzania-Mobile-Tigo","Tanzanie-Mobile-Tigo","Tanzania-Mobile-Tigo","Tansania-Mobilfunk-Tigo","Tanzania-Móvil-Tigo"]
[{"$f":"IF(#REF!=\"English\",Translations!B1286,IF(#REF!=\"French\",Translations!C1286,IF(#REF!=\"Italian\",Translations!D1286,IF(#REF!=\"German\",Translations!E1286,IF(#REF!=\"Spanish\",Translations!F1286,Translations!B1286)))))","v":{"$error":"#REF!"}},"Tanzania-Mobile-Vodacom","Tanzanie-Mobile-Vodacom","Tanzania-Mobile-Vodacom","Tansania-Mobilfunk-Vodacom","Tanzania-Móvil-Vodacom"]
[{"$f":"IF(#REF!=\"English\",Translations!B1287,IF(#REF!=\"French\",Translations!C1287,IF(#REF!=\"Italian\",Translations!D1287,IF(#REF!=\"German\",Translations!E1287,IF(#REF!=\"Spanish\",Translations!F1287,Translations!B1287)))))","v":{"$error":"#REF!"}},"Tanzania-Zanzibar","Tanzanie-Zanzibar","Tanzania-Zanzibar","Tansania-Zanzibar","Tanzania-Zanzibar"]
[{"$f":"IF(#REF!=\"English\",Translations!B1288,IF(#REF!=\"French\",Translations!C1288,IF(#REF!=\"Italian\",Translations!D1288,IF(#REF!=\"German\",Translations!E1288,IF(#REF!=\"Spanish\",Translations!F1288,Translations!B1288)))))","v":{"$error":"#REF!"}},"Thailand","Thaïlande","Tailandia","Thailand","Tailandia"]
[{"$f":"IF(#REF!=\"English\",Translations!B1289,IF(#REF!=\"French\",Translations!C1289,IF(#REF!=\"Italian\",Translations!D1289,IF(#REF!=\"German\",Translations!E1289,IF(#REF!=\"Spanish\",Translations!F1289,Translations!B1289)))))","v":{"$error":"#REF!"}},"Thailand-Bangkok","Thaïlande-Bangkok","Tailandia-Bangkok","Thailand-Bangkok","Tailandia-Bangkok"]
[{"$f":"IF(#REF!=\"English\",Translations!B1290,IF(#REF!=\"French\",Translations!C1290,IF(#REF!=\"Italian\",Translations!D1290,IF(#REF!=\"German\",Translations!E1290,IF(#REF!=\"Spanish\",Translations!F1290,Translations!B1290)))))","v":{"$error":"#REF!"}},"Thailand-Mobile","Thailande-Mobile","Tailandia-Mobile","Thailand-Mobilfunk","Tailandia-Móvil"]
[{"$f":"IF(#REF!=\"English\",Translations!B1291,IF(#REF!=\"French\",Translations!C1291,IF(#REF!=\"Italian\",Translations!D1291,IF(#REF!=\"German\",Translations!E1291,IF(#REF!=\"Spanish\",Translations!F1291,Translations!B1291)))))","v":{"$error":"#REF!"}},"Togo","Togo","Togo","Togo","Togo"]
[{"$f":"IF(#REF!=\"English\",Translations!B1292,IF(#REF!=\"French\",Translations!C1292,IF(#REF!=\"Italian\",Translations!D1292,IF(#REF!=\"German\",Translations!E1292,IF(#REF!=\"Spanish\",Translations!F1292,Translations!B1292)))))","v":{"$error":"#REF!"}},"Togo-Mobile-Telecell","Togo-Mobile-Telecell","Togo-Mobile-Telecell","Togo-Mobilfunk-Telecell","Togo-Móvil-Telecell"]
[{"$f":"IF(#REF!=\"English\",Translations!B1293,IF(#REF!=\"French\",Translations!C1293,IF(#REF!=\"Italian\",Translations!D1293,IF(#REF!=\"German\",Translations!E1293,IF(#REF!=\"Spanish\",Translations!F1293,Translations!B1293)))))","v":{"$error":"#REF!"}},"Togo-Mobile-Togocell","Togo-Mobile-Togocell","Togo-Mobile-Togocell","Togo-Mobilfunk-Togocell","Togo-Móvil-Togocell"]
[{"$f":"IF(#REF!=\"English\",Translations!B1294,IF(#REF!=\"French\",Translations!C1294,IF(#REF!=\"Italian\",Translations!D1294,IF(#REF!=\"German\",Translations!E1294,IF(#REF!=\"Spanish\",Translations!F1294,Translations!B1294)))))","v":{"$error":"#REF!"}},"Tokelau","Tokelau","Tokelau","Tokelau","Tokelau "]
[{"$f":"IF(#REF!=\"English\",Translations!B1295,IF(#REF!=\"French\",Translations!C1295,IF(#REF!=\"Italian\",Translations!D1295,IF(#REF!=\"German\",Translations!E1295,IF(#REF!=\"Spanish\",Translations!F1295,Translations!B1295)))))","v":{"$error":"#REF!"}},"Tonga","Tonga","Tonga","Tonga","Tonga"]
[{"$f":"IF(#REF!=\"English\",Translations!B1296,IF(#REF!=\"French\",Translations!C1296,IF(#REF!=\"Italian\",Translations!D1296,IF(#REF!=\"German\",Translations!E1296,IF(#REF!=\"Spanish\",Translations!F1296,Translations!B1296)))))","v":{"$error":"#REF!"}},"Trinidad and Tobago","Trinité-et-Tobago","Trinidad e Tobago","Trinidad und Tobago","Trinidad y Tobago"]
[{"$f":"IF(#REF!=\"English\",Translations!B1297,IF(#REF!=\"French\",Translations!C1297,IF(#REF!=\"Italian\",Translations!D1297,IF(#REF!=\"German\",Translations!E1297,IF(#REF!=\"Spanish\",Translations!F1297,Translations!B1297)))))","v":{"$error":"#REF!"}},"Trinidad and Tobago-Mobile-Digicel","Trinité-et-Tobago-Mobile-Digicel","Trinidad e Tobago-Mobile-Digicel","Trinidad und Tobago-Mobilfunk-Digicel","Trinidad y Tobago-Móvil-Digicel"]
[{"$f":"IF(#REF!=\"English\",Translations!B1298,IF(#REF!=\"French\",Translations!C1298,IF(#REF!=\"Italian\",Translations!D1298,IF(#REF!=\"German\",Translations!E1298,IF(#REF!=\"Spanish\",Translations!F1298,Translations!B1298)))))","v":{"$error":"#REF!"}},"Trinidad and Tobago-Mobile-Others","Trinité-et-Tobago-Mobile-Autres","Trinidad e Tobago-Mobile-Altri","Trinidad und Tobago-Mobilfunk-Andere","Trinidad y Tobago-Móvil-Otros"]
[{"$f":"IF(#REF!=\"English\",Translations!B1299,IF(#REF!=\"French\",Translations!C1299,IF(#REF!=\"Italian\",Translations!D1299,IF(#REF!=\"German\",Translations!E1299,IF(#REF!=\"Spanish\",Translations!F1299,Translations!B1299)))))","v":{"$error":"#REF!"}},"Tunisia","Tunisie","Tunisia","Tunesien","Túnez"]
[{"$f":"IF(#REF!=\"English\",Translations!B1300,IF(#REF!=\"French\",Translations!C1300,IF(#REF!=\"Italian\",Translations!D1300,IF(#REF!=\"German\",Translations!E1300,IF(#REF!=\"Spanish\",Translations!F1300,Translations!B1300)))))","v":{"$error":"#REF!"}},"Tunisia-Mobile-Orange","Tunisie-Mobile-Orange","Tunisia-Mobile-Orange","Tunesien-Mobilfunk-Orange","Túnez-Móvil-Orange"]
[{"$f":"IF(#REF!=\"English\",Translations!B1301,IF(#REF!=\"French\",Translations!C1301,IF(#REF!=\"Italian\",Translations!D1301,IF(#REF!=\"German\",Translations!E1301,IF(#REF!=\"Spanish\",Translations!F1301,Translations!B1301)))))","v":{"$error":"#REF!"}},"Tunisia-Mobile-Others","Tunisie-Mobile-Autres","Tunisia-Mobile-Altri","Tunesien-Mobilfunk-Andere","Túnez-Móvil-Otros"]
[{"$f":"IF(#REF!=\"English\",Translations!B1302,IF(#REF!=\"French\",Translations!C1302,IF(#REF!=\"Italian\",Translations!D1302,IF(#REF!=\"German\",Translations!E1302,IF(#REF!=\"Spanish\",Translations!F1302,Translations!B1302)))))","v":{"$error":"#REF!"}},"Tunisia-Mobile-Tunisiana","Tunisie-Mobile-Tunisiana","Tunisia-Mobile-Tunisiana","Tunesien-Mobilfunk-Tunisiana","Túnez-Móvil-Tunisiana"]
[{"$f":"IF(#REF!=\"English\",Translations!B1303,IF(#REF!=\"French\",Translations!C1303,IF(#REF!=\"Italian\",Translations!D1303,IF(#REF!=\"German\",Translations!E1303,IF(#REF!=\"Spanish\",Translations!F1303,Translations!B1303)))))","v":{"$error":"#REF!"}},"Tunisia-Tunis","Tunisie-Tunis","Tunisia-Tunis","Tunesien-Tunis","Túnez-Tunis"]
[{"$f":"IF(#REF!=\"English\",Translations!B1304,IF(#REF!=\"French\",Translations!C1304,IF(#REF!=\"Italian\",Translations!D1304,IF(#REF!=\"German\",Translations!E1304,IF(#REF!=\"Spanish\",Translations!F1304,Translations!B1304)))))","v":{"$error":"#REF!"}},"Turkey","Turquie","Turchia","Türkei","Turquía"]
[{"$f":"IF(#REF!=\"English\",Translations!B1305,IF(#REF!=\"French\",Translations!C1305,IF(#REF!=\"Italian\",Translations!D1305,IF(#REF!=\"German\",Translations!E1305,IF(#REF!=\"Spanish\",Translations!F1305,Translations!B1305)))))","v":{"$error":"#REF!"}},"Turkey-Adana","Turquie-Adana","Turchia-Adana","Türkei-Adana","Turquía-Adana"]
[{"$f":"IF(#REF!=\"English\",Translations!B1306,IF(#REF!=\"French\",Translations!C1306,IF(#REF!=\"Italian\",Translations!D1306,IF(#REF!=\"German\",Translations!E1306,IF(#REF!=\"Spanish\",Translations!F1306,Translations!B1306)))))","v":{"$error":"#REF!"}},"Turkey-Ankara","Turquie-Ankara","Turchia-Ankara","Türkei-Ankara","Turquía-Ankara"]
[{"$f":"IF(#REF!=\"English\",Translations!B1307,IF(#REF!=\"French\",Translations!C1307,IF(#REF!=\"Italian\",Translations!D1307,IF(#REF!=\"German\",Translations!E1307,IF(#REF!=\"Spanish\",Translations!F1307,Translations!B1307)))))","v":{"$error":"#REF!"}},"Turkey-Antalya","Turquie-Antalya","Turchia-Antalya","Türkei-Antalya","Turquía-Antalya"]
[{"$f":"IF(#REF!=\"English\",Translations!B1308,IF(#REF!=\"French\",Translations!C1308,IF(#REF!=\"Italian\",Translations!D1308,IF(#REF!=\"German\",Translations!E1308,IF(#REF!=\"Spanish\",Translations!F1308,Translations!B1308)))))","v":{"$error":"#REF!"}},"Turkey-Istanbul","Turquie-Istanbul","Turchia-Istanbul","Türkei-Istanbul","Turquía-Istanbul"]
[{"$f":"IF(#REF!=\"English\",Translations!B1309,IF(#REF!=\"French\",Translations!C1309,IF(#REF!=\"Italian\",Translations!D1309,IF(#REF!=\"German\",Translations!E1309,IF(#REF!=\"Spanish\",Translations!F1309,Translations!B1309)))))","v":{"$error":"#REF!"}},"Turkey-Izmir","Turquie-Izmir","Turchia-Izmir","Türkei-Izmir","Turquía-Izmir"]
[{"$f":"IF(#REF!=\"English\",Translations!B1310,IF(#REF!=\"French\",Translations!C1310,IF(#REF!=\"Italian\",Translations!D1310,IF(#REF!=\"German\",Translations!E1310,IF(#REF!=\"Spanish\",Translations!F1310,Translations!B1310)))))","v":{"$error":"#REF!"}},"Turkey-Mobile-AVEA","Turquie-Mobile-AVEA","Turchia-Mobile-AVEA","Türkei-Mobilfunk-AVEA","Turquía-Móvil-AVEA"]
[{"$f":"IF(#REF!=\"English\",Translations!B1311,IF(#REF!=\"French\",Translations!C1311,IF(#REF!=\"Italian\",Translations!D1311,IF(#REF!=\"German\",Translations!E1311,IF(#REF!=\"Spanish\",Translations!F1311,Translations!B1311)))))","v":{"$error":"#REF!"}},"Turkey-Mobile-Globalstar","Turquie-Mobile-Globalstar","Turchia-Mobile-Globalstar","Türkei-Mobilfunk-Globalstar","Turquía-Móvil-Globalstar"]
[{"$f":"IF(#REF!=\"English\",Translations!B1312,IF(#REF!=\"French\",Translations!C1312,IF(#REF!=\"Italian\",Translations!D1312,IF(#REF!=\"German\",Translations!E1312,IF(#REF!=\"Spanish\",Translations!F1312,Translations!B1312)))))","v":{"$error":"#REF!"}},"Turkey-Mobile-KKTurkcell","Turquie-Mobile-KKTurkcell","Turchia-Mobile-KKTurkcell","Türkei-Mobilfunk-KKTurkcell","Turquía-Móvil-KKTurkcell"]
[{"$f":"IF(#REF!=\"English\",Translations!B1313,IF(#REF!=\"French\",Translations!C1313,IF(#REF!=\"Italian\",Translations!D1313,IF(#REF!=\"German\",Translations!E1313,IF(#REF!=\"Spanish\",Translations!F1313,Translations!B1313)))))","v":{"$error":"#REF!"}},"Turkey-Mobile-North Cyprus","Turquie-Mobile-North Cyprus","Turchia-Mobile-North Cyprus","Türkei-Mobilfunk-North Cyprus","Turquía-Móvil-North Cyprus"]
[{"$f":"IF(#REF!=\"English\",Translations!B1314,IF(#REF!=\"French\",Translations!C1314,IF(#REF!=\"Italian\",Translations!D1314,IF(#REF!=\"German\",Translations!E1314,IF(#REF!=\"Spanish\",Translations!F1314,Translations!B1314)))))","v":{"$error":"#REF!"}},"Turkey-Mobile-Others","Turquie-Mobile-Autres","Turchia-Mobile-Altri","Türkei-Mobilfunk-Andere","Turquía-Móvil-Otros"]
[{"$f":"IF(#REF!=\"English\",Translations!B1315,IF(#REF!=\"French\",Translations!C1315,IF(#REF!=\"Italian\",Translations!D1315,IF(#REF!=\"German\",Translations!E1315,IF(#REF!=\"Spanish\",Translations!F1315,Translations!B1315)))))","v":{"$error":"#REF!"}},"Turkey-Mobile-Telsim","Turquie-Mobile-Telsim","Turchia-Mobile-Telsim","Türkei-Mobilfunk-Telsim","Turquía-Móvil-Telsim"]
[{"$f":"IF(#REF!=\"English\",Translations!B1316,IF(#REF!=\"French\",Translations!C1316,IF(#REF!=\"Italian\",Translations!D1316,IF(#REF!=\"German\",Translations!E1316,IF(#REF!=\"Spanish\",Translations!F1316,Translations!B1316)))))","v":{"$error":"#REF!"}},"Turkey-Mobile-Turkcell","Turquie-Mobile-Turkcell","Turchia-Mobile-Turkcell","Türkei-Mobilfunk-Turkcell","Turquía-Móvil-Turkcell"]
[{"$f":"IF(#REF!=\"English\",Translations!B1317,IF(#REF!=\"French\",Translations!C1317,IF(#REF!=\"Italian\",Translations!D1317,IF(#REF!=\"German\",Translations!E1317,IF(#REF!=\"Spanish\",Translations!F1317,Translations!B1317)))))","v":{"$error":"#REF!"}},"Turkey-Northern Cyprus","Turquie-Chypre du Nord","Turchia-Cipro del Nord","Türkei-Nordzypern","Turquía-Norte de Chipre"]
[{"$f":"IF(#REF!=\"English\",Translations!B1318,IF(#REF!=\"French\",Translations!C1318,IF(#REF!=\"Italian\",Translations!D1318,IF(#REF!=\"German\",Translations!E1318,IF(#REF!=\"Spanish\",Translations!F1318,Translations!B1318)))))","v":{"$error":"#REF!"}},"Turkey-Special Services","Turquie-Special Services","Turchia-Special Services","Türkei-Special Services","Turquía-Special Services"]
[{"$f":"IF(#REF!=\"English\",Translations!B1319,IF(#REF!=\"French\",Translations!C1319,IF(#REF!=\"Italian\",Translations!D1319,IF(#REF!=\"German\",Translations!E1319,IF(#REF!=\"Spanish\",Translations!F1319,Translations!B1319)))))","v":{"$error":"#REF!"}},"Turkmenistan","Turkménistan","Turkmenistan","Turkmenistan","Turkmenistán"]
[{"$f":"IF(#REF!=\"English\",Translations!B1320,IF(#REF!=\"French\",Translations!C1320,IF(#REF!=\"Italian\",Translations!D1320,IF(#REF!=\"German\",Translations!E1320,IF(#REF!=\"Spanish\",Translations!F1320,Translations!B1320)))))","v":{"$error":"#REF!"}},"Turkmenistan-Mobile","Turkménistan-Mobile","Turkmenistan","Turkmenistan-Mobilfunk","Turkmenistán-Móvil"]
[{"$f":"IF(#REF!=\"English\",Translations!B1321,IF(#REF!=\"French\",Translations!C1321,IF(#REF!=\"Italian\",Translations!D1321,IF(#REF!=\"German\",Translations!E1321,IF(#REF!=\"Spanish\",Translations!F1321,Translations!B1321)))))","v":{"$error":"#REF!"}},"Turks and Caicos","Turks et Caïcos (îles)","Turks e Caicos ","Turks- u. Caicosinseln","Islas Turcas y Caicos "]
[{"$f":"IF(#REF!=\"English\",Translations!B1322,IF(#REF!=\"French\",Translations!C1322,IF(#REF!=\"Italian\",Translations!D1322,IF(#REF!=\"German\",Translations!E1322,IF(#REF!=\"Spanish\",Translations!F1322,Translations!B1322)))))","v":{"$error":"#REF!"}},"Turks and Caicos-Mobile","Turks et Caïcos (îles)-Mobile","Turks e Caicos-Mobile","Turks- u. Caicosinseln-Mobilfunk","Islas Turcas y Caicos-Móvil"]
[{"$f":"IF(#REF!=\"English\",Translations!B1323,IF(#REF!=\"French\",Translations!C1323,IF(#REF!=\"Italian\",Translations!D1323,IF(#REF!=\"German\",Translations!E1323,IF(#REF!=\"Spanish\",Translations!F1323,Translations!B1323)))))","v":{"$error":"#REF!"}},"Tuvalu","Tuvalu","Tuvalu","Tuvalu","Tuvalu"]
[{"$f":"IF(#REF!=\"English\",Translations!B1324,IF(#REF!=\"French\",Translations!C1324,IF(#REF!=\"Italian\",Translations!D1324,IF(#REF!=\"German\",Translations!E1324,IF(#REF!=\"Spanish\",Translations!F1324,Translations!B1324)))))","v":{"$error":"#REF!"}},"United Arab Emirates","Emirats arabes unis","Emirati Arabi Uniti","Ver. Arabische Emirate","Emiratos Árabes Unidos"]
[{"$f":"IF(#REF!=\"English\",Translations!B1325,IF(#REF!=\"French\",Translations!C1325,IF(#REF!=\"Italian\",Translations!D1325,IF(#REF!=\"German\",Translations!E1325,IF(#REF!=\"Spanish\",Translations!F1325,Translations!B1325)))))","v":{"$error":"#REF!"}},"United Arab Emirates-Abu Dhabi","Emirats arabes unis-Abu Dhabi","Emirati Arabi Uniti-Abu Dhabi","Ver. Arabische Emirate-Abu Dhabi","Emiratos Árabes Unidos-Abu Dhabi"]
[{"$f":"IF(#REF!=\"English\",Translations!B1326,IF(#REF!=\"French\",Translations!C1326,IF(#REF!=\"Italian\",Translations!D1326,IF(#REF!=\"German\",Translations!E1326,IF(#REF!=\"Spanish\",Translations!F1326,Translations!B1326)))))","v":{"$error":"#REF!"}},"United Arab Emirates-Dubai","Emirats arabes unis-Dubai","Emirati Arabi Uniti-Dubai","Ver. Arabische Emirate-Dubai","Emiratos Árabes Unidos-Dubai"]
[{"$f":"IF(#REF!=\"English\",Translations!B1327,IF(#REF!=\"French\",Translations!C1327,IF(#REF!=\"Italian\",Translations!D1327,IF(#REF!=\"German\",Translations!E1327,IF(#REF!=\"Spanish\",Translations!F1327,Translations!B1327)))))","v":{"$error":"#REF!"}},"United Arab Emirates-Mobile-du","Emirats arabes unis-Mobile-du","Emirati Arabi Uniti-Mobile-du","Ver. Arabische Emirate-Mobilfunk-du","Emiratos Árabes Unidos-Móvil-du"]
[{"$f":"IF(#REF!=\"English\",Translations!B1328,IF(#REF!=\"French\",Translations!C1328,IF(#REF!=\"Italian\",Translations!D1328,IF(#REF!=\"German\",Translations!E1328,IF(#REF!=\"Spanish\",Translations!F1328,Translations!B1328)))))","v":{"$error":"#REF!"}},"United Arab Emirates-Mobile-Others","Emirats arabes unis-Mobile-Autres","Emirati Arabi Uniti-Mobile-Altri","Ver. Arabische Emirate-Mobilfunk-Andere","Emiratos Árabes Unidos-Móvil-Otros"]
[{"$f":"IF(#REF!=\"English\",Translations!B1329,IF(#REF!=\"French\",Translations!C1329,IF(#REF!=\"Italian\",Translations!D1329,IF(#REF!=\"German\",Translations!E1329,IF(#REF!=\"Spanish\",Translations!F1329,Translations!B1329)))))","v":{"$error":"#REF!"}},"Uganda","Ouganda","Uganda","Uganda","Uganda"]
[{"$f":"IF(#REF!=\"English\",Translations!B1330,IF(#REF!=\"French\",Translations!C1330,IF(#REF!=\"Italian\",Translations!D1330,IF(#REF!=\"German\",Translations!E1330,IF(#REF!=\"Spanish\",Translations!F1330,Translations!B1330)))))","v":{"$error":"#REF!"}},"Uganda-Kampala","Ouganda-Kampala","Uganda-Kampala","Uganda-Kampala","Uganda-Kampala"]
[{"$f":"IF(#REF!=\"English\",Translations!B1331,IF(#REF!=\"French\",Translations!C1331,IF(#REF!=\"Italian\",Translations!D1331,IF(#REF!=\"German\",Translations!E1331,IF(#REF!=\"Spanish\",Translations!F1331,Translations!B1331)))))","v":{"$error":"#REF!"}},"Uganda-Mobile-Celtel","Ouganda-Mobile-Celtel","Uganda-Mobile-Celtel","Uganda-Mobilfunk-Celtel","Uganda-Móvil-Celtel"]
[{"$f":"IF(#REF!=\"English\",Translations!B1332,IF(#REF!=\"French\",Translations!C1332,IF(#REF!=\"Italian\",Translations!D1332,IF(#REF!=\"German\",Translations!E1332,IF(#REF!=\"Spanish\",Translations!F1332,Translations!B1332)))))","v":{"$error":"#REF!"}},"Uganda-Mobile-MTN","Ouganda-Mobile-MTN","Uganda-Mobile-MTN","Uganda-Mobilfunk-MTN","Uganda-Móvil-MTN"]
[{"$f":"IF(#REF!=\"English\",Translations!B1333,IF(#REF!=\"French\",Translations!C1333,IF(#REF!=\"Italian\",Translations!D1333,IF(#REF!=\"German\",Translations!E1333,IF(#REF!=\"Spanish\",Translations!F1333,Translations!B1333)))))","v":{"$error":"#REF!"}},"Uganda-Mobile-Others","Ouganda-Mobile-Autres","Uganda-Mobile-Altri","Uganda-Mobilfunk-Andere","Uganda-Móvil-Otros"]
[{"$f":"IF(#REF!=\"English\",Translations!B1334,IF(#REF!=\"French\",Translations!C1334,IF(#REF!=\"Italian\",Translations!D1334,IF(#REF!=\"German\",Translations!E1334,IF(#REF!=\"Spanish\",Translations!F1334,Translations!B1334)))))","v":{"$error":"#REF!"}},"Uganda-OLO","Ouganda-OLO","Uganda-OLO","Uganda-OLO","Uganda-OLO"]
[{"$f":"IF(#REF!=\"English\",Translations!B1335,IF(#REF!=\"French\",Translations!C1335,IF(#REF!=\"Italian\",Translations!D1335,IF(#REF!=\"German\",Translations!E1335,IF(#REF!=\"Spanish\",Translations!F1335,Translations!B1335)))))","v":{"$error":"#REF!"}},"Ukraine","Ukraine","Ucraina","Ukraine","Ucrania"]
[{"$f":"IF(#REF!=\"English\",Translations!B1336,IF(#REF!=\"French\",Translations!C1336,IF(#REF!=\"Italian\",Translations!D1336,IF(#REF!=\"German\",Translations!E1336,IF(#REF!=\"Spanish\",Translations!F1336,Translations!B1336)))))","v":{"$error":"#REF!"}},"Ukraine-Dnespropetrovsk","Ukraine-Dnespropetrovsk","Ucraina-Dnespropetrovsk","Ukraine-Dnespropetrovsk","Ucrania-Dnespropetrovsk"]
[{"$f":"IF(#REF!=\"English\",Translations!B1337,IF(#REF!=\"French\",Translations!C1337,IF(#REF!=\"Italian\",Translations!D1337,IF(#REF!=\"German\",Translations!E1337,IF(#REF!=\"Spanish\",Translations!F1337,Translations!B1337)))))","v":{"$error":"#REF!"}},"Ukraine-Kharkiv","Ukraine-Kharkiv","Ucraina-Kharkiv","Ukraine-Kharkiv","Ucrania-Kharkiv"]
[{"$f":"IF(#REF!=\"English\",Translations!B1338,IF(#REF!=\"French\",Translations!C1338,IF(#REF!=\"Italian\",Translations!D1338,IF(#REF!=\"German\",Translations!E1338,IF(#REF!=\"Spanish\",Translations!F1338,Translations!B1338)))))","v":{"$error":"#REF!"}},"Ukraine-Kiev","Ukraine-Kiev","Ucraina-Kiev","Ukraine-Kiev","Ucrania-Kiev"]
[{"$f":"IF(#REF!=\"English\",Translations!B1339,IF(#REF!=\"French\",Translations!C1339,IF(#REF!=\"Italian\",Translations!D1339,IF(#REF!=\"German\",Translations!E1339,IF(#REF!=\"Spanish\",Translations!F1339,Translations!B1339)))))","v":{"$error":"#REF!"}},"Ukraine-Lviv","Ukraine-Lviv","Ucraina-Lviv","Ukraine-Lviv","Ucrania-Lviv"]
[{"$f":"IF(#REF!=\"English\",Translations!B1340,IF(#REF!=\"French\",Translations!C1340,IF(#REF!=\"Italian\",Translations!D1340,IF(#REF!=\"German\",Translations!E1340,IF(#REF!=\"Spanish\",Translations!F1340,Translations!B1340)))))","v":{"$error":"#REF!"}},"Ukraine-Mobile-Astelit","Ukraine-Mobile-Astelit","Ucraina-Mobile-Astelit","Ukraine-Mobilfunk-Astelit","Ucrania-Móvil-Astelit"]
[{"$f":"IF(#REF!=\"English\",Translations!B1341,IF(#REF!=\"French\",Translations!C1341,IF(#REF!=\"Italian\",Translations!D1341,IF(#REF!=\"German\",Translations!E1341,IF(#REF!=\"Spanish\",Translations!F1341,Translations!B1341)))))","v":{"$error":"#REF!"}},"Ukraine-Mobile-Golden Telecom","Ukraine-Mobile-Golden Telecom","Ucraina-Mobile-Golden Telecom","Ukraine-Mobilfunk-Golden Telecom","Ucrania-Móvil-Golden Telecom"]
[{"$f":"IF(#REF!=\"English\",Translations!B1342,IF(#REF!=\"French\",Translations!C1342,IF(#REF!=\"Italian\",Translations!D1342,IF(#REF!=\"German\",Translations!E1342,IF(#REF!=\"Spanish\",Translations!F1342,Translations!B1342)))))","v":{"$error":"#REF!"}},"Ukraine-Mobile-Kylvstar","Ukraine-Mobile-Kylvstar","Ucraina-Mobile-Kylvstar","Ukraine-Mobilfunk-Kylvstar","Ucrania-Móvil-Kylvstar"]
[{"$f":"IF(#REF!=\"English\",Translations!B1343,IF(#REF!=\"French\",Translations!C1343,IF(#REF!=\"Italian\",Translations!D1343,IF(#REF!=\"German\",Translations!E1343,IF(#REF!=\"Spanish\",Translations!F1343,Translations!B1343)))))","v":{"$error":"#REF!"}},"Ukraine-Mobile-Others","Ukraine-Mobile-Autres","Ucraina-Mobile-Altri","Ukraine-Mobilfunk-Andere","Ucrania-Móvil-Otros"]
[{"$f":"IF(#REF!=\"English\",Translations!B1344,IF(#REF!=\"French\",Translations!C1344,IF(#REF!=\"Italian\",Translations!D1344,IF(#REF!=\"German\",Translations!E1344,IF(#REF!=\"Spanish\",Translations!F1344,Translations!B1344)))))","v":{"$error":"#REF!"}},"Ukraine-Mobile-UMC","Ukraine-Mobile-UMC","Ucraina-Mobile-UMC","Ukraine-Mobilfunk-UMC","Ucrania-Móvil-UMC"]
[{"$f":"IF(#REF!=\"English\",Translations!B1345,IF(#REF!=\"French\",Translations!C1345,IF(#REF!=\"Italian\",Translations!D1345,IF(#REF!=\"German\",Translations!E1345,IF(#REF!=\"Spanish\",Translations!F1345,Translations!B1345)))))","v":{"$error":"#REF!"}},"Ukraine-Mobile-Wellcom","Ukraine-Mobile-Wellcom","Ucraina-Mobile-Wellcom","Ukraine-Mobilfunk-Wellcom","Ucrania-Móvil-Wellcom"]
[{"$f":"IF(#REF!=\"English\",Translations!B1346,IF(#REF!=\"French\",Translations!C1346,IF(#REF!=\"Italian\",Translations!D1346,IF(#REF!=\"German\",Translations!E1346,IF(#REF!=\"Spanish\",Translations!F1346,Translations!B1346)))))","v":{"$error":"#REF!"}},"Ukraine-Odessa","Ukraine-Odessa","Ucraina-Odessa","Ukraine-Odessa","Ucrania-Odessa"]
[{"$f":"IF(#REF!=\"English\",Translations!B1347,IF(#REF!=\"French\",Translations!C1347,IF(#REF!=\"Italian\",Translations!D1347,IF(#REF!=\"German\",Translations!E1347,IF(#REF!=\"Spanish\",Translations!F1347,Translations!B1347)))))","v":{"$error":"#REF!"}},"United Kingdom","Royaume-Uni","Gran Bretagna","Großbritannien","Reino Unido"]
[{"$f":"IF(#REF!=\"English\",Translations!B1348,IF(#REF!=\"French\",Translations!C1348,IF(#REF!=\"Italian\",Translations!D1348,IF(#REF!=\"German\",Translations!E1348,IF(#REF!=\"Spanish\",Translations!F1348,Translations!B1348)))))","v":{"$error":"#REF!"}},"United Kingdom-Freephone","Royaume-Uni-Libre appel","Gran Bretagna-Freephone","Großbritannien-Freephone","Reino Unido-Freephone"]
[{"$f":"IF(#REF!=\"English\",Translations!B1349,IF(#REF!=\"French\",Translations!C1349,IF(#REF!=\"Italian\",Translations!D1349,IF(#REF!=\"German\",Translations!E1349,IF(#REF!=\"Spanish\",Translations!F1349,Translations!B1349)))))","v":{"$error":"#REF!"}},"United Kingdom-Mobile-H3G","Royaume-Uni-Mobile-H3G","Gran Bretagna-Mobile-H3G","Großbritannien-Mobilfunk-H3G","Reino Unido-Móvil-H3G"]
[{"$f":"IF(#REF!=\"English\",Translations!B1350,IF(#REF!=\"French\",Translations!C1350,IF(#REF!=\"Italian\",Translations!D1350,IF(#REF!=\"German\",Translations!E1350,IF(#REF!=\"Spanish\",Translations!F1350,Translations!B1350)))))","v":{"$error":"#REF!"}},"United Kingdom-Mobile-O2","Royaume-Uni-Mobile-O2","Gran Bretagna-Mobile-O2","Großbritannien-Mobilfunk-O2","Reino Unido-Móvil-O2"]
[{"$f":"IF(#REF!=\"English\",Translations!B1351,IF(#REF!=\"French\",Translations!C1351,IF(#REF!=\"Italian\",Translations!D1351,IF(#REF!=\"German\",Translations!E1351,IF(#REF!=\"Spanish\",Translations!F1351,Translations!B1351)))))","v":{"$error":"#REF!"}},"United Kingdom-Mobile-Orange","Royaume-Uni-Mobile-Orange","Gran Bretagna-Mobile-Orange","Großbritannien-Mobilfunk-Orange","Reino Unido-Móvil-Orange"]
[{"$f":"IF(#REF!=\"English\",Translations!B1352,IF(#REF!=\"French\",Translations!C1352,IF(#REF!=\"Italian\",Translations!D1352,IF(#REF!=\"German\",Translations!E1352,IF(#REF!=\"Spanish\",Translations!F1352,Translations!B1352)))))","v":{"$error":"#REF!"}},"United Kingdom-Mobile-Others","Royaume-Uni-Mobile-Autres","Gran Bretagna-Mobile-Altri","Großbritannien-Mobilfunk-Andere","Reino Unido-Móvil-Otros"]
[{"$f":"IF(#REF!=\"English\",Translations!B1353,IF(#REF!=\"French\",Translations!C1353,IF(#REF!=\"Italian\",Translations!D1353,IF(#REF!=\"German\",Translations!E1353,IF(#REF!=\"Spanish\",Translations!F1353,Translations!B1353)))))","v":{"$error":"#REF!"}},"United Kingdom-Mobile-Lycamobile","Royaume-Uni-Mobile-Lycamobile","Gran Bretagna-Mobile-Lycamobile","Großbritannien-Mobilfunk-Lycamobile","Reino Unido-Móvil-Lycamobile"]
[{"$f":"IF(#REF!=\"English\",Translations!B1354,IF(#REF!=\"French\",Translations!C1354,IF(#REF!=\"Italian\",Translations!D1354,IF(#REF!=\"German\",Translations!E1354,IF(#REF!=\"Spanish\",Translations!F1354,Translations!B1354)))))","v":{"$error":"#REF!"}},"United Kingdom-Mobile-TMobile","Royaume-Uni-Mobile-TMobile","Gran Bretagna-Mobile-TMobile","Großbritannien-Mobilfunk-TMobile","Reino Unido-Móvil-TMobile"]
[{"$f":"IF(#REF!=\"English\",Translations!B1355,IF(#REF!=\"French\",Translations!C1355,IF(#REF!=\"Italian\",Translations!D1355,IF(#REF!=\"German\",Translations!E1355,IF(#REF!=\"Spanish\",Translations!F1355,Translations!B1355)))))","v":{"$error":"#REF!"}},"United Kingdom-Mobile-Vodafone","Royaume-Uni-Mobile-Vodafone","Gran Bretagna-Mobile-Vodafone","Großbritannien-Mobilfunk-Vodafone","Reino Unido-Móvil-Vodafone"]
[{"$f":"IF(#REF!=\"English\",Translations!B1356,IF(#REF!=\"French\",Translations!C1356,IF(#REF!=\"Italian\",Translations!D1356,IF(#REF!=\"German\",Translations!E1356,IF(#REF!=\"Spanish\",Translations!F1356,Translations!B1356)))))","v":{"$error":"#REF!"}},"United Kingdom-Nationwide","Royaume-Uni-Nationwide","Gran Bretagna-Nationwide","Großbritannien-Nationwide","Reino Unido-Nationwide"]
[{"$f":"IF(#REF!=\"English\",Translations!B1357,IF(#REF!=\"French\",Translations!C1357,IF(#REF!=\"Italian\",Translations!D1357,IF(#REF!=\"German\",Translations!E1357,IF(#REF!=\"Spanish\",Translations!F1357,Translations!B1357)))))","v":{"$error":"#REF!"}},"United Kingdom-Personal Number","Royaume-Uni-Numéro personnel","Gran Bretagna-Personal Number","Großbritannien-Persönliche Nummer","Reino Unido-Número Personal"]
[{"$f":"IF(#REF!=\"English\",Translations!B1358,IF(#REF!=\"French\",Translations!C1358,IF(#REF!=\"Italian\",Translations!D1358,IF(#REF!=\"German\",Translations!E1358,IF(#REF!=\"Spanish\",Translations!F1358,Translations!B1358)))))","v":{"$error":"#REF!"}},"United Kingdom-Shared Cost","Royaume-Uni-Business Call","Gran Bretagna-Shared Cost","Großbritannien-Shared Cost","Reino Unido-Shared Cost"]
[{"$f":"IF(#REF!=\"English\",Translations!B1359,IF(#REF!=\"French\",Translations!C1359,IF(#REF!=\"Italian\",Translations!D1359,IF(#REF!=\"German\",Translations!E1359,IF(#REF!=\"Spanish\",Translations!F1359,Translations!B1359)))))","v":{"$error":"#REF!"}},"United Nations-OCHA","United Nations-OCHA","United Nations-OCHA","United Nations-OCHA","United Nations-OCHA"]
[{"$f":"IF(#REF!=\"English\",Translations!B1360,IF(#REF!=\"French\",Translations!C1360,IF(#REF!=\"Italian\",Translations!D1360,IF(#REF!=\"German\",Translations!E1360,IF(#REF!=\"Spanish\",Translations!F1360,Translations!B1360)))))","v":{"$error":"#REF!"}},"Universal Personal Telecom","Universal Personal Telecom","Universal Personal Telecom","Universal Personal Telecom","Universal Personal Telecom"]
[{"$f":"IF(#REF!=\"English\",Translations!B1361,IF(#REF!=\"French\",Translations!C1361,IF(#REF!=\"Italian\",Translations!D1361,IF(#REF!=\"German\",Translations!E1361,IF(#REF!=\"Spanish\",Translations!F1361,Translations!B1361)))))","v":{"$error":"#REF!"}},"Uruguay","Uruguay","Uruguay","Uruguay","Uruguay"]
[{"$f":"IF(#REF!=\"English\",Translations!B1362,IF(#REF!=\"French\",Translations!C1362,IF(#REF!=\"Italian\",Translations!D1362,IF(#REF!=\"German\",Translations!E1362,IF(#REF!=\"Spanish\",Translations!F1362,Translations!B1362)))))","v":{"$error":"#REF!"}},"Uruguay-Mobile","Uruguay-Mobile","Uruguay-Mobile","Uruguay-Mobilfunk","Uruguay-Móvil"]
[{"$f":"IF(#REF!=\"English\",Translations!B1363,IF(#REF!=\"French\",Translations!C1363,IF(#REF!=\"Italian\",Translations!D1363,IF(#REF!=\"German\",Translations!E1363,IF(#REF!=\"Spanish\",Translations!F1363,Translations!B1363)))))","v":{"$error":"#REF!"}},"Uruguay-Montevideo","Uruguay-Montevideo","Uruguay-Montevideo","Uruguay-Montevideo","Uruguay-Montevideo"]
[{"$f":"IF(#REF!=\"English\",Translations!B1364,IF(#REF!=\"French\",Translations!C1364,IF(#REF!=\"Italian\",Translations!D1364,IF(#REF!=\"German\",Translations!E1364,IF(#REF!=\"Spanish\",Translations!F1364,Translations!B1364)))))","v":{"$error":"#REF!"}},"USA","États-Unis","Stati Uniti","Vereinigte Staaten","Estados Unidos"]
[{"$f":"IF(#REF!=\"English\",Translations!B1365,IF(#REF!=\"French\",Translations!C1365,IF(#REF!=\"Italian\",Translations!D1365,IF(#REF!=\"German\",Translations!E1365,IF(#REF!=\"Spanish\",Translations!F1365,Translations!B1365)))))","v":{"$error":"#REF!"}},"USA-Alaska","États-Unis-Alaska","Stati Uniti-Alaska","Vereinigte Staaten-Alaska","Estados Unidos-Alaska"]
[{"$f":"IF(#REF!=\"English\",Translations!B1366,IF(#REF!=\"French\",Translations!C1366,IF(#REF!=\"Italian\",Translations!D1366,IF(#REF!=\"German\",Translations!E1366,IF(#REF!=\"Spanish\",Translations!F1366,Translations!B1366)))))","v":{"$error":"#REF!"}},"USA-Hawaii","États-Unis-Hawaii","Stati Uniti-Hawaii","Vereinigte Staaten-Hawaii","Estados Unidos-Hawái"]
[{"$f":"IF(#REF!=\"English\",Translations!B1367,IF(#REF!=\"French\",Translations!C1367,IF(#REF!=\"Italian\",Translations!D1367,IF(#REF!=\"German\",Translations!E1367,IF(#REF!=\"Spanish\",Translations!F1367,Translations!B1367)))))","v":{"$error":"#REF!"}},"USA-New York (City)","États-Unis-New York (City)","Stati Uniti-New York (City)","Vereinigte Staaten-New York (City)","Estados Unidos-New York (City)"]
[{"$f":"IF(#REF!=\"English\",Translations!B1368,IF(#REF!=\"French\",Translations!C1368,IF(#REF!=\"Italian\",Translations!D1368,IF(#REF!=\"German\",Translations!E1368,IF(#REF!=\"Spanish\",Translations!F1368,Translations!B1368)))))","v":{"$error":"#REF!"}},"USA-Toll Free","États-Unis-Toll Free","Stati Uniti-Toll Free","Vereinigte Staaten-Toll Free","Estados Unidos-Toll Free"]
[{"$f":"IF(#REF!=\"English\",Translations!B1369,IF(#REF!=\"French\",Translations!C1369,IF(#REF!=\"Italian\",Translations!D1369,IF(#REF!=\"German\",Translations!E1369,IF(#REF!=\"Spanish\",Translations!F1369,Translations!B1369)))))","v":{"$error":"#REF!"}},"Uzbekistan","Ouzbékistan","Uzbekistan","Usbekistan","Uzbekistán"]
[{"$f":"IF(#REF!=\"English\",Translations!B1370,IF(#REF!=\"French\",Translations!C1370,IF(#REF!=\"Italian\",Translations!D1370,IF(#REF!=\"German\",Translations!E1370,IF(#REF!=\"Spanish\",Translations!F1370,Translations!B1370)))))","v":{"$error":"#REF!"}},"Uzbekistan-Mobile","Ouzbékistan-Mobile","Uzbekistan-Mobile","Usbekistan-Mobilfunk","Uzbekistán-Móvil"]
[{"$f":"IF(#REF!=\"English\",Translations!B1371,IF(#REF!=\"French\",Translations!C1371,IF(#REF!=\"Italian\",Translations!D1371,IF(#REF!=\"German\",Translations!E1371,IF(#REF!=\"Spanish\",Translations!F1371,Translations!B1371)))))","v":{"$error":"#REF!"}},"Vanuatu","Vanuatu","Vanuatu","Vanuatu","Vanuatu"]
[{"$f":"IF(#REF!=\"English\",Translations!B1372,IF(#REF!=\"French\",Translations!C1372,IF(#REF!=\"Italian\",Translations!D1372,IF(#REF!=\"German\",Translations!E1372,IF(#REF!=\"Spanish\",Translations!F1372,Translations!B1372)))))","v":{"$error":"#REF!"}},"Venezuela","Venezuela","Venezuela","Venezuela","Venezuela"]
[{"$f":"IF(#REF!=\"English\",Translations!B1373,IF(#REF!=\"French\",Translations!C1373,IF(#REF!=\"Italian\",Translations!D1373,IF(#REF!=\"German\",Translations!E1373,IF(#REF!=\"Spanish\",Translations!F1373,Translations!B1373)))))","v":{"$error":"#REF!"}},"Venezuela-Caracas","Venezuela-Caracas","Venezuela-Caracas","Venezuela-Caracas","Venezuela-Caracas"]
[{"$f":"IF(#REF!=\"English\",Translations!B1374,IF(#REF!=\"French\",Translations!C1374,IF(#REF!=\"Italian\",Translations!D1374,IF(#REF!=\"German\",Translations!E1374,IF(#REF!=\"Spanish\",Translations!F1374,Translations!B1374)))))","v":{"$error":"#REF!"}},"Venezuela-Mobile-Digicell","Venezuela-Mobile-Digicell","Venezuela-Mobile-Digicell","Venezuela-Mobilfunk-Digicell","Venezuela-Móvil-Digicell"]
[{"$f":"IF(#REF!=\"English\",Translations!B1375,IF(#REF!=\"French\",Translations!C1375,IF(#REF!=\"Italian\",Translations!D1375,IF(#REF!=\"German\",Translations!E1375,IF(#REF!=\"Spanish\",Translations!F1375,Translations!B1375)))))","v":{"$error":"#REF!"}},"Venezuela-Mobile-Movilnet","Venezuela-Mobile-Movilnet","Venezuela-Mobile-Movilnet","Venezuela-Mobilfunk-Movilnet","Venezuela-Móvil-Movilnet"]
[{"$f":"IF(#REF!=\"English\",Translations!B1376,IF(#REF!=\"French\",Translations!C1376,IF(#REF!=\"Italian\",Translations!D1376,IF(#REF!=\"German\",Translations!E1376,IF(#REF!=\"Spanish\",Translations!F1376,Translations!B1376)))))","v":{"$error":"#REF!"}},"Venezuela-Mobile-Others","Venezuela-Mobile-Autres","Venezuela-Mobile-Altri","Venezuela-Mobilfunk-Andere","Venezuela-Móvil-Otros"]
[{"$f":"IF(#REF!=\"English\",Translations!B1377,IF(#REF!=\"French\",Translations!C1377,IF(#REF!=\"Italian\",Translations!D1377,IF(#REF!=\"German\",Translations!E1377,IF(#REF!=\"Spanish\",Translations!F1377,Translations!B1377)))))","v":{"$error":"#REF!"}},"Venezuela-Mobile-Telcel","Venezuela-Mobile-Telcel","Venezuela-Mobile-Telcel","Venezuela-Mobilfunk-Telcel","Venezuela-Móvil-Telcel"]
[{"$f":"IF(#REF!=\"English\",Translations!B1378,IF(#REF!=\"French\",Translations!C1378,IF(#REF!=\"Italian\",Translations!D1378,IF(#REF!=\"German\",Translations!E1378,IF(#REF!=\"Spanish\",Translations!F1378,Translations!B1378)))))","v":{"$error":"#REF!"}},"Vietnam","Vietnam","Vietnam","Vietnam","Vietnam"]
[{"$f":"IF(#REF!=\"English\",Translations!B1379,IF(#REF!=\"French\",Translations!C1379,IF(#REF!=\"Italian\",Translations!D1379,IF(#REF!=\"German\",Translations!E1379,IF(#REF!=\"Spanish\",Translations!F1379,Translations!B1379)))))","v":{"$error":"#REF!"}},"Vietnam-Hanoi","Vietnam-Hanoi","Vietnam-Hanoi","Vietnam-Hanoi","Vietnam-Hanoi"]
[{"$f":"IF(#REF!=\"English\",Translations!B1380,IF(#REF!=\"French\",Translations!C1380,IF(#REF!=\"Italian\",Translations!D1380,IF(#REF!=\"German\",Translations!E1380,IF(#REF!=\"Spanish\",Translations!F1380,Translations!B1380)))))","v":{"$error":"#REF!"}},"Vietnam-Ho Chi Minh City","Vietnam-Ho Chi Minh City","Vietnam-Ho Chi Minh City","Vietnam-Ho Chi Minh City","Vietnam-Ho Chi Minh City"]
[{"$f":"IF(#REF!=\"English\",Translations!B1381,IF(#REF!=\"French\",Translations!C1381,IF(#REF!=\"Italian\",Translations!D1381,IF(#REF!=\"German\",Translations!E1381,IF(#REF!=\"Spanish\",Translations!F1381,Translations!B1381)))))","v":{"$error":"#REF!"}},"Vietnam-Mobile-Mobiphone","Vietnam-Mobile-Mobiphone","Vietnam-Mobile-Mobiphone","Vietnam-Mobilfunk-Mobiphone","Vietnam-Móvil-Mobiphone"]
[{"$f":"IF(#REF!=\"English\",Translations!B1382,IF(#REF!=\"French\",Translations!C1382,IF(#REF!=\"Italian\",Translations!D1382,IF(#REF!=\"German\",Translations!E1382,IF(#REF!=\"Spanish\",Translations!F1382,Translations!B1382)))))","v":{"$error":"#REF!"}},"Vietnam-Mobile-Others","Vietnam-Mobile-Autres","Vietnam-Mobile-Altri","Vietnam-Mobilfunk-Andere","Vietnam-Móvil-Otros"]
[{"$f":"IF(#REF!=\"English\",Translations!B1383,IF(#REF!=\"French\",Translations!C1383,IF(#REF!=\"Italian\",Translations!D1383,IF(#REF!=\"German\",Translations!E1383,IF(#REF!=\"Spanish\",Translations!F1383,Translations!B1383)))))","v":{"$error":"#REF!"}},"Vietnam-Mobile-Vietnamobile","Vietnam-Mobile-Vietnamobile","Vietnam-Mobile-Vietnamobile","Vietnam-Mobilfunk-Vietnamobile","Vietnam-Móvil-Vietnamobile"]
[{"$f":"IF(#REF!=\"English\",Translations!B1384,IF(#REF!=\"French\",Translations!C1384,IF(#REF!=\"Italian\",Translations!D1384,IF(#REF!=\"German\",Translations!E1384,IF(#REF!=\"Spanish\",Translations!F1384,Translations!B1384)))))","v":{"$error":"#REF!"}},"Vietnam-Mobile-Viettel","Vietnam-Mobile-Viettel","Vietnam-Mobile-Viettel","Vietnam-Mobilfunk-Viettel","Vietnam-Móvil-Viettel"]
[{"$f":"IF(#REF!=\"English\",Translations!B1385,IF(#REF!=\"French\",Translations!C1385,IF(#REF!=\"Italian\",Translations!D1385,IF(#REF!=\"German\",Translations!E1385,IF(#REF!=\"Spanish\",Translations!F1385,Translations!B1385)))))","v":{"$error":"#REF!"}},"Vietnam-Mobile-Vinaphone","Vietnam-Mobile-Vinaphone","Vietnam-Mobile-Vinaphone","Vietnam-Mobilfunk-Vinaphone","Vietnam-Móvil-Vinaphone"]
[{"$f":"IF(#REF!=\"English\",Translations!B1386,IF(#REF!=\"French\",Translations!C1386,IF(#REF!=\"Italian\",Translations!D1386,IF(#REF!=\"German\",Translations!E1386,IF(#REF!=\"Spanish\",Translations!F1386,Translations!B1386)))))","v":{"$error":"#REF!"}},"Virgin Islands British","Îles Vierges britanniques","Isole Vergini britanniche","Jungferninseln (brit.)","Islas Vírgenes Británicas"]
[{"$f":"IF(#REF!=\"English\",Translations!B1387,IF(#REF!=\"French\",Translations!C1387,IF(#REF!=\"Italian\",Translations!D1387,IF(#REF!=\"German\",Translations!E1387,IF(#REF!=\"Spanish\",Translations!F1387,Translations!B1387)))))","v":{"$error":"#REF!"}},"Virgin Islands United States","Îles Vierges américaines","Isole Vergini americane","Jungferninseln (amer.)","Islas Vírgenes Americanas"]
[{"$f":"IF(#REF!=\"English\",Translations!B1388,IF(#REF!=\"French\",Translations!C1388,IF(#REF!=\"Italian\",Translations!D1388,IF(#REF!=\"German\",Translations!E1388,IF(#REF!=\"Spanish\",Translations!F1388,Translations!B1388)))))","v":{"$error":"#REF!"}},"Wallis and Futuna","Wallis et Futuna","Wallis e Futuna","Wallis und Futuna","Wallis y Futuna"]
[{"$f":"IF(#REF!=\"English\",Translations!B1389,IF(#REF!=\"French\",Translations!C1389,IF(#REF!=\"Italian\",Translations!D1389,IF(#REF!=\"German\",Translations!E1389,IF(#REF!=\"Spanish\",Translations!F1389,Translations!B1389)))))","v":{"$error":"#REF!"}},"Yemen","Yemen","Yemen","Jemen","Yemen"]
[{"$f":"IF(#REF!=\"English\",Translations!B1390,IF(#REF!=\"French\",Translations!C1390,IF(#REF!=\"Italian\",Translations!D1390,IF(#REF!=\"German\",Translations!E1390,IF(#REF!=\"Spanish\",Translations!F1390,Translations!B1390)))))","v":{"$error":"#REF!"}},"Yemen-Mobile-MTN","Yemen-Mobile-MTN","Yemen-Mobile-MTN","Jemen-Mobilfunk-MTN","Yemen-Móvil-MTN"]
[{"$f":"IF(#REF!=\"English\",Translations!B1391,IF(#REF!=\"French\",Translations!C1391,IF(#REF!=\"Italian\",Translations!D1391,IF(#REF!=\"German\",Translations!E1391,IF(#REF!=\"Spanish\",Translations!F1391,Translations!B1391)))))","v":{"$error":"#REF!"}},"Yemen-Mobile-Others","Yemen-Mobile-Autres","Yemen-Mobile-Altri","Jemen-Mobilfunk-Andere","Yemen-Móvil-Otros"]
[{"$f":"IF(#REF!=\"English\",Translations!B1392,IF(#REF!=\"French\",Translations!C1392,IF(#REF!=\"Italian\",Translations!D1392,IF(#REF!=\"German\",Translations!E1392,IF(#REF!=\"Spanish\",Translations!F1392,Translations!B1392)))))","v":{"$error":"#REF!"}},"Yemen-Mobile-Sabafon","Yemen-Mobile-Sabafon","Yemen-Mobile-Sabafon","Jemen-Mobilfunk-Sabafon","Yemen-Móvil-Sabafon"]
[{"$f":"IF(#REF!=\"English\",Translations!B1393,IF(#REF!=\"French\",Translations!C1393,IF(#REF!=\"Italian\",Translations!D1393,IF(#REF!=\"German\",Translations!E1393,IF(#REF!=\"Spanish\",Translations!F1393,Translations!B1393)))))","v":{"$error":"#REF!"}},"Yemen-Mobile-Yemen Mobile","Yemen-Mobile-Yemen Mobile","Yemen-Mobile-Yemen Mobile","Jemen-Mobilfunk-Yemen Mobile","Yemen-Móvil-Yemen Mobile"]
[{"$f":"IF(#REF!=\"English\",Translations!B1394,IF(#REF!=\"French\",Translations!C1394,IF(#REF!=\"Italian\",Translations!D1394,IF(#REF!=\"German\",Translations!E1394,IF(#REF!=\"Spanish\",Translations!F1394,Translations!B1394)))))","v":{"$error":"#REF!"}},"Zambia","Zambie","Zambia","Sambia","Zambia"]
[{"$f":"IF(#REF!=\"English\",Translations!B1395,IF(#REF!=\"French\",Translations!C1395,IF(#REF!=\"Italian\",Translations!D1395,IF(#REF!=\"German\",Translations!E1395,IF(#REF!=\"Spanish\",Translations!F1395,Translations!B1395)))))","v":{"$error":"#REF!"}},"Zambia-Mobile-Airtel","Zambie-Mobile-Airtel","Zambia-Mobile-Airtel","Sambia-Mobilfunk-Airtel","Zambia-Móvil-Airtel"]
[{"$f":"IF(#REF!=\"English\",Translations!B1396,IF(#REF!=\"French\",Translations!C1396,IF(#REF!=\"Italian\",Translations!D1396,IF(#REF!=\"German\",Translations!E1396,IF(#REF!=\"Spanish\",Translations!F1396,Translations!B1396)))))","v":{"$error":"#REF!"}},"Zambia-Mobile-MTN","Zambie-Mobile-MTN","Zambia-Mobile-MTN","Sambia-Mobilfunk-MTN","Zambia-Móvil-MTN"]
[{"$f":"IF(#REF!=\"English\",Translations!B1397,IF(#REF!=\"French\",Translations!C1397,IF(#REF!=\"Italian\",Translations!D1397,IF(#REF!=\"German\",Translations!E1397,IF(#REF!=\"Spanish\",Translations!F1397,Translations!B1397)))))","v":{"$error":"#REF!"}},"Zambia-Mobile-Zamtel","Zambie-Mobile-Zamtel","Zambia-Mobile-Zamtel","Sambia-Mobilfunk-Zamtel","Zambia-Móvil-Zamtel"]
[{"$f":"IF(#REF!=\"English\",Translations!B1398,IF(#REF!=\"French\",Translations!C1398,IF(#REF!=\"Italian\",Translations!D1398,IF(#REF!=\"German\",Translations!E1398,IF(#REF!=\"Spanish\",Translations!F1398,Translations!B1398)))))","v":{"$error":"#REF!"}},"Zambia-Mobile-Others","Zambie-Mobile-Autres","Zambia-Mobile-Altri","Sambia-Mobilfunk-Andere","Zambia-Móvil-Otros"]
[{"$f":"IF(#REF!=\"English\",Translations!B1399,IF(#REF!=\"French\",Translations!C1399,IF(#REF!=\"Italian\",Translations!D1399,IF(#REF!=\"German\",Translations!E1399,IF(#REF!=\"Spanish\",Translations!F1399,Translations!B1399)))))","v":{"$error":"#REF!"}},"Zimbabwe","Zimbabwe","Zimbabwe","Simbabwe","Zimbabwe"]
[{"$f":"IF(#REF!=\"English\",Translations!B1400,IF(#REF!=\"French\",Translations!C1400,IF(#REF!=\"Italian\",Translations!D1400,IF(#REF!=\"German\",Translations!E1400,IF(#REF!=\"Spanish\",Translations!F1400,Translations!B1400)))))","v":{"$error":"#REF!"}},"Zimbabwe-Mobile-Econet","Zimbabwe-Mobile-Econet","Zimbabwe-Mobile-Econet","Simbabwe-Mobilfunk-Econet","Zimbawe-Móvil-Econet"]
[{"$f":"IF(#REF!=\"English\",Translations!B1401,IF(#REF!=\"French\",Translations!C1401,IF(#REF!=\"Italian\",Translations!D1401,IF(#REF!=\"German\",Translations!E1401,IF(#REF!=\"Spanish\",Translations!F1401,Translations!B1401)))))","v":{"$error":"#REF!"}},"Zimbabwe-Mobile-Others","Zimbabwe-Mobile-Autres","Zimbabwe-Mobile-Altri","Simbabwe-Mobilfunk-Andere","Zimbawe-Móvil-Otros"]
[{"$f":"IF(#REF!=\"English\",Translations!B1402,IF(#REF!=\"French\",Translations!C1402,IF(#REF!=\"Italian\",Translations!D1402,IF(#REF!=\"German\",Translations!E1402,IF(#REF!=\"Spanish\",Translations!F1402,Translations!B1402)))))","v":{"$error":"#REF!"}},"Zimbabwe-Mobile-Telecel","Zimbabwe-Mobile-Telecel","Zimbabwe-Mobile-Telecel","Simbabwe-Mobilfunk-Telecel","Zimbawe-Móvil-Telecel"]

{"sheet":"Vocabulary translation","index":1,"n_rows":387,"n_cols":31,"rows_kept":387,"cut":false,"hidden":true,"merged":[]}
["Country - Language","United Kingdom - English","Austria - German","Belgium - German","Germany - German","Switzerland - German","Belgium - Dutch","Netherlands - Dutch","Belgium - French","France - French","Switzerland - French","Denmark","Italy - Italian","Switzerland - Italian","Portugal - Portuguese","Spain - Spanish","Sweden"]
[{"$f":"IFERROR(HLOOKUP('Customer Legal - Invoicing'!$B$6,A:Q,ROW(A2),0),B2)","v":"Please send the completed order form to VSIPVSCloudUC@colt.net"},"Please send the completed order form to VSIPVSCloudUC@colt.net","Bitte senden Sie das ausgefüllte Bestellformular an VSIPVSCloudUC@Colt.net","Bitte senden Sie das ausgefüllte Bestellformular an VSIPVSCloudUC@Colt.net","Bitte senden Sie das ausgefüllte Bestellformular an VSIPVSCloudUC@Colt.net","Bitte senden Sie das ausgefüllte Bestellformular an VSIPVSCloudUC@Colt.net",null,null,"Merci d'envoyer la commande complétée à l'adresse VSIPVSCloudUC@colt.net ","Merci d'envoyer la commande complétée à l'adresse VSIPVSCloudUC@colt.net ","Merci d'envoyer la commande complétée à l'adresse VSIPVSCloudUC@colt.net ",null,"Si prega di inviare il modulo dìordine compilato a VSIPVSCloudUC@colt.net","Si prega di inviare il modulo dìordine compilato a VSIPVSCloudUC@colt.net",null,"Por favor, envíe el formulario de pedido completado a VSIPVSCloudUC@colt.net"]
[{"$f":"IFERROR(HLOOKUP('Customer Legal - Invoicing'!$B$6,A:Q,ROW(A3),0),B3)","v":"Customer Name"},"Customer Name","Kundenname","Kundenname","Kundenname","Kundenname",null,null,"Nom Client","Nom Client","Nom Client",null,"Nome Cliente","Nome Cliente",null,"Nombre del cliente"]
[{"$f":"IFERROR(HLOOKUP('Customer Legal - Invoicing'!$B$6,A:Q,ROW(A4),0),B4)","v":"The Colt Cloud UC Solution contains underlying Network Connectivity and VoIP services."},"The Colt Cloud UC Solution contains underlying Network Connectivity and VoIP services.","Colt Cloud UC Solution basiert auf beinhalteten Netzwerkverbindungen und VoIP-Services.","Colt Cloud UC Solution basiert auf beinhalteten Netzwerkverbindungen und VoIP-Services.","Colt Cloud UC Solution basiert auf beinhalteten Netzwerkverbindungen und VoIP-Services.","Colt Cloud UC Solution basiert auf beinhalteten Netzwerkverbindungen und VoIP-Services.",null,null,"La solution Colt Cloud UC contient les services qui suivent, connexion réseau et service VoIP","La solution Colt Cloud UC contient les services qui suivent, connexion réseau et service VoIP","La solution Colt Cloud UC contient les services qui suivent, connexion réseau et service VoIP",null,"La soluzione Coult Cloud UC include sia la connessione dati che voip services","La soluzione Coult Cloud UC include sia la connessione dati che voip services",null,"En la solución Colt Cloud UC subyacen los servicios de Conectividad de Red y Servicios de VoIP."]
[{"$f":"IFERROR(HLOOKUP('Customer Legal - Invoicing'!$B$6,A:Q,ROW(A5),0),B5)","v":"Order type"},"Order type","Typ Bestellung","Typ Bestellung","Typ Bestellung","Typ Bestellung",null,null,"type de commande","type de commande","type de commande",null,"Tipo d'ordine","Tipo d'ordine",null,"Tipo de orden"]
[{"$f":"IFERROR(HLOOKUP('Customer Legal - Invoicing'!$B$6,A:Q,ROW(A6),0),B6)","v":"New"},"New","Neu","Neu","Neu","Neu",null,null,"Nouveau","Nouveau","Nouveau",null,"Nuovo","Nuovo",null,"Nueva"]
[{"$f":"IFERROR(HLOOKUP('Customer Legal - Invoicing'!$B$6,A:Q,ROW(A7),0),B7)","v":"Modification"},"Modification","Modifizierung","Modifizierung","Modifizierung","Modifizierung",null,null,"Modification","Modification","Modification",null,"Modifiche","Modifiche",null,"Modificación"]
[{"$f":"IFERROR(HLOOKUP('Customer Legal - Invoicing'!$B$6,A:Q,ROW(A8),0),B8)","v":"Addition"},"Addition","Hinzufügen","Hinzufügen","Hinzufügen","Hinzufügen",null,null,"Supplément","Supplément","Supplément",null,"Addizionali","Addizionali",null,"Ampliación"]
[{"$f":"IFERROR(HLOOKUP('Customer Legal - Invoicing'!$B$6,A:Q,ROW(A9),0),B9)","v":"Removal"},"Removal","Entfernen","Entfernen","Entfernen","Entfernen",null,null,"Suppression","Suppression","Suppression",null,"Rimozione","Rimozione",null,"Eliminación"]
[{"$f":"IFERROR(HLOOKUP('Customer Legal - Invoicing'!$B$6,A:Q,ROW(A10),0),B10)","v":"Cease"},"Cease","Beenden","Beenden","Beenden","Beenden",null,null,"Résiliation","Résiliation","Résiliation",null,"Cessazione","Cessazione",null,"Cese"]
[{"$f":"IFERROR(HLOOKUP('Customer Legal - Invoicing'!$B$6,A:Q,ROW(A11),0),B11)","v":"Cancellation"},"Cancellation","Stornierung","Stornierung","Stornierung","Stornierung",null,null,"Annulation","Annulation","Annulation",null,"Cancellazione","Cancellazione",null,"Cancelación"]
[{"$f":"IFERROR(HLOOKUP('Customer Legal - Invoicing'!$B$6,A:Q,ROW(A12),0),B12)","v":"Customer requested date (CRD)"},"Customer requested date (CRD)","Anforderungsdatum des Kunden","Anforderungsdatum des Kunden","Anforderungsdatum des Kunden","Anforderungsdatum des Kunden",null,null,"Date demandée par le client","Date demandée par le client","Date demandée par le client",null,"Data richiesta dal cliente (CRD)","Data richiesta dal cliente (CRD)",null,"Fecha de solicitud de entrega del cliente (CRD)"]
[{"$f":"IFERROR(HLOOKUP('Customer Legal - Invoicing'!$B$6,A:Q,ROW(A13),0),B13)","v":"Customer's name to create the URL for access to the Cloud UC platform"},"Customer's name to create the URL for access to the Cloud UC platform","Kundenname zur Erstellung der URL für den Zugriff auf die Colt Cloud UC Plattform","Kundenname zur Erstellung der URL für den Zugriff auf die Colt Cloud UC Plattform","Kundenname zur Erstellung der URL für den Zugriff auf die Colt Cloud UC Plattform","Kundenname zur Erstellung der URL für den Zugriff auf die Colt Cloud UC Plattform",null,null,"Nom du client pour la création de l'URL d'accès à la plateforme Cloud UC","Nom du client pour la création de l'URL d'accès à la plateforme Cloud UC","Nom du client pour la création de l'URL d'accès à la plateforme Cloud UC",null,"Nome del cliente per la creazione dell'URL di accesso alla piattaforma Cloud UC","Nome del cliente per la creazione dell'URL di accesso alla piattaforma Cloud UC",null,"Nombre del cliente para crear la URL de acceso a la plataforma de Cloud UC"]
[{"$f":"IFERROR(HLOOKUP('Customer Legal - Invoicing'!$B$6,A:Q,ROW(A14),0),B14)","v":"to be provided by customer"},"to be provided by customer","vom Kunden bereitzustellen","vom Kunden bereitzustellen","vom Kunden bereitzustellen","vom Kunden bereitzustellen",null,null,"à fournir au client","à fournir au client","à fournir au client",null,"Da fornire lato cliente","Da fornire lato cliente",null,"Para ser proporcionado por el cliente"]
[{"$f":"IFERROR(HLOOKUP('Customer Legal - Invoicing'!$B$6,A:Q,ROW(A15),0),B15)","v":"Cloud UC Central Access Line Type"},"Cloud UC Central Access Line Type","Cloud UC Leitungstyp (zentral)","Cloud UC Leitungstyp (zentral)","Cloud UC Leitungstyp (zentral)","Cloud UC Leitungstyp (zentral)",null,null,"Type de lien pour accéder à la plate-forme centrale de Cloud UC","Type de lien pour accéder à la plate-forme centrale de Cloud UC","Type de lien pour accéder à la plate-forme centrale de Cloud UC",null,"Tipologia di accesso alla Centrale Cloud UC","Tipologia di accesso alla Centrale Cloud UC",null,"Tipo de Línea de Acceso Central a Cloud UC"]
[{"$f":"IFERROR(HLOOKUP('Customer Legal - Invoicing'!$B$6,A:Q,ROW(A16),0),B16)","v":"Bandwidth (Mb)"},"Bandwidth (Mb)","Bandbreite (Mbit)","Bandbreite (Mbit)","Bandbreite (Mbit)","Bandbreite (Mbit)",null,null,"Débit (Mb)","Débit (Mb)","Débit (Mb)",null,"Banda Necessaria (MB)","Banda Necessaria (MB)",null,"Ancho de Banda (Mb)"]
[{"$f":"IFERROR(HLOOKUP('Customer Legal - Invoicing'!$B$6,A:Q,ROW(A17),0),B17)","v":"Colt Network Connectivity"},"Colt Network Connectivity","Colt-Netzwerkverbindung","Colt-Netzwerkverbindung","Colt-Netzwerkverbindung","Colt-Netzwerkverbindung",null,null,"Connexion au réseau Colt","Connexion au réseau Colt","Connexion au réseau Colt",null,"Connessione Colt dati","Connessione Colt dati",null,"Conectividad de Red de Colt"]
[{"$f":"IFERROR(HLOOKUP('Customer Legal - Invoicing'!$B$6,A:Q,ROW(A18),0),B18)","v":"If the customer has existing Colt Connectivity, the required modifications and enhancements are to be handled separately."},"If the customer has existing Colt Connectivity, the required modifications and enhancements are to be handled separately.","Bei bestehender Colt-Netzwerkverbindung, müssen die benötigten Modifikationen und Erweiterungen gesondert durchgeführt werden.","Bei bestehender Colt-Netzwerkverbindung, müssen die benötigten Modifikationen und Erweiterungen gesondert durchgeführt werden.","Bei bestehender Colt-Netzwerkverbindung, müssen die benötigten Modifikationen und Erweiterungen gesondert durchgeführt werden.","Bei bestehender Colt-Netzwerkverbindung, müssen die benötigten Modifikationen und Erweiterungen gesondert durchgeführt werden.",null,null,"si le client a déjà une connexion au réseau Colt, les modifications et ajouts nécessaires doivent être traitées séparément","si le client a déjà une connexion au réseau Colt, les modifications et ajouts nécessaires doivent être traitées séparément","si le client a déjà une connexion au réseau Colt, les modifications et ajouts nécessaires doivent être traitées séparément",null,"Se il cliente ha una connetttività Colt esistente, le modifiche o le migliorie devono essere gestite separatamente","Se il cliente ha una connetttività Colt esistente, le modifiche o le migliorie devono essere gestite separatamente",null,"Si ya existe conectividad de Colt en el cliente, las modificaciones y mejoras necesarias serán manejadas separadamente"]
[{"$f":"IFERROR(HLOOKUP('Customer Legal - Invoicing'!$B$6,A:Q,ROW(A19),0),B19)","v":"Yes"},"Yes","Ja","Ja","Ja","Ja",null,null,"Oui","Oui","Oui",null,"Si","Si",null,"Si"]
[{"$f":"IFERROR(HLOOKUP('Customer Legal - Invoicing'!$B$6,A:Q,ROW(A20),0),B20)","v":"No"},"No","Nein","Nein","Nein","Nein",null,null,"Non","Non","Non",null,"No","No",null,"No"]
[{"$f":"IFERROR(HLOOKUP('Customer Legal - Invoicing'!$B$6,A:Q,ROW(A21),0),B21)","v":"Not applicable"},"Not applicable","Nicht zutreffend","Nicht zutreffend","Nicht zutreffend","Nicht zutreffend",null,null,"Non applicable","Non applicable","Non applicable",null,"Non applicabile","Non applicabile",null,"No aplica"]
[{"$f":"IFERROR(HLOOKUP('Customer Legal - Invoicing'!$B$6,A:Q,ROW(A22),0),B22)","v":"Applicable"},"Applicable","Zutreffend","Zutreffend","Zutreffend","Zutreffend",null,null,"Applicable","Applicable","Applicable",null,"Applicabile","Applicabile",null,"Aplica"]
[{"$f":"IFERROR(HLOOKUP('Customer Legal - Invoicing'!$B$6,A:Q,ROW(A23),0),B23)","v":"Existing Colt Network Connectivity ?"},"Existing Colt Network Connectivity ?","Bestehende Colt-Netzwerkverbindung?","Bestehende Colt-Netzwerkverbindung?","Bestehende Colt-Netzwerkverbindung?","Bestehende Colt-Netzwerkverbindung?",null,null,"Connexion au réseau Colt existante ?","Connexion au réseau Colt existante ?","Connexion au réseau Colt existante ?",null,"Connessione Colt esistente?","Connessione Colt esistente?",null,"¿Existe conectividad con la red de Colt?"]
[{"$f":"IFERROR(HLOOKUP('Customer Legal - Invoicing'!$B$6,A:Q,ROW(A24),0),B24)","v":"Existing Connectivity Service Type"},"Existing Connectivity Service Type","Bestehender Verbindungstyp?","Bestehender Verbindungstyp?","Bestehender Verbindungstyp?","Bestehender Verbindungstyp?",null,null,"Type de connexion existant","Type de connexion existant","Type de connexion existant",null,"Tipo di connessione esistente?","Tipo di connessione esistente?",null,"Tipo de Servicio de conectividad existente"]
[{"$f":"IFERROR(HLOOKUP('Customer Legal - Invoicing'!$B$6,A:Q,ROW(A25),0),B25)","v":"Existing Access Service ID Reference (IPCxxxxx)"},"Existing Access Service ID Reference (IPCxxxxx)","Bestehende Access-Service-ID-Referenz(en) (IPCxxxxx, ...)","Bestehende Access-Service-ID-Referenz(en) (IPCxxxxx, ...)","Bestehende Access-Service-ID-Referenz(en) (IPCxxxxx, ...)","Bestehende Access-Service-ID-Referenz(en) (IPCxxxxx, ...)",null,null,"Numéro de référence de la commande d'accès au service associé","Numéro de référence de la commande d'accès au service associé","Numéro de référence de la commande d'accès au service associé",null,"Access Service ID Reference esistente (IPCxxxxx) ","Access Service ID Reference esistente (IPCxxxxx) ",null,"Access Service ID Reference existente (IPCxxxxx)"]
[{"$f":"IFERROR(HLOOKUP('Customer Legal - Invoicing'!$B$6,A:Q,ROW(A26),0),B26)","v":"Relevant Access Service Order numbers"},"Relevant Access Service Order numbers","Relevante Access-Service-Order Nummer(en)","Relevante Access-Service-Order Nummer(en)","Relevante Access-Service-Order Nummer(en)","Relevante Access-Service-Order Nummer(en)",null,null,"Numéro de référence de la commande d'accès au service associé","Numéro de référence de la commande d'accès au service associé","Numéro de référence de la commande d'accès au service associé",null,"Numero d'ordine dell'accesso al servizio","Numero d'ordine dell'accesso al servizio",null,"Números de orden de Servicio de Acceso relevantes"]
[{"$f":"IFERROR(HLOOKUP('Customer Legal - Invoicing'!$B$6,A:Q,ROW(A27),0),B27)","v":"New Colt Network Connectivity ?"},"New Colt Network Connectivity ?","Neue Colt-Netzwerkverbindung?","Neue Colt-Netzwerkverbindung?","Neue Colt-Netzwerkverbindung?","Neue Colt-Netzwerkverbindung?",null,null,"Est-ce une nouvelle connexion au réseau Colt ?","Est-ce une nouvelle connexion au réseau Colt ?","Est-ce une nouvelle connexion au réseau Colt ?",null,"Nuova connessione network Colt?","Nuova connessione network Colt?",null,"¿Nueva conectividad de Red de Colt?"]
[{"$f":"IFERROR(HLOOKUP('Customer Legal - Invoicing'!$B$6,A:Q,ROW(A28),0),B28)","v":"Required Connectivity Service"},"Required Connectivity Service","Benötigter Verbindungstyp","Benötigter Verbindungstyp","Benötigter Verbindungstyp","Benötigter Verbindungstyp",null,null,"Service de connexion désiré","Service de connexion désiré","Service de connexion désiré",null,"Tipologia di connessione desiderata?","Tipologia di connessione desiderata?",null,"¿Requiere Servicios de Conectividad?"]
[{"$f":"IFERROR(HLOOKUP('Customer Legal - Invoicing'!$B$6,A:Q,ROW(A29),0),B29)","v":"Number of sites"},"Number of sites","Anzahl der Standorte","Anzahl der Standorte","Anzahl der Standorte","Anzahl der Standorte",null,null,"Nombre de sites","Nombre de sites","Nombre de sites",null,"Numero di sedi","Numero di sedi",null,"Número de sedes"]
[{"$f":"IFERROR(HLOOKUP('Customer Legal - Invoicing'!$B$6,A:Q,ROW(A30),0),B30)","v":"N/A"},"N/A","N/A","N/A","N/A","N/A","N/A","N/A","N/A","N/A","N/A","N/A","N/A","N/A","N/A","N/A"]
[{"$f":"IFERROR(HLOOKUP('Customer Legal - Invoicing'!$B$6,A:Q,ROW(A31),0),B31)","v":"1 main site"},"1 main site","1 Hauptstandort","1 Hauptstandort","1 Hauptstandort","1 Hauptstandort",null,null,"Un site principal","Un site principal","Un site principal",null,"1 sito principale","1 sito principale",null,"1 sede principal"]
[{"$f":"IFERROR(HLOOKUP('Customer Legal - Invoicing'!$B$6,A:Q,ROW(A32),0),B32)","v":"1 main + 1 redundant site"},"1 main + 1 redundant site","1 Hauptstandort + 1 redundanter Standort","1 Hauptstandort + 1 redundanter Standort","1 Hauptstandort + 1 redundanter Standort","1 Hauptstandort + 1 redundanter Standort",null,null,"Un site principal et un site en redondance","Un site principal et un site en redondance","Un site principal et un site en redondance",null,"1 sito principale + 1 ridondante","1 sito principale + 1 ridondante",null,"1 sede principal + 1 sede redundante "]
[{"$f":"IFERROR(HLOOKUP('Customer Legal - Invoicing'!$B$6,A:Q,ROW(A33),0),B33)","v":1},1,1,1,1,1,null,null,0,1,2,null,1,1,null,1]
[{"$f":"IFERROR(HLOOKUP('Customer Legal - Invoicing'!$B$6,A:Q,ROW(A34),0),B34)","v":"more than 1 site"},"more than 1 site","mehr als 1 Standort","mehr als 1 Standort","mehr als 1 Standort","mehr als 1 Standort",null,null,"Plus de 1 site","Plus de 1 site","Plus de 1 site",null,"Più di 1 sito","Più di 1 sito",null,"Mas de 1 sede"]
[{"$f":"IFERROR(HLOOKUP('Customer Legal - Invoicing'!$B$6,A:Q,ROW(A35),0),B35)","v":"In case connectivity is required for more than 1 site, or when connectivity requirements are complex, these services should be handled separately from the Cloud UC Solution. "},"In case connectivity is required for more than 1 site, or when connectivity requirements are complex, these services should be handled separately from the Cloud UC Solution. ","Für den Fall, dass mehr als 1 Standortverbindungen notwendig sind, oder die Verbindungsanforderungen komplex sind, sollten diese Anforderungen getrennt von Colt Cloud UC behandelt werden.","Für den Fall, dass mehr als 1 Standortverbindungen notwendig sind, oder die Verbindungsanforderungen komplex sind, sollten diese Anforderungen getrennt von Colt Cloud UC behandelt werden.","Für den Fall, dass mehr als 1 Standortverbindungen notwendig sind, oder die Verbindungsanforderungen komplex sind, sollten diese Anforderungen getrennt von Colt Cloud UC behandelt werden.","Für den Fall, dass mehr als 1 Standortverbindungen notwendig sind, oder die Verbindungsanforderungen komplex sind, sollten diese Anforderungen getrennt von Colt Cloud UC behandelt werden.",null,null,"Dans le cas où la connexion est nécessaire pour plus d'un site ou bien si les besoins sont plus complexes et spécifiques, ces services doivent être définis en parallèle de Cloud UC","Dans le cas où la connexion est nécessaire pour plus d'un site ou bien si les besoins sont plus complexes et spécifiques, ces services doivent être définis en parallèle de Cloud UC","Dans le cas où la connexion est nécessaire pour plus d'un site ou bien si les besoins sont plus complexes et spécifiques, ces services doivent être définis en parallèle de Cloud UC",null,"Qualora la connettività richiesta fosse per più di 1 sito o fosse particolarmente complessa, questi servizi devono essere gestiti separatamente dal Cloud UC","Qualora la connettività richiesta fosse per più di 1 sito o fosse particolarmente complessa, questi servizi devono essere gestiti separatamente dal Cloud UC",null,"En caso de que se requiera conectividad para mas de 1 sede, en cuando los requisitos de conectividad sean complejos, este servicio deberá ser manejado separadamente de la solución de Cloud UC"]
[{"$f":"IFERROR(HLOOKUP('Customer Legal - Invoicing'!$B$6,A:Q,ROW(A36),0),B36)","v":"References related to separate connectivity orders :"},"References related to separate connectivity orders :","Referenzen , zu separaten Bestellungen von Anschlüssen.","Referenzen , zu separaten Bestellungen von Anschlüssen.","Referenzen , zu separaten Bestellungen von Anschlüssen.","Referenzen , zu separaten Bestellungen von Anschlüssen.",null,null,"Références des commandes séparées de connexion ","Références des commandes séparées de connexion ","Références des commandes séparées de connexion ",null,"Referenze Id relativi ad ordini di connessioni separate","Referenze Id relativi ad ordini di connessioni separate",null,"Referencias relacinadas con ordenes de conectividad separadas:"]
[{"$f":"IFERROR(HLOOKUP('Customer Legal - Invoicing'!$B$6,A:Q,ROW(A37),0),B37)","v":"if applicable"},"if applicable","gegebenenfalls","gegebenenfalls","gegebenenfalls","gegebenenfalls",null,null,"si applicable","si applicable","si applicable",null,"Se applicabile","Se applicabile",null,"si es aplicable"]
[{"$f":"IFERROR(HLOOKUP('Customer Legal - Invoicing'!$B$6,A:Q,ROW(A38),0),B38)","v":"Colt Voice Services"},"Colt Voice Services","Colt Voice (VoIP) Services für Cloud UC Solution","Colt Voice (VoIP) Services für Cloud UC Solution","Colt Voice (VoIP) Services für Cloud UC Solution","Colt Voice (VoIP) Services für Cloud UC Solution",null,null,"Voir les commandes existantes dans la table des SDA (DDIs)","Voir les commandes existantes dans la table des SDA (DDIs)","Voir les commandes existantes dans la table des SDA (DDIs)",null,"Colt Voice Services","Colt Voice Services",null,"Colt Voice Services"]
[{"$f":"IFERROR(HLOOKUP('Customer Legal - Invoicing'!$B$6,A:Q,ROW(A39),0),B39)","v":"See current Colt orders in 'DDIs'-tab"},"See current Colt orders in 'DDIs'-tab","Siehe aktuelle Colt Bestellungen in  'DDIs'-tab","Siehe aktuelle Colt Bestellungen in  'DDIs'-tab","Siehe aktuelle Colt Bestellungen in  'DDIs'-tab","Siehe aktuelle Colt Bestellungen in  'DDIs'-tab",null,null,"Voir les commandes existantes dans la table des SDA","Voir les commandes existantes dans la table des SDA","Voir les commandes existantes dans la table des SDA",null,"Verificare cli ordini correnti nel tab DDI's","Verificare cli ordini correnti nel tab DDI's",null,"Ver las órdenes actuales de Colt en la pestaña 'DDIs'"]
[{"$f":"IFERROR(HLOOKUP('Customer Legal - Invoicing'!$B$6,A:Q,ROW(A40),0),B40)","v":"Existing Colt Voice service ?"},"Existing Colt Voice service ?","Bestehende Colt Voice Dienste?","Bestehende Colt Voice Dienste?","Bestehende Colt Voice Dienste?","Bestehende Colt Voice Dienste?",null,null,"Service voix Colt existant ?","Service voix Colt existant ?","Service voix Colt existant ?",null,"Servizio voce esistente Colt?","Servizio voce esistente Colt?",null,"¿Hay Servicios Colt Voice existentes?"]
[{"$f":"IFERROR(HLOOKUP('Customer Legal - Invoicing'!$B$6,A:Q,ROW(A41),0),B41)","v":"SIP Trunk Network technology"},"SIP Trunk Network technology","SIP-Trunk Netzwerktechnologie","SIP-Trunk Netzwerktechnologie","SIP-Trunk Netzwerktechnologie","SIP-Trunk Netzwerktechnologie",null,null,"Nature du Trunk SIP","Nature du Trunk SIP","Nature du Trunk SIP",null,"natura del sip Trunk ","natura del sip Trunk ",null,"¿Hay tecnología de red SIP Trunk?"]
[{"$f":"IFERROR(HLOOKUP('Customer Legal - Invoicing'!$B$6,A:Q,ROW(A42),0),B42)","v":"Voice VLAN ID Customer (1 VLAN for all countries (Customer LAN))"},"Voice VLAN ID Customer (1 VLAN for all countries (Customer LAN))","Voice VLAN ID Kunde (1 VLAN für alle Länder (Kunden LAN))","Voice VLAN ID Kunde (1 VLAN für alle Länder (Kunden LAN))","Voice VLAN ID Kunde (1 VLAN für alle Länder (Kunden LAN))","Voice VLAN ID Kunde (1 VLAN für alle Länder (Kunden LAN))",null,null,"ID client du VLAN voix (1 VLAN pour tous les pays (LAN client))","ID client du VLAN voix (1 VLAN pour tous les pays (LAN client))","ID client du VLAN voix (1 VLAN pour tous les pays (LAN client))",null,"Id cliente Vlan Voce (1 Vlan per ogni nazione (lan del cliente))","Id cliente Vlan Voce (1 Vlan per ogni nazione (lan del cliente))",null,"VLAN ID de Voz del cliente (1 VLAN para todos los paises (Customer LAN))"]
[{"$f":"IFERROR(HLOOKUP('Customer Legal - Invoicing'!$B$6,A:Q,ROW(A43),0),B43)","v":"Number porting required ?"},"Number porting required ?","Rufnummernportierung?","Rufnummernportierung?","Rufnummernportierung?","Rufnummernportierung?",null,null,"Des numéros sont ils à porter ?","Des numéros sont ils à porter ?","Des numéros sont ils à porter ?",null,"Numeri da importare?","Numeri da importare?",null,"¿Portabilidad de numeración requerida?"]
[{"$f":"IFERROR(HLOOKUP('Customer Legal - Invoicing'!$B$6,A:Q,ROW(A44),0),B44)","v":"Porting Documents OK ?"},"Porting Documents OK ?","Portierungsdokumente o.k.?","Portierungsdokumente o.k.?","Portierungsdokumente o.k.?","Portierungsdokumente o.k.?",null,null,"Avez-vous les documents de portabilité nécessaires ?","Avez-vous les documents de portabilité nécessaires ?","Avez-vous les documents de portabilité nécessaires ?",null,"Iavete i documenti di portabilità a posto?","Iavete i documenti di portabilità a posto?",null,"¿Documentos de Portabilidad OK?"]
[{"$f":"IFERROR(HLOOKUP('Customer Legal - Invoicing'!$B$6,A:Q,ROW(A45),0),B45)","v":"Modification IP-PBX signalling on existing SIP trunk ?"},"Modification IP-PBX signalling on existing SIP trunk ?","Modifizierung IP-PBX Signalisierung auf bestehendem SIP-Trunk?","Modifizierung IP-PBX Signalisierung auf bestehendem SIP-Trunk?","Modifizierung IP-PBX Signalisierung auf bestehendem SIP-Trunk?","Modifizierung IP-PBX Signalisierung auf bestehendem SIP-Trunk?",null,null,"Doit on modifier la signalisation du trunk SIP existant en fonction de la signalisation de l'IPBX ","Doit on modifier la signalisation du trunk SIP existant en fonction de la signalisation de l'IPBX ","Doit on modifier la signalisation du trunk SIP existant en fonction de la signalisation de l'IPBX ",null,"Si necessita di modifiche al Sip trunk esistente per via dell'IP-PBX?","Si necessita di modifiche al Sip trunk esistente per via dell'IP-PBX?",null,"¿Modificación en la IP-PBX de la señalización del SIP trunk existente?"]
[{"$f":"IFERROR(HLOOKUP('Customer Legal - Invoicing'!$B$6,A:Q,ROW(A46),0),B46)","v":"Add POP resiliency to existing SIP trunk ?"},"Add POP resiliency to existing SIP trunk ?","Hinzufügen POP Ausfallsicherheit zu bestehendem SIP-Trunk?","Hinzufügen POP Ausfallsicherheit zu bestehendem SIP-Trunk?","Hinzufügen POP Ausfallsicherheit zu bestehendem SIP-Trunk?","Hinzufügen POP Ausfallsicherheit zu bestehendem SIP-Trunk?",null,null,"Doit on ajouter un point d'accès supplémentaire au trunk SIP ?","Doit on ajouter un point d'accès supplémentaire au trunk SIP ?","Doit on ajouter un point d'accès supplémentaire au trunk SIP ?",null,"Eè necessaria una relisilienza POP al sip Tunk esistente?","Eè necessaria una relisilienza POP al sip Tunk esistente?",null,"¿Añadir capacidad de resistencia a fallos de POP del SIP trunk existente?"]
[{"$f":"IFERROR(HLOOKUP('Customer Legal - Invoicing'!$B$6,A:Q,ROW(A47),0),B47)","v":"Cease of Existing SIP trunk after Reprovide of new SIP trunk ?"},"Cease of Existing SIP trunk after Reprovide of new SIP trunk ?","Löschen des bestehenden SIP-Trunks nach der Bereitstellung des neuen SIP-Trunks?","Löschen des bestehenden SIP-Trunks nach der Bereitstellung des neuen SIP-Trunks?","Löschen des bestehenden SIP-Trunks nach der Bereitstellung des neuen SIP-Trunks?","Löschen des bestehenden SIP-Trunks nach der Bereitstellung des neuen SIP-Trunks?",null,null,"Résiliation du trunk Sip Existant après avoir fourni le nouveau ?","Résiliation du trunk Sip Existant après avoir fourni le nouveau ?","Résiliation du trunk Sip Existant après avoir fourni le nouveau ?",null,"Si necessita di chiusura del sip trunking esistente dopo aver consegnato un nuovo Sip trunking?","Si necessita di chiusura del sip trunking esistente dopo aver consegnato un nuovo Sip trunking?",null,"¿Cese del SIP trunk existente despues de la provisión del nuevo SIP trunk?"]
[{"$f":"IFERROR(HLOOKUP('Customer Legal - Invoicing'!$B$6,A:Q,ROW(A48),0),B48)","v":"Migration Existing Colt Voice services to SIP trunk ?"},"Migration Existing Colt Voice services to SIP trunk ?","Migration von bestehenden Colt Voice-Diensten auf SIP-Trunk?","Migration von bestehenden Colt Voice-Diensten auf SIP-Trunk?","Migration von bestehenden Colt Voice-Diensten auf SIP-Trunk?","Migration von bestehenden Colt Voice-Diensten auf SIP-Trunk?",null,null,"Faut il migrer les services voix existants sur le trunk SIP ?","Faut il migrer les services voix existants sur le trunk SIP ?","Faut il migrer les services voix existants sur le trunk SIP ?",null,"Migrazione dell'attuale servizio voce esistente verso Sip Trunking?","Migrazione dell'attuale servizio voce esistente verso Sip Trunking?",null,"¿Migración de los servicios de Colt Voice existentes a SIP trunk?"]
[{"$f":"IFERROR(HLOOKUP('Customer Legal - Invoicing'!$B$6,A:Q,ROW(A49),0),B49)","v":"New SIP trunk with POP resiliency ?"},"New SIP trunk with POP resiliency ?","Neuer SIP-Trunk mit POP Ausfallsicherheit?","Neuer SIP-Trunk mit POP Ausfallsicherheit?","Neuer SIP-Trunk mit POP Ausfallsicherheit?","Neuer SIP-Trunk mit POP Ausfallsicherheit?",null,null,"Nouveau trunk SIP avec POP sécurisé ?","Nouveau trunk SIP avec POP sécurisé ?","Nouveau trunk SIP avec POP sécurisé ?",null,"Nuovo sip Trunking con resilienza del Pop?","Nuovo sip Trunking con resilienza del Pop?",null,"¿Nuevo SIP trunk con capacidad de resistencia a fallos en el POP?"]
[{"$f":"IFERROR(HLOOKUP('Customer Legal - Invoicing'!$B$6,A:Q,ROW(A50),0),B50)","v":"Remarks :"},"Remarks :","Bemerkungen:","Bemerkungen:","Bemerkungen:","Bemerkungen:",null,null,"Remarques :","Remarques :","Remarques :",null,"Indicazioni particolari:","Indicazioni particolari:",null,"Observaciones:"]
[{"$f":"IFERROR(HLOOKUP('Customer Legal - Invoicing'!$B$6,A:Q,ROW(A51),0),B51)","v":"Existing IP Voice Solution service ?"},"Existing IP Voice Solution service ?","Bestehende Colt Cloud UC oder IP Voice-Dienste?","Bestehende Colt Cloud UC oder IP Voice-Dienste?","Bestehende Colt Cloud UC oder IP Voice-Dienste?","Bestehende Colt Cloud UC oder IP Voice-Dienste?",null,null,"Migration d'une solution IP Voice existante ?","Migration d'une solution IP Voice existante ?","Migration d'une solution IP Voice existante ?",null,"Servizio IP Voice Solution esistente ?","Servizio IP Voice Solution esistente ?",null,"Servicio IP Voice Solution Existente ?"]
[{"$f":"IFERROR(HLOOKUP('Customer Legal - Invoicing'!$B$6,A:Q,ROW(A52),0),B52)","v":"Migration Existing IP Voice Solution service ?"},"Migration Existing IP Voice Solution service ?","Migartion von bestehenden Colt IP Voice Solution Diensten?","Migartion von bestehenden Colt IP Voice Solution Diensten?","Migartion von bestehenden Colt IP Voice Solution Diensten?","Migartion von bestehenden Colt IP Voice Solution Diensten?",null,null,"Migration d'une solution IP Voice existante ?","Migration d'une solution IP Voice existante ?","Migration d'une solution IP Voice existante ?",null,"Migrazione di una soluzione Ip voice esistente?","Migrazione di una soluzione Ip voice esistente?",null,"¿Migración de los servicios de Voz IP existentes?"]
[{"$f":"IFERROR(HLOOKUP('Customer Legal - Invoicing'!$B$6,A:Q,ROW(A53),0),B53)","v":"Existing Colt IP Voice Solution to be replaced with Cloud UC Solution"},"Existing Colt IP Voice Solution to be replaced with Cloud UC Solution","Bestehenden Colt IP Voice Solution Diensten erstzen durch Cloud UC Solution?","Bestehenden Colt IP Voice Solution Diensten erstzen durch Cloud UC Solution?","Bestehenden Colt IP Voice Solution Diensten erstzen durch Cloud UC Solution?","Bestehenden Colt IP Voice Solution Diensten erstzen durch Cloud UC Solution?",null,null,"Solution Colt IP Voice solution existantre remplacée par unre solution Cloud UC","Solution Colt IP Voice solution existantre remplacée par unre solution Cloud UC","Solution Colt IP Voice solution existantre remplacée par unre solution Cloud UC",null,"Soluzione Voice ip esistente da rimpiazzare con la soluzone Cloud UC?","Soluzione Voice ip esistente da rimpiazzare con la soluzone Cloud UC?",null,"¿Servicios existentes de Colt IP Voice Solution que serán reemplazados por la solución de Colt Cloud UC?"]
[{"$f":"IFERROR(HLOOKUP('Customer Legal - Invoicing'!$B$6,A:Q,ROW(A54),0),B54)","v":"General remarks, if applicable"},"General remarks, if applicable","Generelle Anmerkungen, wenn notwendig","Generelle Anmerkungen, wenn notwendig","Generelle Anmerkungen, wenn notwendig","Generelle Anmerkungen, wenn notwendig",null,null,"Remarques générales, si applicables :","Remarques générales, si applicables :","Remarques générales, si applicables :",null,"Specifiche particolari, se applicabili","Specifiche particolari, se applicabili",null,"Observaciones generales, si procede"]
[{"$f":"IFERROR(HLOOKUP('Customer Legal - Invoicing'!$B$6,A:Q,ROW(A55),0),B55)","v":"Remarks regarding modification, if applicable"},"Remarks regarding modification, if applicable","Anmerkungen bzgl. Modifikationen, wenn notwendig ","Anmerkungen bzgl. Modifikationen, wenn notwendig ","Anmerkungen bzgl. Modifikationen, wenn notwendig ","Anmerkungen bzgl. Modifikationen, wenn notwendig ",null,null,"Remarques sur la modification, si applicable","Remarques sur la modification, si applicable","Remarques sur la modification, si applicable",null,"Segnalazioni particolari in merito a modifiche necessarie, se applicabile","Segnalazioni particolari in merito a modifiche necessarie, se applicabile",null,"Observaciones relativas a la modificación, etc., si procede"]
[{"$f":"IFERROR(HLOOKUP('Customer Legal - Invoicing'!$B$6,A:Q,ROW(A56),0),B56)","v":"MAIN SITE"},"MAIN SITE","HAUPSTANDORT","HAUPSTANDORT","HAUPSTANDORT","HAUPSTANDORT",null,null,"SITE PRINCIPAL","SITE PRINCIPAL","SITE PRINCIPAL",null,"Sito principale","Sito principale",null,"Sede principal"]
[{"$f":"IFERROR(HLOOKUP('Customer Legal - Invoicing'!$B$6,A:Q,ROW(A57),0),B57)","v":"REDUNDANT SITE"},"REDUNDANT SITE","REDUNDANTER STANDORT","REDUNDANTER STANDORT","REDUNDANTER STANDORT","REDUNDANTER STANDORT",null,null,"SITE REDONDANT","SITE REDONDANT","SITE REDONDANT",null,"Sito ridondante","Sito ridondante",null,"Sede redundante"]
[{"$f":"IFERROR(HLOOKUP('Customer Legal - Invoicing'!$B$6,A:Q,ROW(A58),0),B58)","v":"Site Name and Address"},"Site Name and Address","Standortname und Adresse","Standortname und Adresse","Standortname und Adresse","Standortname und Adresse",null,null,"Nom et Adresse du site","Nom et Adresse du site","Nom et Adresse du site",null,"Nome del sito ed indirizzo","Nome del sito ed indirizzo",null,"Nombre y dirección de la sede"]
[{"$f":"IFERROR(HLOOKUP('Customer Legal - Invoicing'!$B$6,A:Q,ROW(A59),0),B59)","v":"Site Name (Alias)"},"Site Name (Alias)","Standortname (Alias)","Standortname (Alias)","Standortname (Alias)","Standortname (Alias)",null,null,"Nom du site (ou alias)","Nom du site (ou alias)","Nom du site (ou alias)",null,"Nome del Sito o Alias","Nome del Sito o Alias",null,"Nombre de la sede (Alias)"]
[{"$f":"IFERROR(HLOOKUP('Customer Legal - Invoicing'!$B$6,A:Q,ROW(A60),0),B60)","v":"Building"},"Building","Gebäude","Gebäude","Gebäude","Gebäude",null,null,"Construction","Construction","Construction",null,"Edificio","Edificio",null,"Edificio"]
[{"$f":"IFERROR(HLOOKUP('Customer Legal - Invoicing'!$B$6,A:Q,ROW(A61),0),B61)","v":"Floor & Room Telco - IT Eqt"},"Floor & Room Telco - IT Eqt","Stockwerk&Raum Telko/IT Equipment","Stockwerk&Raum Telko/IT Equipment","Stockwerk&Raum Telko/IT Equipment","Stockwerk&Raum Telko/IT Equipment",null,null,"Etage et salle telecom et infra","Etage et salle telecom et infra","Etage et salle telecom et infra",null,"Piano e stanza - sala It","Piano e stanza - sala It",null,"Planta y sala Telco - equipamiento IT "]
[{"$f":"IFERROR(HLOOKUP('Customer Legal - Invoicing'!$B$6,A:Q,ROW(A62),0),B62)","v":"Street, Number"},"Street, Number","Straße, Nummer","Straße, Nummer","Straße, Nummer","Straße, Nummer",null,null,"Rue, numéro","Rue, numéro","Rue, numéro",null,"Via e numero","Via e numero",null,"Calle, Número"]
[{"$f":"IFERROR(HLOOKUP('Customer Legal - Invoicing'!$B$6,A:Q,ROW(A63),0),B63)","v":"ZIP/Postal Code, Town"},"ZIP/Postal Code, Town","Postleitzahl, Ort","Postleitzahl, Ort","Postleitzahl, Ort","Postleitzahl, Ort",null,null,"Code postal, Ville","Code postal, Ville","Code postal, Ville",null,"Codice postale, Città","Codice postale, Città",null,"Código postal, Ciudad"]
[{"$f":"IFERROR(HLOOKUP('Customer Legal - Invoicing'!$B$6,A:Q,ROW(A64),0),B64)","v":"Additional chargeable services"},"Additional chargeable services","Zusätzliche kostenpflichtige Leistungen","Zusätzliche kostenpflichtige Leistungen","Zusätzliche kostenpflichtige Leistungen","Zusätzliche kostenpflichtige Leistungen",null,null,"Services payants additionnels","Services payants additionnels","Services payants additionnels",null,"Servizio addizionali a pagamento?","Servizio addizionali a pagamento?",null,"Servicios adicionales sujetos a pago"]
[{"$f":"IFERROR(HLOOKUP('Customer Legal - Invoicing'!$B$6,A:Q,ROW(A65),0),B65)","v":"Internal Cabling"},"Internal Cabling","Interne Verkabelung","Interne Verkabelung","Interne Verkabelung","Interne Verkabelung",null,null,"Cablage interne","Cablage interne","Cablage interne",null,"Cablaggio interno","Cablaggio interno",null,"Cableado interno"]
[{"$f":"IFERROR(HLOOKUP('Customer Legal - Invoicing'!$B$6,A:Q,ROW(A66),0),B66)","v":"Cable Distance"},"Cable Distance","Leitungslängen","Leitungslängen","Leitungslängen","Leitungslängen",null,null,"Distance Câblage ","Distance Câblage ","Distance Câblage ",null,"Cablaggio esterno, distanza","Cablaggio esterno, distanza",null,"Cableado larga distancia"]
[{"$f":"IFERROR(HLOOKUP('Customer Legal - Invoicing'!$B$6,A:Q,ROW(A67),0),B67)","v":"Special Long Lining requirements"},"Special Long Lining requirements","Long lining Details","Long lining Details","Long lining Details","Long lining Details",null,null,"Besoins spécifiques aux longues liaisons","Besoins spécifiques aux longues liaisons","Besoins spécifiques aux longues liaisons",null,"Richiesta di linee speciali (long Lining)","Richiesta di linee speciali (long Lining)",null,"Requisitos especiales de cableado de larga distancia"]
[{"$f":"IFERROR(HLOOKUP('Customer Legal - Invoicing'!$B$6,A:Q,ROW(A68),0),B68)","v":"Installation requirements - Additionally Chargeable if OOBH"},"Installation requirements - Additionally Chargeable if OOBH","Zusätzliche Installationsanforderungen – Kostenpflichtig","Zusätzliche Installationsanforderungen – Kostenpflichtig","Zusätzliche Installationsanforderungen – Kostenpflichtig","Zusätzliche Installationsanforderungen – Kostenpflichtig",null,null,"Besoins en terme d'installation : services payants complémentaires si OOBH","Besoins en terme d'installation : services payants complémentaires si OOBH","Besoins en terme d'installation : services payants complémentaires si OOBH",null,"Esigenze installative - fatturabili al cliente se OOBH","Esigenze installative - fatturabili al cliente se OOBH",null,"Requsitos de Instalación - Adicionalmente imputable si OOBH"]
[{"$f":"IFERROR(HLOOKUP('Customer Legal - Invoicing'!$B$6,A:Q,ROW(A69),0),B69)","v":"Installation Time"},"Installation Time","Zeitpunkt der Installation","Zeitpunkt der Installation","Zeitpunkt der Installation","Zeitpunkt der Installation",null,null,"Heure d'installation","Heure d'installation","Heure d'installation",null,"Orario di installazione","Orario di installazione",null,"Tiempo de instalación"]
[{"$f":"IFERROR(HLOOKUP('Customer Legal - Invoicing'!$B$6,A:Q,ROW(A70),0),B70)","v":"Out of Hours Installation Time Window, if applicable"},"Out of Hours Installation Time Window, if applicable","Zeitfenster für Installationen außerhalb der Geschäftszeiten, wenn notwendig","Zeitfenster für Installationen außerhalb der Geschäftszeiten, wenn notwendig","Zeitfenster für Installationen außerhalb der Geschäftszeiten, wenn notwendig","Zeitfenster für Installationen außerhalb der Geschäftszeiten, wenn notwendig",null,null,"Horaires possibles d'accès","Horaires possibles d'accès","Horaires possibles d'accès",null,"Out of Hourse Installation Time Window, if applicable","Out of Hourse Installation Time Window, if applicable",null,"Out of Hourse Installation Time Window, if applicable"]
[{"$f":"IFERROR(HLOOKUP('Customer Legal - Invoicing'!$B$6,A:Q,ROW(A71),0),B71)","v":"Access Notification Period"},"Access Notification Period","Vorlaufzeit zur Anforderung von Zutritt","Vorlaufzeit zur Anforderung von Zutritt","Vorlaufzeit zur Anforderung von Zutritt","Vorlaufzeit zur Anforderung von Zutritt",null,null,"Période de notification pour l'accès","Période de notification pour l'accès","Période de notification pour l'accès",null,"Orario di accesso richiesto","Orario di accesso richiesto",null,"Período de Notificación de Acceso"]
[{"$f":"IFERROR(HLOOKUP('Customer Legal - Invoicing'!$B$6,A:Q,ROW(A72),0),B72)","v":"Access Time Window"},"Access Time Window","Zutrittszeiten","Zutrittszeiten","Zutrittszeiten","Zutrittszeiten",null,null,"limite horaire d'accès","limite horaire d'accès","limite horaire d'accès",null,"Orario massimo di chiusura","Orario massimo di chiusura",null,"Ventana de Acceso"]
[{"$f":"IFERROR(HLOOKUP('Customer Legal - Invoicing'!$B$6,A:Q,ROW(A73),0),B73)","v":"Language Form"},"Language Form","Sprache des Formulars","Sprache des Formulars","Sprache des Formulars","Sprache des Formulars",null,null,"Langue souhaitée","Langue souhaitée","Langue souhaitée",null,"Lingua del modulo","Lingua del modulo",null,"Idioma del Formulario"]
[{"$f":"IFERROR(HLOOKUP('Customer Legal - Invoicing'!$B$6,A:Q,ROW(A74),0),B74)","v":"Implementation Country"},"Implementation Country","Land der Implementierung","Land der Implementierung","Land der Implementierung","Land der Implementierung",null,null,"Pays où se situe la mise en œuvre ","Pays où se situe la mise en œuvre ","Pays où se situe la mise en œuvre ",null,"Nazione dell'installazione","Nazione dell'installazione",null,"País de implementación"]
[{"$f":"IFERROR(HLOOKUP('Customer Legal - Invoicing'!$B$6,A:Q,ROW(A75),0),B75)","v":"Country  - Language Form"},"Country  - Language Form","Land des Vertrags (Colt) - Vertragssprache","Land des Vertrags (Colt) - Vertragssprache","Land des Vertrags (Colt) - Vertragssprache","Land des Vertrags (Colt) - Vertragssprache",null,null,"Pays, langue utilisée","Pays, langue utilisée","Pays, langue utilisée",null,"Nazione - Lingua del modulo","Nazione - Lingua del modulo",null,"País - Idioma del Formulario"]
[{"$f":"IFERROR(HLOOKUP('Customer Legal - Invoicing'!$B$6,A:Q,ROW(A76),0),B76)","v":"Contract - Legal"},"Contract - Legal","Vertrag - juristisch ","Vertrag - juristisch ","Vertrag - juristisch ","Vertrag - juristisch ",null,null,"Contrat - Juridique","Contrat - Juridique","Contrat - Juridique",null,"Contratto - parte legale","Contratto - parte legale",null,"Contrato -  Legal"]
[{"$f":"IFERROR(HLOOKUP('Customer Legal - Invoicing'!$B$6,A:Q,ROW(A77),0),B77)","v":"Invoicing"},"Invoicing","Fakturierung","Fakturierung","Fakturierung","Fakturierung",null,null,"Facturation","Facturation","Facturation",null,"Fatturazione","Fatturazione",null,"Facturación"]
[{"$f":"IFERROR(HLOOKUP('Customer Legal - Invoicing'!$B$6,A:Q,ROW(A78),0),B78)","v":"Customer Name"},"Customer Name","Kundenname","Kundenname","Kundenname","Kundenname",null,null,"Nom Client","Nom Client","Nom Client",null,"Nome Cliente","Nome Cliente",null,"Nombre del Cliente"]
[{"$f":"IFERROR(HLOOKUP('Customer Legal - Invoicing'!$B$6,A:Q,ROW(A79),0),B79)","v":"Abbreviation customer name"},"Abbreviation customer name","Abkürzung","Abkürzung","Abkürzung","Abkürzung",null,null,"Nom du client abbrégé","Nom du client abbrégé","Nom du client abbrégé",null,"Abbreviazione del nome del cliente","Abbreviazione del nome del cliente",null,"Abreviatura del Nombre del Cliente"]
[{"$f":"IFERROR(HLOOKUP('Customer Legal - Invoicing'!$B$6,A:Q,ROW(A80),0),B80)","v":"VAT no."},"VAT no.","USt.-IdNr.","USt.-IdNr.","USt.-IdNr.","USt.-IdNr.",null,null,"Numéro d'enregistrement de la société","Numéro d'enregistrement de la société","Numéro d'enregistrement de la société",null,"Partita Iva","Partita Iva",null,"Nº de IVA (o NIF)"]
[{"$f":"IFERROR(HLOOKUP('Customer Legal - Invoicing'!$B$6,A:Q,ROW(A81),0),B81)","v":"Company Registration No."},"Company Registration No.","Company Registration No.","Company Registration No.","Company Registration No.","Company Registration No.",null,null,"Numéro SIREN de la société","Numéro SIREN de la société","Numéro SIREN de la société",null,"Numero di registrazione alla camera di commercio","Numero di registrazione alla camera di commercio",null,"Nº de Registro de Empresa"]
[{"$f":"IFERROR(HLOOKUP('Customer Legal - Invoicing'!$B$6,A:Q,ROW(A82),0),B82)","v":"PO Box Number"},"PO Box Number","Postfach Nr.","Postfach Nr.","Postfach Nr.","Postfach Nr.",null,null,"Boîte Postale","Boîte Postale","Boîte Postale",null,"Casella postale PO BOX","Casella postale PO BOX",null,"Apartado de Correos de la PO"]
[{"$f":"IFERROR(HLOOKUP('Customer Legal - Invoicing'!$B$6,A:Q,ROW(A83),0),B83)","v":"Country"},"Country","Land","Land","Land","Land",null,null,"Pays","Pays","Pays",null,"Paese","Paese",null,"País"]
[{"$f":"IFERROR(HLOOKUP('Customer Legal - Invoicing'!$B$6,A:Q,ROW(A84),0),B84)","v":"Customer reference / PO Ref. "},"Customer reference / PO Ref. ","Kundenreferenzen / Auftragsreferenz","Kundenreferenzen / Auftragsreferenz","Kundenreferenzen / Auftragsreferenz","Kundenreferenzen / Auftragsreferenz",null,null,"Référence d'achat du Client","Référence d'achat du Client","Référence d'achat du Client",null,"Riferimenti cliente in caso di PO Box","Riferimenti cliente in caso di PO Box",null,"Referencia del Cliente / PO Ref,"]
[{"$f":"IFERROR(HLOOKUP('Customer Legal - Invoicing'!$B$6,A:Q,ROW(A85),0),B85)","v":"Director / Manager"},"Director / Manager","Direktor / Manager","Direktor / Manager","Direktor / Manager","Direktor / Manager",null,null,"Responsable","Responsable","Responsable",null,"Direttore - Manager","Direttore - Manager",null,"Director / Manager"]
[{"$f":"IFERROR(HLOOKUP('Customer Legal - Invoicing'!$B$6,A:Q,ROW(A86),0),B86)","v":"Department"},"Department","Abteilung","Abteilung","Abteilung","Abteilung",null,null,"Département","Département","Département",null,"Dipartimento","Dipartimento",null,"Departamento"]
[{"$f":"IFERROR(HLOOKUP('Customer Legal - Invoicing'!$B$6,A:Q,ROW(A87),0),B87)","v":"Phone number"},"Phone number","Telefonnummer","Telefonnummer","Telefonnummer","Telefonnummer",null,null,"Numéro de fixe","Numéro de fixe","Numéro de fixe",null,"Telefono Fisso","Telefono Fisso",null,"Número de Teléfono"]
[{"$f":"IFERROR(HLOOKUP('Customer Legal - Invoicing'!$B$6,A:Q,ROW(A88),0),B88)","v":"Mobile number"},"Mobile number","Mobilnummer","Mobilnummer","Mobilnummer","Mobilnummer",null,null,"Numéro de mobile","Numéro de mobile","Numéro de mobile",null,"Telefono Mobile","Telefono Mobile",null,"Número de Móvil"]
[{"$f":"IFERROR(HLOOKUP('Customer Legal - Invoicing'!$B$6,A:Q,ROW(A89),0),B89)","v":"Fax number"},"Fax number","Faxnummer","Faxnummer","Faxnummer","Faxnummer",null,null,"Numéro de télécopie  ","Numéro de télécopie  ","Numéro de télécopie  ",null,"Numero di Fax","Numero di Fax",null,"Número de FAX"]
[{"$f":"IFERROR(HLOOKUP('Customer Legal - Invoicing'!$B$6,A:Q,ROW(A90),0),B90)","v":"Language"},"Language","Sprache","Sprache","Sprache","Sprache",null,null,"Langue  ","Langue  ","Langue  ",null,"Lingua   ","Lingua   ",null,"Idioma"]
[{"$f":"IFERROR(HLOOKUP('Customer Legal - Invoicing'!$B$6,A:Q,ROW(A91),0),B91)","v":"Yes - OK"},"Yes - OK","Ja - o.k.","Ja - o.k.","Ja - o.k.","Ja - o.k.",null,null,"Oui - OK","Oui - OK","Oui - OK",null,"si - ok","si - ok",null,"Si - OK"]
[{"$f":"IFERROR(HLOOKUP('Customer Legal - Invoicing'!$B$6,A:Q,ROW(A92),0),B92)","v":"No - Not OK - Local Language"},"No - Not OK - Local Language","No - Not o.k. - Muttersprache","No - Not o.k. - Muttersprache","No - Not o.k. - Muttersprache","No - Not o.k. - Muttersprache",null,null,"Non - Non OK - langue locale","Non - Non OK - langue locale","Non - Non OK - langue locale",null,"no-non ok-lingua locale","no-non ok-lingua locale",null,"No - No OK - Idioma local"]
[{"$f":"IFERROR(HLOOKUP('Customer Legal - Invoicing'!$B$6,A:Q,ROW(A93),0),B93)","v":"Implementation"},"Implementation","Implementierung","Implementierung","Implementierung","Implementierung",null,null,"Mise en œuvre","Mise en œuvre","Mise en œuvre",null,"Implementazione","Implementazione",null,"Implementación"]
[{"$f":"IFERROR(HLOOKUP('Customer Legal - Invoicing'!$B$6,A:Q,ROW(A94),0),B94)","v":"Billing details"},"Billing details","Details Rechnung","Details Rechnung","Details Rechnung","Details Rechnung",null,null,"Détails de facturation","Détails de facturation","Détails de facturation",null,"dettagli di fatturazione","dettagli di fatturazione",null,"Detalles de Facturación"]
[{"$f":"IFERROR(HLOOKUP('Customer Legal - Invoicing'!$B$6,A:Q,ROW(A95),0),B95)","v":"Billing comments"},"Billing comments","Kommentare Rechnung","Kommentare Rechnung","Kommentare Rechnung","Kommentare Rechnung",null,null,"Commentaire de facturation","Commentaire de facturation","Commentaire de facturation",null,"Commenti per la fatturazione","Commenti per la fatturazione",null,"Comentarios de Facturación"]
[{"$f":"IFERROR(HLOOKUP('Customer Legal - Invoicing'!$B$6,A:Q,ROW(A96),0),B96)","v":"Main contact / Manager"},"Main contact / Manager","Hauptansprechpartner/Manager","Hauptansprechpartner/Manager","Hauptansprechpartner/Manager","Hauptansprechpartner/Manager",null,null,"Contact principal","Contact principal","Contact principal",null,"Contatti Principali","Contatti Principali",null,"Contacto Principal / Director Gerente"]
[{"$f":"IFERROR(HLOOKUP('Customer Legal - Invoicing'!$B$6,A:Q,ROW(A97),0),B97)","v":"All communication can be done in English"},"All communication can be done in English","Die gesamte Kommunikation kann in englischer Sprache erfolgen","Die gesamte Kommunikation kann in englischer Sprache erfolgen","Die gesamte Kommunikation kann in englischer Sprache erfolgen","Die gesamte Kommunikation kann in englischer Sprache erfolgen",null,null,"Tous les échanges peuvent se faire en anglais","Tous les échanges peuvent se faire en anglais","Tous les échanges peuvent se faire en anglais",null,"Tutte le comunicazioni possono essere fatte in Inglese","Tutte le comunicazioni possono essere fatte in Inglese",null,"Todas las comunicaciones pueden realizarse en Inglés"]
[{"$f":"IFERROR(HLOOKUP('Customer Legal - Invoicing'!$B$6,A:Q,ROW(A98),0),B98)","v":"Administrator & Helpdesk contact details"},"Administrator & Helpdesk contact details","Administrator & Helpdesk Kontaktdetails","Administrator & Helpdesk Kontaktdetails","Administrator & Helpdesk Kontaktdetails","Administrator & Helpdesk Kontaktdetails",null,null,"Détails pour contacter l'administrateur ou le service d'assistance technique","Détails pour contacter l'administrateur ou le service d'assistance technique","Détails pour contacter l'administrateur ou le service d'assistance technique",null,"Dettagli e contatti amministrativi e di help desk","Dettagli e contatti amministrativi e di help desk",null,"Detalles de contacto del Administrador y Helpdesk "]
[{"$f":"IFERROR(HLOOKUP('Customer Legal - Invoicing'!$B$6,A:Q,ROW(A99),0),B99)","v":"Administrator Name"},"Administrator Name","Name Administrator","Name Administrator","Name Administrator","Name Administrator",null,null,"Nom de l'administrateur","Nom de l'administrateur","Nom de l'administrateur",null,"Nome dell'amministratore","Nome dell'amministratore",null,"Nombre del Administrador"]
[{"$f":"IFERROR(HLOOKUP('Customer Legal - Invoicing'!$B$6,A:Q,ROW(A100),0),B100)","v":"E-mail Administrator"},"E-mail Administrator","E-Mail Administrator","E-Mail Administrator","E-Mail Administrator","E-Mail Administrator",null,null,"email de l'administrateur","email de l'administrateur","email de l'administrateur",null,"E-mail dell'amministratore","E-mail dell'amministratore",null,"E-mail del Administrador"]
[{"$f":"IFERROR(HLOOKUP('Customer Legal - Invoicing'!$B$6,A:Q,ROW(A101),0),B101)","v":"Phone number Administrator"},"Phone number Administrator","Telefonnummer Administrator","Telefonnummer Administrator","Telefonnummer Administrator","Telefonnummer Administrator",null,null,"Numéro de fixe de l'administrateur","Numéro de fixe de l'administrateur","Numéro de fixe de l'administrateur",null,"numero di rete fissa dell'amministratore","numero di rete fissa dell'amministratore",null,"Teléfono del Administrador"]
[{"$f":"IFERROR(HLOOKUP('Customer Legal - Invoicing'!$B$6,A:Q,ROW(A102),0),B102)","v":"Mobile number Administrator"},"Mobile number Administrator","Mobilnummer Administrator","Mobilnummer Administrator","Mobilnummer Administrator","Mobilnummer Administrator",null,null,"Numéro de mobile de l'administrateur","Numéro de mobile de l'administrateur","Numéro de mobile de l'administrateur",null,"numero di rete mobile dell'amministratore","numero di rete mobile dell'amministratore",null,"Número de Teléfono móvil del Administrador"]
[{"$f":"IFERROR(HLOOKUP('Customer Legal - Invoicing'!$B$6,A:Q,ROW(A103),0),B103)","v":"Contact details customer for IT - Helpdesk - Reporting"},"Contact details customer for IT - Helpdesk - Reporting","Kontaktdetails IT - Helpdesk - Reporting","Kontaktdetails IT - Helpdesk - Reporting","Kontaktdetails IT - Helpdesk - Reporting","Kontaktdetails IT - Helpdesk - Reporting",null,null,"Détails client pour contacter le service d'assitance technique ou de suivi","Détails client pour contacter le service d'assitance technique ou de suivi","Détails client pour contacter le service d'assitance technique ou de suivi",null,"Dettagli di contatto dell IT del cliente - Helpdesk reporting","Dettagli di contatto dell IT del cliente - Helpdesk reporting",null,"Detalles de contacto del cliente para IT - Helpdesk -  Informes"]
[{"$f":"IFERROR(HLOOKUP('Customer Legal - Invoicing'!$B$6,A:Q,ROW(A104),0),B104)","v":"E-mail Helpdesk"},"E-mail Helpdesk","Name Helpdesk","Name Helpdesk","Name Helpdesk","Name Helpdesk",null,null,"Email du service d'assistance technique","Email du service d'assistance technique","Email du service d'assistance technique",null,"Email del servizio di assistenza tecnica","Email del servizio di assistenza tecnica",null,"E-mail Helpdesk"]
[{"$f":"IFERROR(HLOOKUP('Customer Legal - Invoicing'!$B$6,A:Q,ROW(A105),0),B105)","v":"Phone number Helpdesk"},"Phone number Helpdesk","E-Mail Helpdesk","E-Mail Helpdesk","E-Mail Helpdesk","E-Mail Helpdesk",null,null,"Numéro de fixe du service d'assistance technique","Numéro de fixe du service d'assistance technique","Numéro de fixe du service d'assistance technique",null,"Numéro de fixe du service d'assistance technique","Numéro de fixe du service d'assistance technique",null,"Teléfono del Helpdesk"]
[{"$f":"IFERROR(HLOOKUP('Customer Legal - Invoicing'!$B$6,A:Q,ROW(A106),0),B106)","v":"Mobile number Helpdesk"},"Mobile number Helpdesk","Telefonnummer Helpdesk","Telefonnummer Helpdesk","Telefonnummer Helpdesk","Telefonnummer Helpdesk",null,null,"Numéro de mobile du service d'asssitance technique","Numéro de mobile du service d'asssitance technique","Numéro de mobile du service d'asssitance technique",null,"Numero di rete fissa del servizio di assistenza tecnica","Numero di rete fissa del servizio di assistenza tecnica",null,"Móbil del Helpdesk"]
[{"$f":"IFERROR(HLOOKUP('Customer Legal - Invoicing'!$B$6,A:Q,ROW(A107),0),B107)","v":"Fax number  Helpdesk"},"Fax number  Helpdesk","Fax Nr. Helpdesk","Fax Nr. Helpdesk","Fax Nr. Helpdesk","Fax Nr. Helpdesk",null,null,"Numéro de télécopie du service d'assitance technique","Numéro de télécopie du service d'assitance technique","Numéro de télécopie du service d'assitance technique",null,"Numero di fax del servizio di assistenza tecnica","Numero di fax del servizio di assistenza tecnica",null,"Fax del Helpdesk"]
[{"$f":"IFERROR(HLOOKUP('Customer Legal - Invoicing'!$B$6,A:Q,ROW(A108),0),B108)","v":"Management Services Contact Details - Delivery address (also for RMA)"},"Management Services Contact Details - Delivery address (also for RMA)","Lieferadresse Managementdienstleistungen (einschließlich Rücksendungen )","Lieferadresse Managementdienstleistungen (einschließlich Rücksendungen )","Lieferadresse Managementdienstleistungen (einschließlich Rücksendungen )","Lieferadresse Managementdienstleistungen (einschließlich Rücksendungen )",null,null,"Détails pour le service d'administration - adresse de livraison (égalkement pour RMA)","Détails pour le service d'administration - adresse de livraison (égalkement pour RMA)","Détails pour le service d'administration - adresse de livraison (égalkement pour RMA)",null,"Dettagli e contatti del Management services-indirizzo di consegna ( anche per RMA)","Dettagli e contatti del Management services-indirizzo di consegna ( anche per RMA)",null,"Detalles de Contacto del Servicio de Gestión - Dirección de entrega (tambien para RMA)"]
[{"$f":"IFERROR(HLOOKUP('Customer Legal - Invoicing'!$B$6,A:Q,ROW(A109),0),B109)","v":"Yes, I confirm I have reviewed all contact details on this page. They are correct."},"Yes, I confirm I have reviewed all contact details on this page. They are correct.","Ja, ich bestätige, dass ich alle Daten auf dieser Seite überprüft habe. Alle Daten sind richtig.","Ja, ich bestätige, dass ich alle Daten auf dieser Seite überprüft habe. Alle Daten sind richtig.","Ja, ich bestätige, dass ich alle Daten auf dieser Seite überprüft habe. Alle Daten sind richtig.","Ja, ich bestätige, dass ich alle Daten auf dieser Seite überprüft habe. Alle Daten sind richtig.",null,null,"Oui, je confirme avoir revu tous les détails sur cette page, ils sont corrects","Oui, je confirme avoir revu tous les détails sur cette page, ils sont corrects","Oui, je confirme avoir revu tous les détails sur cette page, ils sont corrects",null,"Confermo di aver rivisto i dettagli di contatto su questa pagina e confermo la loro correttezza","Confermo di aver rivisto i dettagli di contatto su questa pagina e confermo la loro correttezza",null,"Sí, confirmo que he revisado todos los datos de contacto en esta página. Son correctos."]
[{"$f":"IFERROR(HLOOKUP('Customer Legal - Invoicing'!$B$6,A:Q,ROW(A110),0),B110)","v":"Voice VLAN ID Customer"},"Voice VLAN ID Customer","Voice VLAN ID Kunde","Voice VLAN ID Kunde","Voice VLAN ID Kunde","Voice VLAN ID Kunde",null,null,"Identification du VLAN client","Identification du VLAN client","Identification du VLAN client",null,"ID cliente per Voice VLAN","ID cliente per Voice VLAN",null,"Voice LAN ID del cliente"]
[{"$f":"IFERROR(HLOOKUP('Customer Legal - Invoicing'!$B$6,A:Q,ROW(A111),0),B111)","v":"1 VLAN for all countries on customer LAN"},"1 VLAN for all countries on customer LAN","1 VLAN für alle Länder im Kunden LAN","1 VLAN für alle Länder im Kunden LAN","1 VLAN für alle Länder im Kunden LAN","1 VLAN für alle Länder im Kunden LAN",null,null,"0 VLAN pour tous les pays sur le LAN du client","1 VLAN pour tous les pays sur le LAN du client","2 VLAN pour tous les pays sur le LAN du client",null,"1 VLAN per ogni nazione sulla lan del cliente","1 VLAN per ogni nazione sulla lan del cliente",null,"VLAN para todos los paises en la LAN del cliente"]
[{"$f":"IFERROR(HLOOKUP('Customer Legal - Invoicing'!$B$6,A:Q,ROW(A112),0),B112)","v":"Name"},"Name","Name","Name","Name","Name",null,null,"Nom","Nom","Nom",null,"Nome","Nome",null,"Nombre"]
[{"$f":"IFERROR(HLOOKUP('Customer Legal - Invoicing'!$B$6,A:Q,ROW(A113),0),B113)","v":"Number of users"},"Number of users","Anzahl der Benutzer","Anzahl der Benutzer","Anzahl der Benutzer","Anzahl der Benutzer",null,null,"Nombre d'utilisateurs","Nombre d'utilisateurs","Nombre d'utilisateurs",null,"Numero di utilizzatori","Numero di utilizzatori",null,"Número de usuarios"]
[{"$f":"IFERROR(HLOOKUP('Customer Legal - Invoicing'!$B$6,A:Q,ROW(A114),0),B114)","v":"Comments"},"Comments","Kommentare","Kommentare","Kommentare","Kommentare",null,null,"Commentaires","Commentaires","Commentaires",null,"Commenti  ","Commenti  ",null,"Comentarios"]
[{"$f":"IFERROR(HLOOKUP('Customer Legal - Invoicing'!$B$6,A:Q,ROW(A115),0),B115)","v":"Technical details per site"},"Technical details per site","Technische Details pro Standort","Technische Details pro Standort","Technische Details pro Standort","Technische Details pro Standort",null,null,"Détails techniques par site","Détails techniques par site","Détails techniques par site",null,"Dettagli tecnici per singolo sito","Dettagli tecnici per singolo sito",null,"Detalles técnicos por sede"]
[{"$f":"IFERROR(HLOOKUP('Customer Legal - Invoicing'!$B$6,A:Q,ROW(A116),0),B116)","v":"Local VoIP - UC - IT Responsible"},"Local VoIP - UC - IT Responsible","Lokale VoIP-UC-IT Zuständigkeit","Lokale VoIP-UC-IT Zuständigkeit","Lokale VoIP-UC-IT Zuständigkeit","Lokale VoIP-UC-IT Zuständigkeit",null,null,"Responsable du site pour la VoIP - UC et l'IT","Responsable du site pour la VoIP - UC et l'IT","Responsable du site pour la VoIP - UC et l'IT",null,"Responsabile VOIP_UC_IT del sito","Responsabile VOIP_UC_IT del sito",null,"Responsable Local de VoIP - UC - IT"]
[{"$f":"IFERROR(HLOOKUP('Customer Legal - Invoicing'!$B$6,A:Q,ROW(A117),0),B117)","v":"Language"},"Language","Sprache","Sprache","Sprache","Sprache",null,null,"Langue  ","Langue  ","Langue  ",null,"Lingua   ","Lingua   ",null,"Idioma"]
[{"$f":"IFERROR(HLOOKUP('Customer Legal - Invoicing'!$B$6,A:Q,ROW(A118),0),B118)","v":"DDIs (Phone numbers, …)"},"DDIs (Phone numbers, …)","Rufnummern/DDIs","Rufnummern/DDIs","Rufnummern/DDIs","Rufnummern/DDIs",null,null,"Numéros SDA","Numéros SDA","Numéros SDA",null,"Numero di DDIs -numeri di telefono","Numero di DDIs -numeri di telefono",null,"DDIs (números de teléfono, …)"]
[{"$f":"IFERROR(HLOOKUP('Customer Legal - Invoicing'!$B$6,A:Q,ROW(A119),0),B119)","v":"CLIP or CLIR"},"CLIP or CLIR","CLIP oder CLIR","CLIP oder CLIR","CLIP oder CLIR","CLIP oder CLIR",null,null,"CLIP ou CLIR","CLIP ou CLIR","CLIP ou CLIR",null,"CLIP o CLIR","CLIP o CLIR",null,"CLIP o CLIR"]
[{"$f":"IFERROR(HLOOKUP('Customer Legal - Invoicing'!$B$6,A:Q,ROW(A120),0),B120)","v":"CLIP (Calling Line Identification Presentation)"},"CLIP (Calling Line Identification Presentation)","CLIP","CLIP","CLIP","CLIP",null,null,"CLIP (Identification de l'appelant)","CLIP (Identification de l'appelant)","CLIP (Identification de l'appelant)",null,"CLIP","CLIP",null,"CLIP"]
[{"$f":"IFERROR(HLOOKUP('Customer Legal - Invoicing'!$B$6,A:Q,ROW(A121),0),B121)","v":"CLIP on Main Number"},"CLIP on Main Number","CLIP auf der Hauptrufnummer","CLIP auf der Hauptrufnummer","CLIP auf der Hauptrufnummer","CLIP auf der Hauptrufnummer",null,null,"CLIP (Présentation du numéro principal)","CLIP (Présentation du numéro principal)","CLIP (Présentation du numéro principal)",null,"CLIP sul numero principale","CLIP sul numero principale",null,"CLIP del Número principal"]
[{"$f":"IFERROR(HLOOKUP('Customer Legal - Invoicing'!$B$6,A:Q,ROW(A122),0),B122)","v":"CLIR (Calling Line Identification Restriction)"},"CLIR (Calling Line Identification Restriction)","CLIR","CLIR","CLIR","CLIR",null,null,"CLIR (Sans présentation du numéro)","CLIR (Sans présentation du numéro)","CLIR (Sans présentation du numéro)",null,"CLIR","CLIR",null,"CLIR"]
[{"$f":"IFERROR(HLOOKUP('Customer Legal - Invoicing'!$B$6,A:Q,ROW(A123),0),B123)","v":"It is mandatory to assign 1 (and only one) main number, for all ranges of numbers together."},"It is mandatory to assign 1 (and only one) main number, for all ranges of numbers together.","Es ist zwingend erforderlich eine (und nur eine) Hauptrufnummer für alle Rufnummernbereiche zuzuweisen.","Es ist zwingend erforderlich eine (und nur eine) Hauptrufnummer für alle Rufnummernbereiche zuzuweisen.","Es ist zwingend erforderlich eine (und nur eine) Hauptrufnummer für alle Rufnummernbereiche zuzuweisen.","Es ist zwingend erforderlich eine (und nur eine) Hauptrufnummer für alle Rufnummernbereiche zuzuweisen.",null,null,"Est-ce nécessaire d'associer un (et seulement un) numéro principal, pour toutes les séries de numéros ?","Est-ce nécessaire d'associer un (et seulement un) numéro principal, pour toutes les séries de numéros ?","Est-ce nécessaire d'associer un (et seulement un) numéro principal, pour toutes les séries de numéros ?",null,"E' mandatorio assegnare 1 e solo 1 numero principale, per tutto il range di numeri ( Radice)","E' mandatorio assegnare 1 e solo 1 numero principale, per tutto il range di numeri ( Radice)",null,"Es obligatorio asignar 1 ( y sólo uno) número principal, para todos los rangos de núneros."]
[{"$f":"IFERROR(HLOOKUP('Customer Legal - Invoicing'!$B$6,A:Q,ROW(A124),0),B124)","v":"NEW DDIs required (if applicable)"},"NEW DDIs required (if applicable)","NEU Rufnummern/DDIs, falls erforderlich","NEU Rufnummern/DDIs, falls erforderlich","NEU Rufnummern/DDIs, falls erforderlich","NEU Rufnummern/DDIs, falls erforderlich",null,null,"Nouvelles SDA nécessaires (si applicable)","Nouvelles SDA nécessaires (si applicable)","Nouvelles SDA nécessaires (si applicable)",null,"Nuovi DDIs (se fattibile)","Nuovi DDIs (se fattibile)",null,"Nuevos DDIs solicitados (si aplica)"]
[{"$f":"IFERROR(HLOOKUP('Customer Legal - Invoicing'!$B$6,A:Q,ROW(A125),0),B125)","v":"Colt DDIs - to be migrated, to be ported back or to be freed (if applicable)"},"Colt DDIs - to be migrated, to be ported back or to be freed (if applicable)","Existierenden Rufnummern/DDIs des Kunden von Colt werden  - migriert, - zurück portiert, -freigegeben","Existierenden Rufnummern/DDIs des Kunden von Colt werden  - migriert, - zurück portiert, -freigegeben","Existierenden Rufnummern/DDIs des Kunden von Colt werden  - migriert, - zurück portiert, -freigegeben","Existierenden Rufnummern/DDIs des Kunden von Colt werden  - migriert, - zurück portiert, -freigegeben",null,null,"SDA's (numéros) Colt - à migrer, à retourner, à libérer (si applicable)","SDA's (numéros) Colt - à migrer, à retourner, à libérer (si applicable)","SDA's (numéros) Colt - à migrer, à retourner, à libérer (si applicable)",null,"Colt DDIs - da migrare, per essere portato indietro o per essere liberato (se fattibile)","Colt DDIs - da migrare, per essere portato indietro o per essere liberato (se fattibile)",null,"Colt DDIs - se van a migrar, para ser transferido de vuelta o para ser liberados (si aplica)"]
[{"$f":"IFERROR(HLOOKUP('Customer Legal - Invoicing'!$B$6,A:Q,ROW(A126),0),B126)","v":"DDIs with other provider - to be ported in (if applicable)"},"DDIs with other provider - to be ported in (if applicable)","Existierenden Rufnummern/DDIs des Kunden von anderen Providern werden  - migriert, - zurück portiert, -freigegeben","Existierenden Rufnummern/DDIs des Kunden von anderen Providern werden  - migriert, - zurück portiert, -freigegeben","Existierenden Rufnummern/DDIs des Kunden von anderen Providern werden  - migriert, - zurück portiert, -freigegeben","Existierenden Rufnummern/DDIs des Kunden von anderen Providern werden  - migriert, - zurück portiert, -freigegeben",null,null,"SDA's (numéro's) chez un autre opérateur, à porter (si applicable)","SDA's (numéro's) chez un autre opérateur, à porter (si applicable)","SDA's (numéro's) chez un autre opérateur, à porter (si applicable)",null,"DDIs con altri fornitori - per essere portato (se fattibile)","DDIs con altri fornitori - per essere portato (se fattibile)",null,"DDIs con otro proveedor - para ser transferido (si es aplicable)"]
[{"$f":"IFERROR(HLOOKUP('Customer Legal - Invoicing'!$B$6,A:Q,ROW(A127),0),B127)","v":"Batch / Phase"},"Batch / Phase","Batch / Fase","Batch / Fase","Batch / Fase","Batch / Fase",null,null,"Etape / lot","Etape / lot","Etape / lot",null,"Lotto/fase","Lotto/fase",null,"Lote / Fase"]
[{"$f":"IFERROR(HLOOKUP('Customer Legal - Invoicing'!$B$6,A:Q,ROW(A128),0),B128)","v":"Purpose"},"Purpose","Zweck","Zweck","Zweck","Zweck",null,null,"Proposition","Proposition","Proposition",null,"Motivo","Motivo",null,"Propósito"]
[{"$f":"IFERROR(HLOOKUP('Customer Legal - Invoicing'!$B$6,A:Q,ROW(A129),0),B129)","v":"WebNMTS Reservation Number"},"WebNMTS Reservation Number","WebNMTS Reservierungsnummer","WebNMTS Reservierungsnummer","WebNMTS Reservierungsnummer","WebNMTS Reservierungsnummer",null,null,"Numéro de réservation WebNMTS","Numéro de réservation WebNMTS","Numéro de réservation WebNMTS",null,"numero di prenotazione WebNMTS","numero di prenotazione WebNMTS",null,"WebNMS Número de reserva"]
[{"$f":"IFERROR(HLOOKUP('Customer Legal - Invoicing'!$B$6,A:Q,ROW(A130),0),B130)","v":"Local Area Code (LAC)"},"Local Area Code (LAC)","Local Area Code (LAC) (Ortsvorwahl)","Local Area Code (LAC) (Ortsvorwahl)","Local Area Code (LAC) (Ortsvorwahl)","Local Area Code (LAC) (Ortsvorwahl)",null,null,"Local Area Code (LAC) (Prefix, Indicatif régional))","Local Area Code (LAC) (Prefix, Indicatif régional))","Local Area Code (LAC) (Prefix, Indicatif régional))",null,"Local Area Code (LAC) - Prefisso locale","Local Area Code (LAC) - Prefisso locale",null,"Local Area Code (LAC) - código de área local"]
[{"$f":"IFERROR(HLOOKUP('Customer Legal - Invoicing'!$B$6,A:Q,ROW(A131),0),B131)","v":"Amount of single DDIs"},"Amount of single DDIs","Anzahl einzelner Rufnummern/DDIs","Anzahl einzelner Rufnummern/DDIs","Anzahl einzelner Rufnummern/DDIs","Anzahl einzelner Rufnummern/DDIs",null,null,"nombre de SDA","nombre de SDA","nombre de SDA",null,"Numero di singoli DDI","Numero di singoli DDI",null,"Cantidad de DDIs individuales"]
[{"$f":"IFERROR(HLOOKUP('Customer Legal - Invoicing'!$B$6,A:Q,ROW(A132),0),B132)","v":"Range Type"},"Range Type","Typ Rufnummernbereich","Typ Rufnummernbereich","Typ Rufnummernbereich","Typ Rufnummernbereich",null,null,"type de numéros","type de numéros","type de numéros",null,"Tipologia del range","Tipologia del range",null,"Tipo de rango"]
[{"$f":"IFERROR(HLOOKUP('Customer Legal - Invoicing'!$B$6,A:Q,ROW(A133),0),B133)","v":"Number of Ranges"},"Number of Ranges","Anzahl Rufnummernbereiche","Anzahl Rufnummernbereiche","Anzahl Rufnummernbereiche","Anzahl Rufnummernbereiche",null,null,"3 premiers digits des numéros de la série","4 premiers digits des numéros de la série","5 premiers digits des numéros de la série",null,"Quantità e numeri del Range","Quantità e numeri del Range",null,"Númer de rangos"]
[{"$f":"IFERROR(HLOOKUP('Customer Legal - Invoicing'!$B$6,A:Q,ROW(A134),0),B134)","v":"Main Number"},"Main Number","Hauptrufnummer (es ist nur eine möglich!)","Hauptrufnummer (es ist nur eine möglich!)","Hauptrufnummer (es ist nur eine möglich!)","Hauptrufnummer (es ist nur eine möglich!)",null,null,"Numéro principal (NDI)","Numéro principal (NDI)","Numéro principal (NDI)",null,"Radice del numero e numero principale","Radice del numero e numero principale",null,"Número principal"]
[{"$f":"IFERROR(HLOOKUP('Customer Legal - Invoicing'!$B$6,A:Q,ROW(A135),0),B135)","v":"Number Range Start, if known"},"Number Range Start, if known","Beginn Rufnummernbereich, wenn bekannt","Beginn Rufnummernbereich, wenn bekannt","Beginn Rufnummernbereich, wenn bekannt","Beginn Rufnummernbereich, wenn bekannt",null,null,"Premier numéro de la série (si connu)","Premier numéro de la série (si connu)","Premier numéro de la série (si connu)",null,"Primo numero di interno del range, se conosciuto(00-10-20 000-100-200 etc)","Primo numero di interno del range, se conosciuto(00-10-20 000-100-200 etc)",null,"Número de Inicio del rango, si se conoce"]
[{"$f":"IFERROR(HLOOKUP('Customer Legal - Invoicing'!$B$6,A:Q,ROW(A136),0),B136)","v":"Number Range End, if known"},"Number Range End, if known","Ende Rufnummernbereich, wenn bekannt","Ende Rufnummernbereich, wenn bekannt","Ende Rufnummernbereich, wenn bekannt","Ende Rufnummernbereich, wenn bekannt",null,null,"Dernier numéro de la série (si connu)","Dernier numéro de la série (si connu)","Dernier numéro de la série (si connu)",null,"Ultimo numero del range, se conosciuto ( 99-999 etc)","Ultimo numero del range, se conosciuto ( 99-999 etc)",null,"Número de fin del rango, si se conoce"]
[{"$f":"IFERROR(HLOOKUP('Customer Legal - Invoicing'!$B$6,A:Q,ROW(A137),0),B137)","v":"To be published in telephone directory"},"To be published in telephone directory","veröffentlicht im Telefonbuch","veröffentlicht im Telefonbuch","veröffentlicht im Telefonbuch","veröffentlicht im Telefonbuch",null,null,"A faire publier dans l'annuaire","A faire publier dans l'annuaire","A faire publier dans l'annuaire",null,"Pubblicazione su elenco telefonico?","Pubblicazione su elenco telefonico?",null,"Para ser publicado en la guía teléfonica"]
[{"$f":"IFERROR(HLOOKUP('Customer Legal - Invoicing'!$B$6,A:Q,ROW(A138),0),B138)","v":"Preferred Migration Date"},"Preferred Migration Date","bevorzugtes Migrationsdatum","bevorzugtes Migrationsdatum","bevorzugtes Migrationsdatum","bevorzugtes Migrationsdatum",null,null,"Date de migration souhaitée","Date de migration souhaitée","Date de migration souhaitée",null,"data di migrazione preferita","data di migrazione preferita",null,"Fecha preferida de migración "]
[{"$f":"IFERROR(HLOOKUP('Customer Legal - Invoicing'!$B$6,A:Q,ROW(A139),0),B139)","v":"Mandatory Migration Date due to customer's move"},"Mandatory Migration Date due to customer's move","zwingendes Migrationsdatum aufgrund von Kundenumzug","zwingendes Migrationsdatum aufgrund von Kundenumzug","zwingendes Migrationsdatum aufgrund von Kundenumzug","zwingendes Migrationsdatum aufgrund von Kundenumzug",null,null,"Date de migration obligatoire dans le cadre d'un déménagement","Date de migration obligatoire dans le cadre d'un déménagement","Date de migration obligatoire dans le cadre d'un déménagement",null,"data di migrazione obbligatoria, legata a spostamento del cliente","data di migrazione obbligatoria, legata a spostamento del cliente",null,"Fecha Obligatoria de migración debido al traslado del cliente"]
[{"$f":"IFERROR(HLOOKUP('Customer Legal - Invoicing'!$B$6,A:Q,ROW(A140),0),B140)","v":"Number Range Start"},"Number Range Start","Beginn Rufnummernbereich","Beginn Rufnummernbereich","Beginn Rufnummernbereich","Beginn Rufnummernbereich",null,null,"Numéro de début de la série","Numéro de début de la série","Numéro de début de la série",null,"numero iniziale del range","numero iniziale del range",null,"Número de comienzo del rango"]
[{"$f":"IFERROR(HLOOKUP('Customer Legal - Invoicing'!$B$6,A:Q,ROW(A141),0),B141)","v":"Number Range End"},"Number Range End","Ende Rufnummernbereich","Ende Rufnummernbereich","Ende Rufnummernbereich","Ende Rufnummernbereich",null,null,"Numéro de fin de la série","Numéro de fin de la série","Numéro de fin de la série",null,"numero finale del range","numero finale del range",null,"Número de fin del rango"]
[{"$f":"IFERROR(HLOOKUP('Customer Legal - Invoicing'!$B$6,A:Q,ROW(A142),0),B142)","v":"Action"},"Action","Aktion","Aktion","Aktion","Aktion",null,null,"Action","Action","Action",null,"Azione","Azione",null,"Acción"]
[{"$f":"IFERROR(HLOOKUP('Customer Legal - Invoicing'!$B$6,A:Q,ROW(A143),0),B143)","v":"Current Colt Order"},"Current Colt Order","Aktuelle Colt-Bestellung","Aktuelle Colt-Bestellung","Aktuelle Colt-Bestellung","Aktuelle Colt-Bestellung",null,null,"Commande Colt existante","Commande Colt existante","Commande Colt existante",null,"Ordine Colt corrente","Ordine Colt corrente",null,"Orden Actual de Colt"]
[{"$f":"IFERROR(HLOOKUP('Customer Legal - Invoicing'!$B$6,A:Q,ROW(A144),0),B144)","v":"Current Provider"},"Current Provider","Aktueller Provider","Aktueller Provider","Aktueller Provider","Aktueller Provider",null,null,"Fournisseur actuel","Fournisseur actuel","Fournisseur actuel",null,"Fornitore attuale","Fornitore attuale",null,"Proveedor actual"]
[{"$f":"IFERROR(HLOOKUP('Customer Legal - Invoicing'!$B$6,A:Q,ROW(A145),0),B145)","v":"LOA provided"},"LOA provided","LOA inbegiffen","LOA inbegiffen","LOA inbegiffen","LOA inbegiffen",null,null,"LOA fourni","LOA fourni","LOA fourni",null,"LOA fornita","LOA fornita",null,"LOA proporcionado"]
[{"$f":"IFERROR(HLOOKUP('Customer Legal - Invoicing'!$B$6,A:Q,ROW(A146),0),B146)","v":"Colt migration"},"Colt migration","Colt-Migration","Colt-Migration","Colt-Migration","Colt-Migration",null,null,"Migration Colt","Migration Colt","Migration Colt",null,"Migrazione Colt","Migrazione Colt",null,"Migración Colt"]
[{"$f":"IFERROR(HLOOKUP('Customer Legal - Invoicing'!$B$6,A:Q,ROW(A147),0),B147)","v":"Port back (no longer required)"},"Port back (no longer required)","Rückportierung (nichtmehr benötigt)","Rückportierung (nichtmehr benötigt)","Rückportierung (nichtmehr benötigt)","Rückportierung (nichtmehr benötigt)",null,null,"Portabilité arrière (plus demandé)","Portabilité arrière (plus demandé)","Portabilité arrière (plus demandé)",null,"Numeri da non importare, non più necessaria","Numeri da non importare, non più necessaria",null,"Port back (no obligatorio)"]
[{"$f":"IFERROR(HLOOKUP('Customer Legal - Invoicing'!$B$6,A:Q,ROW(A148),0),B148)","v":"Free (no longer required Colt DDIs)"},"Free (no longer required Colt DDIs)","Frei  (nichtmehr benötigt Colt-Rufnummern)","Frei  (nichtmehr benötigt Colt-Rufnummern)","Frei  (nichtmehr benötigt Colt-Rufnummern)","Frei  (nichtmehr benötigt Colt-Rufnummern)",null,null,"Libéré  (SDA Colt non demandées)","Libéré  (SDA Colt non demandées)","Libéré  (SDA Colt non demandées)",null,"Libero ( DDIs Colt non più necessari)","Libero ( DDIs Colt non più necessari)",null,"sin cargo (no son necesarios Colt DDiS)"]
[{"$f":"IFERROR(HLOOKUP('Customer Legal - Invoicing'!$B$6,A:Q,ROW(A149),0),B149)","v":"Yes (mandatory)"},"Yes (mandatory)","Ja (verplichtend)","Ja (verplichtend)","Ja (verplichtend)","Ja (verplichtend)",null,null,"Oui (Obligatoire)","Oui (Obligatoire)","Oui (Obligatoire)",null,"Si ( Obbligatorio)","Si ( Obbligatorio)",null,"Si (obligatorio)"]
[{"$f":"IFERROR(HLOOKUP('Customer Legal - Invoicing'!$B$6,A:Q,ROW(A150),0),B150)","v":"TO BE PROVIDED"},"TO BE PROVIDED","ZUR VERFÜGUNG ZU STELLEN","ZUR VERFÜGUNG ZU STELLEN","ZUR VERFÜGUNG ZU STELLEN","ZUR VERFÜGUNG ZU STELLEN",null,null,"à fournir  ","à fournir  ","à fournir  ",null,"da fornire   ","da fornire   ",null,"SE DEBE PROPORCIONAR"]
[{"$f":"IFERROR(HLOOKUP('Customer Legal - Invoicing'!$B$6,A:Q,ROW(A151),0),B151)","v":"Availability (Opening Hours) - Format hh:mm - hh:mm"},"Availability (Opening Hours) - Format hh:mm - hh:mm","Verfügbarkeit (Öffnungszeiten) Format hh:mm-hh:mm ","Verfügbarkeit (Öffnungszeiten) Format hh:mm-hh:mm ","Verfügbarkeit (Öffnungszeiten) Format hh:mm-hh:mm ","Verfügbarkeit (Öffnungszeiten) Format hh:mm-hh:mm ",null,null,"Accessibilité (heures d'ouverture et fermeture au format HH:MM - HH:MM)","Accessibilité (heures d'ouverture et fermeture au format HH:MM - HH:MM)","Accessibilité (heures d'ouverture et fermeture au format HH:MM - HH:MM)",null,"Disponibilità ( orario di apertura in formato hh:mm-hh:mm","Disponibilità ( orario di apertura in formato hh:mm-hh:mm",null,"Disponibilidad (Horario de apertura ) - Formato hh:mm - hh:mm"]
[{"$f":"IFERROR(HLOOKUP('Customer Legal - Invoicing'!$B$6,A:Q,ROW(A152),0),B152)","v":"Profile : Queue"},"Profile : Queue","Profil : Queue","Profil : Queue","Profil : Queue","Profil : Queue",null,null,"Profile : file","Profile : file","Profile : file",null,"Profilo : Coda","Profilo : Coda",null,"Perfil: Cola"]
[{"$f":"IFERROR(HLOOKUP('Customer Legal - Invoicing'!$B$6,A:Q,ROW(A153),0),B153)","v":"Profile : Huntgroup"},"Profile : Huntgroup","Profil : Huntgroup","Profil : Huntgroup","Profil : Huntgroup","Profil : Huntgroup",null,null,"Profile : Huntgroup","Profile : Huntgroup","Profile : Huntgroup",null,"Profilo : Huntgroup","Profilo : Huntgroup",null,"Perfil: Huntgroup"]
[{"$f":"IFERROR(HLOOKUP('Customer Legal - Invoicing'!$B$6,A:Q,ROW(A154),0),B154)","v":"Service Groups (Max. 31) : Fax, Conference Bridge, Doorphone + PickUp Groups (Departments)"},"Service Groups (Max. 31) : Fax, Conference Bridge, Doorphone + PickUp Groups (Departments)","Service-Gruppen (Max. 31): Fax, Conference Bridge, Doorphone + PickUp Groups (Departments)","Service-Gruppen (Max. 31): Fax, Conference Bridge, Doorphone + PickUp Groups (Departments)","Service-Gruppen (Max. 31): Fax, Conference Bridge, Doorphone + PickUp Groups (Departments)","Service-Gruppen (Max. 31): Fax, Conference Bridge, Doorphone + PickUp Groups (Departments)",null,null,"Groupes de service (Max. 31) : Fax, Pont de conférence, Parlephone +  PickUp Groups (Départements)","Groupes de service (Max. 31) : Fax, Pont de conférence, Parlephone +  PickUp Groups (Départements)","Groupes de service (Max. 31) : Fax, Pont de conférence, Parlephone +  PickUp Groups (Départements)",null,"Gruppi di servizi (Max. 31) Fax, bridge di conferenza, citofono + PickUp Groups (Departments)","Gruppi di servizi (Max. 31) Fax, bridge di conferenza, citofono + PickUp Groups (Departments)",null,"Grupos de servicio (Max. 31) : Fax, Videoportería,  Puente de conferencia + PickUp Groups (Departments)"]
[{"$f":"IFERROR(HLOOKUP('Customer Legal - Invoicing'!$B$6,A:Q,ROW(A155),0),B155)","v":"Profile : IVR"},"Profile : IVR","Profil : IVR","Profil : IVR","Profil : IVR","Profil : IVR",null,null,"Profile : accueil téléphonique","Profile : accueil téléphonique","Profile : accueil téléphonique",null,"Profilo:IVR","Profilo:IVR",null,"Perfil: IVR"]
[{"$f":"IFERROR(HLOOKUP('Customer Legal - Invoicing'!$B$6,A:Q,ROW(A156),0),B156)","v":"Extension defining opening hours (Max. 6 digits)"},"Extension defining opening hours (Max. 6 digits)","Öffnungszeiten Rufnummer (max. 6 Stellen)","Öffnungszeiten Rufnummer (max. 6 Stellen)","Öffnungszeiten Rufnummer (max. 6 Stellen)","Öffnungszeiten Rufnummer (max. 6 Stellen)",null,null,"Extension pour définir les horaires d'ouverture (Max. 6 digits) ","Extension pour définir les horaires d'ouverture (Max. 6 digits) ","Extension pour définir les horaires d'ouverture (Max. 6 digits) ",null,"Estensione per definire gli orari d'apertura ( max 6 cifre)","Estensione per definire gli orari d'apertura ( max 6 cifre)",null,"Extensión definiendo horarios de apertura (máx. 6 dígitos)"]
[{"$f":"IFERROR(HLOOKUP('Customer Legal - Invoicing'!$B$6,A:Q,ROW(A157),0),B157)","v":"Monday"},"Monday","Montag","Montag","Montag","Montag",null,null,"Lundi","Lundi","Lundi",null,"Lunedì","Lunedì",null,"Lunes"]
[{"$f":"IFERROR(HLOOKUP('Customer Legal - Invoicing'!$B$6,A:Q,ROW(A158),0),B158)","v":"Monday Lunch time"},"Monday Lunch time","Montag Mittagspause","Montag Mittagspause","Montag Mittagspause","Montag Mittagspause",null,null,"Lundi, heure de déjeuner","Lundi, heure de déjeuner","Lundi, heure de déjeuner",null,"Luned' ora di pranzo","Luned' ora di pranzo",null,"Lunes Horario de Comida"]
[{"$f":"IFERROR(HLOOKUP('Customer Legal - Invoicing'!$B$6,A:Q,ROW(A159),0),B159)","v":"Tuesday"},"Tuesday","Dienstag","Dienstag","Dienstag","Dienstag",null,null,"Mardi ","Mardi ","Mardi ",null,"Martedì","Martedì",null,"Martes"]
[{"$f":"IFERROR(HLOOKUP('Customer Legal - Invoicing'!$B$6,A:Q,ROW(A160),0),B160)","v":"Tuesday Lunch time"},"Tuesday Lunch time","Dienstag Mittagspause","Dienstag Mittagspause","Dienstag Mittagspause","Dienstag Mittagspause",null,null,"Mardi, heure de déjeuner","Mardi, heure de déjeuner","Mardi, heure de déjeuner",null,"Martedì ora di pranzo","Martedì ora di pranzo",null,"Martes Horario de Comida"]
[{"$f":"IFERROR(HLOOKUP('Customer Legal - Invoicing'!$B$6,A:Q,ROW(A161),0),B161)","v":"Wednesday"},"Wednesday","Mittwoch","Mittwoch","Mittwoch","Mittwoch",null,null,"Mercredi","Mercredi","Mercredi",null,"Mercoled'","Mercoled'",null,"Miércoles"]
[{"$f":"IFERROR(HLOOKUP('Customer Legal - Invoicing'!$B$6,A:Q,ROW(A162),0),B162)","v":"Wednesday Lunch time"},"Wednesday Lunch time","Mittwoch Mittagspause","Mittwoch Mittagspause","Mittwoch Mittagspause","Mittwoch Mittagspause",null,null,"Mercredi, heure de déjeuner","Mercredi, heure de déjeuner","Mercredi, heure de déjeuner",null,"Mercoledì ora di pranzo","Mercoledì ora di pranzo",null,"Miércoles Horario de Comida"]
[{"$f":"IFERROR(HLOOKUP('Customer Legal - Invoicing'!$B$6,A:Q,ROW(A163),0),B163)","v":"Thursday"},"Thursday","Donnerstag","Donnerstag","Donnerstag","Donnerstag",null,null,"Jeudi","Jeudi","Jeudi",null,"Giovedì","Giovedì",null,"Jueves"]
[{"$f":"IFERROR(HLOOKUP('Customer Legal - Invoicing'!$B$6,A:Q,ROW(A164),0),B164)","v":"Thursday Lunch time"},"Thursday Lunch time","Donnerstag Mittagspause","Donnerstag Mittagspause","Donnerstag Mittagspause","Donnerstag Mittagspause",null,null,"Jeudi, heure de déjeuner","Jeudi, heure de déjeuner","Jeudi, heure de déjeuner",null,"Giovedì oradi pranzo","Giovedì oradi pranzo",null,"Jueves Horario de Comida"]
[{"$f":"IFERROR(HLOOKUP('Customer Legal - Invoicing'!$B$6,A:Q,ROW(A165),0),B165)","v":"Friday"},"Friday","Freitag","Freitag","Freitag","Freitag",null,null,"Vendredi","Vendredi","Vendredi",null,"Venerdì","Venerdì",null,"Viernes"]
[{"$f":"IFERROR(HLOOKUP('Customer Legal - Invoicing'!$B$6,A:Q,ROW(A166),0),B166)","v":"Friday Lunch time"},"Friday Lunch time","Freitag Mittagspause","Freitag Mittagspause","Freitag Mittagspause","Freitag Mittagspause",null,null,"Vendredi, heure de déjeuner","Vendredi, heure de déjeuner","Vendredi, heure de déjeuner",null,"Venerdì ora di pranzo","Venerdì ora di pranzo",null,"Viernes Horario de Comida"]
[{"$f":"IFERROR(HLOOKUP('Customer Legal - Invoicing'!$B$6,A:Q,ROW(A167),0),B167)","v":"Saturday"},"Saturday","Samstag","Samstag","Samstag","Samstag",null,null,"Samedi","Samedi","Samedi",null,"Sabato","Sabato",null,"Sábado"]
[{"$f":"IFERROR(HLOOKUP('Customer Legal - Invoicing'!$B$6,A:Q,ROW(A168),0),B168)","v":"Saturday Lunch time"},"Saturday Lunch time","Samstag Mittagspause","Samstag Mittagspause","Samstag Mittagspause","Samstag Mittagspause",null,null,"Samedi, heure de déjeuner","Samedi, heure de déjeuner","Samedi, heure de déjeuner",null,"Sabato ora di prazo","Sabato ora di prazo",null,"Sábado Horario de Comida"]
[{"$f":"IFERROR(HLOOKUP('Customer Legal - Invoicing'!$B$6,A:Q,ROW(A169),0),B169)","v":"Sunday"},"Sunday","Sonntag","Sonntag","Sonntag","Sonntag",null,null,"Dimanche","Dimanche","Dimanche",null,"Domenica","Domenica",null,"Domingo"]
[{"$f":"IFERROR(HLOOKUP('Customer Legal - Invoicing'!$B$6,A:Q,ROW(A170),0),B170)","v":"Sunday Lunch time"},"Sunday Lunch time","Sonntag Mittagspause","Sonntag Mittagspause","Sonntag Mittagspause","Sonntag Mittagspause",null,null,"Dimanche, heure de déjeuner","Dimanche, heure de déjeuner","Dimanche, heure de déjeuner",null,"Domenica ora di pranzo","Domenica ora di pranzo",null,"Domingo Horario de Comida"]
[{"$f":"IFERROR(HLOOKUP('Customer Legal - Invoicing'!$B$6,A:Q,ROW(A171),0),B171)","v":"Opening hours"},"Opening hours","Öffnungszeiten","Öffnungszeiten","Öffnungszeiten","Öffnungszeiten",null,null,"Heures d'ouverture","Heures d'ouverture","Heures d'ouverture",null,"Orario di apertura","Orario di apertura",null,"Horario de apertura"]
[{"$f":"IFERROR(HLOOKUP('Customer Legal - Invoicing'!$B$6,A:Q,ROW(A172),0),B172)","v":"Call Flows"},"Call Flows","Call Flows","Call Flows","Call Flows","Call Flows",null,null,"Accueil vocaux","Accueil vocaux","Accueil vocaux",null,"Accueil vocaux","Accueil vocaux",null,"Flujo de llamadas"]
[{"$f":"IFERROR(HLOOKUP('Customer Legal - Invoicing'!$B$6,A:Q,ROW(A173),0),B173)","v":"Department"},"Department","Abteilung","Abteilung","Abteilung","Abteilung",null,null,"Département","Département","Département",null,"Dipartimento","Dipartimento",null,"Departamento"]
[{"$f":"IFERROR(HLOOKUP('Customer Legal - Invoicing'!$B$6,A:Q,ROW(A174),0),B174)","v":"Office"},"Office","Büro","Büro","Büro","Büro",null,null,"Site","Site","Site",null,"Ufficio","Ufficio",null,"Oficina"]
[{"$f":"IFERROR(HLOOKUP('Customer Legal - Invoicing'!$B$6,A:Q,ROW(A175),0),B175)","v":"Queue Name"},"Queue Name","Queue-Name","Queue-Name","Queue-Name","Queue-Name",null,null,"nom de la file","nom de la file","nom de la file",null,"Nome della Coda","Nome della Coda",null,"Nombre de la cola"]
[{"$f":"IFERROR(HLOOKUP('Customer Legal - Invoicing'!$B$6,A:Q,ROW(A176),0),B176)","v":"Huntgroup Name"},"Huntgroup Name","Huntgroup-Name","Huntgroup-Name","Huntgroup-Name","Huntgroup-Name",null,null,"Nom Huntgroup","Nom Huntgroup","Nom Huntgroup",null,"Nome Huntgroup","Nome Huntgroup",null,"Nombre Huntgroup"]
[{"$f":"IFERROR(HLOOKUP('Customer Legal - Invoicing'!$B$6,A:Q,ROW(A177),0),B177)","v":"Queue Name (CLI) to be displayed"},"Queue Name (CLI) to be displayed","Queue-Name (CLI) Anzeige beim Angerufenen (intern)","Queue-Name (CLI) Anzeige beim Angerufenen (intern)","Queue-Name (CLI) Anzeige beim Angerufenen (intern)","Queue-Name (CLI) Anzeige beim Angerufenen (intern)",null,null,"nom de la file à présenter (numéro)","nom de la file à présenter (numéro)","nom de la file à présenter (numéro)",null,"Numero da fare vedere esternamente","Numero da fare vedere esternamente",null,"Nombre de la cola (CLI) a ser visualizado"]
[{"$f":"IFERROR(HLOOKUP('Customer Legal - Invoicing'!$B$6,A:Q,ROW(A178),0),B178)","v":"Queue (External) DDI\nFormat E164 (+ccxxxx…) (cc=country code)"},"Queue (External) DDI\nFormat E164 (+ccxxxx…) (cc=country code)","Rufnummer-Queue (extern)\nFormat E164 (+ccxxxx…) (cc=Ländercode, Bsp. GER=+49)","Rufnummer-Queue (extern)\nFormat E164 (+ccxxxx…) (cc=Ländercode, Bsp. GER=+49)","Rufnummer-Queue (extern)\nFormat E164 (+ccxxxx…) (cc=Ländercode, Bsp. GER=+49)","Rufnummer-Queue (extern)\nFormat E164 (+ccxxxx…) (cc=Ländercode, Bsp. GER=+49)",null,null,"numéro d'aboutement de la file au format E164 (+CCXXXX… CC étant le Country Code ou code pays) ","numéro d'aboutement de la file au format E164 (+CCXXXX… CC étant le Country Code ou code pays) ","numéro d'aboutement de la file au format E164 (+CCXXXX… CC étant le Country Code ou code pays) ",null,"Numero della Coda ( Esterno ) Formato DDI E164 (+ccxxxxx) (cc=codice della nazione)","Numero della Coda ( Esterno ) Formato DDI E164 (+ccxxxxx) (cc=codice della nazione)",null,"DDI de cola (Externa) "]
[{"$f":"IFERROR(HLOOKUP('Customer Legal - Invoicing'!$B$6,A:Q,ROW(A179),0),B179)","v":"Huntgroup (External) DDI\nFormat E164 (+ccxxxx…) (cc=country code)"},"Huntgroup (External) DDI\nFormat E164 (+ccxxxx…) (cc=country code)","Rufnummer-Huntgroup (extern)\nFormat E164 (+ccxxxx…) (cc=Ländercode, Bsp. GER=+49)","Rufnummer-Huntgroup (extern)\nFormat E164 (+ccxxxx…) (cc=Ländercode, Bsp. GER=+49)","Rufnummer-Huntgroup (extern)\nFormat E164 (+ccxxxx…) (cc=Ländercode, Bsp. GER=+49)","Rufnummer-Huntgroup (extern)\nFormat E164 (+ccxxxx…) (cc=Ländercode, Bsp. GER=+49)",null,null,"numéro Huntgroup au format E164 (+CCXXXX… CC étant le Country Code ou code pays) ","numéro Huntgroup au format E164 (+CCXXXX… CC étant le Country Code ou code pays) ","numéro Huntgroup au format E164 (+CCXXXX… CC étant le Country Code ou code pays) ",null,"Numero della Huntgroup ( Esterno ) Formato DDI E164 (+ccxxxxx) (cc=codice della nazione)","Numero della Huntgroup ( Esterno ) Formato DDI E164 (+ccxxxxx) (cc=codice della nazione)",null,"DDI de Grupo de Salto (Externa) "]
[{"$f":"IFERROR(HLOOKUP('Customer Legal - Invoicing'!$B$6,A:Q,ROW(A180),0),B180)","v":"Queue (Internal) Extension\nMax. 6 digits"},"Queue (Internal) Extension\nMax. 6 digits","Rufnummer Queue (intern) Max. 6 Stellen","Rufnummer Queue (intern) Max. 6 Stellen","Rufnummer Queue (intern) Max. 6 Stellen","Rufnummer Queue (intern) Max. 6 Stellen",null,null,"Présentation interne : Extension de la file (Max. 6 digits)","Présentation interne : Extension de la file (Max. 6 digits)","Présentation interne : Extension de la file (Max. 6 digits)",null,"Presentazione interna, estensione  della coda ( max 6 cifre )","Presentazione interna, estensione  della coda ( max 6 cifre )",null,"Extensión de Cola (Interna)\nMax. 6 digitos"]
[{"$f":"IFERROR(HLOOKUP('Customer Legal - Invoicing'!$B$6,A:Q,ROW(A181),0),B181)","v":"E-Mail Address"},"E-Mail Address","E-Mail Adresse","E-Mail Adresse","E-Mail Adresse","E-Mail Adresse",null,null,"Adresse email","Adresse email","Adresse email",null,"Indirizzo E-mail","Indirizzo E-mail",null,"Dirección E-mail"]
[{"$f":"IFERROR(HLOOKUP('Customer Legal - Invoicing'!$B$6,A:Q,ROW(A182),0),B182)","v":"Extension Availability"},"Extension Availability","Verfügbarkeit Rufnummer","Verfügbarkeit Rufnummer","Verfügbarkeit Rufnummer","Verfügbarkeit Rufnummer",null,null,"Extension disponible","Extension disponible","Extension disponible",null,"Estensione disponibe","Estensione disponibe",null,"Disponibilidad de extensiones"]
[{"$f":"IFERROR(HLOOKUP('Customer Legal - Invoicing'!$B$6,A:Q,ROW(A183),0),B183)","v":"while waiting, play ..."},"while waiting, play ...","bei warten, Wiedergabe von ….","bei warten, Wiedergabe von ….","bei warten, Wiedergabe von ….","bei warten, Wiedergabe von ….",null,null,"pendant l'attente, jouer…","pendant l'attente, jouer…","pendant l'attente, jouer…",null,"Mentre in attesa, digiti…….","Mentre in attesa, digiti…….",null,"Mientras espera, reproduce …"]
[{"$f":"IFERROR(HLOOKUP('Customer Legal - Invoicing'!$B$6,A:Q,ROW(A184),0),B184)","v":"waiting time "},"waiting time ","Wartezeit","Wartezeit","Wartezeit","Wartezeit",null,null,"temps d'attente","temps d'attente","temps d'attente",null,"Tempo di attesa","Tempo di attesa",null,"Tiempo de espera"]
[{"$f":"IFERROR(HLOOKUP('Customer Legal - Invoicing'!$B$6,A:Q,ROW(A185),0),B185)","v":"Second action, when run out of waiting time"},"Second action, when run out of waiting time","2. Aktion beim erreichen des Endes der Wartezeit","2. Aktion beim erreichen des Endes der Wartezeit","2. Aktion beim erreichen des Endes der Wartezeit","2. Aktion beim erreichen des Endes der Wartezeit",null,null,"Action suivante en sortie du temps d'attente","Action suivante en sortie du temps d'attente","Action suivante en sortie du temps d'attente",null,"Azione secondaria quando si passa il limite temporale","Azione secondaria quando si passa il limite temporale",null,"Segunda acción, cuando se acabe el tiempo de espera"]
[{"$f":"IFERROR(HLOOKUP('Customer Legal - Invoicing'!$B$6,A:Q,ROW(A186),0),B186)","v":"forward to (extension) (for second action)"},"forward to (extension) (for second action)","weiterleten zu (Rufnummer) für 2. Aktion","weiterleten zu (Rufnummer) für 2. Aktion","weiterleten zu (Rufnummer) für 2. Aktion","weiterleten zu (Rufnummer) für 2. Aktion",null,null,"transfert vers (extension) (pour l'action suivante)","transfert vers (extension) (pour l'action suivante)","transfert vers (extension) (pour l'action suivante)",null,"Intradamento verso l'interno  ( come seconda azione)","Intradamento verso l'interno  ( come seconda azione)",null,"desvío a (extensión) (para la segunda acción)"]
[{"$f":"IFERROR(HLOOKUP('Customer Legal - Invoicing'!$B$6,A:Q,ROW(A187),0),B187)","v":"During Out Of Office Hours (OOOH) (intentional status)"},"During Out Of Office Hours (OOOH) (intentional status)","automatischer Status (OOOH) außerhalb der Geschäftszeiten","automatischer Status (OOOH) außerhalb der Geschäftszeiten","automatischer Status (OOOH) außerhalb der Geschäftszeiten","automatischer Status (OOOH) außerhalb der Geschäftszeiten",null,null,"Pendant les Heures Non Ouvrées (HNO) (status intentionnel)","Pendant les Heures Non Ouvrées (HNO) (status intentionnel)","Pendant les Heures Non Ouvrées (HNO) (status intentionnel)",null,"Quando fuori orario lavorativo ( OOOH)","Quando fuori orario lavorativo ( OOOH)",null,"Durante Horario de Fuera de Oficina (OOOH) (estado intencional)"]
[{"$f":"IFERROR(HLOOKUP('Customer Legal - Invoicing'!$B$6,A:Q,ROW(A188),0),B188)","v":"forward to (extension) (for OOOH)"},"forward to (extension) (for OOOH)","weiterleten zu (Rufnummer) (OOOH) außerhalb der Geschäftszeiten","weiterleten zu (Rufnummer) (OOOH) außerhalb der Geschäftszeiten","weiterleten zu (Rufnummer) (OOOH) außerhalb der Geschäftszeiten","weiterleten zu (Rufnummer) (OOOH) außerhalb der Geschäftszeiten",null,null,"transfert vers (extension) (pendant les HNO)","transfert vers (extension) (pendant les HNO)","transfert vers (extension) (pendant les HNO)",null,"Deviazione verso l'estensione ( in caso di fuori orario lavorativo)","Deviazione verso l'estensione ( in caso di fuori orario lavorativo)",null,"desvío a (extensión) (para OOOH)"]
[{"$f":"IFERROR(HLOOKUP('Customer Legal - Invoicing'!$B$6,A:Q,ROW(A189),0),B189)","v":"During Holidays"},"During Holidays","währende der Betriebsferien","währende der Betriebsferien","währende der Betriebsferien","währende der Betriebsferien",null,null,"Pendant les congés","Pendant les congés","Pendant les congés",null,"Durante le ferie","Durante le ferie",null,"Durante Vacaciones"]
[{"$f":"IFERROR(HLOOKUP('Customer Legal - Invoicing'!$B$6,A:Q,ROW(A190),0),B190)","v":"forward to (extension) (during holidays)"},"forward to (extension) (during holidays)","weiterleten zu (Rufnummer) währende der Betriebsferien","weiterleten zu (Rufnummer) währende der Betriebsferien","weiterleten zu (Rufnummer) währende der Betriebsferien","weiterleten zu (Rufnummer) währende der Betriebsferien",null,null,"transfert vers (extension) (pendant les congés)","transfert vers (extension) (pendant les congés)","transfert vers (extension) (pendant les congés)",null,"Deviazione verso l'estensione ( durante le ferie)","Deviazione verso l'estensione ( durante le ferie)",null,"desvío a (extensión) (durante vacaciones)"]
[{"$f":"IFERROR(HLOOKUP('Customer Legal - Invoicing'!$B$6,A:Q,ROW(A191),0),B191)","v":"During lunch (intentional status)"},"During lunch (intentional status)","automatischer Status während der Mittagspause","automatischer Status während der Mittagspause","automatischer Status während der Mittagspause","automatischer Status während der Mittagspause",null,null,"Pendant le déjeuner (status intentionnel)","Pendant le déjeuner (status intentionnel)","Pendant le déjeuner (status intentionnel)",null,"Durante il pranzo ( stato volontario)","Durante il pranzo ( stato volontario)",null,"Durante horario de comida (estado intencional)"]
[{"$f":"IFERROR(HLOOKUP('Customer Legal - Invoicing'!$B$6,A:Q,ROW(A192),0),B192)","v":"forward to (extension) (during lunch)"},"forward to (extension) (during lunch)","weiterleten zu (Rufnummer) während der Mittagspause","weiterleten zu (Rufnummer) während der Mittagspause","weiterleten zu (Rufnummer) während der Mittagspause","weiterleten zu (Rufnummer) während der Mittagspause",null,null,"transfert vers (extension) (pendant le déjeuner)","transfert vers (extension) (pendant le déjeuner)","transfert vers (extension) (pendant le déjeuner)",null,"Deviazione verso l'estensione ( quando a pranzo=","Deviazione verso l'estensione ( quando a pranzo=",null,"desvío a (extensión)(durante horario de comida)"]
[{"$f":"IFERROR(HLOOKUP('Customer Legal - Invoicing'!$B$6,A:Q,ROW(A193),0),B193)","v":"When absent"},"When absent","Bei Abwesenheit","Bei Abwesenheit","Bei Abwesenheit","Bei Abwesenheit",null,null,"Si absent","Si absent","Si absent",null,"Quando assente","Quando assente",null,"Cuando está ausente"]
[{"$f":"IFERROR(HLOOKUP('Customer Legal - Invoicing'!$B$6,A:Q,ROW(A194),0),B194)","v":"forward to (extension) (when absent)"},"forward to (extension) (when absent)","weiterleten zu (Rufnummer) bei Abwesenheit","weiterleten zu (Rufnummer) bei Abwesenheit","weiterleten zu (Rufnummer) bei Abwesenheit","weiterleten zu (Rufnummer) bei Abwesenheit",null,null,"transfert vers (extension) (si absent)","transfert vers (extension) (si absent)","transfert vers (extension) (si absent)",null,"Deviazione verso l'estensione (assente)","Deviazione verso l'estensione (assente)",null,"desvío a (extensión)(ausente)"]
[{"$f":"IFERROR(HLOOKUP('Customer Legal - Invoicing'!$B$6,A:Q,ROW(A195),0),B195)","v":"When no agent connected"},"When no agent connected","Wenn niemand (kein Agent) angemeldet ist","Wenn niemand (kein Agent) angemeldet ist","Wenn niemand (kein Agent) angemeldet ist","Wenn niemand (kein Agent) angemeldet ist",null,null,"Lorsqu'aucun membre n'est connecté","Lorsqu'aucun membre n'est connecté","Lorsqu'aucun membre n'est connecté",null,"Quando nessuno risponde","Quando nessuno risponde",null,"Cuando no hay agentes conectados"]
[{"$f":"IFERROR(HLOOKUP('Customer Legal - Invoicing'!$B$6,A:Q,ROW(A196),0),B196)","v":"forward to (extension) (when no one is logged onto the queue)"},"forward to (extension) (when no one is logged onto the queue)","weiterleten zu (Rufnummer) wenn niemand (kein Agent) angemeldet ist","weiterleten zu (Rufnummer) wenn niemand (kein Agent) angemeldet ist","weiterleten zu (Rufnummer) wenn niemand (kein Agent) angemeldet ist","weiterleten zu (Rufnummer) wenn niemand (kein Agent) angemeldet ist",null,null,"transfert vers (extension) (lorsque personne n'est loggué sur la file)","transfert vers (extension) (lorsque personne n'est loggué sur la file)","transfert vers (extension) (lorsque personne n'est loggué sur la file)",null,"Deviazione verso l'estensione( quando nessuno è loggato)","Deviazione verso l'estensione( quando nessuno è loggato)",null,"desvío a (extensión) (cuando no hay ningún agente logado en la cola)"]
[{"$f":"IFERROR(HLOOKUP('Customer Legal - Invoicing'!$B$6,A:Q,ROW(A197),0),B197)","v":"Profile"},"Profile","Profil","Profil","Profil","Profil",null,null,"profile","profile","profile",null,"Profilo","Profilo",null,"Perfil"]
[{"$f":"IFERROR(HLOOKUP('Customer Legal - Invoicing'!$B$6,A:Q,ROW(A198),0),B198)","v":"Service Group Name "},"Service Group Name ","Name Service-Gruppe","Name Service-Gruppe","Name Service-Gruppe","Name Service-Gruppe",null,null,"Nom du groupement","Nom du groupement","Nom du groupement",null,"Nome del Gruppo di servizio","Nome del Gruppo di servizio",null,"Nombre de Grupo de Servicio"]
[{"$f":"IFERROR(HLOOKUP('Customer Legal - Invoicing'!$B$6,A:Q,ROW(A199),0),B199)","v":"Service Group (External) DDI\nFormat E164 (+ccxxxx…) (cc=country code)"},"Service Group (External) DDI\nFormat E164 (+ccxxxx…) (cc=country code)","Rufnummer Service-Gruppe (extern)\nFormat E164 (+ccxxxx…) (cc=Ländercode, Bsp. GER=+49)","Rufnummer Service-Gruppe (extern)\nFormat E164 (+ccxxxx…) (cc=Ländercode, Bsp. GER=+49)","Rufnummer Service-Gruppe (extern)\nFormat E164 (+ccxxxx…) (cc=Ländercode, Bsp. GER=+49)","Rufnummer Service-Gruppe (extern)\nFormat E164 (+ccxxxx…) (cc=Ländercode, Bsp. GER=+49)",null,null,"Groupement (externe) SDA, format E164 (+CCXXXX…) (CC=Country Code ou code pays)","Groupement (externe) SDA, format E164 (+CCXXXX…) (CC=Country Code ou code pays)","Groupement (externe) SDA, format E164 (+CCXXXX…) (CC=Country Code ou code pays)",null,"Service Group ( Esterno ) DDI in formato E164(+ccxxxx..) (cc=codice nazione)","Service Group ( Esterno ) DDI in formato E164(+ccxxxx..) (cc=codice nazione)",null,"DDI de Grupo de servicio (externo)\nFormato E164 (+ccxxxx…) (cc=country code)"]
[{"$f":"IFERROR(HLOOKUP('Customer Legal - Invoicing'!$B$6,A:Q,ROW(A200),0),B200)","v":"Service Group (Internal) Extension \nMax. 6 digits"},"Service Group (Internal) Extension \nMax. 6 digits","Rufnummer Service-Gruppe (intern)\nMax. 6 Stellen","Rufnummer Service-Gruppe (intern)\nMax. 6 Stellen","Rufnummer Service-Gruppe (intern)\nMax. 6 Stellen","Rufnummer Service-Gruppe (intern)\nMax. 6 Stellen",null,null,"Extension  pour le groupement, Max. 6 digits","Extension  pour le groupement, Max. 6 digits","Extension  pour le groupement, Max. 6 digits",null,"Service Group (uso interno) Estensione massimo di 6 cifre","Service Group (uso interno) Estensione massimo di 6 cifre",null,"Extensión de Grupo de Servicio (Interno) \nMax. 6 digitos"]
[{"$f":"IFERROR(HLOOKUP('Customer Legal - Invoicing'!$B$6,A:Q,ROW(A201),0),B201)","v":"IVR Name"},"IVR Name","IVR Name","IVR Name","IVR Name","IVR Name",null,null,"Nom de l'accueil vocal","Nom de l'accueil vocal","Nom de l'accueil vocal",null,"Nome IVR","Nome IVR",null,"Nombre de IVR"]
[{"$f":"IFERROR(HLOOKUP('Customer Legal - Invoicing'!$B$6,A:Q,ROW(A202),0),B202)","v":"IVR Name (CLI) to be displayed"},"IVR Name (CLI) to be displayed","IVR Name (CLI) für Anzeige","IVR Name (CLI) für Anzeige","IVR Name (CLI) für Anzeige","IVR Name (CLI) für Anzeige",null,null,"Nom de l'accueil vocal à afficher (numéro)","Nom de l'accueil vocal à afficher (numéro)","Nom de l'accueil vocal à afficher (numéro)",null,"Nome dell'IVR (CLI) da visualizzare","Nome dell'IVR (CLI) da visualizzare",null,"Nombre de IVR (CLI) a visualizar"]
[{"$f":"IFERROR(HLOOKUP('Customer Legal - Invoicing'!$B$6,A:Q,ROW(A203),0),B203)","v":"IVR (External) DDI\nFormat E164 (+ccxxxx…) (cc=country code)"},"IVR (External) DDI\nFormat E164 (+ccxxxx…) (cc=country code)","IVR (extern) Rufnummer\nFormat E164 (+ccxxxx…) (cc=Ländercode, Bsp. GER=+49)","IVR (extern) Rufnummer\nFormat E164 (+ccxxxx…) (cc=Ländercode, Bsp. GER=+49)","IVR (extern) Rufnummer\nFormat E164 (+ccxxxx…) (cc=Ländercode, Bsp. GER=+49)","IVR (extern) Rufnummer\nFormat E164 (+ccxxxx…) (cc=Ländercode, Bsp. GER=+49)",null,null,"Accueil vocal (SDA) format E164 ((+CCXXXX…) (CC=Country Code ou code pays)","Accueil vocal (SDA) format E164 ((+CCXXXX…) (CC=Country Code ou code pays)","Accueil vocal (SDA) format E164 ((+CCXXXX…) (CC=Country Code ou code pays)",null,"IVR ( uso esterno) Ddi in formato E164 (+ccxxxxx..) ( cc= codice Nazione)","IVR ( uso esterno) Ddi in formato E164 (+ccxxxxx..) ( cc= codice Nazione)",null,"DDI de IVR (Externo)\nFormato E164 (+ccxxxx…) (cc=country code)"]
[{"$f":"IFERROR(HLOOKUP('Customer Legal - Invoicing'!$B$6,A:Q,ROW(A204),0),B204)","v":"IVR (Internal) Extension \nMax. 6 digits"},"IVR (Internal) Extension \nMax. 6 digits","IVR Rufnummer (intern) Max. 6 Stellen","IVR Rufnummer (intern) Max. 6 Stellen","IVR Rufnummer (intern) Max. 6 Stellen","IVR Rufnummer (intern) Max. 6 Stellen",null,null,"Extension pour l'accueil vocal (interne), Max. 6 digits","Extension pour l'accueil vocal (interne), Max. 6 digits","Extension pour l'accueil vocal (interne), Max. 6 digits",null,"IVR (uso interno) estensione massima di 6 cifre","IVR (uso interno) estensione massima di 6 cifre",null,"Extensión de IVR (Interno)  \nMax. 6 digitos"]
[{"$f":"IFERROR(HLOOKUP('Customer Legal - Invoicing'!$B$6,A:Q,ROW(A205),0),B205)","v":"Extension Availability"},"Extension Availability","Verfügbarkeit Rufnummer","Verfügbarkeit Rufnummer","Verfügbarkeit Rufnummer","Verfügbarkeit Rufnummer",null,null,"Extension disponible","Extension disponible","Extension disponible",null,"Estensione disponibe","Estensione disponibe",null,"Disponibilidad de extensiones"]
[{"$f":"IFERROR(HLOOKUP('Customer Legal - Invoicing'!$B$6,A:Q,ROW(A206),0),B206)","v":"Repeat the menu"},"Repeat the menu","Menü wiederholen","Menü wiederholen","Menü wiederholen","Menü wiederholen",null,null,"Répétez le menu d'accueil","Répétez le menu d'accueil","Répétez le menu d'accueil",null,"Ripetizione del menù","Ripetizione del menù",null,"Repetir el Menú"]
[{"$f":"IFERROR(HLOOKUP('Customer Legal - Invoicing'!$B$6,A:Q,ROW(A207),0),B207)","v":"If no input from the caller"},"If no input from the caller","wenn keine Eingabe vom Anrufer","wenn keine Eingabe vom Anrufer","wenn keine Eingabe vom Anrufer","wenn keine Eingabe vom Anrufer",null,null,"Si aucune action de la part de l'appelant","Si aucune action de la part de l'appelant","Si aucune action de la part de l'appelant",null,"In caso di nessun input dal chiamante","In caso di nessun input dal chiamante",null,"Si el llamante no introduce datos"]
[{"$f":"IFERROR(HLOOKUP('Customer Legal - Invoicing'!$B$6,A:Q,ROW(A208),0),B208)","v":"when no agent connected"},"when no agent connected","wenn niemand (kein Agent) angemeldet ist","wenn niemand (kein Agent) angemeldet ist","wenn niemand (kein Agent) angemeldet ist","wenn niemand (kein Agent) angemeldet ist",null,null,"lorsqu'aucun membre n'est connecté","lorsqu'aucun membre n'est connecté","lorsqu'aucun membre n'est connecté",null,"Quando nessuno risponde","Quando nessuno risponde",null,"cuando no hay agentes conectados"]
[{"$f":"IFERROR(HLOOKUP('Customer Legal - Invoicing'!$B$6,A:Q,ROW(A209),0),B209)","v":"Keypad 1"},"Keypad 1","Taste/Ziffer 1","Taste/Ziffer 1","Taste/Ziffer 1","Taste/Ziffer 1",null,null,"Touche du clavier 0","Touche du clavier 1","Touche du clavier 2",null,"Tasto 1","Tasto 1",null,"Teclado 1"]
[{"$f":"IFERROR(HLOOKUP('Customer Legal - Invoicing'!$B$6,A:Q,ROW(A210),0),B210)","v":"Forward to (extension) if relevant for keypad 1"},"Forward to (extension) if relevant for keypad 1","weiterleten zu (Rufnummer) wenn 1 gewählt","weiterleten zu (Rufnummer) wenn 1 gewählt","weiterleten zu (Rufnummer) wenn 1 gewählt","weiterleten zu (Rufnummer) wenn 1 gewählt",null,null,"Transfert à (extension) si bon membre pour touche du clavier 0","Transfert à (extension) si bon membre pour touche du clavier 1","Transfert à (extension) si bon membre pour touche du clavier 2",null,"Deviazione a ( estensione ) se rilevante per il tasto 1","Deviazione a ( estensione ) se rilevante per il tasto 1",null,"Desvío a (extensión) si es relevante para el teclado 1"]
[{"$f":"IFERROR(HLOOKUP('Customer Legal - Invoicing'!$B$6,A:Q,ROW(A211),0),B211)","v":"Keypad 2"},"Keypad 2","Taste/Ziffer 2","Taste/Ziffer 2","Taste/Ziffer 2","Taste/Ziffer 2",null,null,"Touche du clavier 1","Touche du clavier 2","Touche du clavier 3",null,"tasto 2","tasto 2",null,"Teclado 2"]
[{"$f":"IFERROR(HLOOKUP('Customer Legal - Invoicing'!$B$6,A:Q,ROW(A212),0),B212)","v":"Forward to (extension) if relevant for keypad 2"},"Forward to (extension) if relevant for keypad 2","weiterleten zu (Rufnummer) wenn 2 gewählt","weiterleten zu (Rufnummer) wenn 2 gewählt","weiterleten zu (Rufnummer) wenn 2 gewählt","weiterleten zu (Rufnummer) wenn 2 gewählt",null,null,"Transfert à (extension) si bon membre pour touche du clavier 1","Transfert à (extension) si bon membre pour touche du clavier 2","Transfert à (extension) si bon membre pour touche du clavier 3",null,"Deviazione a ( estensione ) se rilevante per il tasto 2","Deviazione a ( estensione ) se rilevante per il tasto 2",null,"Desvío a (extensión) si es relevante para el teclado 2"]
[{"$f":"IFERROR(HLOOKUP('Customer Legal - Invoicing'!$B$6,A:Q,ROW(A213),0),B213)","v":"Keypad 3"},"Keypad 3","Taste/Ziffer 3","Taste/Ziffer 3","Taste/Ziffer 3","Taste/Ziffer 3",null,null,"Touche du clavier 2","Touche du clavier 3","Touche du clavier 4",null,"tasto 3","tasto 3",null,"Teclado 3"]
[{"$f":"IFERROR(HLOOKUP('Customer Legal - Invoicing'!$B$6,A:Q,ROW(A214),0),B214)","v":"Forward to (extension) if relevant for keypad 3"},"Forward to (extension) if relevant for keypad 3","weiterleten zu (Rufnummer) wenn 3 gewählt","weiterleten zu (Rufnummer) wenn 3 gewählt","weiterleten zu (Rufnummer) wenn 3 gewählt","weiterleten zu (Rufnummer) wenn 3 gewählt",null,null,"Transfert à (extension) si bon membre pour touche du clavier 2","Transfert à (extension) si bon membre pour touche du clavier 3","Transfert à (extension) si bon membre pour touche du clavier 4",null,"Deviazione a ( estensione ) se rilevante per il tasto 3","Deviazione a ( estensione ) se rilevante per il tasto 3",null,"Desvío a (extensión) si es relevante para el teclado 3"]
[{"$f":"IFERROR(HLOOKUP('Customer Legal - Invoicing'!$B$6,A:Q,ROW(A215),0),B215)","v":"Keypad 4"},"Keypad 4","Taste/Ziffer 4","Taste/Ziffer 4","Taste/Ziffer 4","Taste/Ziffer 4",null,null,"Touche du clavier 3","Touche du clavier 4","Touche du clavier 5",null,"tasto 4","tasto 4",null,"Teclado 4"]
[{"$f":"IFERROR(HLOOKUP('Customer Legal - Invoicing'!$B$6,A:Q,ROW(A216),0),B216)","v":"Forward to (extension) if relevant for keypad 4"},"Forward to (extension) if relevant for keypad 4","weiterleten zu (Rufnummer) wenn 4 gewählt","weiterleten zu (Rufnummer) wenn 4 gewählt","weiterleten zu (Rufnummer) wenn 4 gewählt","weiterleten zu (Rufnummer) wenn 4 gewählt",null,null,"Transfert à (extension) si bon membre pour touche du clavier 3","Transfert à (extension) si bon membre pour touche du clavier 4","Transfert à (extension) si bon membre pour touche du clavier 5",null,"Deviazione a ( estensione ) se rilevante per il tasto 4","Deviazione a ( estensione ) se rilevante per il tasto 4",null,"Desvío a (extensión) si es relevante para el teclado 4"]
[{"$f":"IFERROR(HLOOKUP('Customer Legal - Invoicing'!$B$6,A:Q,ROW(A217),0),B217)","v":"Keypad 5"},"Keypad 5","Taste/Ziffer 5","Taste/Ziffer 5","Taste/Ziffer 5","Taste/Ziffer 5",null,null,"Touche du clavier 4","Touche du clavier 5","Touche du clavier 6",null,"tasto 5","tasto 5",null,"Teclado 5"]
[{"$f":"IFERROR(HLOOKUP('Customer Legal - Invoicing'!$B$6,A:Q,ROW(A218),0),B218)","v":"Forward to (extension) if relevant for keypad 5"},"Forward to (extension) if relevant for keypad 5","weiterleten zu (Rufnummer) wenn 5 gewählt","weiterleten zu (Rufnummer) wenn 5 gewählt","weiterleten zu (Rufnummer) wenn 5 gewählt","weiterleten zu (Rufnummer) wenn 5 gewählt",null,null,"Transfert à (extension) si bon membre pour touche du clavier 4","Transfert à (extension) si bon membre pour touche du clavier 5","Transfert à (extension) si bon membre pour touche du clavier 6",null,"Deviazione a ( estensione ) se rilevante per il tasto 5","Deviazione a ( estensione ) se rilevante per il tasto 5",null,"Desvío a (extensión) si es relevante para el teclado 5"]
[{"$f":"IFERROR(HLOOKUP('Customer Legal - Invoicing'!$B$6,A:Q,ROW(A219),0),B219)","v":"Keypad 6"},"Keypad 6","Taste/Ziffer 6","Taste/Ziffer 6","Taste/Ziffer 6","Taste/Ziffer 6",null,null,"Touche du clavier 5","Touche du clavier 6","Touche du clavier 7",null,"tasto 6","tasto 6",null,"Teclado 6"]
[{"$f":"IFERROR(HLOOKUP('Customer Legal - Invoicing'!$B$6,A:Q,ROW(A220),0),B220)","v":"Forward to (extension) if relevant for keypad 6"},"Forward to (extension) if relevant for keypad 6","weiterleten zu (Rufnummer) wenn 6 gewählt","weiterleten zu (Rufnummer) wenn 6 gewählt","weiterleten zu (Rufnummer) wenn 6 gewählt","weiterleten zu (Rufnummer) wenn 6 gewählt",null,null,"Transfert à (extension) si bon membre pour touche du clavier 5","Transfert à (extension) si bon membre pour touche du clavier 6","Transfert à (extension) si bon membre pour touche du clavier 7",null,"Deviazione a ( estensione ) se rilevante per il tasto 6","Deviazione a ( estensione ) se rilevante per il tasto 6",null,"Desvío a (extensión) si es relevante para el teclado 6"]
[{"$f":"IFERROR(HLOOKUP('Customer Legal - Invoicing'!$B$6,A:Q,ROW(A221),0),B221)","v":"Keypad 7"},"Keypad 7","Taste/Ziffer 7","Taste/Ziffer 7","Taste/Ziffer 7","Taste/Ziffer 7",null,null,"Touche du clavier 6","Touche du clavier 7","Touche du clavier 8",null,"tasto 7","tasto 7",null,"Teclado 7"]
[{"$f":"IFERROR(HLOOKUP('Customer Legal - Invoicing'!$B$6,A:Q,ROW(A222),0),B222)","v":"Forward to (extension) if relevant for keypad 7"},"Forward to (extension) if relevant for keypad 7","weiterleten zu (Rufnummer) wenn 7 gewählt","weiterleten zu (Rufnummer) wenn 7 gewählt","weiterleten zu (Rufnummer) wenn 7 gewählt","weiterleten zu (Rufnummer) wenn 7 gewählt",null,null,"Transfert à (extension) si bon membre pour touche du clavier 6","Transfert à (extension) si bon membre pour touche du clavier 7","Transfert à (extension) si bon membre pour touche du clavier 8",null,"Deviazione a ( estensione ) se rilevante per il tasto 7","Deviazione a ( estensione ) se rilevante per il tasto 7",null,"Desvío a (extensión) si es relevante para el teclado 7"]
[{"$f":"IFERROR(HLOOKUP('Customer Legal - Invoicing'!$B$6,A:Q,ROW(A223),0),B223)","v":"Keypad 8"},"Keypad 8","Taste/Ziffer 8","Taste/Ziffer 8","Taste/Ziffer 8","Taste/Ziffer 8",null,null,"Touche du clavier 7","Touche du clavier 8","Touche du clavier 9",null,"tasto 8","tasto 8",null,"Teclado 8"]
[{"$f":"IFERROR(HLOOKUP('Customer Legal - Invoicing'!$B$6,A:Q,ROW(A224),0),B224)","v":"Forward to (extension) if relevant for keypad 8"},"Forward to (extension) if relevant for keypad 8","weiterleten zu (Rufnummer) wenn 8 gewählt","weiterleten zu (Rufnummer) wenn 8 gewählt","weiterleten zu (Rufnummer) wenn 8 gewählt","weiterleten zu (Rufnummer) wenn 8 gewählt",null,null,"Transfert à (extension) si bon membre pour touche du clavier 7","Transfert à (extension) si bon membre pour touche du clavier 8","Transfert à (extension) si bon membre pour touche du clavier 9",null,"Deviazione a ( estensione ) se rilevante per il tasto 8","Deviazione a ( estensione ) se rilevante per il tasto 8",null,"Desvío a (extensión) si es relevante para el teclado 8"]
[{"$f":"IFERROR(HLOOKUP('Customer Legal - Invoicing'!$B$6,A:Q,ROW(A225),0),B225)","v":"Keypad 9"},"Keypad 9","Taste/Ziffer 9","Taste/Ziffer 9","Taste/Ziffer 9","Taste/Ziffer 9",null,null,"Touche du clavier 8","Touche du clavier 9","Touche du clavier 10",null,"tasto 9","tasto 9",null,"Teclado 9"]
[{"$f":"IFERROR(HLOOKUP('Customer Legal - Invoicing'!$B$6,A:Q,ROW(A226),0),B226)","v":"Forward to (extension) if relevant for keypad 9"},"Forward to (extension) if relevant for keypad 9","weiterleten zu (Rufnummer) wenn 9 gewählt","weiterleten zu (Rufnummer) wenn 9 gewählt","weiterleten zu (Rufnummer) wenn 9 gewählt","weiterleten zu (Rufnummer) wenn 9 gewählt",null,null,"Transfert à (extension) si bon membre pour touche du clavier 8","Transfert à (extension) si bon membre pour touche du clavier 9","Transfert à (extension) si bon membre pour touche du clavier 10",null,"Deviazione a ( estensione ) se rilevante per il tasto 9","Deviazione a ( estensione ) se rilevante per il tasto 9",null,"Desvío a (extensión) si es relevante para el teclado 9"]
[{"$f":"IFERROR(HLOOKUP('Customer Legal - Invoicing'!$B$6,A:Q,ROW(A227),0),B227)","v":"Keypad 0"},"Keypad 0","Taste/Ziffer 0","Taste/Ziffer 0","Taste/Ziffer 0","Taste/Ziffer 0",null,null,"Touche du clavier 8","Touche du clavier 0","Touche du clavier 10",null,"tasto 0","tasto 0",null,"Teclado 0"]
[{"$f":"IFERROR(HLOOKUP('Customer Legal - Invoicing'!$B$6,A:Q,ROW(A228),0),B228)","v":"Forward to (extension) if relevant for keypad 9"},"Forward to (extension) if relevant for keypad 9","weiterleten zu (Rufnummer) wenn 0 gewählt","weiterleten zu (Rufnummer) wenn 0 gewählt","weiterleten zu (Rufnummer) wenn 0 gewählt","weiterleten zu (Rufnummer) wenn 0 gewählt",null,null,"Transfert à (extension) si bon membre pour touche du clavier 8","Transfert à (extension) si bon membre pour touche du clavier 0","Transfert à (extension) si bon membre pour touche du clavier 10",null,"Deviazione a ( estensione ) se rilevante per il tasto 0","Deviazione a ( estensione ) se rilevante per il tasto 0",null,"Desvío a (extensión) si es relevante para el teclado 0"]
[{"$f":"IFERROR(HLOOKUP('Customer Legal - Invoicing'!$B$6,A:Q,ROW(A229),0),B229)","v":"Play a message"},"Play a message","Play a message","Play a message","Play a message","Play a message","Play a message","Play a message","Play a message","Play a message","Play a message","Play a message","Play a message","Play a message","Play a message","Play a message","Play a message","Wiedergabe Ansage","Wiedergabe Ansage","Wiedergabe Ansage","Wiedergabe Ansage",null,null,"Jouer un message","Jouer un message","Jouer un message",null,"Fai partire un messaggio","Fai partire un messaggio",null,"Reproduce un mensaje"]
[{"$f":"IFERROR(HLOOKUP('Customer Legal - Invoicing'!$B$6,A:Q,ROW(A230),0),B230)","v":"Call forward"},"Call forward","Call forward","Call forward","Call forward","Call forward","Call forward","Call forward","Call forward","Call forward","Call forward","Call forward","Call forward","Call forward","Call forward","Call forward","Call forward","weiterleten des Anrufs zu:","weiterleten des Anrufs zu:","weiterleten des Anrufs zu:","weiterleten des Anrufs zu:",null,null,"transfert de l'appel vers :","transfert de l'appel vers :","transfert de l'appel vers :",null,"Deviazione chiamata verso:","Deviazione chiamata verso:",null,"desvío de llamada al:"]
[{"$f":"IFERROR(HLOOKUP('Customer Legal - Invoicing'!$B$6,A:Q,ROW(A231),0),B231)","v":"Send to voicemail"},"Send to voicemail","Send to voicemail","Send to voicemail","Send to voicemail","Send to voicemail","Send to voicemail","Send to voicemail","Send to voicemail","Send to voicemail","Send to voicemail","Send to voicemail","Send to voicemail","Send to voicemail","Send to voicemail","Send to voicemail","Send to voicemail","zur Voicemail der Queue","zur Voicemail der Queue","zur Voicemail der Queue","zur Voicemail der Queue",null,null,"vers la messagerie vocale de la file","vers la messagerie vocale de la file","vers la messagerie vocale de la file",null,"Verso la voicemail della coda","Verso la voicemail della coda",null,"para el buzón de voz de la cola"]
[{"$f":"IFERROR(HLOOKUP('Customer Legal - Invoicing'!$B$6,A:Q,ROW(A232),0),B232)","v":"Do nothing"},"Do nothing","Do nothing","Do nothing","Do nothing","Do nothing","Do nothing","Do nothing","Do nothing","Do nothing","Do nothing","Do nothing","Do nothing","Do nothing","Do nothing","Do nothing","Do nothing","keine Aktion","keine Aktion","keine Aktion","keine Aktion",null,null,"pas d'action","pas d'action","pas d'action",null,"nessuna azione","nessuna azione",null,"sin acción"]
[{"$f":"IFERROR(HLOOKUP('Customer Legal - Invoicing'!$B$6,A:Q,ROW(A233),0),B233)","v":"Go to second action"},"Go to second action","Go to second action","Go to second action","Go to second action","Go to second action","Go to second action","Go to second action","Go to second action","Go to second action","Go to second action","Go to second action","Go to second action","Go to second action","Go to second action","Go to second action","Go to second action","zur 2e Aktion","zur 2e Aktion","zur 2e Aktion","zur 2e Aktion",null,null,"vers action 1","vers action 2","vers action 3",null,"Verso azione 2","Verso azione 2",null,"para el acción 2"]
[{"$f":"IFERROR(HLOOKUP('Customer Legal - Invoicing'!$B$6,A:Q,ROW(A234),0),B234)","v":"Play a message"},"Play a message","Play a message","Play a message","Play a message","Play a message","Play a message","Play a message","Play a message","Play a message","Play a message","Play a message","Play a message","Play a message","Play a message","Play a message","Play a message","Wiedergabe Ansage","Wiedergabe Ansage","Wiedergabe Ansage","Wiedergabe Ansage",null,null,"Jouer un message","Jouer un message","Jouer un message",null,"Fai partire un messaggio","Fai partire un messaggio",null,"Reproduce un mensaje"]
[{"$f":"IFERROR(HLOOKUP('Customer Legal - Invoicing'!$B$6,A:Q,ROW(A235),0),B235)","v":"Call forward"},"Call forward","Call forward","Call forward","Call forward","Call forward","Call forward","Call forward","Call forward","Call forward","Call forward","Call forward","Call forward","Call forward","Call forward","Call forward","Call forward","weiterleten des Anrufs zu:","weiterleten des Anrufs zu:","weiterleten des Anrufs zu:","weiterleten des Anrufs zu:",null,null,"transfert de l'appel vers :","transfert de l'appel vers :","transfert de l'appel vers :",null,"Deviazione chiamata verso:","Deviazione chiamata verso:",null,"desvío de llamada al:"]
[{"$f":"IFERROR(HLOOKUP('Customer Legal - Invoicing'!$B$6,A:Q,ROW(A236),0),B236)","v":"Send to voicemail"},"Send to voicemail","Send to voicemail","Send to voicemail","Send to voicemail","Send to voicemail","Send to voicemail","Send to voicemail","Send to voicemail","Send to voicemail","Send to voicemail","Send to voicemail","Send to voicemail","Send to voicemail","Send to voicemail","Send to voicemail","Send to voicemail","zur Voicemail der Queue","zur Voicemail der Queue","zur Voicemail der Queue","zur Voicemail der Queue",null,null,"vers la messagerie vocale de la file","vers la messagerie vocale de la file","vers la messagerie vocale de la file",null,"Verso la voicemail della coda","Verso la voicemail della coda",null,"para el buzón de voz de la cola"]
[{"$f":"IFERROR(HLOOKUP('Customer Legal - Invoicing'!$B$6,A:Q,ROW(A237),0),B237)","v":"Go to second action"},"Go to second action","Go to second action","Go to second action","Go to second action","Go to second action","Go to second action","Go to second action","Go to second action","Go to second action","Go to second action","Go to second action","Go to second action","Go to second action","Go to second action","Go to second action","Go to second action","zur 2e Aktion","zur 2e Aktion","zur 2e Aktion","zur 2e Aktion",null,null,"vers action 1","vers action 2","vers action 3",null,"Verso azione 2","Verso azione 2",null,"para el acción 2"]
[{"$f":"IFERROR(HLOOKUP('Customer Legal - Invoicing'!$B$6,A:Q,ROW(A238),0),B238)","v":"play a message"},"play a message","play a message","play a message","play a message","play a message","play a message","play a message","play a message","play a message","play a message","play a message","play a message","play a message","play a message","play a message","play a message","Wiedergabe Ansage","Wiedergabe Ansage","Wiedergabe Ansage","Wiedergabe Ansage",null,null,"Jouer un message","Jouer un message","Jouer un message",null,"Fai partire un messaggio","Fai partire un messaggio",null,"Reproduce un mensaje"]
[{"$f":"IFERROR(HLOOKUP('Customer Legal - Invoicing'!$B$6,A:Q,ROW(A239),0),B239)","v":"to the voicemail of the queue"},"to the voicemail of the queue","to the voicemail of the queue","to the voicemail of the queue","to the voicemail of the queue","to the voicemail of the queue","to the voicemail of the queue","to the voicemail of the queue","to the voicemail of the queue","to the voicemail of the queue","to the voicemail of the queue","to the voicemail of the queue","to the voicemail of the queue","to the voicemail of the queue","to the voicemail of the queue","to the voicemail of the queue","to the voicemail of the queue","zur Voicemail der Queue","zur Voicemail der Queue","zur Voicemail der Queue","zur Voicemail der Queue",null,null,"vers la messagerie vocale de la file","vers la messagerie vocale de la file","vers la messagerie vocale de la file",null,"Verso la voicemail della coda","Verso la voicemail della coda",null,"para el buzón de voz de la cola"]
[{"$f":"IFERROR(HLOOKUP('Customer Legal - Invoicing'!$B$6,A:Q,ROW(A240),0),B240)","v":"no action"},"no action","no action","no action","no action","no action","no action","no action","no action","no action","no action","no action","no action","no action","no action","no action","no action","keine Aktion","keine Aktion","keine Aktion","keine Aktion",null,null,"pas d'action","pas d'action","pas d'action",null,"nessuna azione","nessuna azione",null,"sin acción"]
[{"$f":"IFERROR(HLOOKUP('Customer Legal - Invoicing'!$B$6,A:Q,ROW(A241),0),B241)","v":"Play music"},"Play music","Play music","Play music","Play music","Play music","Play music","Play music","Play music","Play music","Play music","Play music","Play music","Play music","Play music","Play music","Play music","Wiedergabe Musik","Wiedergabe Musik","Wiedergabe Musik","Wiedergabe Musik",null,null,"Jouer de la musique","Jouer de la musique","Jouer de la musique",null,"Musica","Musica",null,"Música"]
[{"$f":"IFERROR(HLOOKUP('Customer Legal - Invoicing'!$B$6,A:Q,ROW(A242),0),B242)","v":"Play ringtone"},"Play ringtone","Play ringtone","Play ringtone","Play ringtone","Play ringtone","Play ringtone","Play ringtone","Play ringtone","Play ringtone","Play ringtone","Play ringtone","Play ringtone","Play ringtone","Play ringtone","Play ringtone","Play ringtone","Wiedergabe Klingelton","Wiedergabe Klingelton","Wiedergabe Klingelton","Wiedergabe Klingelton",null,null,"Sonnerie","Sonnerie","Sonnerie",null,"Fai partire un Ringtone","Fai partire un Ringtone",null,"Reproduce tono de llamada"]
[{"$f":"IFERROR(HLOOKUP('Customer Legal - Invoicing'!$B$6,A:Q,ROW(A243),0),B243)","v":"First action - Play welcome message"},"First action - Play welcome message","Erste Aktion: Wilcommen Ansage","Erste Aktion: Wilcommen Ansage","Erste Aktion: Wilcommen Ansage","Erste Aktion: Wilcommen Ansage",null,null,"Première action: Message de bienvenue","Première action: Message de bienvenue","Première action: Message de bienvenue",null,"Prima azione: messaggio di benvenuto","Prima azione: messaggio di benvenuto",null,"Primera acción: mensaje de bienvenida"]
[{"$f":"IFERROR(HLOOKUP('Customer Legal - Invoicing'!$B$6,A:Q,ROW(A244),0),B244)","v":"Profile type"},"Profile type","Profiltypen","Profiltypen","Profiltypen","Profiltypen",null,null,"type du profile","type du profile","type du profile",null,"tipo di profilo","tipo di profilo",null,"Tipo de perfil"]
[{"$f":"IFERROR(HLOOKUP('Customer Legal - Invoicing'!$B$6,A:Q,ROW(A245),0),B245)","v":"No. of profiles"},"No. of profiles","Anzahl der Profile","Anzahl der Profile","Anzahl der Profile","Anzahl der Profile",null,null,"Numéro du profile","Numéro du profile","Numéro du profile",null,"numero di profili","numero di profili",null,"Número de perfiles"]
[{"$f":"IFERROR(HLOOKUP('Customer Legal - Invoicing'!$B$6,A:Q,ROW(A246),0),B246)","v":"Profile options"},"Profile options","Profil Optionen","Profil Optionen","Profil Optionen","Profil Optionen",null,null,"options du profile","options du profile","options du profile",null,"opzioni del profilo","opzioni del profilo",null,"Opciones de perfil"]
[{"$f":"IFERROR(HLOOKUP('Customer Legal - Invoicing'!$B$6,A:Q,ROW(A247),0),B247)","v":"User details"},"User details","Benutzerdetails","Benutzerdetails","Benutzerdetails","Benutzerdetails",null,null,"Détails utilisateur","Détails utilisateur","Détails utilisateur",null,"dettagli utilizzatore","dettagli utilizzatore",null,"Detalles de Usuario"]
[{"$f":"IFERROR(HLOOKUP('Customer Legal - Invoicing'!$B$6,A:Q,ROW(A248),0),B248)","v":"First name"},"First name","Vorname","Vorname","Vorname","Vorname",null,null,"Prénom","Prénom","Prénom",null,"Nome","Nome",null,"Nombre"]
[{"$f":"IFERROR(HLOOKUP('Customer Legal - Invoicing'!$B$6,A:Q,ROW(A249),0),B249)","v":"Last name"},"Last name","Nachname","Nachname","Nachname","Nachname",null,null,"Nom","Nom","Nom",null,"cognome","cognome",null,"Apellido"]
[{"$f":"IFERROR(HLOOKUP('Customer Legal - Invoicing'!$B$6,A:Q,ROW(A250),0),B250)","v":"(External) DDI \nFormat E164 (+ccxxxx…) (cc=country code)"},"(External) DDI \nFormat E164 (+ccxxxx…) (cc=country code)","(extern) Rufnummer/DDI\nFormat E164 (+ccxxxx…) (cc=Ländercode, Bsp. GER=+49)","(extern) Rufnummer/DDI\nFormat E164 (+ccxxxx…) (cc=Ländercode, Bsp. GER=+49)","(extern) Rufnummer/DDI\nFormat E164 (+ccxxxx…) (cc=Ländercode, Bsp. GER=+49)","(extern) Rufnummer/DDI\nFormat E164 (+ccxxxx…) (cc=Ländercode, Bsp. GER=+49)",null,null,"SDA externe, format E164 (+CCXXXX…) (CC=Country Code ou code pays)","SDA externe, format E164 (+CCXXXX…) (CC=Country Code ou code pays)","SDA externe, format E164 (+CCXXXX…) (CC=Country Code ou code pays)",null,"DDI ( per uso esterno ) formato E164 ( +ccxxxxx…) (cc=codice nazione)","DDI ( per uso esterno ) formato E164 ( +ccxxxxx…) (cc=codice nazione)",null,"DDI (nº externo)\nFormato E164 (+ccxxxx…) (cc=country code)"]
[{"$f":"IFERROR(HLOOKUP('Customer Legal - Invoicing'!$B$6,A:Q,ROW(A251),0),B251)","v":"(Internal) Extension \nMax. 6 digits"},"(Internal) Extension \nMax. 6 digits","(intern) Rufnummer \nMax. 6 Stellen","(intern) Rufnummer \nMax. 6 Stellen","(intern) Rufnummer \nMax. 6 Stellen","(intern) Rufnummer \nMax. 6 Stellen",null,null,"Extension (interne), Max 6 digits","Extension (interne), Max 6 digits","Extension (interne), Max 6 digits",null,"Estensione (per uso interno), Max 6 cifre","Estensione (per uso interno), Max 6 cifre",null,"Extension (Internal)\nMax. 6 digitos"]
[{"$f":"IFERROR(HLOOKUP('Customer Legal - Invoicing'!$B$6,A:Q,ROW(A252),0),B252)","v":"Mobile number \nFormat E164 (+ccxxxx…) (cc=country code)"},"Mobile number \nFormat E164 (+ccxxxx…) (cc=country code)","Moblirufnummer \nFormat E164 (+ccxxxx…) (cc=Ländercode, Bsp. GER=+49)","Moblirufnummer \nFormat E164 (+ccxxxx…) (cc=Ländercode, Bsp. GER=+49)","Moblirufnummer \nFormat E164 (+ccxxxx…) (cc=Ländercode, Bsp. GER=+49)","Moblirufnummer \nFormat E164 (+ccxxxx…) (cc=Ländercode, Bsp. GER=+49)",null,null,"Numéro de mobile, format E164 (+CCXXXX…) (CC=Country Code ou code pays)","Numéro de mobile, format E164 (+CCXXXX…) (CC=Country Code ou code pays)","Numéro de mobile, format E164 (+CCXXXX…) (CC=Country Code ou code pays)",null,"Numero mobile in formato E164 (+CCXXXX…) (CC=codice della nazione)","Numero mobile in formato E164 (+CCXXXX…) (CC=codice della nazione)",null,"Número de móvil \nFormato E164 (+ccxxxx…) (cc=country code)"]
[{"$f":"IFERROR(HLOOKUP('Customer Legal - Invoicing'!$B$6,A:Q,ROW(A253),0),B253)","v":"Cloud UC Profile"},"Cloud UC Profile","Cloud UC Profile","Cloud UC Profile","Cloud UC Profile","Cloud UC Profile",null,null,"Profile Cloud UC","Profile Cloud UC","Profile Cloud UC",null,"Profilo Cloud UC","Profilo Cloud UC",null,"Perfil de Cloud UC "]
[{"$f":"IFERROR(HLOOKUP('Customer Legal - Invoicing'!$B$6,A:Q,ROW(A254),0),B254)","v":"Service Group"},"Service Group","Service-Gruppe","Service-Gruppe","Service-Gruppe","Service-Gruppe",null,null,"Groupement   ","Groupement   ","Groupement   ",null,"Service Group","Service Group",null,"Grupo de Servicio"]
[{"$f":"IFERROR(HLOOKUP('Customer Legal - Invoicing'!$B$6,A:Q,ROW(A255),0),B255)","v":"Member Queue 1"},"Member Queue 1","Mitglied Service-Gruppe 1","Mitglied Service-Gruppe 1","Mitglied Service-Gruppe 1","Mitglied Service-Gruppe 1",null,null,"Membre 1 de la file ","Membre 1 de la file ","Membre 1 de la file ",null,"Membri della coda 1","Membri della coda 1",null,"Miembro de la Cola 1"]
[{"$f":"IFERROR(HLOOKUP('Customer Legal - Invoicing'!$B$6,A:Q,ROW(A256),0),B256)","v":"Member Queue 2"},"Member Queue 2","Mitglied Service-Gruppe 2","Mitglied Service-Gruppe 2","Mitglied Service-Gruppe 2","Mitglied Service-Gruppe 2",null,null,"Membre 2 de la file ","Membre 2 de la file ","Membre 2 de la file ",null,"Membri della coda 2","Membri della coda 2",null,"Miembro de la Cola 2"]
[{"$f":"IFERROR(HLOOKUP('Customer Legal - Invoicing'!$B$6,A:Q,ROW(A257),0),B257)","v":"Member Queue 3"},"Member Queue 3","Mitglied Service-Gruppe 3","Mitglied Service-Gruppe 3","Mitglied Service-Gruppe 3","Mitglied Service-Gruppe 3",null,null,"Membre 3 de la file ","Membre 3 de la file ","Membre 3 de la file ",null,"Membri della coda 3","Membri della coda 3",null,"Miembro de la Cola 3"]
[{"$f":"IFERROR(HLOOKUP('Customer Legal - Invoicing'!$B$6,A:Q,ROW(A258),0),B258)","v":"Permanent Queue"},"Permanent Queue","Permanent Queue","Permanent Queue","Permanent Queue","Permanent Queue","Permanent Queue","Permanent Queue","Permanent Queue","Permanent Queue","Permanent Queue","Permanent Queue","Permanent Queue","Permanent Queue","Permanent Queue","Permanent Queue","Permanent Queue"]
[{"$f":"IFERROR(HLOOKUP('Customer Legal - Invoicing'!$B$6,A:Q,ROW(A259),0),B259)","v":"Standard Telephony"},"Standard Telephony","Standard Telefonie","Standard Telefonie","Standard Telefonie","Standard Telefonie",null,null,"Téléphonie standard","Téléphonie standard","Téléphonie standard",null,"Telefono Standard","Telefono Standard",null,"Telefonía estándar"]
[{"$f":"IFERROR(HLOOKUP('Customer Legal - Invoicing'!$B$6,A:Q,ROW(A260),0),B260)","v":"Standard Telephony & UC"},"Standard Telephony & UC","Standard Telefonie & UC","Standard Telefonie & UC","Standard Telefonie & UC","Standard Telefonie & UC",null,null,"Téléphonie standard et communications unifiées (UC)","Téléphonie standard et communications unifiées (UC)","Téléphonie standard et communications unifiées (UC)",null,"Telefono standard & UC","Telefono standard & UC",null,"Telefonía estándar & UC"]
[{"$f":"IFERROR(HLOOKUP('Customer Legal - Invoicing'!$B$6,A:Q,ROW(A261),0),B261)","v":"Receptionist"},"Receptionist","Rezeptionist","Rezeptionist","Rezeptionist","Rezeptionist",null,null,"Standardiste","Standardiste","Standardiste",null,"Receptionist","Receptionist",null,"Recepcionista"]
[{"$f":"IFERROR(HLOOKUP('Customer Legal - Invoicing'!$B$6,A:Q,ROW(A262),0),B262)","v":"Subscriber Country"},"Subscriber Country","Land Benutzer","Land Benutzer","Land Benutzer","Land Benutzer",null,null,"Signataire local (pays)","Signataire local (pays)","Signataire local (pays)",null,"Nazione sottoscrittrice","Nazione sottoscrittrice",null,"País del Abonado"]
[{"$f":"IFERROR(HLOOKUP('Customer Legal - Invoicing'!$B$6,A:Q,ROW(A263),0),B263)","v":"IVR Language"},"IVR Language","Sprache IVR","Sprache IVR","Sprache IVR","Sprache IVR",null,null,"Langue utilisée pour l'accueil vocal","Langue utilisée pour l'accueil vocal","Langue utilisée pour l'accueil vocal",null,"Lingua per l'IVR","Lingua per l'IVR",null,"Idioma del IVR"]
[{"$f":"IFERROR(HLOOKUP('Customer Legal - Invoicing'!$B$6,A:Q,ROW(A264),0),B264)","v":"Portal Language"},"Portal Language","Sprache Portal","Sprache Portal","Sprache Portal","Sprache Portal",null,null,"Langue utilisée pour l'administration du service","Langue utilisée pour l'administration du service","Langue utilisée pour l'administration du service",null,"Lingua da utilizzare per il portale di gestione","Lingua da utilizzare per il portale di gestione",null,"Idioma del Portal"]
[{"$f":"IFERROR(HLOOKUP('Customer Legal - Invoicing'!$B$6,A:Q,ROW(A265),0),B265)","v":"Timezone"},"Timezone","Zeitzone","Zeitzone","Zeitzone","Zeitzone",null,null,"Fuseau horaire","Fuseau horaire","Fuseau horaire",null,"Fuso orario","Fuso orario",null,"Zona Horaria"]
[{"$f":"IFERROR(HLOOKUP('Customer Legal - Invoicing'!$B$6,A:Q,ROW(A266),0),B266)","v":"Currency"},"Currency","Währung","Währung","Währung","Währung",null,null,"Monnaie utilisée","Monnaie utilisée","Monnaie utilisée",null,"Valuta utilizzata","Valuta utilizzata",null,"Moneda"]
[{"$f":"IFERROR(HLOOKUP('Customer Legal - Invoicing'!$B$6,A:Q,ROW(A267),0),B267)","v":"Reserved Extensions"},"Reserved Extensions","reservierte Rufnummern","reservierte Rufnummern","reservierte Rufnummern","reservierte Rufnummern",null,null,"Extensions réservées","Extensions réservées","Extensions réservées",null,"Estensioni riservate","Estensioni riservate",null,"Extensiones reservadas"]
[{"$f":"IFERROR(HLOOKUP('Customer Legal - Invoicing'!$B$6,A:Q,ROW(A268),0),B268)","v":"IT Administrator Details"},"IT Administrator Details","Details IT Administrator","Details IT Administrator","Details IT Administrator","Details IT Administrator",null,null,"Détails pour l'administrateur technique","Détails pour l'administrateur technique","Détails pour l'administrateur technique",null,"Dettagli per l'amministratore IT","Dettagli per l'amministratore IT",null,"Detalles del Administrador"]
[{"$f":"IFERROR(HLOOKUP('Customer Legal - Invoicing'!$B$6,A:Q,ROW(A269),0),B269)","v":"Conferencing End User details Web login pw"},"Conferencing End User details Web login pw","Details Conferencing Endbenutzer Web login PW","Details Conferencing Endbenutzer Web login PW","Details Conferencing Endbenutzer Web login PW","Details Conferencing Endbenutzer Web login PW",null,null,"Détails login / mot de passe pour l'utilisateur final de la conférence téléphonique","Détails login / mot de passe pour l'utilisateur final de la conférence téléphonique","Détails login / mot de passe pour l'utilisateur final de la conférence téléphonique",null,"Dettagli per il l'utente finale ( web login e pwd)","Dettagli per il l'utente finale ( web login e pwd)",null,"Detalles del Usuario final de Conferencia Web (login, pw)"]
[{"$f":"IFERROR(HLOOKUP('Customer Legal - Invoicing'!$B$6,A:Q,ROW(A270),0),B270)","v":"(Internal) Extension"},"(Internal) Extension","(interne) Rufnummer","(interne) Rufnummer","(interne) Rufnummer","(interne) Rufnummer",null,null,"Extension (interne) ","Extension (interne) ","Extension (interne) ",null,"Estensione ( per uso interno)","Estensione ( per uso interno)",null,"Extensión (interna)"]
[{"$f":"IFERROR(HLOOKUP('Customer Legal - Invoicing'!$B$6,A:Q,ROW(A271),0),B271)","v":"4 digit customer extensions (optional)"},"4 digit customer extensions (optional)","4-stellige Rufnummer des Kunden (optional)","4-stellige Rufnummer des Kunden (optional)","4-stellige Rufnummer des Kunden (optional)","4-stellige Rufnummer des Kunden (optional)",null,null,"Extension personnalisée sur 4 digits (facultatif)","Extension personnalisée sur 4 digits (facultatif)","Extension personnalisée sur 4 digits (facultatif)",null,"Estensione di 4 cifre ( opzionale)","Estensione di 4 cifre ( opzionale)",null,"Extensiones del cliente de 4 dígitos (opcional)"]
[{"$f":"IFERROR(HLOOKUP('Customer Legal - Invoicing'!$B$6,A:Q,ROW(A272),0),B272)","v":"4 digit PIN (optional)"},"4 digit PIN (optional)","4-stellige PIN des Kunden (optional)","4-stellige PIN des Kunden (optional)","4-stellige PIN des Kunden (optional)","4-stellige PIN des Kunden (optional)",null,null,"Code PIN sur 4 digits (facultatif)","Code PIN sur 4 digits (facultatif)","Code PIN sur 4 digits (facultatif)",null,"Pin di 4 cifre (Opzionale)","Pin di 4 cifre (Opzionale)",null,"PIN 4 dígitos (opcional)"]
[{"$f":"IFERROR(HLOOKUP('Customer Legal - Invoicing'!$B$6,A:Q,ROW(A273),0),B273)","v":"Cost centre (optional)"},"Cost centre (optional)","Kostenstelle (optional)","Kostenstelle (optional)","Kostenstelle (optional)","Kostenstelle (optional)",null,null,"Centre de coût (facultatif)","Centre de coût (facultatif)","Centre de coût (facultatif)",null,"centro di costo ( opzionale)","centro di costo ( opzionale)",null,"Centro de Coste (opcional)"]
[{"$f":"IFERROR(HLOOKUP('Customer Legal - Invoicing'!$B$6,A:Q,ROW(A274),0),B274)","v":"Call recording flag (optional)"},"Call recording flag (optional)","Sprachaufzeichnung (optional)","Sprachaufzeichnung (optional)","Sprachaufzeichnung (optional)","Sprachaufzeichnung (optional)",null,null,"Alerte pour l'enregistrement d'appel (facultatif)","Alerte pour l'enregistrement d'appel (facultatif)","Alerte pour l'enregistrement d'appel (facultatif)",null,"Flag per la registrazione vocale ( opzionale)","Flag per la registrazione vocale ( opzionale)",null,"Bandera de grabación de llamada (opcional)"]
[{"$f":"IFERROR(HLOOKUP('Customer Legal - Invoicing'!$B$6,A:Q,ROW(A275),0),B275)","v":"OutDial Option (optional)"},"OutDial Option (optional)","Amtskennziffer (optional)","Amtskennziffer (optional)","Amtskennziffer (optional)","Amtskennziffer (optional)",null,null,"Option de numérotation directe (facultatif)","Option de numérotation directe (facultatif)","Option de numérotation directe (facultatif)",null,"Opzione di selezione passante diretta ( opzionale)","Opzione di selezione passante diretta ( opzionale)",null,"OutDial Option (opcional)"]
[{"$f":"IFERROR(HLOOKUP('Customer Legal - Invoicing'!$B$6,A:Q,ROW(A276),0),B276)","v":"Total number of users ordered"},"Total number of users ordered","Anzahl aller Benutzer (bestellt)","Anzahl aller Benutzer (bestellt)","Anzahl aller Benutzer (bestellt)","Anzahl aller Benutzer (bestellt)",null,null,"Nombre total d'utilisateurs commandés","Nombre total d'utilisateurs commandés","Nombre total d'utilisateurs commandés",null,"numero totale di utilizzatori ordinato","numero totale di utilizzatori ordinato",null,"Número total de usuarios requeridos"]
[{"$f":"IFERROR(HLOOKUP('Customer Legal - Invoicing'!$B$6,A:Q,ROW(A277),0),B277)","v":"Billing media"},"Billing media","Medium Rechnung (elektronisch/Papier)","Medium Rechnung (elektronisch/Papier)","Medium Rechnung (elektronisch/Papier)","Medium Rechnung (elektronisch/Papier)",null,null,"Type de facturation (papier, électronique)","Type de facturation (papier, électronique)","Type de facturation (papier, électronique)",null,"Fatturazione elettronica","Fatturazione elettronica",null,"Medios de facturación"]
[{"$f":"IFERROR(HLOOKUP('Customer Legal - Invoicing'!$B$6,A:Q,ROW(A278),0),B278)","v":"Billing currency"},"Billing currency","Währungseinheit","Währungseinheit","Währungseinheit","Währungseinheit",null,null,"Monnaie utilisée pour la facturation","Monnaie utilisée pour la facturation","Monnaie utilisée pour la facturation",null,"Valuta di fatturazione","Valuta di fatturazione",null,"Moneda de facturación"]
[{"$f":"IFERROR(HLOOKUP('Customer Legal - Invoicing'!$B$6,A:Q,ROW(A279),0),B279)","v":"Default currency for all sites?"},"Default currency for all sites?","Standard Währung für alle Lokationen","Standard Währung für alle Lokationen","Standard Währung für alle Lokationen","Standard Währung für alle Lokationen",null,null,"Devise utilisée pour tous les sites ?","Devise utilisée pour tous les sites ?","Devise utilisée pour tous les sites ?",null,"Valuta di default per ogni sito","Valuta di default per ogni sito",null,"Moneda por defecto para todas las sedes"]
[{"$f":"IFERROR(HLOOKUP('Customer Legal - Invoicing'!$B$6,A:Q,ROW(A280),0),B280)","v":"Invoice frequency"},"Invoice frequency","Rechnungsperiode","Rechnungsperiode","Rechnungsperiode","Rechnungsperiode",null,null,"Fréquence d'envoi de la facture","Fréquence d'envoi de la facture","Fréquence d'envoi de la facture",null,"frequenza di invio della fattura","frequenza di invio della fattura",null,"Frecuencia de facturación"]
[{"$f":"IFERROR(HLOOKUP('Customer Legal - Invoicing'!$B$6,A:Q,ROW(A281),0),B281)","v":"BSD / BED (Upon delivery or specific date)"},"BSD / BED (Upon delivery or specific date)","Beginn Rechnungsstellung (bei Lieferung/festes Datum)","Beginn Rechnungsstellung (bei Lieferung/festes Datum)","Beginn Rechnungsstellung (bei Lieferung/festes Datum)","Beginn Rechnungsstellung (bei Lieferung/festes Datum)",null,null,"Date de Facturation","Date de Facturation","Date de Facturation",null,"Data di fatturazione","Data di fatturazione",null,"BSD / BED (al momento de la entrega o fecha específica)"]
[{"$f":"IFERROR(HLOOKUP('Customer Legal - Invoicing'!$B$6,A:Q,ROW(A282),0),B282)","v":"New / Existing BCN"},"New / Existing BCN","Neu / Existierende BCN","Neu / Existierende BCN","Neu / Existierende BCN","Neu / Existierende BCN",null,null,"Contrat nouveau ou existant (BCN)","Contrat nouveau ou existant (BCN)","Contrat nouveau ou existant (BCN)",null,"BCN nuovo o esistente","BCN nuovo o esistente",null,"BCN Nuevo/Existente"]
[{"$f":"IFERROR(HLOOKUP('Customer Legal - Invoicing'!$B$6,A:Q,ROW(A283),0),B283)","v":"New"},"New","Neu","Neu","Neu","Neu",null,null,"Nouveau","Nouveau","Nouveau",null,"Nuovo","Nuovo",null,"Nueva"]
[{"$f":"IFERROR(HLOOKUP('Customer Legal - Invoicing'!$B$6,A:Q,ROW(A284),0),B284)","v":"Existing"},"Existing","Existierend","Existierend","Existierend","Existierend",null,null,"Existant","Existant","Existant",null,"Esistente","Esistente",null,"Existente"]
[{"$f":"IFERROR(HLOOKUP('Customer Legal - Invoicing'!$B$6,A:Q,ROW(A285),0),B285)","v":"Existing BCN"},"Existing BCN","Existierende BCN","Existierende BCN","Existierende BCN","Existierende BCN",null,null,"BCN existant","BCN existant","BCN existant",null,"BCN esistente","BCN esistente",null,"BCN Existente"]
[{"$f":"IFERROR(HLOOKUP('Customer Legal - Invoicing'!$B$6,A:Q,ROW(A286),0),B286)","v":"Tariff Plan"},"Tariff Plan","Tarifplan","Tarifplan","Tarifplan","Tarifplan",null,null,"Grille tarifaire","Grille tarifaire","Grille tarifaire",null,"Piano tariffario","Piano tariffario",null,"Plan de Tarifa"]
[{"$f":"IFERROR(HLOOKUP('Customer Legal - Invoicing'!$B$6,A:Q,ROW(A287),0),B287)","v":"Order Acceptance Date (Completed CRF)"},"Order Acceptance Date (Completed CRF)","Abnahmetermin (CRF komplett)","Abnahmetermin (CRF komplett)","Abnahmetermin (CRF komplett)","Abnahmetermin (CRF komplett)",null,null,"Date acceptée de la commande (CRF complétée)","Date acceptée de la commande (CRF complétée)","Date acceptée de la commande (CRF complétée)",null,"Data di accettazione dell'ordine ( CRF completato )","Data di accettazione dell'ordine ( CRF completato )",null,"Fecha de Aceptación de la Orden (CRF completado)"]
[{"$f":"IFERROR(HLOOKUP('Customer Legal - Invoicing'!$B$6,A:Q,ROW(A288),0),B288)","v":"Set by Cloud UC Coordinators, upon acceptance completed order"},"Set by Cloud UC Coordinators, upon acceptance completed order","gesetzt durch Cloud-UC-Koordinatoren, die Abnahme schließt den Bestellprozess ab","gesetzt durch Cloud-UC-Koordinatoren, die Abnahme schließt den Bestellprozess ab","gesetzt durch Cloud-UC-Koordinatoren, die Abnahme schließt den Bestellprozess ab","gesetzt durch Cloud-UC-Koordinatoren, die Abnahme schließt den Bestellprozess ab",null,null,"Défini par les administrateurs de Cloud UC lors de l'acceptation de la commande dûment complétée","Défini par les administrateurs de Cloud UC lors de l'acceptation de la commande dûment complétée","Défini par les administrateurs de Cloud UC lors de l'acceptation de la commande dûment complétée",null,"Definito dai cordinatori di Cloud UC, dopo l'accettazione dell'ordine corretto e completo","Definito dai cordinatori di Cloud UC, dopo l'accettazione dell'ordine corretto e completo",null,"Definido por los Coordinadores de Could UC, a la aceptación de finalización de la orden"]
[{"$f":"IFERROR(HLOOKUP('Customer Legal - Invoicing'!$B$6,A:Q,ROW(A289),0),B289)","v":"* Mandatory fields"},"* Mandatory fields","* Verplichtend aus zu füllen","* Verplichtend aus zu füllen","* Verplichtend aus zu füllen","* Verplichtend aus zu füllen",null,null,"* Champs obligatoires","* Champs obligatoires","* Champs obligatoires",null,"* Campi obbligatori","* Campi obbligatori",null,"* Campos obligatorios"]
[{"$f":"IFERROR(HLOOKUP('Customer Legal - Invoicing'!$B$6,A:Q,ROW(A290),0),B290)","v":"Used profiles (non-user)"},"Used profiles (non-user)","Gebrauchte Profile (non-user)","Gebrauchte Profile (non-user)","Gebrauchte Profile (non-user)","Gebrauchte Profile (non-user)",null,null,"Profils utilisés (non-user)","Profils utilisés (non-user)","Profils utilisés (non-user)",null,"Profili utilizzati (non-user)","Profili utilizzati (non-user)",null,"Perfiles usados (non-user)"]
[{"$f":"IFERROR(HLOOKUP('Customer Legal - Invoicing'!$B$6,A:Q,ROW(A291),0),B291)","v":"Used profiles (user/receptionist)"},"Used profiles (user/receptionist)","Gebrauchte Profile (user/Rezeptionist)","Gebrauchte Profile (user/Rezeptionist)","Gebrauchte Profile (user/Rezeptionist)","Gebrauchte Profile (user/Rezeptionist)",null,null,"Profils utilisés (user/receptionist)","Profils utilisés (user/receptionist)","Profils utilisés (user/receptionist)",null,"Profili utilizzati (user/receptionist)","Profili utilizzati (user/receptionist)",null,"Perfiles usados (user/receptionist)"]
[{"$f":"IFERROR(HLOOKUP('Customer Legal - Invoicing'!$B$6,A:Q,ROW(A292),0),B292)","v":"Used profiles (total)"},"Used profiles (total)","Gebrauchte Profile (Total)","Gebrauchte Profile (Total)","Gebrauchte Profile (Total)","Gebrauchte Profile (Total)",null,null,"Profils utilisés (totale)","Profils utilisés (totale)","Profils utilisés (totale)",null,"Profili utilizzati (totale)","Profili utilizzati (totale)",null,"Perfiles usados (total)"]
[{"$f":"IFERROR(HLOOKUP('Customer Legal - Invoicing'!$B$6,A:Q,ROW(A293),0),B293)","v":"Total"},"Total","Total","Total","Total","Total",null,null,"Totale","Totale","Totale",null,"Totale","Totale",null,"Total"]
[{"$f":"IFERROR(HLOOKUP('Customer Legal - Invoicing'!$B$6,A:Q,ROW(A294),0),B294)","v":"No more available profiles"},"No more available profiles","Keine verfügbare Profile mehr","Keine verfügbare Profile mehr","Keine verfügbare Profile mehr","Keine verfügbare Profile mehr",null,null,"Profils plus disponibles","Profils plus disponibles","Profils plus disponibles",null,"Profili non più disponibili","Profili non più disponibili",null,"No más perfiles disponibles"]
[{"$f":"IFERROR(HLOOKUP('Customer Legal - Invoicing'!$B$6,A:Q,ROW(A295),0),B295)","v":"Available User-Receptionist profiles"},"Available User-Receptionist profiles","Verfügbare User-Rezeptionist Profile","Verfügbare User-Rezeptionist Profile","Verfügbare User-Rezeptionist Profile","Verfügbare User-Rezeptionist Profile",null,null,"Profils User-Receptionist disponibles","Profils User-Receptionist disponibles","Profils User-Receptionist disponibles",null,"Profili user/receptionist disponibili","Profili user/receptionist disponibili",null,"Perfiles user/receptionist disponibles"]
[{"$f":"IFERROR(HLOOKUP('Customer Legal - Invoicing'!$B$6,A:Q,ROW(A296),0),B296)","v":"Enhanced Audio Conferencing"},"Enhanced Audio Conferencing","Zugehörige Audiokonferenz","Zugehörige Audiokonferenz","Zugehörige Audiokonferenz","Zugehörige Audiokonferenz",null,null,"Conférences audio améliorées","Conférences audio améliorées","Conférences audio améliorées",null,"Audioconferenza potenziata","Audioconferenza potenziata",null,"Conferencia de audio mejorada"]
[{"$f":"IFERROR(HLOOKUP('Customer Legal - Invoicing'!$B$6,A:Q,ROW(A297),0),B297)","v":"None"},"None","Keine","Keine","Keine","Keine",null,null,"Aucun","Aucun","Aucun",null,"Nessuno","Nessuno",null,"Ninguno"]
[{"$f":"IFERROR(HLOOKUP('Customer Legal - Invoicing'!$B$6,A:Q,ROW(A298),0),B298)","v":"Redundant connection to Colt at customer site ? "},"Redundant connection to Colt at customer site ? ","Redundante Kundenstandortanbindung ?","Redundante Kundenstandortanbindung ?","Redundante Kundenstandortanbindung ?","Redundante Kundenstandortanbindung ?",null,null,"Connexion Colt redondante sur le site client ?","Connexion Colt redondante sur le site client ?","Connexion Colt redondante sur le site client ?",null,"Connessione Colt ridondante presso sede cliente?","Connessione Colt ridondante presso sede cliente?",null,"Conexión redundante con Colt IPVPN en el centro del cliente?"]
[{"$f":"IFERROR(HLOOKUP('Customer Legal - Invoicing'!$B$6,A:Q,ROW(A299),0),B299)","v":"No. Of Profiles exceeded !"},"No. Of Profiles exceeded !","Zahl der Profile überschritten !","Zahl der Profile überschritten !","Zahl der Profile überschritten !","Zahl der Profile überschritten !",null,null,"Nombre de Profiles dépassé","Nombre de Profiles dépassé","Nombre de Profiles dépassé",null,"Troppo numero di profili","Troppo numero di profili",null,"Demasiado número de perfiles"]
[{"$f":"IFERROR(HLOOKUP('Customer Legal - Invoicing'!$B$6,A:Q,ROW(A300),0),B300)","v":"New for Cloud UC"},"New for Cloud UC","Neu für Cloud UC","Neu für Cloud UC","Neu für Cloud UC","Neu für Cloud UC",null,null,"Nouveau pour Cloud UC","Nouveau pour Cloud UC","Nouveau pour Cloud UC",null,"Nuevo per Cloud UC","Nuevo per Cloud UC",null,"Nueva para Cloud UC"]
[{"$f":"IFERROR(HLOOKUP('Customer Legal - Invoicing'!$B$6,A:Q,ROW(A301),0),B301)","v":"To be migrated to Cloud UC"},"To be migrated to Cloud UC","Migrieren nach Cloud UC","Migrieren nach Cloud UC","Migrieren nach Cloud UC","Migrieren nach Cloud UC",null,null,"A migrer vers Cloud UC","A migrer vers Cloud UC","A migrer vers Cloud UC",null,"Da migrare a Cloud UC","Da migrare a Cloud UC",null,"Que migrar a"]
[{"$f":"IFERROR(HLOOKUP('Customer Legal - Invoicing'!$B$6,A:Q,ROW(A302),0),B302)","v":"To be ported in to Cloud UC"},"To be ported in to Cloud UC","Portieren nach Cloud UC","Portieren nach Cloud UC","Portieren nach Cloud UC","Portieren nach Cloud UC",null,null,"A porter vers Cloud UC","A porter vers Cloud UC","A porter vers Cloud UC",null,"Da portato su cloud UC","Da portato su cloud UC",null,"Para ser portado a Cloud UC"]
[{"$f":"IFERROR(HLOOKUP('Customer Legal - Invoicing'!$B$6,A:Q,ROW(A303),0),B303)","v":"Less DDIs or more Profiles are required"},"Less DDIs or more Profiles are required","Weniger Rufnummern oder mehrere Profile sind nötig","Weniger Rufnummern oder mehrere Profile sind nötig","Weniger Rufnummern oder mehrere Profile sind nötig","Weniger Rufnummern oder mehrere Profile sind nötig",null,null,"Moins de SDA ou plus de profiles sont nécessaires","Moins de SDA ou plus de profiles sont nécessaires","Moins de SDA ou plus de profiles sont nécessaires",null,"Leno i numeri o più profili sono richieste","Leno i numeri o più profili sono richieste",null,"Menos números o más perfiles se solicitan"]
[{"$f":"IFERROR(HLOOKUP('Customer Legal - Invoicing'!$B$6,A:Q,ROW(A304),0),B304)","v":"Local VoIP - UC - IT Responsible"},"Local VoIP - UC - IT Responsible","Lokale VoIP-UC-IT Zuständigkeit","Lokale VoIP-UC-IT Zuständigkeit","Lokale VoIP-UC-IT Zuständigkeit","Lokale VoIP-UC-IT Zuständigkeit",null,null,"Responsable du site pour la VoIP - UC et l'IT","Responsable du site pour la VoIP - UC et l'IT","Responsable du site pour la VoIP - UC et l'IT",null,"Responsabile VOIP_UC_IT del sito","Responsabile VOIP_UC_IT del sito",null,"Responsabile locale VoIP - UC - IT"]
[{"$f":"IFERROR(HLOOKUP('Customer Legal - Invoicing'!$B$6,A:Q,ROW(A305),0),B305)","v":"All information in this sheet will be used for the configuration on the Service Management Platform. The Service Management Platform is to be used by the customer to update the given (or missing) data of this sheet."},"All information in this sheet will be used for the configuration on the Service Management Platform. The Service Management Platform is to be used by the customer to update the given (or missing) data of this sheet.","Alle Daten auf diesem Blatt wird benutzt für die Konfiguration im Service Management Platform. Der Service Management Platform wird vom Kunde aktualisiert. ","Alle Daten auf diesem Blatt wird benutzt für die Konfiguration im Service Management Platform. Der Service Management Platform wird vom Kunde aktualisiert. ","Alle Daten auf diesem Blatt wird benutzt für die Konfiguration im Service Management Platform. Der Service Management Platform wird vom Kunde aktualisiert. ","Alle Daten auf diesem Blatt wird benutzt für die Konfiguration im Service Management Platform. Der Service Management Platform wird vom Kunde aktualisiert. ",null,null,"Toutes les informations contenues dans cette fiche sera utilisée pour la configuration de la plate-forme de gestion des services. La plate-forme de gestion des services doit être utilisée par le client poutr mettre à jour les données indiquées ou manquantes de ce document.","Toutes les informations contenues dans cette fiche sera utilisée pour la configuration de la plate-forme de gestion des services. La plate-forme de gestion des services doit être utilisée par le client poutr mettre à jour les données indiquées ou manquantes de ce document.","Toutes les informations contenues dans cette fiche sera utilisée pour la configuration de la plate-forme de gestion des services. La plate-forme de gestion des services doit être utilisée par le client poutr mettre à jour les données indiquées ou manquantes de ce document.",null,"Tutte le informazioni icluse in questo foglio saranno utilizzate per la configurazione dulla piattaforma di service management. La piattaforma di service management deve essere utilizata dal cliente per upgradare, verificare le infomazioni fornite o mancanti in questo foglio.","Tutte le informazioni icluse in questo foglio saranno utilizzate per la configurazione dulla piattaforma di service management. La piattaforma di service management deve essere utilizata dal cliente per upgradare, verificare le infomazioni fornite o mancanti in questo foglio.",null,"Toda la información en esta hoja se utiliza para la configuración de la Plataforma de Gestión de Servicios. La Plataforma de Gestión de Servicios es para ser utilizado por el cliente para actualizar los datos dados (o falta) de esta hoja."]
[{"$f":"IFERROR(HLOOKUP('Customer Legal - Invoicing'!$B$6,A:Q,ROW(A306),0),B306)","v":"IPVPN"},"IPVPN","IPVPN","IPVPN","IPVPN","IPVPN","IPVPN","IPVPN","IPVPN","IPVPN","IPVPN","IPVPN","IPVPN","IPVPN","IPVPN","IPVPN","IPVPN"]
[{"$f":"IFERROR(HLOOKUP('Customer Legal - Invoicing'!$B$6,A:Q,ROW(A307),0),B307)","v":"EPN"},"EPN","EPN","EPN","EPN","EPN","EPN","EPN","EPN","EPN","EPN","EPN","EPN","EPN","EPN","EPN","EPN"]
[{"$f":"IFERROR(HLOOKUP('Customer Legal - Invoicing'!$B$6,A:Q,ROW(A308),0),B308)","v":"IP Access"},"IP Access","IP Access","IP Access","IP Access","IP Access","IP Access","IP Access","IP Access","IP Access","IP Access","IP Access","IP Access","IP Access","IP Access","IP Access","IP Access"]
[{"$f":"IFERROR(HLOOKUP('Customer Legal - Invoicing'!$B$6,A:Q,ROW(A309),0),B309)","v":"VoIP Access"},"VoIP Access","VoIP Access","VoIP Access","VoIP Access","VoIP Access","VoIP Access","VoIP Access","VoIP Access","VoIP Access","VoIP Access","VoIP Access","VoIP Access","VoIP Access","VoIP Access","VoIP Access","VoIP Access"]
[{"$f":"IFERROR(HLOOKUP('Customer Legal - Invoicing'!$B$6,A:Q,ROW(A310),0),B310)","v":"IP Voice Line"},"IP Voice Line","IP Voice Line","IP Voice Line","IP Voice Line","IP Voice Line","IP Voice Line","IP Voice Line","IP Voice Line","IP Voice Line","IP Voice Line","IP Voice Line","IP Voice Line","IP Voice Line","IP Voice Line","IP Voice Line","IP Voice Line"]
[{"$f":"IFERROR(HLOOKUP('Customer Legal - Invoicing'!$B$6,A:Q,ROW(A311),0),B311)","v":"All other services"},"All other services","All other services","All other services","All other services","All other services","All other services","All other services","All other services","All other services","All other services","All other services","All other services","All other services","All other services","All other services","All other services"]
[{"$f":"IFERROR(HLOOKUP('Customer Legal - Invoicing'!$B$6,A:Q,ROW(A312),0),B312)","v":"WebRTC_only"},"WebRTC_only","WebRTC_only","WebRTC_only","WebRTC_only","WebRTC_only",null,null,"WebRTC_only","WebRTC_only","WebRTC_only",null,"WebRTC_only","WebRTC_only",null,"WebRTC_only"]
[{"$f":"IFERROR(HLOOKUP('Customer Legal - Invoicing'!$B$6,A:Q,ROW(A313),0),B313)","v":"New / TDM"},"New / TDM","New / TDM","New / TDM","New / TDM","New / TDM",null,null,"New / TDM","New / TDM","New / TDM",null,"New / TDM","New / TDM",null,"New / TDM"]
[{"$f":"IFERROR(HLOOKUP('Customer Legal - Invoicing'!$B$6,A:Q,ROW(A314),0),B314)","v":"VoIP_Access"},"VoIP_Access","VoIP_Access","VoIP_Access","VoIP_Access","VoIP_Access",null,null,"VoIP_Access","VoIP_Access","VoIP_Access",null,"VoIP_Access","VoIP_Access",null,"VoIP_Access"]
[{"$f":"IFERROR(HLOOKUP('Customer Legal - Invoicing'!$B$6,A:Q,ROW(A315),0),B315)","v":"IP_Voice_Line"},"IP_Voice_Line","IP_Voice_Line","IP_Voice_Line","IP_Voice_Line","IP_Voice_Line",null,null,"IP_Voice_Line","IP_Voice_Line","IP_Voice_Line",null,"IP_Voice_Line","IP_Voice_Line",null,"IP_Voice_Line"]
[{"$f":"IFERROR(HLOOKUP('Customer Legal - Invoicing'!$B$6,A:Q,ROW(A316),0),B316)","v":"VoIP_Access_over_IPVPN"},"VoIP_Access_over_IPVPN","VoIP_Access_over_IPVPN","VoIP_Access_over_IPVPN","VoIP_Access_over_IPVPN","VoIP_Access_over_IPVPN",null,null,"VoIP_Access_over_IPVPN","VoIP_Access_over_IPVPN","VoIP_Access_over_IPVPN",null,"VoIP_Access_over_IPVPN","VoIP_Access_over_IPVPN",null,"VoIP_Access_over_IPVPN"]
[{"$f":"IFERROR(HLOOKUP('Customer Legal - Invoicing'!$B$6,A:Q,ROW(A317),0),B317)","v":"VoIP_Access_over_Internet"},"VoIP_Access_over_Internet","VoIP_Access_over_Internet","VoIP_Access_over_Internet","VoIP_Access_over_Internet","VoIP_Access_over_Internet",null,null,"VoIP_Access_over_Internet","VoIP_Access_over_Internet","VoIP_Access_over_Internet",null,"VoIP_Access_over_Internet","VoIP_Access_over_Internet",null,"VoIP_Access_over_Internet"]
[{"$f":"IFERROR(HLOOKUP('Customer Legal - Invoicing'!$B$6,A:Q,ROW(A318),0),B318)","v":"VoIP_Access_over_EPN"},"VoIP_Access_over_EPN","VoIP_Access_over_EPN","VoIP_Access_over_EPN","VoIP_Access_over_EPN","VoIP_Access_over_EPN",null,null,"VoIP_Access_over_EPN","VoIP_Access_over_EPN","VoIP_Access_over_EPN",null,"VoIP_Access_over_EPN","VoIP_Access_over_EPN",null,"VoIP_Access_over_EPN"]
[{"$f":"IFERROR(HLOOKUP('Customer Legal - Invoicing'!$B$6,A:Q,ROW(A319),0),B319)","v":"IPVPN"},"IPVPN","IPVPN","IPVPN","IPVPN","IPVPN",null,null,"IPVPN","IPVPN","IPVPN",null,"IPVPN","IPVPN",null,"IPVPN"]
[{"$f":"IFERROR(HLOOKUP('Customer Legal - Invoicing'!$B$6,A:Q,ROW(A320),0),B320)","v":"Remote_Fixed_VPN"},"Remote_Fixed_VPN","Remote_Fixed_VPN","Remote_Fixed_VPN","Remote_Fixed_VPN","Remote_Fixed_VPN",null,null,"Remote_Fixed_VPN","Remote_Fixed_VPN","Remote_Fixed_VPN",null,"Remote_Fixed_VPN","Remote_Fixed_VPN",null,"Remote_Fixed_VPN"]
[{"$f":"IFERROR(HLOOKUP('Customer Legal - Invoicing'!$B$6,A:Q,ROW(A321),0),B321)","v":"WebRTC_only"},"WebRTC_only","WebRTC_only","WebRTC_only","WebRTC_only","WebRTC_only",null,null,"WebRTC_only","WebRTC_only","WebRTC_only",null,"WebRTC_only","WebRTC_only",null,"WebRTC_only"]
[{"$f":"IFERROR(HLOOKUP('Customer Legal - Invoicing'!$B$6,A:Q,ROW(A322),0),B322)","v":"Customer Contact"},"Customer Contact","Kontakt Kunde","Kontakt Kunde","Kontakt Kunde","Kontakt Kunde",null,null,"Contact client","Contact client","Contact client",null,"Contatto con il cliente","Contatto con il cliente",null,"Contacto con el cliente"]
[{"$f":"IFERROR(HLOOKUP('Customer Legal - Invoicing'!$B$6,A:Q,ROW(A323),0),B323)","v":"Amount of DDIs"},"Amount of DDIs","Anzahl Rufnummern/DDIs","Anzahl Rufnummern/DDIs","Anzahl Rufnummern/DDIs","Anzahl Rufnummern/DDIs",null,null,"Nombre de SDA (numéros)","Nombre de SDA (numéros)","Nombre de SDA (numéros)",null,"Quantità di numeri di telefono","Quantità di numeri di telefono",null,"Cantidad de números de teléfono"]
[{"$f":"IFERROR(HLOOKUP('Customer Legal - Invoicing'!$B$6,A:Q,ROW(A324),0),B324)","v":"Temporary Test DDI"},"Temporary Test DDI","Voübergehender Test DDI","Voübergehender Test DDI","Voübergehender Test DDI","Voübergehender Test DDI",null,null,"No. de test (temporaire)","No. de test (temporaire)","No. de test (temporaire)",null,"Numeri di prova (provisorio)","Numeri di prova (provisorio)",null,"Números de prueba (temporal)"]
[{"$f":"IFERROR(HLOOKUP('Customer Legal - Invoicing'!$B$6,A:Q,ROW(A325),0),B325)","v":"Current Colt Service"},"Current Colt Service","Aktueller Colt Dienst","Aktueller Colt Dienst","Aktueller Colt Dienst","Aktueller Colt Dienst",null,null,"Service Colt Actuel","Service Colt Actuel","Service Colt Actuel",null,"Servizio corrente Colt","Servizio corrente Colt",null,"Servicio actual Colt"]
[{"$f":"IFERROR(HLOOKUP('Customer Legal - Invoicing'!$B$6,A:Q,ROW(A326),0),B326)","v":"Yes"},"Yes","Ja","Ja","Ja","Ja",null,null,"Oui","Oui","Oui",null,"Si","Si",null,"Si"]
[{"$f":"IFERROR(HLOOKUP('Customer Legal - Invoicing'!$B$6,A:Q,ROW(A327),0),B327)","v":"No - new Customer"},"No - new Customer","Nein - Neukunde","Nein - Neukunde","Nein - Neukunde","Nein - Neukunde",null,null,"Non - Nouveau Client","Non - Nouveau Client","Non - Nouveau Client",null,"No - Nuovo Cliente","No - Nuovo Cliente",null,"No - Cliente Nuevo"]
[{"$f":"IFERROR(HLOOKUP('Customer Legal - Invoicing'!$B$6,A:Q,ROW(A328),0),B328)","v":"Cloud UC Connectivity option"},"Cloud UC Connectivity option","Cloud UC Connectivity option","Cloud UC Connectivity option","Cloud UC Connectivity option","Cloud UC Connectivity option",null,null,"Cloud UC Option de connectivité","Cloud UC Option de connectivité","Cloud UC Option de connectivité",null,"Cloud UC Connettività opzionale","Cloud UC Connettività opzionale",null,"Cloud UC Option de connectivité"]
[{"$f":"IFERROR(HLOOKUP('Customer Legal - Invoicing'!$B$6,A:Q,ROW(A329),0),B329)","v":"Via dedicated IP VPN"},"Via dedicated IP VPN","Via dedicated IP VPN","Via dedicated IP VPN","Via dedicated IP VPN","Via dedicated IP VPN","Via dedicated IP VPN","Via dedicated IP VPN","Via dedicated IP VPN","Via dedicated IP VPN","Via dedicated IP VPN","Via dedicated IP VPN","Via dedicated IP VPN","Via dedicated IP VPN","Via dedicated IP VPN","Via dedicated IP VPN"]
[{"$f":"IFERROR(HLOOKUP('Customer Legal - Invoicing'!$B$6,A:Q,ROW(A330),0),B330)","v":"Over public internet"},"Over public internet","Over public internet","Over public internet","Over public internet","Over public internet","Over public internet","Over public internet","Over public internet","Over public internet","Over public internet","Over public internet","Over public internet","Over public internet","Over public internet","Over public internet"]
[{"$f":"IFERROR(HLOOKUP('Customer Legal - Invoicing'!$B$6,A:Q,ROW(A331),0),B331)","v":"Only with Softphones"},"Only with Softphones","Only with Softphones","Only with Softphones","Only with Softphones","Only with Softphones","Only with Softphones","Only with Softphones","Only with Softphones","Only with Softphones","Only with Softphones","Only with Softphones","Only with Softphones","Only with Softphones","Only with Softphones","Only with Softphones"]
[{"$f":"IFERROR(HLOOKUP('Customer Legal - Invoicing'!$B$6,A:Q,ROW(A332),0),B332)","v":"Is IP Access using physical CPE?"},"Is IP Access using physical CPE?","IP Access über physischer CPE?","IP Access über physischer CPE?","IP Access über physischer CPE?","IP Access über physischer CPE?",null,null,"Accès IP utilisant CPE physique?","Accès IP utilisant CPE physique?","Accès IP utilisant CPE physique?",null,"Accesso IP utilizzando CPE fisico?","Accesso IP utilizzando CPE fisico?",null,"Acceso IP utilizando CPE física?"]
[{"$f":"IFERROR(HLOOKUP('Customer Legal - Invoicing'!$B$6,A:Q,ROW(A333),0),B333)","v":"Existing Cloud UC Customer"},"Existing Cloud UC Customer","Bestehender Cloud UC Kunde","Bestehender Cloud UC Kunde","Bestehender Cloud UC Kunde","Bestehender Cloud UC Kunde",null,null,"Client existant pour Cloud UC","Client existant pour Cloud UC","Client existant pour Cloud UC",null,"Cloud UC cliente esistente","Cloud UC cliente esistente",null,"Cloud UC cliente existente"]
[{"$f":"IFERROR(HLOOKUP('Customer Legal - Invoicing'!$B$6,A:Q,ROW(A334),0),B334)","v":"Subscriber's Number"},"Subscriber's Number","Telefonnummer","Telefonnummer","Telefonnummer","Telefonnummer","Telefoonnummer","Telefoonnummer","Numéro de téléphone","Numéro de téléphone","Numéro de téléphone",null,"Numero telefonico","Numero telefonico",null,"Número de teléfono"]
[{"$f":"IFERROR(HLOOKUP('Customer Legal - Invoicing'!$B$6,A:Q,ROW(A335),0),B335)","v":"Password"},"Password","Passwort","Passwort","Passwort","Passwort","Paswoord","Paswoord","Mot de passe","Mot de passe","Mot de passe",null,"Parola d'ordine","Parola d'ordine",null,"Contraseña"]
[{"$f":"IFERROR(HLOOKUP('Customer Legal - Invoicing'!$B$6,A:Q,ROW(A336),0),B336)","v":"The same for all users"},"The same for all users","Die gleiche für alle Benutzer","Die gleiche für alle Benutzer","Die gleiche für alle Benutzer","Die gleiche für alle Benutzer",null,null,"Le même pour tous les utilisateurs","Le même pour tous les utilisateurs","Le même pour tous les utilisateurs",null,"Lo stesso per tutti gli utenti","Lo stesso per tutti gli utenti",null,"El mismo para todos los usuarios"]
[{"$f":"IFERROR(HLOOKUP('Customer Legal - Invoicing'!$B$6,A:Q,ROW(A337),0),B337)","v":"One per user"},"One per user","Ein pro Benutzer","Ein pro Benutzer","Ein pro Benutzer","Ein pro Benutzer",null,null,"Un par utilisateur","Un par utilisateur","Un par utilisateur",null,"Uno per utente","Uno per utente",null,"Uno por usuario"]
[{"$f":"IFERROR(HLOOKUP('Customer Legal - Invoicing'!$B$6,A:Q,ROW(A338),0),B338)","v":"Phone"},"Phone","Telefon","Telefon","Telefon","Telefon",null,null,"Téléphone","Téléphone","Téléphone",null,"Telefono","Telefono",null,"Teléfono"]
[{"$f":"IFERROR(HLOOKUP('Customer Legal - Invoicing'!$B$6,A:Q,ROW(A339),0),B339)","v":"User"},"User","Benutzer","Benutzerdetails","Benutzer","Benutzer","Gebruiker","Gebruiker","Utilisateur","Utilisateur","Utilisateur",null,"Utente","Utente",null,"Usuario"]
[{"$f":"IFERROR(HLOOKUP('Customer Legal - Invoicing'!$B$6,A:Q,ROW(A340),0),B340)","v":"Installation at multiple sites ?"},"Installation at multiple sites ?","Installation vor Ort  ?","Installation vor Ort  ?","Installation vor Ort  ?","Installation vor Ort  ?","Installation vor Ort  ?",null,"Installation sur site ?","Installation sur site ?","Installation sur site ?",null,"Installazione in situ ?","Installazione in situ ?",null,"Instalación in situ ?"]
[{"$f":"IFERROR(HLOOKUP('Customer Legal - Invoicing'!$B$6,A:Q,ROW(A341),0),B341)","v":"Equipment delivery at multiple sites ?"},"Equipment delivery at multiple sites ?","Lieferung Ausrüstung in verschiedenen Standorten ?","Lieferung Ausrüstung in verschiedenen Standorten ?","Lieferung Ausrüstung in verschiedenen Standorten ?","Lieferung Ausrüstung in verschiedenen Standorten ?",null,null,"Livraison de l'équipement à plusieurs adresses ?","Livraison de l'équipement à plusieurs adresses ?","Livraison de l'équipement à plusieurs adresses ?",null,"Consegna apparecchiature in situ ?","Consegna apparecchiature in situ ?",null,"Entrega equipamiento in situ ?"]
[{"$f":"IFERROR(HLOOKUP('Customer Legal - Invoicing'!$B$6,A:Q,ROW(A342),0),B342)","v":"Installation on site"},"Installation on site","Installation vor Ort ","Installation vor Ort ","Installation vor Ort ","Installation vor Ort ","Installation vor Ort ",null,"Installation sur site","Installation sur site","Installation sur site",null,"Installazione in situ","Installazione in situ ?",null,"Instalación in situ"]
[{"$f":"IFERROR(HLOOKUP('Customer Legal - Invoicing'!$B$6,A:Q,ROW(A343),0),B343)","v":"Delivery on site"},"Delivery on site","Lieferung vor Ort","Lieferung vor Ort","Lieferung vor Ort","Lieferung vor Ort","Lieferung vor Ort",null,"Livraison sur site","Livraison sur site","Livraison sur site",null,"Consegna apparecchiature in situ","Consegna apparecchiature in situ"]
[{"$f":"IFERROR(HLOOKUP('Customer Legal - Invoicing'!$B$6,A:Q,ROW(A344),0),B344)","v":"Number"},"Number","Anzahl","Anzahl","Anzahl","Anzahl","Anzahl",null,"Nombre","Nombre","Nombre",null,"Numero","Numero",null,"Número"]
[{"$f":"IFERROR(HLOOKUP('Customer Legal - Invoicing'!$B$6,A:Q,ROW(A345),0),B345)","v":"Equipment"},"Equipment","Ausrüstung","Ausrüstung","Ausrüstung","Ausrüstung","Ausrüstung",null,"Equipement","Equipement","Equipement",null,"Apparecchiature","Apparecchiature",null,"Equipamiento"]
[{"$f":"IFERROR(HLOOKUP('Customer Legal - Invoicing'!$B$6,A:Q,ROW(A346),0),B346)","v":"Not applicable"},"Not applicable","Nicht zutreffend","Nicht zutreffend","Nicht zutreffend","Nicht zutreffend",null,null,"Non applicable","Non applicable","Non applicable",null,"Non applicabile","Non applicabile",null,"No aplica"]
[{"$f":"IFERROR(HLOOKUP('Customer Legal - Invoicing'!$B$6,A:Q,ROW(A347),0),B347)","v":" IP331 - office desk"}," IP331 - office desk","IP331 - Office Desk","IP331 - Office Desk","IP331 - Office Desk","IP331 - Office Desk","IP331 - Office Desk",null," IP331 - téléphone de bureau"," IP331 - téléphone de bureau"," IP331 - téléphone de bureau",null," IP331 - scrivania"," IP331 - scrivania",null,"Teléfono de sobremesa IP331"]
[{"$f":"IFERROR(HLOOKUP('Customer Legal - Invoicing'!$B$6,A:Q,ROW(A348),0),B348)","v":" IP650 - receptionist & net.Console"}," IP650 - receptionist & net.Console","IP650 - Rezeptionist & Net. Konsole ","IP650 - Rezeptionist & Net. Konsole ","IP650 - Rezeptionist & Net. Konsole ","IP650 - Rezeptionist & Net. Konsole ","IP650 - Rezeptionist & Net. Konsole ",null," IP650 - téléphone pour standardiste et net.Console"," IP650 - téléphone pour standardiste et net.Console"," IP650 - téléphone pour standardiste et net.Console",null," IP650 - receptionist & net.Console"," IP650 - receptionist & net.Console",null,"IP650 - Recepcionista y net.Console"]
[{"$f":"IFERROR(HLOOKUP('Customer Legal - Invoicing'!$B$6,A:Q,ROW(A349),0),B349)","v":"Extension model"},"Extension model","Extensionsmodel","Extensionsmodel","Extensionsmodel","Extensionsmodel","Extensionsmodel",null,"Module d'extension pour IP650","Module d'extension pour IP650","Module d'extension pour IP650",null,"Modulo di estensione","Modulo di estensione",null,"Modelo Extensión"]
[{"$f":"IFERROR(HLOOKUP('Customer Legal - Invoicing'!$B$6,A:Q,ROW(A350),0),B350)","v":"VVX201  - office desk"},"VVX201  - office desk","VVX201 - Office Desk","VVX201 - Office Desk","VVX201 - Office Desk","VVX201 - Office Desk","VVX201 - Office Desk",null,"VVX201 - téléphone de bureau","VVX201 - téléphone de bureau","VVX201 - téléphone de bureau",null,"VVX201  - scrivania","VVX201  - scrivania",null,"VVX201  - Teléfono de sobremesa"]
[{"$f":"IFERROR(HLOOKUP('Customer Legal - Invoicing'!$B$6,A:Q,ROW(A351),0),B351)","v":"VVX301  - office desk"},"VVX301  - office desk","VVX301 - Office Desk","VVX301 - Office Desk","VVX301 - Office Desk","VVX301 - Office Desk","VVX301 - Office Desk",null,"VVX301 - téléphone de bureau","VVX301 - téléphone de bureau","VVX301 - téléphone de bureau",null,"VVX301  - scrivania","VVX301  - scrivania",null,"VVX301  - Teléfono de sobremesa"]
[{"$f":"IFERROR(HLOOKUP('Customer Legal - Invoicing'!$B$6,A:Q,ROW(A352),0),B352)","v":"VVX311 - office desk"},"VVX311 - office desk","VVX311 - Office Desk","VVX311 - Office Desk","VVX311 - Office Desk","VVX311 - Office Desk","VVX311 - Office Desk",null,"VVX311 - téléphone de bureau","VVX311 - téléphone de bureau","VVX311 - téléphone de bureau",null,"VVX311 - scrivania","VVX311 - scrivania",null,"VVX311 - Teléfono de sobremesa"]
[{"$f":"IFERROR(HLOOKUP('Customer Legal - Invoicing'!$B$6,A:Q,ROW(A353),0),B353)","v":"VVX401 - user -small call centre"},"VVX401 - user -small call centre","VVX401 - Anwender kleines Call Center","VVX401 - Anwender kleines Call Center","VVX401 - Anwender kleines Call Center","VVX401 - Anwender kleines Call Center","VVX401 - Anwender kleines Call Center",null,"VVX401 - téléphone pour utilisateur - petit centre d'appels","VVX401 - téléphone pour utilisateur - petit centre d'appels","VVX401 - téléphone pour utilisateur - petit centre d'appels",null,"VVX401 - utente - piccolo call centre","VVX401 - utente - piccolo call centre",null,"VVX401 - Usuario - Call centre pequeño"]
[{"$f":"IFERROR(HLOOKUP('Customer Legal - Invoicing'!$B$6,A:Q,ROW(A354),0),B354)","v":"VVX411 - user -small call centre"},"VVX411 - user -small call centre","VVX411 - Anwender kleines Call Center","VVX411 - Anwender kleines Call Center","VVX411 - Anwender kleines Call Center","VVX411 - Anwender kleines Call Center","VVX411 - Anwender kleines Call Center",null,"VVX411 - téléphone pour utilisateur - petit centre d'appels","VVX411 - téléphone pour utilisateur - petit centre d'appels","VVX411 - téléphone pour utilisateur - petit centre d'appels",null,"VVX411 - utente - piccolo call centre","VVX411 - utente - piccolo call centre",null,"VVX411 - Usuario - Call centre pequeño"]
[{"$f":"IFERROR(HLOOKUP('Customer Legal - Invoicing'!$B$6,A:Q,ROW(A355),0),B355)","v":"VVX500  -manager -call centre"},"VVX500  -manager -call centre","VVX500 - Manager Call Center","VVX500 - Manager Call Center","VVX500 - Manager Call Center","VVX500 - Manager Call Center","VVX500 - Manager Call Center",null,"VVX500  - téléphone pour responsable - centre d'appel ","VVX500  - téléphone pour responsable - centre d'appel ","VVX500  - téléphone pour responsable - centre d'appel ",null,"VVX500  - manager - call centre","VVX500  - manager - call centre",null,"VVX500 - Administrador - Call centre"]
[{"$f":"IFERROR(HLOOKUP('Customer Legal - Invoicing'!$B$6,A:Q,ROW(A356),0),B356)","v":"VVX600 - manager"},"VVX600 - manager","VVX600 - Manager Call Center","VVX600 - Manager Call Center","VVX600 - Manager Call Center","VVX600 - Manager Call Center","VVX600 - Manager Call Center",null,"VVX600 - téléphone pour profil \"responsable\"","VVX600 - téléphone pour profil \"responsable\"","VVX600 - téléphone pour profil \"responsable\"",null,"VVX600 - manager","VVX600 - manager",null,"VVX600 - Administrador"]
[{"$f":"IFERROR(HLOOKUP('Customer Legal - Invoicing'!$B$6,A:Q,ROW(A357),0),B357)","v":"VVX1500  executive"},"VVX1500  executive","VVX1500 Exekutiv","VVX1500 Exekutiv","VVX1500 Exekutiv","VVX1500 Exekutiv","VVX1500 Exekutiv",null,"VVX1500  téléphone pour profil \"exécutif\"","VVX1500  téléphone pour profil \"exécutif\"","VVX1500  téléphone pour profil \"exécutif\"",null,"VVX1500 - executive","VVX1500 - executive",null,"VVX1500  Ejecutivo"]
[{"$f":"IFERROR(HLOOKUP('Customer Legal - Invoicing'!$B$6,A:Q,ROW(A358),0),B358)","v":"VVX camera USB"},"VVX camera USB","VVX Kamera USB","VVX Kamera USB","VVX Kamera USB","VVX Kamera USB","VVX Kamera USB",null,"VVX caméra USB","VVX caméra USB","VVX caméra USB",null,"VVX videocamera USB","VVX videocamera USB",null,"Cámara USB VVX"]
[{"$f":"IFERROR(HLOOKUP('Customer Legal - Invoicing'!$B$6,A:Q,ROW(A359),0),B359)","v":"ext model VVX with paper display"},"ext model VVX with paper display","Ext. Modell VVX mit Papier Bildschirm","Ext. Modell VVX mit Papier Bildschirm","Ext. Modell VVX mit Papier Bildschirm","Ext. Modell VVX mit Papier Bildschirm","Ext. Modell VVX mit Papier Bildschirm",null,"Module d'extension VVX avec affichage noir et blanc","Module d'extension VVX avec affichage noir et blanc","Module d'extension VVX avec affichage noir et blanc",null,"Modulo di estensione VVX con carta elettronica","Modulo di estensione VVX con carta elettronica",null,"Modelo de extensión VVX con pantalla de papel electrónico"]
[{"$f":"IFERROR(HLOOKUP('Customer Legal - Invoicing'!$B$6,A:Q,ROW(A360),0),B360)","v":"ext model VVX  with coloured screen"},"ext model VVX  with coloured screen","Ext Modell mit farbigem Bildschirm","Ext Modell mit farbigem Bildschirm","Ext Modell mit farbigem Bildschirm","Ext Modell mit farbigem Bildschirm","Ext Modell mit farbigem Bildschirm",null,"Module d'extension VVX avec affichage couleur","Module d'extension VVX avec affichage couleur","Module d'extension VVX avec affichage couleur",null,"Modulo di estensione VVX con schermo a colori","Modulo di estensione VVX con schermo a colori",null,"modelo de extensión VVX con pantalla de color"]
[{"$f":"IFERROR(HLOOKUP('Customer Legal - Invoicing'!$B$6,A:Q,ROW(A361),0),B361)","v":"Polycom IP conference bridge IP7000 PoE"},"Polycom IP conference bridge IP7000 PoE","Polycom IP Konferenz Telefon IP7000 PoE","Polycom IP Konferenz Telefon IP7000 PoE","Polycom IP Konferenz Telefon IP7000 PoE","Polycom IP Konferenz Telefon IP7000 PoE","Polycom IP Konferenz Telefon IP7000 PoE",null,"Téléphone de conférence Polycom IP7000, PoE","Téléphone de conférence Polycom IP7000, PoE","Téléphone de conférence Polycom IP7000, PoE",null,"Bridge per conferenze IP Polycom IP7000 PoE","Bridge per conferenze IP Polycom IP7000 PoE",null,"Telefono  conferencia Polycom IP IP7000 PoE"]
[{"$f":"IFERROR(HLOOKUP('Customer Legal - Invoicing'!$B$6,A:Q,ROW(A362),0),B362)","v":"Polycom IP conference bridge IP6000 PoE"},"Polycom IP conference bridge IP6000 PoE","Polycom IP Konferenz Telefon IP6000 PoE","Polycom IP Konferenz Telefon IP6000 PoE","Polycom IP Konferenz Telefon IP6000 PoE","Polycom IP Konferenz Telefon IP6000 PoE","Polycom IP Konferenz Telefon IP6000 PoE",null,"Téléphone de conférence Polycom IP6000, PoE","Téléphone de conférence Polycom IP6000, PoE","Téléphone de conférence Polycom IP6000, PoE",null,"Bridge per conferenze IP Polycom IP6000 PoE","Bridge per conferenze IP Polycom IP6000 PoE",null,"Telefono de conferencia Polycom IP IP6000 PoE"]
[{"$f":"IFERROR(HLOOKUP('Customer Legal - Invoicing'!$B$6,A:Q,ROW(A363),0),B363)","v":"Power supplies  (if no PoE)/per 5/phone type"},"Power supplies  (if no PoE)/per 5/phone type","Steckernetzteile (Falls kein PoE)/pro 5/ Telefontypen","Steckernetzteile (Falls kein PoE)/pro 5/ Telefontypen","Steckernetzteile (Falls kein PoE)/pro 5/ Telefontypen","Steckernetzteile (Falls kein PoE)/pro 5/ Telefontypen","Steckernetzteile (Falls kein PoE)/pro 5/ Telefontypen",null,"Boîtier d'alimentation (si pas de PoE)/par 5/type de téléphone","Boîtier d'alimentation (si pas de PoE)/par 5/type de téléphone","Boîtier d'alimentation (si pas de PoE)/par 5/type de téléphone",null,"Power supply (in assenza di PoE)/per 5/ tipo di telefono","Power supply (in assenza di PoE)/per 5/ tipo di telefono",null,"Alimentadores (si no hay  PoE) en grupos de 5/tipo de teléfono"]
[{"$f":"IFERROR(HLOOKUP('Customer Legal - Invoicing'!$B$6,A:Q,ROW(A364),0),B364)","v":"IP/Analogue Convertor"},"IP/Analogue Convertor","IP/ Analog Konverter","IP/ Analog Konverter","IP/ Analog Konverter","IP/ Analog Konverter","IP/ Analog Konverter",null,"Convertisseur IP/analogique","Convertisseur IP/analogique","Convertisseur IP/analogique",null,"Adattatore IP/Analogico","Adattatore IP/Analogico",null,"Conversor IP/Analógico"]
[{"$f":"IFERROR(HLOOKUP('Customer Legal - Invoicing'!$B$6,A:Q,ROW(A365),0),B365)","v":"SPA 112"},"SPA 112","SPA 112","SPA 112","SPA 112","SPA 112","SPA 112",null,"SPA 112","SPA 112","SPA 112",null,"SPA 112","SPA 112",null,"SPA 112"]
[{"$f":"IFERROR(HLOOKUP('Customer Legal - Invoicing'!$B$6,A:Q,ROW(A366),0),B366)","v":"SPA 8000"},"SPA 8000","SPA 8000","SPA 8000","SPA 8000","SPA 8000","SPA 8000",null,"SPA 8000","SPA 8000","SPA 8000",null,"SPA 8000","SPA 8000",null,"SPA 8000"]
[{"$f":"IFERROR(HLOOKUP('Customer Legal - Invoicing'!$B$6,A:Q,ROW(A367),0),B367)","v":"IP Doorphone"},"IP Doorphone","IP Sprechanlage","IP Sprechanlage","IP Sprechanlage","IP Sprechanlage","IP Sprechanlage",null,"Portier IP","Portier IP","Portier IP",null,"Citofono IP","Citofono IP",null,"Intercomunicador IP"]
[{"$f":"IFERROR(HLOOKUP('Customer Legal - Invoicing'!$B$6,A:Q,ROW(A368),0),B368)","v":"Doorphone 2N type 1"},"Doorphone 2N type 1","Sprechanlage 2N Typ1","Sprechanlage 2N Typ1","Sprechanlage 2N Typ1","Sprechanlage 2N Typ1","Sprechanlage 2N Typ1",null,"Portier 2N type 1","Portier 2N type 1","Portier 2N type 1",null,"Citofono 2N tipo 1","Citofono 2N tipo 1",null,"Intercomunicador 2N tipo 1"]
[{"$f":"IFERROR(HLOOKUP('Customer Legal - Invoicing'!$B$6,A:Q,ROW(A369),0),B369)","v":"Doorphone 2N type 2"},"Doorphone 2N type 2","Sprechanlage 2N Typ2","Sprechanlage 2N Typ2","Sprechanlage 2N Typ2","Sprechanlage 2N Typ2","Sprechanlage 2N Typ2",null,"Portier 2N type 2","Portier 2N type 2","Portier 2N type 2",null,"Citofono 2N tipo 2","Citofono 2N tipo 2",null,"Intercomunicador 2N tipo 2"]
[{"$f":"IFERROR(HLOOKUP('Customer Legal - Invoicing'!$B$6,A:Q,ROW(A370),0),B370)","v":"Doorphone 2N type 3"},"Doorphone 2N type 3","Sprechanlage 2N Typ3","Sprechanlage 2N Typ3","Sprechanlage 2N Typ3","Sprechanlage 2N Typ3","Sprechanlage 2N Typ3",null,"Portier 2N type 3","Portier 2N type 3","Portier 2N type 3",null,"Citofono 2N tipo 3","Citofono 2N tipo 3",null,"Intercomunicador 2N tipo 3"]
[{"$f":"IFERROR(HLOOKUP('Customer Legal - Invoicing'!$B$6,A:Q,ROW(A371),0),B371)","v":"Polycom Phone Wired headsets & accessories "},"Polycom Phone Wired headsets & accessories ","Polycom Phone Headset mit Kabel & Accessoires","Polycom Phone Headset mit Kabel & Accessoires","Polycom Phone Headset mit Kabel & Accessoires","Polycom Phone Headset mit Kabel & Accessoires","Polycom Phone Headset mit Kabel & Accessoires",null,"Écouteurs et accessoires filaires pour téléphones Polycom ","Écouteurs et accessoires filaires pour téléphones Polycom ","Écouteurs et accessoires filaires pour téléphones Polycom ",null,"Cuffie cablate per telefono Polycom e accessori ","Cuffie cablate per telefono Polycom e accessori ",null,"Auriculares cableados y accesorios Polycom Phone"]
[{"$f":"IFERROR(HLOOKUP('Customer Legal - Invoicing'!$B$6,A:Q,ROW(A372),0),B372)","v":"HW251N N/A"},"HW251N N/A","Polycom Headset DECT (monaural)","Polycom Headset DECT (monaural)","Polycom Headset DECT (monaural)","Polycom Headset DECT (monaural)","Polycom Headset DECT (monaural)",null,"HW251N N/A","HW251N N/A","HW251N N/A",null,"HW251N N/A","HW251N N/A",null,"HW251N N/A"]
[{"$f":"IFERROR(HLOOKUP('Customer Legal - Invoicing'!$B$6,A:Q,ROW(A373),0),B373)","v":"HW261N/A HEADSET"},"HW261N/A HEADSET","Polycom Headset DECT (binaural)","Polycom Headset DECT (binaural)","Polycom Headset DECT (binaural)","Polycom Headset DECT (binaural)","Polycom Headset DECT (binaural)",null,"ÉCOUTEURS HW261N/A","ÉCOUTEURS HW261N/A","ÉCOUTEURS HW261N/A",null,"CUFFIE HW261N/A","CUFFIE HW261N/A",null,"AURICULAR HW261N/A"]
[{"$f":"IFERROR(HLOOKUP('Customer Legal - Invoicing'!$B$6,A:Q,ROW(A374),0),B374)","v":"U10P POLARIS BOTTOM CABLE"},"U10P POLARIS BOTTOM CABLE","U10P POLARIS BODENKABEL","U10P POLARIS BODENKABEL","U10P POLARIS BODENKABEL","U10P POLARIS BODENKABEL","U10P POLARIS BODENKABEL",null,"CÂBLE POLARIS U10P","CÂBLE POLARIS U10P","CÂBLE POLARIS U10P",null,"CAVO INFERIORE U10P POLARIS","CAVO INFERIORE U10P POLARIS",null,"CABLE INFERIOR U10P POLARIS"]
[{"$f":"IFERROR(HLOOKUP('Customer Legal - Invoicing'!$B$6,A:Q,ROW(A375),0),B375)","v":"SPARE,CABLE ASSY,COIL CORD 10FT,2.5mm TO QD - IP331"},"SPARE,CABLE ASSY,COIL CORD 10FT,2.5mm TO QD - IP331","SPARE, KABEL ASSY, COIL CORD 10FT, 2.5mm TO QD _ IP331","SPARE, KABEL ASSY, COIL CORD 10FT, 2.5mm TO QD _ IP331","SPARE, KABEL ASSY, COIL CORD 10FT, 2.5mm TO QD _ IP331","SPARE, KABEL ASSY, COIL CORD 10FT, 2.5mm TO QD _ IP331","SPARE, KABEL ASSY, COIL CORD 10FT, 2.5mm TO QD _ IP331",null,"PIÈCE DÉTACHÉE, CÂBLE, CORDON SPIRALE10 Pieds, 2,5mm À QD - IP331","PIÈCE DÉTACHÉE, CÂBLE, CORDON SPIRALE10 Pieds, 2,5mm À QD - IP331","PIÈCE DÉTACHÉE, CÂBLE, CORDON SPIRALE10 Pieds, 2,5mm À QD - IP331",null,"CAVO DI RICAMBIO,ASSEMBLAGGIO CABO,CAVO SPIRALATO 10FT,2,5mm TO QD - IP331","CAVO DI RICAMBIO,ASSEMBLAGGIO CABO,CAVO SPIRALATO 10FT,2,5mm TO QD - IP331",null,"RECAMBIO, CABLE ASSY, CABLE ESPIRALADO 3m (10 pies), 2,5mm PARA QD - IP331"]
[{"$f":"IFERROR(HLOOKUP('Customer Legal - Invoicing'!$B$6,A:Q,ROW(A376),0),B376)","v":"Polycom Phone Wireless DECT headsets & accessories  "},"Polycom Phone Wireless DECT headsets & accessories  ","Polycom Phone Kabelloses DECT Headset & Zubehör","Polycom Phone Kabelloses DECT Headset & Zubehör","Polycom Phone Kabelloses DECT Headset & Zubehör","Polycom Phone Kabelloses DECT Headset & Zubehör","Polycom Phone Kabelloses DECT Headset & Zubehör",null,"Écouteurs et accessoires DECT sans fil pour téléphones Polycom  ","Écouteurs et accessoires DECT sans fil pour téléphones Polycom  ","Écouteurs et accessoires DECT sans fil pour téléphones Polycom  ",null,"Cuffie senza fili Polycom  DECT e accessori","Cuffie senza fili Polycom  DECT e accessori",null,"Auriculares DECT inalámbricos y accesorios Polycom Phone"]
[{"$f":"IFERROR(HLOOKUP('Customer Legal - Invoicing'!$B$6,A:Q,ROW(A377),0),B377)","v":"Polycom Headset DECT (monaural)  "},"Polycom Headset DECT (monaural)  ","Polycom Headset (monaural)","Polycom Headset (monaural)","Polycom Headset (monaural)","Polycom Headset (monaural)","Polycom Headset (monaural)",null,"Écouteurs DECT Polycom (monaural)  ","Écouteurs DECT Polycom (monaural)  ","Écouteurs DECT Polycom (monaural)  ",null,"Cuffie Polycom DECT (monofoniche)  ","Cuffie Polycom DECT (monofoniche)  ",null,"Auricular DECT Polycom (mono)"]
[{"$f":"IFERROR(HLOOKUP('Customer Legal - Invoicing'!$B$6,A:Q,ROW(A378),0),B378)","v":"Polycom Headset DECT (binaural)"},"Polycom Headset DECT (binaural)","Polycom Headset (binaural)","Polycom Headset (binaural)","Polycom Headset (binaural)","Polycom Headset (binaural)","Polycom Headset (binaural)",null,"Écouteurs DECT Polycom (binaural)","Écouteurs DECT Polycom (binaural)","Écouteurs DECT Polycom (binaural)",null,"Cuffie Polycom DECT (bifoniche)","Cuffie Polycom DECT (bifoniche)",null,"Auricular DECT Polycom (estéreo)"]
[{"$f":"IFERROR(HLOOKUP('Customer Legal - Invoicing'!$B$6,A:Q,ROW(A379),0),B379)","v":"Plantronics Cable APP-50 or APP-51 "},"Plantronics Cable APP-50 or APP-51 ","Plantronics Kabel APP-50 Oder APP-51 ","Plantronics Kabel APP-50 Oder APP-51 ","Plantronics Kabel APP-50 Oder APP-51 ","Plantronics Kabel APP-50 Oder APP-51 ","Plantronics Kabel APP-50 Oder APP-51 ",null,"Câble Plantronics APP-50 ou APP-51","Câble Plantronics APP-50 ou APP-51","Câble Plantronics APP-50 ou APP-51",null,"Cavo Plantronics APP-50 o APP-51 ","Cavo Plantronics APP-50 o APP-51 ",null,"Cable Plantronics APP-50 o APP-51"]
[{"$f":"IFERROR(HLOOKUP('Customer Legal - Invoicing'!$B$6,A:Q,ROW(A380),0),B380)","v":"PC WebRTC Client -  Wired USB headset"},"PC WebRTC Client -  Wired USB headset","PC WebRTC Kunde _ USB Headset mit Kabel","PC WebRTC Kunde _ USB Headset mit Kabel","PC WebRTC Kunde _ USB Headset mit Kabel","PC WebRTC Kunde _ USB Headset mit Kabel","PC WebRTC Kunde _ USB Headset mit Kabel",null,"Client WebRTC PC - écouteurs USB filaires","Client WebRTC PC - écouteurs USB filaires","Client WebRTC PC - écouteurs USB filaires",null,"Componente WebRTC per PC -  Cuffie cablate USB","Componente WebRTC per PC -  Cuffie cablate USB",null,"Cliente PC WebRTC -  Auriculares cableados USB"]
[{"$f":"IFERROR(HLOOKUP('Customer Legal - Invoicing'!$B$6,A:Q,ROW(A381),0),B381)","v":"Aastra IP DECT equipment*"},"Aastra IP DECT equipment*","Aastra IP DECT Komponenten","Aastra IP DECT Komponenten","Aastra IP DECT Komponenten","Aastra IP DECT Komponenten","Aastra IP DECT Komponenten",null,"Équipements DECT IP Aastra","Équipements DECT IP Aastra","Équipements DECT IP Aastra",null,"Apparecchiature Aastra IP DECT*","Apparecchiature Aastra IP DECT*",null,"Equipamiento IP DECT de Aastra"]
[{"$f":"IFERROR(HLOOKUP('Customer Legal - Invoicing'!$B$6,A:Q,ROW(A382),0),B382)","v":"AASTRA Base station + Antenna RFP DECT L35"},"AASTRA Base station + Antenna RFP DECT L35","AASTRA Base Station + RFP DECT L35 Antenne","AASTRA Base Station + RFP DECT L35 Antenne","AASTRA Base Station + RFP DECT L35 Antenne","AASTRA Base Station + RFP DECT L35 Antenne","AASTRA Base Station + RFP DECT L35 Antenne",null,"Base AASTRA + Antenne RFP DECT L35","Base AASTRA + Antenne RFP DECT L35","Base AASTRA + Antenne RFP DECT L35",null,"Stazione base AASTRA + antenna RFP DECT L35","Stazione base AASTRA + antenna RFP DECT L35",null,"AASTRA - Estación base + Antena RFP DECT L35"]
[{"$f":"IFERROR(HLOOKUP('Customer Legal - Invoicing'!$B$6,A:Q,ROW(A383),0),B383)","v":"AASTRA - Installation CD for RFP L35IP - OMM4"},"AASTRA - Installation CD for RFP L35IP - OMM4","AASTRA - Installations CD für RFP L35IP - OMM4","AASTRA - Installations CD für RFP L35IP - OMM4","AASTRA - Installations CD für RFP L35IP - OMM4","AASTRA - Installations CD für RFP L35IP - OMM4","AASTRA - Installations CD für RFP L35IP - OMM4",null,"AASTRA - CD d'installation pour RFP L35IP - OMM4","AASTRA - CD d'installation pour RFP L35IP - OMM4","AASTRA - CD d'installation pour RFP L35IP - OMM4",null,"AASTRA - CD di installazione per RFP L35IP - OMM4","AASTRA - CD di installazione per RFP L35IP - OMM4",null,"AASTRA - CD de instalación para RFP L35IP - OMM4"]
[{"$f":"IFERROR(HLOOKUP('Customer Legal - Invoicing'!$B$6,A:Q,ROW(A384),0),B384)","v":"AASTRA 612D Handset"},"AASTRA 612D Handset","AASTRA 612D Handset","AASTRA 612D Handset","AASTRA 612D Handset","AASTRA 612D Handset","AASTRA 612D Handset",null,"Combiné AASTRA 612D","Combiné AASTRA 612D","Combiné AASTRA 612D",null,"Ricevitore AASTRA 612D","Ricevitore AASTRA 612D",null,"Terminal AASTRA 612D"]
[{"$f":"IFERROR(HLOOKUP('Customer Legal - Invoicing'!$B$6,A:Q,ROW(A385),0),B385)","v":"AASTRA 622D Handset"},"AASTRA 622D Handset","AASTRA 622D Handset","AASTRA 622D Handset","AASTRA 622D Handset","AASTRA 622D Handset","AASTRA 622D Handset",null,"Combiné AASTRA 622D","Combiné AASTRA 622D","Combiné AASTRA 622D",null,"Ricevitore AASTRA 622D","Ricevitore AASTRA 622D",null,"Terminal AASTRA 622D"]
[{"$f":"IFERROR(HLOOKUP('Customer Legal - Invoicing'!$B$6,A:Q,ROW(A386),0),B386)","v":"SNOM M9r IP DECT Handset+BS"},"SNOM M9r IP DECT Handset+BS","SNOM M9r IP DECT Handset+BS","SNOM M9r IP DECT Handset+BS","SNOM M9r IP DECT Handset+BS","SNOM M9r IP DECT Handset+BS","SNOM M9r IP DECT Handset+BS",null,"Combiné DECT IP SNOM M9r +Base","Combiné DECT IP SNOM M9r +Base","Combiné DECT IP SNOM M9r +Base",null,"Ricevitore SNOM M9r IP DECT + stazione base","Ricevitore SNOM M9r IP DECT + stazione base",null,"Terminal+BS IP DECT SNOM M9r"]
[{"$f":"IFERROR(HLOOKUP('Customer Legal - Invoicing'!$B$6,A:Q,ROW(A387),0),B387)","v":"Extra SNOM M9r IP DECT Handset"},"Extra SNOM M9r IP DECT Handset","Extra SNOM M9r IP DECT Handset","Extra SNOM M9r IP DECT Handset","Extra SNOM M9r IP DECT Handset","Extra SNOM M9r IP DECT Handset","Extra SNOM M9r IP DECT Handset",null,"Combiné DECT IP SNOM M9r supplémentaire","Combiné DECT IP SNOM M9r supplémentaire","Combiné DECT IP SNOM M9r supplémentaire",null,"Ricevitore extra SNOM M9r IP DECT","Ricevitore extra SNOM M9r IP DECT",null,"Terminal IP DECT Extra SNOM M9r"]

{"sheet":"Sales - References","index":2,"n_rows":29,"n_cols":5,"rows_kept":29,"cut":false,"hidden":false,"merged":[[26,0,26,4],[2,1,2,2],[21,0,21,4],[22,0,22,4],[23,0,23,4],[24,0,24,4],[25,0,25,4]]}
["Colt Cloud UC - Colt References, Contacts and Dates"]
["COLT INTERNAL",null,"Please send the completed order form to VSIPVSCloudUC@colt.net"]
[{"$f":"'Vocabulary translation'!A3","v":"Customer Name"},"Grey Communications"]
[]
["Contract Country","*","France"]
["Implementation Country",null,"France","Specify Country:","Czech Republic"]
["Colt Office (Implementation Country)"]
[{"$f":"'Vocabulary translation'!A75","v":"Country  - Language Form"},null,{"$f":"C6&\" - \"&'Customer Legal - Invoicing'!B4","v":"France - English"}]
["Colt Oracle Customer Number (OCN)","*",49959,"E-Mail Address","Phone No."]
["Colt Account Executive (A/E)","*","Rob Coston","rob.coston@colt.net","+442079471131"]
["Colt SFDC Opportunity Number","*",309496]
[]
["Colt Project Reference Number","if applicable"]
["Colt Solution Architect","if applicable","Ben Weir"]
["Colt Project Manager","if applicable"]
["Colt Service & Contract Manager","if applicable"]
["Colt Implementation Manager","if applicable"]
["Colt Technical Solution Manager","if applicable"]
["Order origin","*","Customer"]
["Colt permitted to contact end customer","*","Yes"]
[]
["New BCN required for the service"]
["Local and Billing Contact - Michel Cauchy, michel.cauchy@grey.fr, +33144091453 "]
["Billing Address: 18, rue Pasquier, 75008 Paris"]
["Technical Contact - Richard Rawlinson - richard.rawlinson@grey.com - +442030373858"]
["We will need to tranfer the existing Colt DDI's to the service once ready - list sent with this file."]
["Service needed urgently as discussed."]
[]
[{"$f":"'Vocabulary translation'!A289","v":"* Mandatory fields"},null,null,"FastTrack ?","Yes"]

{"sheet":"Sales - Technical basics","index":3,"n_rows":69,"n_cols":3,"rows_kept":69,"cut":false,"hidden":false,"merged":[[63,0,63,2],[64,0,64,2],[65,0,65,2],[66,0,66,2],[58,0,58,2],[61,0,61,2],[62,0,62,2],[57,0,57,2],[50,0,50,2],[49,0,49,2],[22,0,22,2],[44,0,44,2],[43,0,43,2],[42,0,42,2],[2,1,2,2],[3,1,3,2],[40,0,40,2],[37,0,37,2],[41,0,41,2]]}
["Colt Cloud UC - Colt Technical basics"]
[null,null,{"$f":"\"CCUC CRF \"&IFERROR(LEFT(SUBSTITUTE(B4,\".\",\" \"),8),\"\")&\" \"&IFERROR(B3,\"\")&\" \"&TEXT(TODAY(),\"yyyymmdd\")","v":"CCUC CRF Grey Com 49959 yyyy0711"}]
["OCN",{"$f":"'Sales - References'!C9","v":49959}]
[{"$f":"'Vocabulary translation'!A3","v":"Customer Name"},{"$f":"'Sales - References'!B3:C3","v":"Grey Communications"}]
[]
[{"$f":"'Vocabulary translation'!A4","v":"The Colt Cloud UC Solution contains underlying Network Connectivity and VoIP services."}]
[]
[{"$f":"'Vocabulary translation'!A287","v":"Order Acceptance Date (Completed CRF)"},{"$f":"'Vocabulary translation'!A288","v":"Set by Cloud UC Coordinators, upon acceptance completed order"}]
[]
[{"$f":"'Vocabulary translation'!A5","v":"Order type"},"*","New"]
[{"$f":"'Vocabulary translation'!A12","v":"Customer requested date (CRD)"},"*"]
[{"$f":"'Vocabulary translation'!A13","v":"Customer's name to create the URL for access to the Cloud UC platform"},{"$f":"\"* \"&'Vocabulary translation'!A14","v":"* to be provided by customer"},"grey"]
[null,null,{"$f":"C12&\".clouduc.colt.net\"","v":"grey.clouduc.colt.net"}]
[{"$f":"'Vocabulary translation'!A16","v":"Bandwidth (Mb)"},null,2]
[]
["Is this a multi country solution ? (If yes, same IPV ref. must be used)","*","Yes"]
["Is this the first country in a multi country solution ?",{"$f":"\"* \"","v":"* "},"No"]
["What is the first country in this multi country solution ?","*"]
["What is the status of the first country in this multi country solution ?",{"$f":"\"* \"","v":"* "}]
[]
["Colt Bespoke Reference Number",{"$f":"'Vocabulary translation'!A37","v":"if applicable"}]
["Bespoke description"]
[]
[]
[{"$f":"'Vocabulary translation'!A17","v":"Colt Network Connectivity"}]
[]
[{"$f":"'Vocabulary translation'!A328","v":"Cloud UC Connectivity option"},null,"Only with Softphones"]
[]
[{"$f":"'Vocabulary translation'!A23","v":"Existing Colt Network Connectivity ?"},null,{"$error":"#N/A"}]
[]
[{"$f":"IF(C29='Vocabulary translation'!A19,'Vocabulary translation'!A24,\"\")","v":{"$error":"#N/A"}},null,{"$error":"#N/A"}]
[]
[{"$f":"IF(C29='Vocabulary translation'!A327,\"\",IF(C31<>\"\",IF(OR(C31='Vocabulary translation'!A306,C31='Vocabulary translation'!A307),'Vocabulary translation'!A25,IF(OR(C31='Vocabulary translation'!A308,C31='Vocabulary translation'!A309,C31='Vocabulary translation'!A310,C31='Vocabulary translation'!A311),'Vocabulary translation'!A26,\"\")),\"\"))","v":{"$error":"#N/A"}},{"$f":"IF(OR(C31=\"\",C29='Vocabulary translation'!A20),\"\",\"*\")","v":{"$error":"#N/A"}}]
[]
[{"$f":"IF(C31=\"IP Access\",'Vocabulary translation'!A332,\"\")","v":{"$error":"#N/A"}},null,{"$error":"#N/A"}]
[]
[{"$f":"IF(C29='Vocabulary translation'!A327,'Vocabulary translation'!A28,\"\")","v":{"$error":"#N/A"}},null,0]
[{"$f":"'Vocabulary translation'!A35","v":"In case connectivity is required for more than 1 site, or when connectivity requirements are complex, these services should be handled separately from the Cloud UC Solution. "}]
[{"$f":"'Vocabulary translation'!A298","v":"Redundant connection to Colt at customer site ? "},null,"No"]
[{"$f":"'Vocabulary translation'!A29","v":"Number of sites"},"*"]
[{"$f":"IF(C29='Vocabulary translation'!A19,'Vocabulary translation'!A18,\"\")","v":{"$error":"#N/A"}}]
[{"$f":"'Vocabulary translation'!A36","v":"References related to separate connectivity orders :"}]
[]
[""]
[]
[]
[{"$f":"'Vocabulary translation'!A38","v":"Colt Voice Services"},null,{"$f":"'Vocabulary translation'!A39","v":"See current Colt orders in 'DDIs'-tab"}]
[{"$f":"'Vocabulary translation'!A40","v":"Existing Colt Voice service ?"}]
[{"$f":"'Vocabulary translation'!A50","v":"Remarks :"}]
[]
[]
[]
["Colt UC Services"]
[{"$f":"IF(C10='Vocabulary translation'!A6,'Vocabulary translation'!A51,\"\")","v":"Existing IP Voice Solution service ?"},"*"]
[{"$f":"'Vocabulary translation'!A53","v":"Existing Colt IP Voice Solution to be replaced with Cloud UC Solution"},"*"]
[null,null,{"$f":"'Vocabulary translation'!A39","v":"See current Colt orders in 'DDIs'-tab"}]
[{"$f":"'Vocabulary translation'!A50","v":"Remarks :"}]
[]
[]
[]
[{"$f":"IF(OR(C10=\"Modification\",C10=\"Addition\",C10=\"Removal\"),'Vocabulary translation'!A55,'Vocabulary translation'!A54)","v":"General remarks, if applicable"}]
[]
[]
[]
[]
[]
[]
[]
[{"$f":"'Vocabulary translation'!A289","v":"* Mandatory fields"}]

{"sheet":"Sales-SA - Connectivity","index":4,"n_rows":94,"n_cols":2,"rows_kept":94,"cut":false,"hidden":false,"merged":[[98,0,98,1],[99,0,99,1],[94,0,94,1],[95,0,95,1],[96,0,96,1],[97,0,97,1]]}
["Colt Cloud UC - Customer Connectivity"]
[]
["Not Applicable  IF Using existing VPN connectivity !",0]
[]
["OCN",{"$f":"'Sales - References'!C9","v":49959}]
[{"$f":"'Vocabulary translation'!A3","v":"Customer Name"},{"$f":"'Sales - References'!B3:C3","v":"Grey Communications"}]
[{"$f":"'Vocabulary translation'!A83","v":"Country"},{"$f":"'Sales - References'!C6&IF('Sales - References'!C6=\"Other (Global Voice)\",\" - \"&'Sales - References'!E6,\"\")","v":"France"}]
[{"$f":"'Vocabulary translation'!A289","v":"* Mandatory fields"}]
["Branch site or Mesh Access (Hub site ordered in this order form)"]
[{"$f":"'Vocabulary translation'!A58","v":"Site Name and Address"}]
[{"$f":"'Vocabulary translation'!A59","v":"Site Name (Alias)"}]
[{"$f":"'Vocabulary translation'!A60","v":"Building"}]
[{"$f":"'Vocabulary translation'!A62","v":"Street, Number"}]
[{"$f":"'Vocabulary translation'!A63","v":"ZIP/Postal Code, Town"}]
["Network Termination Point"]
["On Net / Off Net"]
["Colt Site ID (if On Net)"]
["POP"]
["BCP Reference"]
[{"$f":"'Vocabulary translation'!A61","v":"Floor & Room Telco - IT Eqt"}]
["Cabinet"]
["New/Existing Cabinet"]
["Colt/Customer's Cabinet"]
["Cabinet ID, DDF or Frame ID (if existing cabinet)"]
[{"$f":"'Vocabulary translation'!A64&\" - Please order seperately !\"","v":"Additional chargeable services - Please order seperately !"}]
[{"$f":"'Vocabulary translation'!A65","v":"Internal Cabling"},"No"]
[{"$f":"'Vocabulary translation'!A66","v":"Cable Distance"}]
[{"$f":"'Vocabulary translation'!A67","v":"Special Long Lining requirements"}]
[{"$f":"'Vocabulary translation'!A68&\" - Please order seperately if out of business hours !\"","v":"Installation requirements - Additionally Chargeable if OOBH - Please order seperately if out of business hours !"}]
[{"$f":"'Vocabulary translation'!A69","v":"Installation Time"},"Business Hours"]
[{"$f":"'Vocabulary translation'!A70","v":"Out of Hours Installation Time Window, if applicable"}]
[{"$f":"'Vocabulary translation'!A71","v":"Access Notification Period"}]
[{"$f":"'Vocabulary translation'!A72","v":"Access Time Window"}]
["Access Line"]
["Access Type"]
["Access Technology"]
["Service Bandwidth",2]
["Access Circuit for Fibre, Lease Line, MPLS NNI only, if applicable"]
["Ethernet"]
["TDM or SDH circuit"]
["Access 3rd Party Leased Line, if applicable"]
["Connectivity Check ID (ARNOT, Explore)"]
["OLO Provider"]
["Supplier Name"]
["Supplier Reference"]
["Power Options"]
["Battery BackUp"]
["CPE Router Power Type"]
["CPE Rack Power Type"]
["Dedicated IP-VPN specific"]
["Circuit Configuration - Access Path"]
["Interface Type"]
["Connector Type"]
["Interface Speed"]
["Resilience "]
["Resilience Required",{"$f":"'Sales - Technical basics'!C39","v":"No"}]
["Dual Entry (Conditions : Colt OnNet + Resilience ordered) ","No"]
["IP Configuration : Colt CPE LAN Interface : Primary Router Primary Interface"]
["IP Address"]
["Subnet mask"]
["Default Gateway (first IP address of the customers' subnet)"]
["Ethernet Interface Speed"]
["Duplex"]
["Colt CPE LAN Interface : Secondary Router Primary Interface (Only if Resilience required)"]
["IP Address",{"$f":"IF($B$26='Vocabulary translation'!$A$20,\"N/A\",\"\")","v":"N/A"}]
["Subnet mask",{"$f":"IF($B$26='Vocabulary translation'!$A$20,\"N/A\",\"\")","v":"N/A"}]
["Ethernet Interface Speed",{"$f":"IF($B$26='Vocabulary translation'!$A$20,\"N/A\",\"\")","v":"N/A"}]
["Duplex",{"$f":"IF($B$26='Vocabulary translation'!$A$20,\"N/A\",\"\")","v":"N/A"}]
["Routing Protocol"]
["Routing Protocol Name"]
["Next Hop address (Not applicable for BGP)"]
["COLT IP VPN Remote Fixed specific"]
["Internet Access circuit is","Partially inclusive - default; also applicable if Colt provides and manages the IP Access"]
["Internet Access Provider"]
["Internet Access reference Colt, if applicable"]
["Internet Access Bandwidth"]
["IPSec bandwidth required"]
[{"$f":"IF(B73=\"Partially inclusive - default; also applicable if Colt provides and manages the IP Access\",\"WAN Interface presented by the Internet Access circuit\",\"\")","v":"WAN Interface presented by the Internet Access circuit"}]
[{"$f":"IF(B73=\"Partially inclusive - default; also applicable if Colt provides and manages the IP Access\",\"Duplex\",\"\")","v":"Duplex"}]
[{"$f":"IF(B73=\"Partially inclusive - default; also applicable if Colt provides and manages the IP Access\",\"IP Address WAN interface of the CPE router (1st Public Static IP Address of the IP Access, if available already)\",\"\")","v":"IP Address WAN interface of the CPE router (1st Public Static IP Address of the IP Access, if available already)"}]
[{"$f":"IF(B73=\"Partially inclusive - default; also applicable if Colt provides and manages the IP Access\",\"Mask WAN interface of the Colt managed CPE router, if available already\",\"\")","v":"Mask WAN interface of the Colt managed CPE router, if available already"}]
["IP Address CPE LAN Interface"]
["Subnet mask CPE LAN Interface"]
["Default Gateway (first IP address of the customers' subnet)"]
["IP-VPN with Integrated Internet Access (IPVPN IIA)"]
["Type"]
["Integrated Internet Access bandwidth (Mb)"]
["Number of IPv4 Addresses required"]
[{"$f":"IF(AND(B88<>\"\",B88<>\"8 (Default)\"),\"Please fill out the IP Request Form !         \",\"\")","v":""}]
[{"$f":"IF(B86=\"CPE based\",\"Break-out location to the public internet\",\"\")","v":""}]
[{"$f":"IF(B86=\"CPE based\",\"Separate Ethernet port for IIA and IP VPN traffic ?\",\"\")","v":""}]
[{"$f":"IF(AND(B91=\"No\",B86=\"CPE based\"),\"Default Route\",\"\")","v":""}]
[]
[{"$f":"'Vocabulary translation'!A54","v":"General remarks, if applicable"}]

{"sheet":"Service Delivery - Core","index":5,"n_rows":44,"n_cols":17,"rows_kept":44,"cut":false,"hidden":false,"merged":[[2,1,2,9],[3,1,3,9],[9,1,9,8],[9,10,9,17],[17,1,17,8],[17,10,17,17],[13,1,13,17],[14,1,14,17],[18,10,18,17],[16,1,16,8],[16,10,16,17],[23,10,23,17],[24,10,24,17],[43,10,43,17],[19,10,19,17],[20,10,20,17],[43,1,43,8],[22,1,22,8],[22,10,22,17]]}
["Colt Cloud UC - Technical specifications IP, SIP (VoIP), UC"]
[]
["OCN",{"$f":"'Sales - References'!C9","v":49959}]
[{"$f":"'Vocabulary translation'!A3","v":"Customer Name"},{"$f":"'Sales - References'!B3:C3","v":"Grey Communications"}]
[]
["Colt INTERNAL"]
[]
["Central Access Lines & SIP trunk details"]
["1 VLAN per customer for all countries, defined by Colt Service Delivery"]
["Voice VLAN ID Colt (MPLS)",236]
["Colt Host Equipment Range (SBC /27), per customer, per country"]
["Proposed by Colt and agreed with customer to avoid clash of IP addresses in Customer's network."]
["Range UC1 ",100,".",66,".",13,".",128,null,"Range UC2 ",100,".",16,".",13,".",160]
["Agreed with (customer contact)"]
["Date of confirmation customer"]
["Connection to Switch"]
["Switch","BNESC-SW01_CPEBE_BRU000681",null,null,null,null,null,null,null,"Switch","CPE NL_ROO000125"]
["Port",26,null,null,null,null,null,null,null,"Port"]
["Colt Site ID Nossegem","BE_1930_MERCURIUSSTRAAT_30_G_COL01",null,null,null,null,null,null,null,"Colt Site ID Roosendaal","NL_4706NR_ARGONWEG_9_G_MDC 5 LOWER LEVEL"]
["Type","COLT CABINET",null,null,null,null,null,null,null,"Type","COLT CABINET"]
["Cabinet DDF Frame ID","COL01-G11",null,null,null,null,null,null,null,"Cabinet DDF Frame ID","H5 - A09"]
["Circuit Configuration - Access Path"]
["Service Bandwidth",{"$f":"'Sales - Technical basics'!C14","v":2},null,null,null,null,null,null,null,"Service Bandwidth",{"$f":"'Sales - Technical basics'!C14","v":2}]
["Interface Type","1000BaseT",null,null,null,null,null,null,null,"Interface Type","1000BaseT"]
["Connector Type","RJ45",null,null,null,null,null,null,null,"Connector Type","RJ45"]
["IP Configuration : Colt CPE LAN Interface : Primary Router Primary Interface (datacenter transfer network (mpls)"]
["IP Address (network ID)",{"$f":"VLOOKUP(IF('Sales - References'!C6<>\"Other (Global Voice)\",'Sales - References'!C6,'Sales - References'!E6),'MPLS Router LAN Interface IPs'!$A$2:$C$21,2,0)","v":"100.64.0.1"},null,null,null,null,null,null,null,"IP Address (network ID)",{"$f":"VLOOKUP(IF('Sales - References'!C6<>\"Other (Global Voice)\",'Sales - References'!C6,'Sales - References'!E6),'MPLS Router LAN Interface IPs'!$A$2:$C$21,3,0)","v":"100.65.0.1"}]
["Subnet mask",255,".",255,".",255,".",0,null,"Subnet mask",255,".",255,".",255,".",0]
["Ethernet Interface Speed","1000BaseT",null,null,null,null,null,null,null,"Ethernet Interface Speed","1000BaseT"]
["Duplex","Yes",null,null,null,null,null,null,null,"Duplex","Yes"]
["Routing Protocol"]
["Routing Protocol Name","BGP",null,null,null,null,null,null,null,"Routing Protocol Name","BGP"]
["Next Hop address",{"$f":"B27","v":"100.64.0.1"},null,null,null,null,null,null,null,"Next Hop address",{"$f":"K27","v":"100.65.0.1"}]
["IP-PBX Alias"]
["IP-PBX Alias 1",{"$f":"'Sales - References'!C9&\"UC1\"","v":"49959UC1"},null,null,null,null,null,null,null,"IP-PBX Alias 2",{"$f":"'Sales - References'!C9&\"UC2\"","v":"49959UC2"}]
["Colt Host Equipment Range (SBC /27), per customer, per country"]
["Subnet Mask UC1",255,".",255,".",255,".",224,null,"Subnet Mask UC2",255,".",255,".",255,".",224]
["IP Address Signalling Trunk"]
["Trunk 1",{"$f":"B13","v":100},".",{"$f":"D13","v":66},".",{"$f":"F13","v":13},".",{"$f":"H13+30","v":158},null,"Trunk 2",{"$f":"K13","v":100},".",{"$f":"M13","v":16},".",{"$f":"O13","v":13},".",{"$f":"Q13+30","v":190}]
["IP Address Media"]
["Trunk 1",{"$f":"B13","v":100},".",{"$f":"D13","v":66},".",{"$f":"F13","v":13},".",{"$f":"H13+4","v":132},null,"Trunk 2",{"$f":"K13","v":100},".",{"$f":"M13","v":16},".",{"$f":"O13","v":13},".",{"$f":"Q13+4","v":164}]
["IP-PBX IP Addresses"]
["If the number of users per country exceeds 1500, the IP-addresses mentioned below cannot be used and should be double checked in the PreSales phase."]
["IP Address UC1","100.64.0.2",null,null,null,null,null,null,null,"IP Address UC2","100.65.0.2"]

{"sheet":"Customer Legal - Invoicing","index":6,"n_rows":38,"n_cols":5,"rows_kept":38,"cut":false,"hidden":false,"merged":[[34,3,34,4],[35,3,35,4],[28,3,28,4],[29,3,29,4],[30,3,30,4],[31,3,31,4],[32,3,32,4],[33,3,33,4]]}
["Colt Cloud UC - Legal and Invoicing details"]
[]
["OCN",{"$f":"'Sales - References'!C9","v":49959}]
[{"$f":"'Vocabulary translation'!A73","v":"Language Form"},"English"]
[{"$f":"'Vocabulary translation'!A74","v":"Implementation Country"},{"$f":"'Sales - References'!C6&IF('Sales - References'!C6=\"Other (Global Voice)\",\" - \"&'Sales - References'!E6,\"\")","v":"France"}]
[{"$f":"'Vocabulary translation'!A75","v":"Country  - Language Form"},{"$f":"B5&\" - \"&B4","v":"France - English"}]
[]
[{"$f":"'Vocabulary translation'!A76&\" *\"","v":"Contract - Legal *"},null,null,{"$f":"'Vocabulary translation'!A77&\" *\"","v":"Invoicing *"}]
[{"$f":"'Vocabulary translation'!A78","v":"Customer Name"},null,null,{"$f":"A9","v":"Customer Name"},{"$f":"B9","v":0}]
[{"$f":"'Vocabulary translation'!A79","v":"Abbreviation customer name"},null,null,{"$f":"A10","v":"Abbreviation customer name"},{"$f":"B10","v":0}]
[{"$f":"'Vocabulary translation'!A80","v":"VAT no."},null,null,"VAT no.",0]
[{"$f":"'Vocabulary translation'!A81","v":"Company Registration No."},null,null,"Company Registration No.",0]
[{"$f":"'Vocabulary translation'!A60","v":"Building"},null,null,"Building",0]
[{"$f":"'Vocabulary translation'!A62","v":"Street, Number"},null,null,"Street, Number",0]
[{"$f":"'Vocabulary translation'!A82","v":"PO Box Number"},null,null,"PO Box Number",0]
[{"$f":"'Vocabulary translation'!A63","v":"ZIP/Postal Code, Town"},null,null,"ZIP/Postal Code, Town",0]
[{"$f":"'Vocabulary translation'!A83","v":"Country"},null,null,"Country",0]
[{"$f":"'Vocabulary translation'!A84","v":"Customer reference / PO Ref. "},null,null,"Customer reference / PO Ref. ",0]
[{"$f":"'Vocabulary translation'!A85","v":"Director / Manager"},null,null,"Director / Manager",0]
[{"$f":"'Vocabulary translation'!A86","v":"Department"},null,null,"Department",0]
[{"$f":"'Vocabulary translation'!A181","v":"E-Mail Address"},null,null,"E-Mail Address",0]
[{"$f":"'Vocabulary translation'!A87","v":"Phone number"},null,null,"Phone number",0]
[{"$f":"'Vocabulary translation'!A88","v":"Mobile number"},null,null,"Mobile number",0]
[{"$f":"'Vocabulary translation'!A89","v":"Fax number"},null,null,"Fax number",0]
[{"$f":"'Vocabulary translation'!A90","v":"Language"},null,null,"Language"]
[]
[]
[{"$f":"'Vocabulary translation'!A94& \" *\"","v":"Billing details *"},null,null,{"$f":"'Vocabulary translation'!A95","v":"Billing comments"}]
[{"$f":"'Vocabulary translation'!A277","v":"Billing media"},"Online"]
[{"$f":"'Vocabulary translation'!A278","v":"Billing currency"},"EUR"]
[{"$f":"'Vocabulary translation'!A279","v":"Default currency for all sites?"},"Yes"]
[{"$f":"'Vocabulary translation'!A280","v":"Invoice frequency"},"Monthly"]
[{"$f":"'Vocabulary translation'!A281","v":"BSD / BED (Upon delivery or specific date)"},"Upon delivery"]
[{"$f":"'Vocabulary translation'!A282","v":"New / Existing BCN"},"New"]
[{"$f":"IF(B34='Vocabulary translation'!A284,'Vocabulary translation'!A285,\"\")","v":""},194809]
[{"$f":"'Vocabulary translation'!A286","v":"Tariff Plan"},"UC-FR-PAYPERMIN-102015-S00V"]
[]
[{"$f":"'Vocabulary translation'!A289","v":"* Mandatory fields"}]

{"sheet":"Customer Contacts","index":7,"n_rows":34,"n_cols":5,"rows_kept":34,"cut":false,"hidden":false,"merged":[[2,1,2,3],[3,1,3,3]]}
["Colt Cloud UC - Customer Delivery and Service Assurance Contact Details"]
[]
["OCN",{"$f":"'Sales - References'!C9","v":49959}]
[{"$f":"'Vocabulary translation'!A3","v":"Customer Name"},{"$f":"'Sales - References'!B3:C3","v":"Grey Communications"}]
[]
[{"$f":"'Vocabulary translation'!A93&\" *\"","v":"Implementation *"},null,null,{"$f":"'Vocabulary translation'!A108&\" *\"","v":"Management Services Contact Details - Delivery address (also for RMA) *"}]
[{"$f":"'Vocabulary translation'!A96","v":"Main contact / Manager"},"Michel Cauchy",null,{"$f":"'Vocabulary translation'!A96","v":"Main contact / Manager"},{"$f":"B7","v":"Michel Cauchy"}]
[{"$f":"'Vocabulary translation'!A86","v":"Department"},null,null,{"$f":"'Vocabulary translation'!A86","v":"Department"},{"$f":"B8","v":0}]
[{"$f":"'Vocabulary translation'!A62","v":"Street, Number"},null,null,{"$f":"'Vocabulary translation'!A60","v":"Building"},0]
[{"$f":"'Vocabulary translation'!A63","v":"ZIP/Postal Code, Town"},null,null,{"$f":"'Vocabulary translation'!A62","v":"Street, Number"},0]
[{"$f":"'Vocabulary translation'!A83","v":"Country"},null,null,{"$f":"'Vocabulary translation'!A63","v":"ZIP/Postal Code, Town"},0]
[{"$f":"'Vocabulary translation'!A181","v":"E-Mail Address"},null,null,{"$f":"'Vocabulary translation'!A83","v":"Country"},0]
[{"$f":"'Vocabulary translation'!A87","v":"Phone number"},null,null,{"$f":"'Vocabulary translation'!A87","v":"Phone number"},0]
[{"$f":"'Vocabulary translation'!A88","v":"Mobile number"},null,null,{"$f":"'Vocabulary translation'!A88","v":"Mobile number"},0]
[{"$f":"'Vocabulary translation'!A90","v":"Language"},null,null,{"$f":"'Vocabulary translation'!A90","v":"Language"},0]
[{"$f":"'Vocabulary translation'!A97","v":"All communication can be done in English"},"Yes - OK",null,{"$f":"'Vocabulary translation'!A97","v":"All communication can be done in English"},"Yes - OK"]
[]
[]
[{"$f":"'Vocabulary translation'!A103&\" *\"","v":"Contact details customer for IT - Helpdesk - Reporting *"},null,null,{"$f":"'Vocabulary translation'!A98&\" *\"","v":"Administrator & Helpdesk contact details *"}]
[{"$f":"'Vocabulary translation'!A96","v":"Main contact / Manager"},"richard Rawlinson ",null,{"$f":"'Vocabulary translation'!A99","v":"Administrator Name"},{"$f":"B20","v":"richard Rawlinson "}]
[{"$f":"'Vocabulary translation'!A86","v":"Department"},{"$f":"B8","v":0},null,{"$f":"'Vocabulary translation'!A100","v":"E-mail Administrator"},{"$f":"B25","v":0}]
[{"$f":"'Vocabulary translation'!A62","v":"Street, Number"},0,null,{"$f":"'Vocabulary translation'!A101","v":"Phone number Administrator"},{"$f":"B26","v":0}]
[{"$f":"'Vocabulary translation'!A63","v":"ZIP/Postal Code, Town"},0,null,{"$f":"'Vocabulary translation'!A102","v":"Mobile number Administrator"},{"$f":"B27","v":0}]
[{"$f":"'Vocabulary translation'!A83","v":"Country"},0,null,{"$f":"'Vocabulary translation'!A90","v":"Language"},{"$f":"E11","v":0}]
[{"$f":"'Vocabulary translation'!A181","v":"E-Mail Address"},0,null,{"$f":"'Vocabulary translation'!A97","v":"All communication can be done in English"},"Yes - OK"]
[{"$f":"'Vocabulary translation'!A87","v":"Phone number"},0]
[{"$f":"'Vocabulary translation'!A88","v":"Mobile number"},0,null,{"$f":"'Vocabulary translation'!A104","v":"E-mail Helpdesk"}]
[{"$f":"'Vocabulary translation'!A90","v":"Language"},0,null,{"$f":"'Vocabulary translation'!A105","v":"Phone number Helpdesk"}]
[{"$f":"'Vocabulary translation'!A97","v":"All communication can be done in English"},"Yes - OK",null,{"$f":"'Vocabulary translation'!A106","v":"Mobile number Helpdesk"}]
[null,null,null,{"$f":"'Vocabulary translation'!A107","v":"Fax number  Helpdesk"}]
[{"$f":"'Vocabulary translation'!A289","v":"* Mandatory fields"},null,null,{"$f":"'Vocabulary translation'!A90","v":"Language"}]
[null,null,null,{"$f":"'Vocabulary translation'!A97","v":"All communication can be done in English"},"Yes - OK"]
["*"]
[{"$f":"'Vocabulary translation'!A109","v":"Yes, I confirm I have reviewed all contact details on this page. They are correct."}]

{"sheet":"Customer Sites with tech. data","index":8,"n_rows":14,"n_cols":21,"rows_kept":14,"cut":false,"hidden":false,"merged":[[2,1,2,3],[3,1,3,3],[4,1,4,3],[6,2,6,3],[10,14,10,20]]}
["Colt Cloud UC - Sites & Local Contact Details"]
[]
["OCN",{"$f":"'Sales - References'!C9","v":49959}]
[{"$f":"'Vocabulary translation'!A3","v":"Customer Name"},{"$f":"'Sales - References'!B3:C3","v":"Grey Communications"}]
[{"$f":"'Vocabulary translation'!A83","v":"Country"},{"$f":"'Sales - References'!C6&IF('Sales - References'!C6=\"Other (Global Voice)\",\" - \"&'Sales - References'!E6,\"\")","v":"France"}]
[]
[{"$f":"'Vocabulary translation'!A29","v":"Number of sites"},null,null,null,null,null,{"$f":"'Vocabulary translation'!A340","v":"Installation at multiple sites ?"},{"$f":"'Vocabulary translation'!A341","v":"Equipment delivery at multiple sites ?"}]
[null,null,null,null,null,null,"No","No"]
[{"$f":"'Vocabulary translation'!A289","v":"* Mandatory fields"},null,null,null,null,{"$f":"'Vocabulary translation'!A29","v":"Number of sites"},1,1]
[]
[{"$f":"'Vocabulary translation'!A58&\" *\"","v":"Site Name and Address *"},null,null,null,null,null,{"$f":"'Vocabulary translation'!A342&\" *\"","v":"Installation on site *"},{"$f":"'Vocabulary translation'!A343&\" *\"","v":"Delivery on site *"},null,{"$f":"'Vocabulary translation'!A322&\" *\"","v":"Customer Contact *"},null,null,null,null,{"$f":"'Vocabulary translation'!A115&\" * (Only applicable for VPN and EPN connectivity at customer's premises)\"","v":"Technical details per site * (Only applicable for VPN and EPN connectivity at customer's premises)"}]
[{"$f":"'Vocabulary translation'!A59&\" *\"","v":"Site Name (Alias) *"},{"$f":"'Vocabulary translation'!A60","v":"Building"},{"$f":"'Vocabulary translation'!A61","v":"Floor & Room Telco - IT Eqt"},{"$f":"'Vocabulary translation'!A62&\" *\"","v":"Street, Number *"},{"$f":"'Vocabulary translation'!A63&\" *\"","v":"ZIP/Postal Code, Town *"},{"$f":"'Vocabulary translation'!A134&\" *\"","v":"Main Number *"},{"$f":"IFERROR(VLOOKUP($G$8,'Vocabulary translation'!$A$19:$Q$19,1,0),'Vocabulary translation'!$A$21)","v":"Not applicable"},{"$f":"IFERROR(VLOOKUP($H$8,'Vocabulary translation'!$A$19:$Q$19,1,0),\"Default (1 site)\")","v":"Default (1 site)"},{"$f":"'Vocabulary translation'!A344&\" *\"","v":"Number *"},{"$f":"'Vocabulary translation'!A112&\" *\"","v":"Name *"},{"$f":"'Vocabulary translation'!A181&\" *\"","v":"E-Mail Address *"},{"$f":"'Vocabulary translation'!A87&\" *\"","v":"Phone number *"},{"$f":"'Vocabulary translation'!A88&\" *\"","v":"Mobile number *"},{"$f":"'Vocabulary translation'!A90","v":"Language"},"VoIP Network range *","Voice VLAN customer","DHCP Management (default: by Colt) *","DHCP subnet *","DHCP netmask *","DHCP Gateway (Colt CPE Router) *",{"$f":"'Vocabulary translation'!A50","v":"Remarks :"}]
[null,null,null,null,null,null,null,null,null,null,null,null,null,null,null,null,"by Colt"]
[" Paris",null,null,"18 rue Pasquier","75008",null,"No",null,null,null,null,null,null,null,"N/A",null,"by Customer","N/A","N/A","N/A","Softphones only, no voice subnet/DHCP required."]

{"sheet":"DDIs","index":9,"n_rows":97,"n_cols":16,"rows_kept":97,"cut":false,"hidden":false,"merged":[[9,1,9,3],[18,7,18,8],[10,1,10,3],[11,7,11,8],[12,7,12,8],[13,7,13,8],[14,7,14,8],[15,7,15,8],[16,7,16,8],[17,7,17,8],[6,0,6,1],[6,2,6,3],[2,5,2,7],[3,5,3,7],[4,5,4,7],[5,5,5,7],[2,1,2,3],[3,1,3,3],[5,0,5,1],[5,2,5,3]]}
["Colt Cloud UC - DDIs"]
[]
["OCN",{"$f":"'Sales - References'!C9","v":49959},null,null,null,"Numbering (DDIs)",null,null,null,"Quantity"]
[{"$f":"'Vocabulary translation'!A3","v":"Customer Name"},{"$f":"'Sales - References'!B3:C3","v":"Grey Communications"},null,null,null,"Number Portability-1 number",null,null,{"$error":"#N/A"},0]
[{"$f":"'Vocabulary translation'!A83","v":"Country"},{"$f":"IF('Sales - References'!C6=\"Other (Global Voice)\",'Sales - References'!E6,'Sales - References'!C6)","v":"France"},{"$f":"VLOOKUP(B5,'Dropdown lists ordering'!A38:C58,2,0)","v":"FRA"},{"$f":"VLOOKUP(B5,'Dropdown lists ordering'!A38:C58,3,0)","v":"UTC+01:00"},null,"Number Portability-10-100 number block",null,null,"Yes",1]
["Colt Cloud UC Order Ref.",null,null,null,null,"Number Portability-1 number",null,null,{"$error":"#N/A"},0]
["Colt Cloud UC Solution ID",null,null,null,null,{"$f":"'Vocabulary translation'!A40","v":"Existing Colt Voice service ?"},null,null,{"$f":"'Sales - Technical basics'!C48","v":0},{"$f":"SUM(J4:J6)","v":1}]
[]
[{"$f":"'Vocabulary translation'!A118","v":"DDIs (Phone numbers, …)"}]
[{"$f":"'Vocabulary translation'!A119","v":"CLIP or CLIR"},null,null,null,{"$f":"'Vocabulary translation'!A123","v":"It is mandatory to assign 1 (and only one) main number, for all ranges of numbers together."}]
[{"$f":"'Vocabulary translation'!A134","v":"Main Number"}]
[null,null,null,null,null,{"$f":"'Vocabulary translation'!A244","v":"Profile type"},{"$f":"'Vocabulary translation'!A245","v":"No. of profiles"},{"$f":"'Vocabulary translation'!A246","v":"Profile options"}]
[null,null,null,null,null,"Standard Telephony & UC",50,"None"]
[{"$f":"'Vocabulary translation'!A118","v":"DDIs (Phone numbers, …)"},null,null,null,null,{"$error":"#N/A"},0,{"$error":"#N/A"}]
[{"$f":"'Vocabulary translation'!A300","v":"New for Cloud UC"},null,{"$f":"E49","v":5},{"$f":"IF(C15>F21,'Vocabulary translation'!A303,\"\")","v":""},null,{"$error":"#N/A"},0,{"$error":"#N/A"}]
[{"$f":"'Vocabulary translation'!A301","v":"To be migrated to Cloud UC"},null,{"$f":"F73","v":85},null,null,{"$error":"#N/A"},0,{"$error":"#N/A"}]
[{"$f":"'Vocabulary translation'!A302","v":"To be ported in to Cloud UC"},null,{"$f":"F97","v":0},null,null,{"$error":"#N/A"},0,{"$error":"#N/A"}]
[{"$f":"'Vocabulary translation'!A293","v":"Total"},null,{"$f":"SUM(C15:C17)","v":90},{"$f":"IF(C18>F21,'Vocabulary translation'!A303,\"\")","v":"Less DDIs or more Profiles are required"},null,{"$error":"#N/A"},0,{"$error":"#N/A"}]
[null,null,null,null,null,{"$error":"#N/A"},0,{"$error":"#N/A"}]
[{"$f":"'Vocabulary translation'!A289","v":"* Mandatory fields"},null,null,null,null,{"$f":"'Vocabulary translation'!A293","v":"Total"},{"$f":"SUM(G13:G19)","v":50}]
[null,null,null,null,null,{"$f":"MROUND(G20*1.1,10)","v":60},{"$f":"MROUND(G20,10)","v":50}]
[{"$f":"'Vocabulary translation'!A324","v":"Temporary Test DDI"},null,null,null,null,null,null,null,null,"SmartPhone feature"]
[{"$f":"'Vocabulary translation'!A129","v":"WebNMTS Reservation Number"},"Country Code (cc)",{"$f":"'Vocabulary translation'!A130&\" *\"","v":"Local Area Code (LAC) *"},"DDI",{"$f":"'Vocabulary translation'!A137","v":"To be published in telephone directory"},null,{"$f":"'Sales - References'!E6","v":"Czech Republic"},null,null,"Iphone App required"]
[null,{"$f":"VLOOKUP($C$5,'Dropdown lists ordering'!$B$37:$G$60,3,0)","v":"+33"},null,null,null,null,null,null,null,"Android App required"]
[null,null,{"$f":"'Vocabulary translation'!A293","v":"Total"},{"$f":"IF(D24=\"\",0,1)","v":0}]
[{"$f":"IF('Sales - Technical basics'!C32='Vocabulary translation'!A6,'Vocabulary translation'!A7,\"\")","v":""}]
[{"$f":"'Vocabulary translation'!A124","v":"NEW DDIs required (if applicable)"}]
[{"$f":"'Vocabulary translation'!A127&\" *\"","v":"Batch / Phase *"},{"$f":"'Vocabulary translation'!A129","v":"WebNMTS Reservation Number"},"Country Code (cc)",{"$f":"'Vocabulary translation'!A130&\" *\"","v":"Local Area Code (LAC) *"},{"$f":"'Vocabulary translation'!A323&\" *\"","v":"Amount of DDIs *"},{"$f":"'Vocabulary translation'!A135&\" *\"","v":"Number Range Start, if known *"},{"$f":"'Vocabulary translation'!A136&\" *\"","v":"Number Range End, if known *"},{"$f":"'Vocabulary translation'!A137&\" *\"","v":"To be published in telephone directory *"},{"$f":"'Vocabulary translation'!A59&\" *\"","v":"Site Name (Alias) *"},{"$f":"'Vocabulary translation'!A62","v":"Street, Number"},{"$f":"'Vocabulary translation'!A63","v":"ZIP/Postal Code, Town"},{"$f":"'Vocabulary translation'!A134","v":"Main Number"}]
[1,1737942,{"$f":"VLOOKUP($C$5,'Dropdown lists ordering'!$B$37:$G$60,3,0)","v":"+33"},"1",5,70929935,70929939,"No"," Paris",{"$f":"VLOOKUP($I29,'Customer Sites with tech. data'!$A$13:$K$262,4,0)","v":"18 rue Pasquier"},{"$f":"VLOOKUP($I29,'Customer Sites with tech. data'!$A$13:$K$262,5,0)","v":"75008"},{"$f":"VLOOKUP($I29,'Customer Sites with tech. data'!$A$13:$K$262,6,0)","v":0}]
[null,null,{"$f":"VLOOKUP($C$5,'Dropdown lists ordering'!$B$37:$G$60,3,0)","v":"+33"},null,null,null,null,null,null,{"$f":"VLOOKUP($I30,'Customer Sites with tech. data'!$A$13:$K$262,4,0)","v":{"$error":"#N/A"}},{"$f":"VLOOKUP($I30,'Customer Sites with tech. data'!$A$13:$K$262,5,0)","v":{"$error":"#N/A"}},{"$f":"VLOOKUP($I30,'Customer Sites with tech. data'!$A$13:$K$262,6,0)","v":{"$error":"#N/A"}}]
[null,null,{"$f":"VLOOKUP($C$5,'Dropdown lists ordering'!$B$37:$G$60,3,0)","v":"+33"},null,null,null,null,null,null,{"$f":"VLOOKUP($I31,'Customer Sites with tech. data'!$A$13:$K$262,4,0)","v":{"$error":"#N/A"}},{"$f":"VLOOKUP($I31,'Customer Sites with tech. data'!$A$13:$K$262,5,0)","v":{"$error":"#N/A"}},{"$f":"VLOOKUP($I31,'Customer Sites with tech. data'!$A$13:$K$262,6,0)","v":{"$error":"#N/A"}}]
[null,null,{"$f":"VLOOKUP($C$5,'Dropdown lists ordering'!$B$37:$G$60,3,0)","v":"+33"},null,null,null,null,null,null,{"$f":"VLOOKUP($I32,'Customer Sites with tech. data'!$A$13:$K$262,4,0)","v":{"$error":"#N/A"}},{"$f":"VLOOKUP($I32,'Customer Sites with tech. data'!$A$13:$K$262,5,0)","v":{"$error":"#N/A"}},{"$f":"VLOOKUP($I32,'Customer Sites with tech. data'!$A$13:$K$262,6,0)","v":{"$error":"#N/A"}}]
[null,null,{"$f":"VLOOKUP($C$5,'Dropdown lists ordering'!$B$37:$G$60,3,0)","v":"+33"},null,null,null,null,null,null,{"$f":"VLOOKUP($I33,'Customer Sites with tech. data'!$A$13:$K$262,4,0)","v":{"$error":"#N/A"}},{"$f":"VLOOKUP($I33,'Customer Sites with tech. data'!$A$13:$K$262,5,0)","v":{"$error":"#N/A"}},{"$f":"VLOOKUP($I33,'Customer Sites with tech. data'!$A$13:$K$262,6,0)","v":{"$error":"#N/A"}}]
[null,null,{"$f":"VLOOKUP($C$5,'Dropdown lists ordering'!$B$37:$G$60,3,0)","v":"+33"},null,null,null,null,null,null,{"$f":"VLOOKUP($I34,'Customer Sites with tech. data'!$A$13:$K$262,4,0)","v":{"$error":"#N/A"}},{"$f":"VLOOKUP($I34,'Customer Sites with tech. data'!$A$13:$K$262,5,0)","v":{"$error":"#N/A"}},{"$f":"VLOOKUP($I34,'Customer Sites with tech. data'!$A$13:$K$262,6,0)","v":{"$error":"#N/A"}}]
[null,null,{"$f":"VLOOKUP($C$5,'Dropdown lists ordering'!$B$37:$G$60,3,0)","v":"+33"},null,null,null,null,null,null,{"$f":"VLOOKUP($I35,'Customer Sites with tech. data'!$A$13:$K$262,4,0)","v":{"$error":"#N/A"}},{"$f":"VLOOKUP($I35,'Customer Sites with tech. data'!$A$13:$K$262,5,0)","v":{"$error":"#N/A"}},{"$f":"VLOOKUP($I35,'Customer Sites with tech. data'!$A$13:$K$262,6,0)","v":{"$error":"#N/A"}}]
[null,null,{"$f":"VLOOKUP($C$5,'Dropdown lists ordering'!$B$37:$G$60,3,0)","v":"+33"},null,null,null,null,null,null,{"$f":"VLOOKUP($I36,'Customer Sites with tech. data'!$A$13:$K$262,4,0)","v":{"$error":"#N/A"}},{"$f":"VLOOKUP($I36,'Customer Sites with tech. data'!$A$13:$K$262,5,0)","v":{"$error":"#N/A"}},{"$f":"VLOOKUP($I36,'Customer Sites with tech. data'!$A$13:$K$262,6,0)","v":{"$error":"#N/A"}}]
[null,null,{"$f":"VLOOKUP($C$5,'Dropdown lists ordering'!$B$37:$G$60,3,0)","v":"+33"},null,null,null,null,null,null,{"$f":"VLOOKUP($I37,'Customer Sites with tech. data'!$A$13:$K$262,4,0)","v":{"$error":"#N/A"}},{"$f":"VLOOKUP($I37,'Customer Sites with tech. data'!$A$13:$K$262,5,0)","v":{"$error":"#N/A"}},{"$f":"VLOOKUP($I37,'Customer Sites with tech. data'!$A$13:$K$262,6,0)","v":{"$error":"#N/A"}}]
[null,null,{"$f":"VLOOKUP($C$5,'Dropdown lists ordering'!$B$37:$G$60,3,0)","v":"+33"},null,null,null,null,null,null,{"$f":"VLOOKUP($I38,'Customer Sites with tech. data'!$A$13:$K$262,4,0)","v":{"$error":"#N/A"}},{"$f":"VLOOKUP($I38,'Customer Sites with tech. data'!$A$13:$K$262,5,0)","v":{"$error":"#N/A"}},{"$f":"VLOOKUP($I38,'Customer Sites with tech. data'!$A$13:$K$262,6,0)","v":{"$error":"#N/A"}}]
[null,null,{"$f":"VLOOKUP($C$5,'Dropdown lists ordering'!$B$37:$G$60,3,0)","v":"+33"},null,null,null,null,null,null,{"$f":"VLOOKUP($I39,'Customer Sites with tech. data'!$A$13:$K$262,4,0)","v":{"$error":"#N/A"}},{"$f":"VLOOKUP($I39,'Customer Sites with tech. data'!$A$13:$K$262,5,0)","v":{"$error":"#N/A"}},{"$f":"VLOOKUP($I39,'Customer Sites with tech. data'!$A$13:$K$262,6,0)","v":{"$error":"#N/A"}}]
[null,null,{"$f":"VLOOKUP($C$5,'Dropdown lists ordering'!$B$37:$G$60,3,0)","v":"+33"},null,null,null,null,null,null,{"$f":"VLOOKUP($I40,'Customer Sites with tech. data'!$A$13:$K$262,4,0)","v":{"$error":"#N/A"}},{"$f":"VLOOKUP($I40,'Customer Sites with tech. data'!$A$13:$K$262,5,0)","v":{"$error":"#N/A"}},{"$f":"VLOOKUP($I40,'Customer Sites with tech. data'!$A$13:$K$262,6,0)","v":{"$error":"#N/A"}}]
[null,null,{"$f":"VLOOKUP($C$5,'Dropdown lists ordering'!$B$37:$G$60,3,0)","v":"+33"},null,null,null,null,null,null,{"$f":"VLOOKUP($I41,'Customer Sites with tech. data'!$A$13:$K$262,4,0)","v":{"$error":"#N/A"}},{"$f":"VLOOKUP($I41,'Customer Sites with tech. data'!$A$13:$K$262,5,0)","v":{"$error":"#N/A"}},{"$f":"VLOOKUP($I41,'Customer Sites with tech. data'!$A$13:$K$262,6,0)","v":{"$error":"#N/A"}}]
[null,null,{"$f":"VLOOKUP($C$5,'Dropdown lists ordering'!$B$37:$G$60,3,0)","v":"+33"},null,null,null,null,null,null,{"$f":"VLOOKUP($I42,'Customer Sites with tech. data'!$A$13:$K$262,4,0)","v":{"$error":"#N/A"}},{"$f":"VLOOKUP($I42,'Customer Sites with tech. data'!$A$13:$K$262,5,0)","v":{"$error":"#N/A"}},{"$f":"VLOOKUP($I42,'Customer Sites with tech. data'!$A$13:$K$262,6,0)","v":{"$error":"#N/A"}}]
[null,null,{"$f":"VLOOKUP($C$5,'Dropdown lists ordering'!$B$37:$G$60,3,0)","v":"+33"},null,null,null,null,null,null,{"$f":"VLOOKUP($I43,'Customer Sites with tech. data'!$A$13:$K$262,4,0)","v":{"$error":"#N/A"}},{"$f":"VLOOKUP($I43,'Customer Sites with tech. data'!$A$13:$K$262,5,0)","v":{"$error":"#N/A"}},{"$f":"VLOOKUP($I43,'Customer Sites with tech. data'!$A$13:$K$262,6,0)","v":{"$error":"#N/A"}}]
[null,null,{"$f":"VLOOKUP($C$5,'Dropdown lists ordering'!$B$37:$G$60,3,0)","v":"+33"},null,null,null,null,null,null,{"$f":"VLOOKUP($I44,'Customer Sites with tech. data'!$A$13:$K$262,4,0)","v":{"$error":"#N/A"}},{"$f":"VLOOKUP($I44,'Customer Sites with tech. data'!$A$13:$K$262,5,0)","v":{"$error":"#N/A"}},{"$f":"VLOOKUP($I44,'Customer Sites with tech. data'!$A$13:$K$262,6,0)","v":{"$error":"#N/A"}}]
[null,null,{"$f":"VLOOKUP($C$5,'Dropdown lists ordering'!$B$37:$G$60,3,0)","v":"+33"},null,null,null,null,null,null,{"$f":"VLOOKUP($I45,'Customer Sites with tech. data'!$A$13:$K$262,4,0)","v":{"$error":"#N/A"}},{"$f":"VLOOKUP($I45,'Customer Sites with tech. data'!$A$13:$K$262,5,0)","v":{"$error":"#N/A"}},{"$f":"VLOOKUP($I45,'Customer Sites with tech. data'!$A$13:$K$262,6,0)","v":{"$error":"#N/A"}}]
[null,null,{"$f":"VLOOKUP($C$5,'Dropdown lists ordering'!$B$37:$G$60,3,0)","v":"+33"},null,null,null,null,null,null,{"$f":"VLOOKUP($I46,'Customer Sites with tech. data'!$A$13:$K$262,4,0)","v":{"$error":"#N/A"}},{"$f":"VLOOKUP($I46,'Customer Sites with tech. data'!$A$13:$K$262,5,0)","v":{"$error":"#N/A"}},{"$f":"VLOOKUP($I46,'Customer Sites with tech. data'!$A$13:$K$262,6,0)","v":{"$error":"#N/A"}}]
[null,null,{"$f":"VLOOKUP($C$5,'Dropdown lists ordering'!$B$37:$G$60,3,0)","v":"+33"},null,null,null,null,null,null,{"$f":"VLOOKUP($I47,'Customer Sites with tech. data'!$A$13:$K$262,4,0)","v":{"$error":"#N/A"}},{"$f":"VLOOKUP($I47,'Customer Sites with tech. data'!$A$13:$K$262,5,0)","v":{"$error":"#N/A"}},{"$f":"VLOOKUP($I47,'Customer Sites with tech. data'!$A$13:$K$262,6,0)","v":{"$error":"#N/A"}}]
[null,null,{"$f":"VLOOKUP($C$5,'Dropdown lists ordering'!$B$37:$G$60,3,0)","v":"+33"},null,null,null,null,null,null,{"$f":"VLOOKUP($I48,'Customer Sites with tech. data'!$A$13:$K$262,4,0)","v":{"$error":"#N/A"}},{"$f":"VLOOKUP($I48,'Customer Sites with tech. data'!$A$13:$K$262,5,0)","v":{"$error":"#N/A"}},{"$f":"VLOOKUP($I48,'Customer Sites with tech. data'!$A$13:$K$262,6,0)","v":{"$error":"#N/A"}}]
[null,null,null,{"$f":"'Vocabulary translation'!A293","v":"Total"},{"$f":"SUM(E29:E48)","v":5}]
[{"$f":"IF('Sales - Technical basics'!C48='Vocabulary translation'!A20,'Vocabulary translation'!A21,\"\")","v":""}]
[{"$f":"'Vocabulary translation'!A125","v":"Colt DDIs - to be migrated, to be ported back or to be freed (if applicable)"}]
[{"$f":"'Vocabulary translation'!A127&\" *\"","v":"Batch / Phase *"},"Country Code (cc)",{"$f":"'Vocabulary translation'!A130&\" *\"","v":"Local Area Code (LAC) *"},{"$f":"'Vocabulary translation'!A140&\" *\"","v":"Number Range Start *"},{"$f":"'Vocabulary translation'!A141&\" *\"","v":"Number Range End *"},{"$f":"'Vocabulary translation'!A323&\" *\"","v":"Amount of DDIs *"},{"$f":"'Vocabulary translation'!A142&\" *\"","v":"Action *"},{"$f":"'Vocabulary translation'!A325&\" *\"","v":"Current Colt Service *"},{"$f":"'Vocabulary translation'!A143&\" *\"","v":"Current Colt Order *"},{"$f":"'Vocabulary translation'!A137&\" *\"","v":"To be published in telephone directory *"},{"$f":"'Vocabulary translation'!A138&\" *\"","v":"Preferred Migration Date *"},{"$f":"'Vocabulary translation'!A139&\" *\"","v":"Mandatory Migration Date due to customer's move *"},{"$f":"'Vocabulary translation'!A59&\" *\"","v":"Site Name (Alias) *"},{"$f":"'Vocabulary translation'!A62","v":"Street, Number"},{"$f":"'Vocabulary translation'!A63","v":"ZIP/Postal Code, Town"},{"$f":"'Vocabulary translation'!A134","v":"Main Number"}]
[2,{"$f":"VLOOKUP($C$5,'Dropdown lists ordering'!$B$37:$G$60,3,0)","v":"+33"},"1","44091515","44091599",85,"Colt migration","Voice Line","040560194/3","Yes",null,null," Paris",{"$f":"VLOOKUP($M53,'Customer Sites with tech. data'!$A$13:$K$262,4,0)","v":"18 rue Pasquier"},{"$f":"VLOOKUP($M53,'Customer Sites with tech. data'!$A$13:$K$262,5,0)","v":"75008"},{"$f":"VLOOKUP($M53,'Customer Sites with tech. data'!$A$13:$K$262,6,0)","v":0}]
[null,{"$f":"VLOOKUP($C$5,'Dropdown lists ordering'!$B$37:$G$60,3,0)","v":"+33"},null,null,null,null,null,null,null,null,null,null,null,{"$f":"VLOOKUP($M54,'Customer Sites with tech. data'!$A$13:$K$262,4,0)","v":{"$error":"#N/A"}},{"$f":"VLOOKUP($M54,'Customer Sites with tech. data'!$A$13:$K$262,5,0)","v":{"$error":"#N/A"}},{"$f":"VLOOKUP($M54,'Customer Sites with tech. data'!$A$13:$K$262,6,0)","v":{"$error":"#N/A"}}]
[null,{"$f":"VLOOKUP($C$5,'Dropdown lists ordering'!$B$37:$G$60,3,0)","v":"+33"},null,null,null,null,null,null,null,null,null,null,null,{"$f":"VLOOKUP($M55,'Customer Sites with tech. data'!$A$13:$K$262,4,0)","v":{"$error":"#N/A"}},{"$f":"VLOOKUP($M55,'Customer Sites with tech. data'!$A$13:$K$262,5,0)","v":{"$error":"#N/A"}},{"$f":"VLOOKUP($M55,'Customer Sites with tech. data'!$A$13:$K$262,6,0)","v":{"$error":"#N/A"}}]
[null,{"$f":"VLOOKUP($C$5,'Dropdown lists ordering'!$B$37:$G$60,3,0)","v":"+33"},null,null,null,null,null,null,null,null,null,null,null,{"$f":"VLOOKUP($M56,'Customer Sites with tech. data'!$A$13:$K$262,4,0)","v":{"$error":"#N/A"}},{"$f":"VLOOKUP($M56,'Customer Sites with tech. data'!$A$13:$K$262,5,0)","v":{"$error":"#N/A"}},{"$f":"VLOOKUP($M56,'Customer Sites with tech. data'!$A$13:$K$262,6,0)","v":{"$error":"#N/A"}}]
[null,{"$f":"VLOOKUP($C$5,'Dropdown lists ordering'!$B$37:$G$60,3,0)","v":"+33"},null,null,null,null,null,null,null,null,null,null,null,{"$f":"VLOOKUP($M57,'Customer Sites with tech. data'!$A$13:$K$262,4,0)","v":{"$error":"#N/A"}},{"$f":"VLOOKUP($M57,'Customer Sites with tech. data'!$A$13:$K$262,5,0)","v":{"$error":"#N/A"}},{"$f":"VLOOKUP($M57,'Customer Sites with tech. data'!$A$13:$K$262,6,0)","v":{"$error":"#N/A"}}]
[null,{"$f":"VLOOKUP($C$5,'Dropdown lists ordering'!$B$37:$G$60,3,0)","v":"+33"},null,null,null,null,null,null,null,null,null,null,null,{"$f":"VLOOKUP($M58,'Customer Sites with tech. data'!$A$13:$K$262,4,0)","v":{"$error":"#N/A"}},{"$f":"VLOOKUP($M58,'Customer Sites with tech. data'!$A$13:$K$262,5,0)","v":{"$error":"#N/A"}},{"$f":"VLOOKUP($M58,'Customer Sites with tech. data'!$A$13:$K$262,6,0)","v":{"$error":"#N/A"}}]
[null,{"$f":"VLOOKUP($C$5,'Dropdown lists ordering'!$B$37:$G$60,3,0)","v":"+33"},null,null,null,null,null,null,null,null,null,null,null,{"$f":"VLOOKUP($M59,'Customer Sites with tech. data'!$A$13:$K$262,4,0)","v":{"$error":"#N/A"}},{"$f":"VLOOKUP($M59,'Customer Sites with tech. data'!$A$13:$K$262,5,0)","v":{"$error":"#N/A"}},{"$f":"VLOOKUP($M59,'Customer Sites with tech. data'!$A$13:$K$262,6,0)","v":{"$error":"#N/A"}}]
[null,{"$f":"VLOOKUP($C$5,'Dropdown lists ordering'!$B$37:$G$60,3,0)","v":"+33"},null,null,null,null,null,null,null,null,null,null,null,{"$f":"VLOOKUP($M60,'Customer Sites with tech. data'!$A$13:$K$262,4,0)","v":{"$error":"#N/A"}},{"$f":"VLOOKUP($M60,'Customer Sites with tech. data'!$A$13:$K$262,5,0)","v":{"$error":"#N/A"}},{"$f":"VLOOKUP($M60,'Customer Sites with tech. data'!$A$13:$K$262,6,0)","v":{"$error":"#N/A"}}]
[null,{"$f":"VLOOKUP($C$5,'Dropdown lists ordering'!$B$37:$G$60,3,0)","v":"+33"},null,null,null,null,null,null,null,null,null,null,null,{"$f":"VLOOKUP($M61,'Customer Sites with tech. data'!$A$13:$K$262,4,0)","v":{"$error":"#N/A"}},{"$f":"VLOOKUP($M61,'Customer Sites with tech. data'!$A$13:$K$262,5,0)","v":{"$error":"#N/A"}},{"$f":"VLOOKUP($M61,'Customer Sites with tech. data'!$A$13:$K$262,6,0)","v":{"$error":"#N/A"}}]
[null,{"$f":"VLOOKUP($C$5,'Dropdown lists ordering'!$B$37:$G$60,3,0)","v":"+33"},null,null,null,null,null,null,null,null,null,null,null,{"$f":"VLOOKUP($M62,'Customer Sites with tech. data'!$A$13:$K$262,4,0)","v":{"$error":"#N/A"}},{"$f":"VLOOKUP($M62,'Customer Sites with tech. data'!$A$13:$K$262,5,0)","v":{"$error":"#N/A"}},{"$f":"VLOOKUP($M62,'Customer Sites with tech. data'!$A$13:$K$262,6,0)","v":{"$error":"#N/A"}}]
[null,{"$f":"VLOOKUP($C$5,'Dropdown lists ordering'!$B$37:$G$60,3,0)","v":"+33"},null,null,null,null,null,null,null,null,null,null,null,{"$f":"VLOOKUP($M63,'Customer Sites with tech. data'!$A$13:$K$262,4,0)","v":{"$error":"#N/A"}},{"$f":"VLOOKUP($M63,'Customer Sites with tech. data'!$A$13:$K$262,5,0)","v":{"$error":"#N/A"}},{"$f":"VLOOKUP($M63,'Customer Sites with tech. data'!$A$13:$K$262,6,0)","v":{"$error":"#N/A"}}]
[null,{"$f":"VLOOKUP($C$5,'Dropdown lists ordering'!$B$37:$G$60,3,0)","v":"+33"},null,null,null,null,null,null,null,null,null,null,null,{"$f":"VLOOKUP($M64,'Customer Sites with tech. data'!$A$13:$K$262,4,0)","v":{"$error":"#N/A"}},{"$f":"VLOOKUP($M64,'Customer Sites with tech. data'!$A$13:$K$262,5,0)","v":{"$error":"#N/A"}},{"$f":"VLOOKUP($M64,'Customer Sites with tech. data'!$A$13:$K$262,6,0)","v":{"$error":"#N/A"}}]
[null,{"$f":"VLOOKUP($C$5,'Dropdown lists ordering'!$B$37:$G$60,3,0)","v":"+33"},null,null,null,null,null,null,null,null,null,null,null,{"$f":"VLOOKUP($M65,'Customer Sites with tech. data'!$A$13:$K$262,4,0)","v":{"$error":"#N/A"}},{"$f":"VLOOKUP($M65,'Customer Sites with tech. data'!$A$13:$K$262,5,0)","v":{"$error":"#N/A"}},{"$f":"VLOOKUP($M65,'Customer Sites with tech. data'!$A$13:$K$262,6,0)","v":{"$error":"#N/A"}}]
[null,{"$f":"VLOOKUP($C$5,'Dropdown lists ordering'!$B$37:$G$60,3,0)","v":"+33"},null,null,null,null,null,null,null,null,null,null,null,{"$f":"VLOOKUP($M66,'Customer Sites with tech. data'!$A$13:$K$262,4,0)","v":{"$error":"#N/A"}},{"$f":"VLOOKUP($M66,'Customer Sites with tech. data'!$A$13:$K$262,5,0)","v":{"$error":"#N/A"}},{"$f":"VLOOKUP($M66,'Customer Sites with tech. data'!$A$13:$K$262,6,0)","v":{"$error":"#N/A"}}]
[null,{"$f":"VLOOKUP($C$5,'Dropdown lists ordering'!$B$37:$G$60,3,0)","v":"+33"},null,null,null,null,null,null,null,null,null,null,null,{"$f":"VLOOKUP($M67,'Customer Sites with tech. data'!$A$13:$K$262,4,0)","v":{"$error":"#N/A"}},{"$f":"VLOOKUP($M67,'Customer Sites with tech. data'!$A$13:$K$262,5,0)","v":{"$error":"#N/A"}},{"$f":"VLOOKUP($M67,'Customer Sites with tech. data'!$A$13:$K$262,6,0)","v":{"$error":"#N/A"}}]
[null,{"$f":"VLOOKUP($C$5,'Dropdown lists ordering'!$B$37:$G$60,3,0)","v":"+33"},null,null,null,null,null,null,null,null,null,null,null,{"$f":"VLOOKUP($M68,'Customer Sites with tech. data'!$A$13:$K$262,4,0)","v":{"$error":"#N/A"}},{"$f":"VLOOKUP($M68,'Customer Sites with tech. data'!$A$13:$K$262,5,0)","v":{"$error":"#N/A"}},{"$f":"VLOOKUP($M68,'Customer Sites with tech. data'!$A$13:$K$262,6,0)","v":{"$error":"#N/A"}}]
[null,{"$f":"VLOOKUP($C$5,'Dropdown lists ordering'!$B$37:$G$60,3,0)","v":"+33"},null,null,null,null,null,null,null,null,null,null,null,{"$f":"VLOOKUP($M69,'Customer Sites with tech. data'!$A$13:$K$262,4,0)","v":{"$error":"#N/A"}},{"$f":"VLOOKUP($M69,'Customer Sites with tech. data'!$A$13:$K$262,5,0)","v":{"$error":"#N/A"}},{"$f":"VLOOKUP($M69,'Customer Sites with tech. data'!$A$13:$K$262,6,0)","v":{"$error":"#N/A"}}]
[null,{"$f":"VLOOKUP($C$5,'Dropdown lists ordering'!$B$37:$G$60,3,0)","v":"+33"},null,null,null,null,null,null,null,null,null,null,null,{"$f":"VLOOKUP($M70,'Customer Sites with tech. data'!$A$13:$K$262,4,0)","v":{"$error":"#N/A"}},{"$f":"VLOOKUP($M70,'Customer Sites with tech. data'!$A$13:$K$262,5,0)","v":{"$error":"#N/A"}},{"$f":"VLOOKUP($M70,'Customer Sites with tech. data'!$A$13:$K$262,6,0)","v":{"$error":"#N/A"}}]
[null,{"$f":"VLOOKUP($C$5,'Dropdown lists ordering'!$B$37:$G$60,3,0)","v":"+33"},null,null,null,null,null,null,null,null,null,null,null,{"$f":"VLOOKUP($M71,'Customer Sites with tech. data'!$A$13:$K$262,4,0)","v":{"$error":"#N/A"}},{"$f":"VLOOKUP($M71,'Customer Sites with tech. data'!$A$13:$K$262,5,0)","v":{"$error":"#N/A"}},{"$f":"VLOOKUP($M71,'Customer Sites with tech. data'!$A$13:$K$262,6,0)","v":{"$error":"#N/A"}}]
[null,{"$f":"VLOOKUP($C$5,'Dropdown lists ordering'!$B$37:$G$60,3,0)","v":"+33"},null,null,null,null,null,null,null,null,null,null,null,{"$f":"VLOOKUP($M72,'Customer Sites with tech. data'!$A$13:$K$262,4,0)","v":{"$error":"#N/A"}},{"$f":"VLOOKUP($M72,'Customer Sites with tech. data'!$A$13:$K$262,5,0)","v":{"$error":"#N/A"}},{"$f":"VLOOKUP($M72,'Customer Sites with tech. data'!$A$13:$K$262,6,0)","v":{"$error":"#N/A"}}]
[null,null,null,null,{"$f":"'Vocabulary translation'!A293","v":"Total"},{"$f":"SUM(F53:F72)","v":85}]
[{"$f":"IF(J7>0,\"\",'Vocabulary translation'!A21)","v":""}]
[{"$f":"'Vocabulary translation'!A126","v":"DDIs with other provider - to be ported in (if applicable)"}]
[{"$f":"'Vocabulary translation'!A127&\" *\"","v":"Batch / Phase *"},"Country Code (cc)",{"$f":"'Vocabulary translation'!A130&\" *\"","v":"Local Area Code (LAC) *"},{"$f":"'Vocabulary translation'!A140&\" *\"","v":"Number Range Start *"},{"$f":"'Vocabulary translation'!A141&\" *\"","v":"Number Range End *"},{"$f":"'Vocabulary translation'!A323&\" *\"","v":"Amount of DDIs *"},{"$f":"'Vocabulary translation'!A144&\" *\"","v":"Current Provider *"},{"$f":"'Vocabulary translation'!A145&\" *\"","v":"LOA provided *"},{"$f":"'Vocabulary translation'!A137&\" *\"","v":"To be published in telephone directory *"},{"$f":"'Vocabulary translation'!A138&\" *\"","v":"Preferred Migration Date *"},{"$f":"'Vocabulary translation'!A139&\" *\"","v":"Mandatory Migration Date due to customer's move *"},{"$f":"'Vocabulary translation'!A59&\" *\"","v":"Site Name (Alias) *"},{"$f":"'Vocabulary translation'!A62","v":"Street, Number"},{"$f":"'Vocabulary translation'!A63","v":"ZIP/Postal Code, Town"},{"$f":"'Vocabulary translation'!A134","v":"Main Number"}]
[null,{"$f":"VLOOKUP($C$5,'Dropdown lists ordering'!$B$37:$G$60,3,0)","v":"+33"},null,null,null,null,null,null,null,null,null,null,{"$f":"VLOOKUP($L77,'Customer Sites with tech. data'!$A$13:$K$262,4,0)","v":{"$error":"#N/A"}},{"$f":"VLOOKUP($L77,'Customer Sites with tech. data'!$A$13:$K$262,5,0)","v":{"$error":"#N/A"}},{"$f":"VLOOKUP($L77,'Customer Sites with tech. data'!$A$13:$K$262,6,0)","v":{"$error":"#N/A"}}]
[null,{"$f":"VLOOKUP($C$5,'Dropdown lists ordering'!$B$37:$G$60,3,0)","v":"+33"},null,null,null,null,null,null,null,null,null,null,{"$f":"VLOOKUP($L78,'Customer Sites with tech. data'!$A$13:$K$262,4,0)","v":{"$error":"#N/A"}},{"$f":"VLOOKUP($L78,'Customer Sites with tech. data'!$A$13:$K$262,5,0)","v":{"$error":"#N/A"}},{"$f":"VLOOKUP($L78,'Customer Sites with tech. data'!$A$13:$K$262,6,0)","v":{"$error":"#N/A"}}]
[null,{"$f":"VLOOKUP($C$5,'Dropdown lists ordering'!$B$37:$G$60,3,0)","v":"+33"},null,null,null,null,null,null,null,null,null,null,{"$f":"VLOOKUP($L79,'Customer Sites with tech. data'!$A$13:$K$262,4,0)","v":{"$error":"#N/A"}},{"$f":"VLOOKUP($L79,'Customer Sites with tech. data'!$A$13:$K$262,5,0)","v":{"$error":"#N/A"}},{"$f":"VLOOKUP($L79,'Customer Sites with tech. data'!$A$13:$K$262,6,0)","v":{"$error":"#N/A"}}]
[null,{"$f":"VLOOKUP($C$5,'Dropdown lists ordering'!$B$37:$G$60,3,0)","v":"+33"},null,null,null,null,null,null,null,null,null,null,{"$f":"VLOOKUP($L80,'Customer Sites with tech. data'!$A$13:$K$262,4,0)","v":{"$error":"#N/A"}},{"$f":"VLOOKUP($L80,'Customer Sites with tech. data'!$A$13:$K$262,5,0)","v":{"$error":"#N/A"}},{"$f":"VLOOKUP($L80,'Customer Sites with tech. data'!$A$13:$K$262,6,0)","v":{"$error":"#N/A"}}]
[null,{"$f":"VLOOKUP($C$5,'Dropdown lists ordering'!$B$37:$G$60,3,0)","v":"+33"},null,null,null,null,null,null,null,null,null,null,{"$f":"VLOOKUP($L81,'Customer Sites with tech. data'!$A$13:$K$262,4,0)","v":{"$error":"#N/A"}},{"$f":"VLOOKUP($L81,'Customer Sites with tech. data'!$A$13:$K$262,5,0)","v":{"$error":"#N/A"}},{"$f":"VLOOKUP($L81,'Customer Sites with tech. data'!$A$13:$K$262,6,0)","v":{"$error":"#N/A"}}]
[null,{"$f":"VLOOKUP($C$5,'Dropdown lists ordering'!$B$37:$G$60,3,0)","v":"+33"},null,null,null,null,null,null,null,null,null,null,{"$f":"VLOOKUP($L82,'Customer Sites with tech. data'!$A$13:$K$262,4,0)","v":{"$error":"#N/A"}},{"$f":"VLOOKUP($L82,'Customer Sites with tech. data'!$A$13:$K$262,5,0)","v":{"$error":"#N/A"}},{"$f":"VLOOKUP($L82,'Customer Sites with tech. data'!$A$13:$K$262,6,0)","v":{"$error":"#N/A"}}]
[null,{"$f":"VLOOKUP($C$5,'Dropdown lists ordering'!$B$37:$G$60,3,0)","v":"+33"},null,null,null,null,null,null,null,null,null,null,{"$f":"VLOOKUP($L83,'Customer Sites with tech. data'!$A$13:$K$262,4,0)","v":{"$error":"#N/A"}},{"$f":"VLOOKUP($L83,'Customer Sites with tech. data'!$A$13:$K$262,5,0)","v":{"$error":"#N/A"}},{"$f":"VLOOKUP($L83,'Customer Sites with tech. data'!$A$13:$K$262,6,0)","v":{"$error":"#N/A"}}]
[null,{"$f":"VLOOKUP($C$5,'Dropdown lists ordering'!$B$37:$G$60,3,0)","v":"+33"},null,null,null,null,null,null,null,null,null,null,{"$f":"VLOOKUP($L84,'Customer Sites with tech. data'!$A$13:$K$262,4,0)","v":{"$error":"#N/A"}},{"$f":"VLOOKUP($L84,'Customer Sites with tech. data'!$A$13:$K$262,5,0)","v":{"$error":"#N/A"}},{"$f":"VLOOKUP($L84,'Customer Sites with tech. data'!$A$13:$K$262,6,0)","v":{"$error":"#N/A"}}]
[null,{"$f":"VLOOKUP($C$5,'Dropdown lists ordering'!$B$37:$G$60,3,0)","v":"+33"},null,null,null,null,null,null,null,null,null,null,{"$f":"VLOOKUP($L85,'Customer Sites with tech. data'!$A$13:$K$262,4,0)","v":{"$error":"#N/A"}},{"$f":"VLOOKUP($L85,'Customer Sites with tech. data'!$A$13:$K$262,5,0)","v":{"$error":"#N/A"}},{"$f":"VLOOKUP($L85,'Customer Sites with tech. data'!$A$13:$K$262,6,0)","v":{"$error":"#N/A"}}]
[null,{"$f":"VLOOKUP($C$5,'Dropdown lists ordering'!$B$37:$G$60,3,0)","v":"+33"},null,null,null,null,null,null,null,null,null,null,{"$f":"VLOOKUP($L86,'Customer Sites with tech. data'!$A$13:$K$262,4,0)","v":{"$error":"#N/A"}},{"$f":"VLOOKUP($L86,'Customer Sites with tech. data'!$A$13:$K$262,5,0)","v":{"$error":"#N/A"}},{"$f":"VLOOKUP($L86,'Customer Sites with tech. data'!$A$13:$K$262,6,0)","v":{"$error":"#N/A"}}]
[null,{"$f":"VLOOKUP($C$5,'Dropdown lists ordering'!$B$37:$G$60,3,0)","v":"+33"},null,null,null,null,null,null,null,null,null,null,{"$f":"VLOOKUP($L87,'Customer Sites with tech. data'!$A$13:$K$262,4,0)","v":{"$error":"#N/A"}},{"$f":"VLOOKUP($L87,'Customer Sites with tech. data'!$A$13:$K$262,5,0)","v":{"$error":"#N/A"}},{"$f":"VLOOKUP($L87,'Customer Sites with tech. data'!$A$13:$K$262,6,0)","v":{"$error":"#N/A"}}]
[null,{"$f":"VLOOKUP($C$5,'Dropdown lists ordering'!$B$37:$G$60,3,0)","v":"+33"},null,null,null,null,null,null,null,null,null,null,{"$f":"VLOOKUP($L88,'Customer Sites with tech. data'!$A$13:$K$262,4,0)","v":{"$error":"#N/A"}},{"$f":"VLOOKUP($L88,'Customer Sites with tech. data'!$A$13:$K$262,5,0)","v":{"$error":"#N/A"}},{"$f":"VLOOKUP($L88,'Customer Sites with tech. data'!$A$13:$K$262,6,0)","v":{"$error":"#N/A"}}]
[null,{"$f":"VLOOKUP($C$5,'Dropdown lists ordering'!$B$37:$G$60,3,0)","v":"+33"},null,null,null,null,null,null,null,null,null,null,{"$f":"VLOOKUP($L89,'Customer Sites with tech. data'!$A$13:$K$262,4,0)","v":{"$error":"#N/A"}},{"$f":"VLOOKUP($L89,'Customer Sites with tech. data'!$A$13:$K$262,5,0)","v":{"$error":"#N/A"}},{"$f":"VLOOKUP($L89,'Customer Sites with tech. data'!$A$13:$K$262,6,0)","v":{"$error":"#N/A"}}]
[null,{"$f":"VLOOKUP($C$5,'Dropdown lists ordering'!$B$37:$G$60,3,0)","v":"+33"},null,null,null,null,null,null,null,null,null,null,{"$f":"VLOOKUP($L90,'Customer Sites with tech. data'!$A$13:$K$262,4,0)","v":{"$error":"#N/A"}},{"$f":"VLOOKUP($L90,'Customer Sites with tech. data'!$A$13:$K$262,5,0)","v":{"$error":"#N/A"}},{"$f":"VLOOKUP($L90,'Customer Sites with tech. data'!$A$13:$K$262,6,0)","v":{"$error":"#N/A"}}]
[null,{"$f":"VLOOKUP($C$5,'Dropdown lists ordering'!$B$37:$G$60,3,0)","v":"+33"},null,null,null,null,null,null,null,null,null,null,{"$f":"VLOOKUP($L91,'Customer Sites with tech. data'!$A$13:$K$262,4,0)","v":{"$error":"#N/A"}},{"$f":"VLOOKUP($L91,'Customer Sites with tech. data'!$A$13:$K$262,5,0)","v":{"$error":"#N/A"}},{"$f":"VLOOKUP($L91,'Customer Sites with tech. data'!$A$13:$K$262,6,0)","v":{"$error":"#N/A"}}]
[null,{"$f":"VLOOKUP($C$5,'Dropdown lists ordering'!$B$37:$G$60,3,0)","v":"+33"},null,null,null,null,null,null,null,null,null,null,{"$f":"VLOOKUP($L92,'Customer Sites with tech. data'!$A$13:$K$262,4,0)","v":{"$error":"#N/A"}},{"$f":"VLOOKUP($L92,'Customer Sites with tech. data'!$A$13:$K$262,5,0)","v":{"$error":"#N/A"}},{"$f":"VLOOKUP($L92,'Customer Sites with tech. data'!$A$13:$K$262,6,0)","v":{"$error":"#N/A"}}]
[null,{"$f":"VLOOKUP($C$5,'Dropdown lists ordering'!$B$37:$G$60,3,0)","v":"+33"},null,null,null,null,null,null,null,null,null,null,{"$f":"VLOOKUP($L93,'Customer Sites with tech. data'!$A$13:$K$262,4,0)","v":{"$error":"#N/A"}},{"$f":"VLOOKUP($L93,'Customer Sites with tech. data'!$A$13:$K$262,5,0)","v":{"$error":"#N/A"}},{"$f":"VLOOKUP($L93,'Customer Sites with tech. data'!$A$13:$K$262,6,0)","v":{"$error":"#N/A"}}]
[null,{"$f":"VLOOKUP($C$5,'Dropdown lists ordering'!$B$37:$G$60,3,0)","v":"+33"},null,null,null,null,null,null,null,null,null,null,{"$f":"VLOOKUP($L94,'Customer Sites with tech. data'!$A$13:$K$262,4,0)","v":{"$error":"#N/A"}},{"$f":"VLOOKUP($L94,'Customer Sites with tech. data'!$A$13:$K$262,5,0)","v":{"$error":"#N/A"}},{"$f":"VLOOKUP($L94,'Customer Sites with tech. data'!$A$13:$K$262,6,0)","v":{"$error":"#N/A"}}]
[null,{"$f":"VLOOKUP($C$5,'Dropdown lists ordering'!$B$37:$G$60,3,0)","v":"+33"},null,null,null,null,null,null,null,null,null,null,{"$f":"VLOOKUP($L95,'Customer Sites with tech. data'!$A$13:$K$262,4,0)","v":{"$error":"#N/A"}},{"$f":"VLOOKUP($L95,'Customer Sites with tech. data'!$A$13:$K$262,5,0)","v":{"$error":"#N/A"}},{"$f":"VLOOKUP($L95,'Customer Sites with tech. data'!$A$13:$K$262,6,0)","v":{"$error":"#N/A"}}]
[null,{"$f":"VLOOKUP($C$5,'Dropdown lists ordering'!$B$37:$G$60,3,0)","v":"+33"},null,null,null,null,null,null,null,null,null,null,{"$f":"VLOOKUP($L96,'Customer Sites with tech. data'!$A$13:$K$262,4,0)","v":{"$error":"#N/A"}},{"$f":"VLOOKUP($L96,'Customer Sites with tech. data'!$A$13:$K$262,5,0)","v":{"$error":"#N/A"}},{"$f":"VLOOKUP($L96,'Customer Sites with tech. data'!$A$13:$K$262,6,0)","v":{"$error":"#N/A"}}]
[null,null,null,null,{"$f":"'Vocabulary translation'!A293","v":"Total"},{"$f":"SUM(F77:F96)","v":0}]

{"sheet":"Groups - Queues - IVRs","index":10,"n_rows":165,"n_cols":45,"rows_kept":165,"cut":false,"hidden":false,"merged":[[2,1,2,3],[3,1,3,3],[2,5,2,6],[3,5,3,6]]}
["Colt Cloud UC - Groups, Queues & IVRs"]
[]
["OCN",{"$f":"'Sales - References'!C9","v":49959},null,null,null,{"$f":"'Vocabulary translation'!A290","v":"Used profiles (non-user)"},null,{"$f":"COUNTA(C27,B32:B61,D100:D131,C136:C165)","v":0}]
[{"$f":"'Vocabulary translation'!A3","v":"Customer Name"},{"$f":"'Sales - References'!B3:C3","v":"Grey Communications"},null,null,null,{"$f":"'Vocabulary translation'!A261","v":"Receptionist"},null,{"$f":"IF(COUNTIF('User specifications'!F6:F12,F4)>0,'Vocabulary translation'!A19,'Vocabulary translation'!A20)","v":"No"}]
[{"$f":"'Vocabulary translation'!A83","v":"Country"},{"$f":"IF('Sales - References'!C6=\"Other (Global Voice)\",'Sales - References'!E6,'Sales - References'!C6)","v":"France"},{"$f":"VLOOKUP(B5,'Dropdown lists ordering'!A38:C58,2,0)","v":"FRA"},{"$f":"VLOOKUP(B5,'Dropdown lists ordering'!A38:C58,3,0)","v":"UTC+01:00"},{"$f":"VLOOKUP(C5,'Dropdown lists ordering'!B37:G51,3,0)","v":"+33"}]
[]
[{"$f":"'Vocabulary translation'!A289","v":"* Mandatory fields"}]
[{"$f":"'Vocabulary translation'!A305","v":"All information in this sheet will be used for the configuration on the Service Management Platform. The Service Management Platform is to be used by the customer to update the given (or missing) data of this sheet."}]
[{"$f":"'Vocabulary translation'!A151","v":"Availability (Opening Hours) - Format hh:mm - hh:mm"}]
[{"$f":"'Vocabulary translation'!A156","v":"Extension defining opening hours (Max. 6 digits)"},{"$f":"'Vocabulary translation'!A157","v":"Monday"},{"$f":"'Vocabulary translation'!A158","v":"Monday Lunch time"},{"$f":"'Vocabulary translation'!A159","v":"Tuesday"},{"$f":"'Vocabulary translation'!A160","v":"Tuesday Lunch time"},{"$f":"'Vocabulary translation'!A161","v":"Wednesday"},{"$f":"'Vocabulary translation'!A162","v":"Wednesday Lunch time"},{"$f":"'Vocabulary translation'!A163","v":"Thursday"},{"$f":"'Vocabulary translation'!A164","v":"Thursday Lunch time"},{"$f":"'Vocabulary translation'!A165","v":"Friday"},{"$f":"'Vocabulary translation'!A166","v":"Friday Lunch time"},{"$f":"'Vocabulary translation'!A167","v":"Saturday"},{"$f":"'Vocabulary translation'!A168","v":"Saturday Lunch time"},{"$f":"'Vocabulary translation'!A169","v":"Sunday"},{"$f":"'Vocabulary translation'!A170","v":"Sunday Lunch time"}]
[]
[1999,"08:00 - 19:00","12:30 - 13:30","08:00 - 19:00","12:30 - 13:30","08:00 - 19:00","12:30 - 13:30","08:00 - 19:00","12:30 - 13:30","08:00 - 19:00"]
[]
[]
[]
[]
[]
[]
[]
[]
[]
[]
[]
[]
[{"$f":"'Vocabulary translation'!A152&\" - \"&IF(H4='Vocabulary translation'!A19,'Groups - Queues - IVRs'!F4&\" *\",'Groups - Queues - IVRs'!F4&\" -> \"&'Vocabulary translation'!A21)","v":"Profile : Queue - Receptionist -> Not applicable"},null,null,null,null,null,null,null,null,null,null,null,{"$f":"'Vocabulary translation'!A171","v":"Opening hours"},{"$f":"'Vocabulary translation'!A172","v":"Call Flows"}]
[{"$f":"'Vocabulary translation'!A173","v":"Department"},{"$f":"'Vocabulary translation'!A174","v":"Office"},{"$f":"'Vocabulary translation'!A175","v":"Queue Name"},"Country Code (cc)",{"$f":"'Vocabulary translation'!A130","v":"Local Area Code (LAC)"},{"$f":"'Vocabulary translation'!A334","v":"Subscriber's Number"},{"$f":"'Vocabulary translation'!A178&\" -\"& 'Vocabulary translation'!A134","v":"Queue (External) DDI\nFormat E164 (+ccxxxx…) (cc=country code) -Main Number"},{"$f":"'Vocabulary translation'!A177","v":"Queue Name (CLI) to be displayed"},{"$f":"'Vocabulary translation'!A180","v":"Queue (Internal) Extension\nMax. 6 digits"},{"$f":"'Vocabulary translation'!A90","v":"Language"},{"$f":"'Vocabulary translation'!A181","v":"E-Mail Address"},"PIN Code",{"$f":"'Vocabulary translation'!A182","v":"Extension Availability"},{"$f":"'Vocabulary translation'!A243","v":"First action - Play welcome message"},{"$f":"'Vocabulary translation'!A183","v":"while waiting, play ..."},{"$f":"'Vocabulary translation'!A184","v":"waiting time "},{"$f":"'Vocabulary translation'!A185&\" (time out)\"","v":"Second action, when run out of waiting time (time out)"},{"$f":"'Vocabulary translation'!A186","v":"forward to (extension) (for second action)"},{"$f":"'Vocabulary translation'!A187","v":"During Out Of Office Hours (OOOH) (intentional status)"},{"$f":"'Vocabulary translation'!A188","v":"forward to (extension) (for OOOH)"},{"$f":"'Vocabulary translation'!A189","v":"During Holidays"},{"$f":"'Vocabulary translation'!A190","v":"forward to (extension) (during holidays)"},{"$f":"'Vocabulary translation'!A191","v":"During lunch (intentional status)"},{"$f":"'Vocabulary translation'!A192","v":"forward to (extension) (during lunch)"},{"$f":"'Vocabulary translation'!A193","v":"When absent"},{"$f":"'Vocabulary translation'!A194","v":"forward to (extension) (when absent)"},{"$f":"'Vocabulary translation'!A195","v":"When no agent connected"},{"$f":"'Vocabulary translation'!A196","v":"forward to (extension) (when no one is logged onto the queue)"}]
[{"$f":"IF(H4='Vocabulary translation'!A19,'Groups - Queues - IVRs'!F4,'Vocabulary translation'!A21)","v":"Not applicable"},null,null,{"$f":"VLOOKUP($C$5,'Dropdown lists ordering'!$B$36:$G$60,3,0)","v":"+33"},null,null,{"$f":"$E$5&IF(OR($C$5=\"CHE\",$C$5=\"ITA\"),E27,VALUE(E27))&F27","v":"+330"},{"$f":"G27","v":"+330"}]
[]
[]
[{"$f":"'Vocabulary translation'!$A$152","v":"Profile : Queue"}]
[{"$f":"'Vocabulary translation'!$A$174","v":"Office"},{"$f":"'Vocabulary translation'!$A$175","v":"Queue Name"},"Ring Strategy"]
[null,null,null,null,"ringall (default): ring all available agents until one answers"]
[null,null,null,null,"random : send randomly the call to any member"]
[null,null,null,null,"rrmemory : take turns ringing each available interface for new incoming calls in the order they were added to the queue. "]
[null,null,null,null,"The next phone will ring in case there is a new call, or because an agent did not answer the current call to be distributed. Last phone that rang is kept in memory. Every call to distribute will go to the next agent."]
[null,null,null,null,"leastrecent : ring agent which was least recently called by this queue"]
[null,null,null,null,"fewestcalls : send the call to member having handled the fewest amount of calls"]
[null,null,null,null,"roundrobin (deprecated): take turns ringing each available agent for new incoming calls in the order they were added to the queue. "]
[null,null,null,null,"With Advanced Call Distribution strategy disabled, similar behaviour than rrmemory (slower and impact of reject). With Advanced Call Distribution strategy enabled, if last call timed out on one agent, a new call will go to agent following first one who did not answer (even if that agent answered last call). If configured with Communication Server 2 the strategy applied will be rrmemory."]
[null,null,null,null,"linear : rings members in the order specified in the resource. If you use dynamic members, the members will be rung in the order in which they were added."]
[null,null,null,null,"wrandom : rings a random member, but uses the member's penalty as a weight when calculating their metric. So a member with penalty 0 will have a metric somewhere between 0 and 1000, and a member with penalty 1 will have a metric between 0 and 2000, and a member with penalty 2 will have a metric between 0 and 3000. Please note, if using this strategy, the member penalty is not the same as when using other queue strategies. It is only used as a weight for calculating metric. Adding a metric means that a member will get a higher or lower chance to be selected instead of being completely randomly selected"]
[]
[]
[]
[]
[]
[]
[]
[]
[]
[]
[]
[]
[]
[]
[]
[]
[]
[]
[]
[]
[]
[]
[{"$f":"'Vocabulary translation'!$A$153","v":"Profile : Huntgroup"},null,null,null,null,null,null,{"$f":"'Vocabulary translation'!$A$171","v":"Opening hours"},{"$f":"'Vocabulary translation'!$A$172","v":"Call Flows"}]
[{"$f":"'Vocabulary translation'!$A$174","v":"Office"},{"$f":"'Vocabulary translation'!$A$176","v":"Huntgroup Name"},{"$f":"'Vocabulary translation'!$A$175","v":"Queue Name"},{"$f":"'Vocabulary translation'!$A$130","v":"Local Area Code (LAC)"},"Huntgroup Extension",{"$f":"'Vocabulary translation'!$A$179","v":"Huntgroup (External) DDI\nFormat E164 (+ccxxxx…) (cc=country code)"},"PIN Code",{"$f":"'Vocabulary translation'!$A$182","v":"Extension Availability"},{"$f":"'Vocabulary translation'!$A$243","v":"First action - Play welcome message"},{"$f":"'Vocabulary translation'!$A$183","v":"while waiting, play ..."},{"$f":"'Vocabulary translation'!$A$184","v":"waiting time "},{"$f":"'Vocabulary translation'!$A$185&\" (time out)\"","v":"Second action, when run out of waiting time (time out)"},{"$f":"'Vocabulary translation'!$A$186","v":"forward to (extension) (for second action)"},{"$f":"'Vocabulary translation'!$A$195","v":"When no agent connected"},{"$f":"'Vocabulary translation'!$A$196","v":"forward to (extension) (when no one is logged onto the queue)"}]
[]
[]
[]
[]
[]
[]
[]
[]
[]
[]
[]
[]
[]
[]
[]
[]
[]
[]
[]
[]
[]
[]
[]
[]
[]
[]
[]
[]
[]
[]
[]
[]
[{"$f":"'Vocabulary translation'!A154","v":"Service Groups (Max. 31) : Fax, Conference Bridge, Doorphone + PickUp Groups (Departments)"}]
[{"$f":"'Vocabulary translation'!A197","v":"Profile"},{"$f":"'Vocabulary translation'!A173","v":"Department"},{"$f":"'Vocabulary translation'!A174","v":"Office"},{"$f":"'Vocabulary translation'!A198","v":"Service Group Name "},"Country Code (cc)",{"$f":"'Vocabulary translation'!A130","v":"Local Area Code (LAC)"},{"$f":"'Vocabulary translation'!A334","v":"Subscriber's Number"},{"$f":"'Vocabulary translation'!A178","v":"Queue (External) DDI\nFormat E164 (+ccxxxx…) (cc=country code)"},{"$f":"'Vocabulary translation'!A200","v":"Service Group (Internal) Extension \nMax. 6 digits"},{"$f":"'Vocabulary translation'!A90","v":"Language"},"PIN Code",{"$f":"'Vocabulary translation'!A181&\" - Only mandatory for Virtual Fax\"&IF(COUNTIF(A100:A131,\"VirtualFax\")>0,\" *\",\"\")","v":"E-Mail Address - Only mandatory for Virtual Fax"}]
[null,null,null,null,{"$f":"VLOOKUP($C$5,'Dropdown lists ordering'!$B$36:$G$60,3,0)","v":"+33"},null,null,{"$f":"$E$5&IF(OR($C$5=\"CHE\",$C$5=\"ITA\"),F100,VALUE(F100))&G100","v":"+330"},null,null,null,{"$f":"IF(A100=\"VirtualFax\",\"mandatory !\",\"\")","v":""}]
[null,null,null,null,{"$f":"VLOOKUP($C$5,'Dropdown lists ordering'!$B$36:$G$60,3,0)","v":"+33"},null,null,{"$f":"$E$5&IF(OR($C$5=\"CHE\",$C$5=\"ITA\"),F101,VALUE(F101))&G101","v":"+330"},null,null,null,{"$f":"IF(A101=\"VirtualFax\",\"mandatory !\",\"\")","v":""}]
[null,null,null,null,{"$f":"VLOOKUP($C$5,'Dropdown lists ordering'!$B$36:$G$60,3,0)","v":"+33"},null,null,"+330",null,null,null,""]
[null,null,null,null,{"$f":"VLOOKUP($C$5,'Dropdown lists ordering'!$B$36:$G$60,3,0)","v":"+33"},null,null,"+330",null,null,null,""]
[null,null,null,null,{"$f":"VLOOKUP($C$5,'Dropdown lists ordering'!$B$36:$G$60,3,0)","v":"+33"},null,null,"+330",null,null,null,""]
[null,null,null,null,{"$f":"VLOOKUP($C$5,'Dropdown lists ordering'!$B$36:$G$60,3,0)","v":"+33"},null,null,"+330",null,null,null,""]
[null,null,null,null,{"$f":"VLOOKUP($C$5,'Dropdown lists ordering'!$B$36:$G$60,3,0)","v":"+33"},null,null,"+330",null,null,null,""]
[null,null,null,null,{"$f":"VLOOKUP($C$5,'Dropdown lists ordering'!$B$36:$G$60,3,0)","v":"+33"},null,null,"+330",null,null,null,""]
[null,null,null,null,{"$f":"VLOOKUP($C$5,'Dropdown lists ordering'!$B$36:$G$60,3,0)","v":"+33"},null,null,"+330",null,null,null,""]
[null,null,null,null,{"$f":"VLOOKUP($C$5,'Dropdown lists ordering'!$B$36:$G$60,3,0)","v":"+33"},null,null,"+330",null,null,null,""]
[null,null,null,null,{"$f":"VLOOKUP($C$5,'Dropdown lists ordering'!$B$36:$G$60,3,0)","v":"+33"},null,null,"+330",null,null,null,""]
[null,null,null,null,{"$f":"VLOOKUP($C$5,'Dropdown lists ordering'!$B$36:$G$60,3,0)","v":"+33"},null,null,"+330",null,null,null,""]
[null,null,null,null,{"$f":"VLOOKUP($C$5,'Dropdown lists ordering'!$B$36:$G$60,3,0)","v":"+33"},null,null,"+330",null,null,null,""]
[null,null,null,null,{"$f":"VLOOKUP($C$5,'Dropdown lists ordering'!$B$36:$G$60,3,0)","v":"+33"},null,null,"+330",null,null,null,""]
[null,null,null,null,{"$f":"VLOOKUP($C$5,'Dropdown lists ordering'!$B$36:$G$60,3,0)","v":"+33"},null,null,"+330",null,null,null,""]
[null,null,null,null,{"$f":"VLOOKUP($C$5,'Dropdown lists ordering'!$B$36:$G$60,3,0)","v":"+33"},null,null,"+330",null,null,null,""]
[null,null,null,null,{"$f":"VLOOKUP($C$5,'Dropdown lists ordering'!$B$36:$G$60,3,0)","v":"+33"},null,null,"+330",null,null,null,""]
[null,null,null,null,{"$f":"VLOOKUP($C$5,'Dropdown lists ordering'!$B$36:$G$60,3,0)","v":"+33"},null,null,"+330",null,null,null,""]
[null,null,null,null,{"$f":"VLOOKUP($C$5,'Dropdown lists ordering'!$B$36:$G$60,3,0)","v":"+33"},null,null,"+330",null,null,null,""]
[null,null,null,null,{"$f":"VLOOKUP($C$5,'Dropdown lists ordering'!$B$36:$G$60,3,0)","v":"+33"},null,null,"+330",null,null,null,""]
[null,null,null,null,{"$f":"VLOOKUP($C$5,'Dropdown lists ordering'!$B$36:$G$60,3,0)","v":"+33"},null,null,"+330",null,null,null,""]
[null,null,null,null,{"$f":"VLOOKUP($C$5,'Dropdown lists ordering'!$B$36:$G$60,3,0)","v":"+33"},null,null,"+330",null,null,null,""]
[null,null,null,null,{"$f":"VLOOKUP($C$5,'Dropdown lists ordering'!$B$36:$G$60,3,0)","v":"+33"},null,null,"+330",null,null,null,""]
[null,null,null,null,{"$f":"VLOOKUP($C$5,'Dropdown lists ordering'!$B$36:$G$60,3,0)","v":"+33"},null,null,"+330",null,null,null,""]
[null,null,null,null,{"$f":"VLOOKUP($C$5,'Dropdown lists ordering'!$B$36:$G$60,3,0)","v":"+33"},null,null,"+330",null,null,null,""]
[null,null,null,null,{"$f":"VLOOKUP($C$5,'Dropdown lists ordering'!$B$36:$G$60,3,0)","v":"+33"},null,null,"+330",null,null,null,""]
[null,null,null,null,{"$f":"VLOOKUP($C$5,'Dropdown lists ordering'!$B$36:$G$60,3,0)","v":"+33"},null,null,"+330",null,null,null,""]
[null,null,null,null,{"$f":"VLOOKUP($C$5,'Dropdown lists ordering'!$B$36:$G$60,3,0)","v":"+33"},null,null,"+330",null,null,null,""]
[null,null,null,null,{"$f":"VLOOKUP($C$5,'Dropdown lists ordering'!$B$36:$G$60,3,0)","v":"+33"},null,null,"+330",null,null,null,""]
[null,null,null,null,{"$f":"VLOOKUP($C$5,'Dropdown lists ordering'!$B$36:$G$60,3,0)","v":"+33"},null,null,"+330",null,null,null,""]
[null,null,null,null,{"$f":"VLOOKUP($C$5,'Dropdown lists ordering'!$B$36:$G$60,3,0)","v":"+33"},null,null,"+330",null,null,null,""]
[null,null,null,null,{"$f":"VLOOKUP($C$5,'Dropdown lists ordering'!$B$36:$G$60,3,0)","v":"+33"},null,null,"+330",null,null,null,""]
[]
[]
[{"$f":"'Vocabulary translation'!A155","v":"Profile : IVR"},null,null,null,null,null,null,null,null,null,null,null,"Opening hours",null,"Call flows",null,"    --->>> Scroll to the right for Keypad settings !",null,null,null,null,null,null,null,null,"Keypads"]
[{"$f":"'Vocabulary translation'!A173","v":"Department"},{"$f":"'Vocabulary translation'!A174","v":"Office"},{"$f":"'Vocabulary translation'!A201","v":"IVR Name"},"Country Code (cc)",{"$f":"'Vocabulary translation'!A130","v":"Local Area Code (LAC)"},{"$f":"'Vocabulary translation'!A334","v":"Subscriber's Number"},{"$f":"'Vocabulary translation'!A178","v":"Queue (External) DDI\nFormat E164 (+ccxxxx…) (cc=country code)"},{"$f":"'Vocabulary translation'!A202","v":"IVR Name (CLI) to be displayed"},{"$f":"'Vocabulary translation'!A204","v":"IVR (Internal) Extension \nMax. 6 digits"},{"$f":"'Vocabulary translation'!A90","v":"Language"},{"$f":"'Vocabulary translation'!A181","v":"E-Mail Address"},"PIN Code",{"$f":"'Vocabulary translation'!A205","v":"Extension Availability"},{"$f":"'Vocabulary translation'!A206","v":"Repeat the menu"},{"$f":"'Vocabulary translation'!A207","v":"If no input from the caller"},{"$f":"'Vocabulary translation'!A186","v":"forward to (extension) (for second action)"},"Time based routing (Out of Office Hours - During Lunch - During Holidays - When Absent) applicable ?",{"$f":"'Vocabulary translation'!A187","v":"During Out Of Office Hours (OOOH) (intentional status)"},{"$f":"'Vocabulary translation'!A188","v":"forward to (extension) (for OOOH)"},{"$f":"'Vocabulary translation'!A189","v":"During Holidays"},{"$f":"'Vocabulary translation'!A190","v":"forward to (extension) (during holidays)"},{"$f":"'Vocabulary translation'!A191","v":"During lunch (intentional status)"},{"$f":"'Vocabulary translation'!A192","v":"forward to (extension) (during lunch)"},{"$f":"'Vocabulary translation'!A208","v":"when no agent connected"},{"$f":"'Vocabulary translation'!A196","v":"forward to (extension) (when no one is logged onto the queue)"},{"$f":"'Vocabulary translation'!A209","v":"Keypad 1"},{"$f":"'Vocabulary translation'!A210","v":"Forward to (extension) if relevant for keypad 1"},{"$f":"'Vocabulary translation'!A211","v":"Keypad 2"},{"$f":"'Vocabulary translation'!A212","v":"Forward to (extension) if relevant for keypad 2"},{"$f":"'Vocabulary translation'!A213","v":"Keypad 3"},{"$f":"'Vocabulary translation'!A214","v":"Forward to (extension) if relevant for keypad 3"},{"$f":"'Vocabulary translation'!A215","v":"Keypad 4"},{"$f":"'Vocabulary translation'!A216","v":"Forward to (extension) if relevant for keypad 4"},{"$f":"'Vocabulary translation'!A217","v":"Keypad 5"},{"$f":"'Vocabulary translation'!A218","v":"Forward to (extension) if relevant for keypad 5"},{"$f":"'Vocabulary translation'!A219","v":"Keypad 6"},{"$f":"'Vocabulary translation'!A220","v":"Forward to (extension) if relevant for keypad 6"},{"$f":"'Vocabulary translation'!A221","v":"Keypad 7"},{"$f":"'Vocabulary translation'!A222","v":"Forward to (extension) if relevant for keypad 7"},{"$f":"'Vocabulary translation'!A223","v":"Keypad 8"},{"$f":"'Vocabulary translation'!A224","v":"Forward to (extension) if relevant for keypad 8"},{"$f":"'Vocabulary translation'!A225","v":"Keypad 9"},{"$f":"'Vocabulary translation'!A226","v":"Forward to (extension) if relevant for keypad 9"},{"$f":"'Vocabulary translation'!A227","v":"Keypad 0"},{"$f":"'Vocabulary translation'!A228","v":"Forward to (extension) if relevant for keypad 9"}]
[null,null,null,{"$f":"VLOOKUP($C$5,'Dropdown lists ordering'!$B$36:$G$60,3,0)","v":"+33"},null,null,{"$f":"$E$5&IF(OR($C$5=\"CHE\",$C$5=\"ITA\"),E136,VALUE(E136))&F136","v":"+330"},{"$f":"G136","v":"+330"}]
[null,null,null,{"$f":"VLOOKUP($C$5,'Dropdown lists ordering'!$B$36:$G$60,3,0)","v":"+33"},null,null,{"$f":"$E$5&IF(OR($C$5=\"CHE\",$C$5=\"ITA\"),E137,VALUE(E137))&F137","v":"+330"},{"$f":"G137","v":"+330"}]
[null,null,null,{"$f":"VLOOKUP($C$5,'Dropdown lists ordering'!$B$36:$G$60,3,0)","v":"+33"},null,null,"+330","+330"]
[null,null,null,{"$f":"VLOOKUP($C$5,'Dropdown lists ordering'!$B$36:$G$60,3,0)","v":"+33"},null,null,"+330","+330"]
[null,null,null,{"$f":"VLOOKUP($C$5,'Dropdown lists ordering'!$B$36:$G$60,3,0)","v":"+33"},null,null,"+330","+330"]
[null,null,null,{"$f":"VLOOKUP($C$5,'Dropdown lists ordering'!$B$36:$G$60,3,0)","v":"+33"},null,null,"+330","+330"]
[null,null,null,{"$f":"VLOOKUP($C$5,'Dropdown lists ordering'!$B$36:$G$60,3,0)","v":"+33"},null,null,"+330","+330"]
[null,null,null,{"$f":"VLOOKUP($C$5,'Dropdown lists ordering'!$B$36:$G$60,3,0)","v":"+33"},null,null,"+330","+330"]
[null,null,null,{"$f":"VLOOKUP($C$5,'Dropdown lists ordering'!$B$36:$G$60,3,0)","v":"+33"},null,null,"+330","+330"]
[null,null,null,{"$f":"VLOOKUP($C$5,'Dropdown lists ordering'!$B$36:$G$60,3,0)","v":"+33"},null,null,"+330","+330"]
[null,null,null,{"$f":"VLOOKUP($C$5,'Dropdown lists ordering'!$B$36:$G$60,3,0)","v":"+33"},null,null,"+330","+330"]
[null,null,null,{"$f":"VLOOKUP($C$5,'Dropdown lists ordering'!$B$36:$G$60,3,0)","v":"+33"},null,null,"+330","+330"]
[null,null,null,{"$f":"VLOOKUP($C$5,'Dropdown lists ordering'!$B$36:$G$60,3,0)","v":"+33"},null,null,"+330","+330"]
[null,null,null,{"$f":"VLOOKUP($C$5,'Dropdown lists ordering'!$B$36:$G$60,3,0)","v":"+33"},null,null,"+330","+330"]
[null,null,null,{"$f":"VLOOKUP($C$5,'Dropdown lists ordering'!$B$36:$G$60,3,0)","v":"+33"},null,null,"+330","+330"]
[null,null,null,{"$f":"VLOOKUP($C$5,'Dropdown lists ordering'!$B$36:$G$60,3,0)","v":"+33"},null,null,"+330","+330"]
[null,null,null,{"$f":"VLOOKUP($C$5,'Dropdown lists ordering'!$B$36:$G$60,3,0)","v":"+33"},null,null,"+330","+330"]
[null,null,null,{"$f":"VLOOKUP($C$5,'Dropdown lists ordering'!$B$36:$G$60,3,0)","v":"+33"},null,null,"+330","+330"]
[null,null,null,{"$f":"VLOOKUP($C$5,'Dropdown lists ordering'!$B$36:$G$60,3,0)","v":"+33"},null,null,"+330","+330"]
[null,null,null,{"$f":"VLOOKUP($C$5,'Dropdown lists ordering'!$B$36:$G$60,3,0)","v":"+33"},null,null,"+330","+330"]
[null,null,null,{"$f":"VLOOKUP($C$5,'Dropdown lists ordering'!$B$36:$G$60,3,0)","v":"+33"},null,null,"+330","+330"]
[null,null,null,{"$f":"VLOOKUP($C$5,'Dropdown lists ordering'!$B$36:$G$60,3,0)","v":"+33"},null,null,"+330","+330"]
[null,null,null,{"$f":"VLOOKUP($C$5,'Dropdown lists ordering'!$B$36:$G$60,3,0)","v":"+33"},null,null,"+330","+330"]
[null,null,null,{"$f":"VLOOKUP($C$5,'Dropdown lists ordering'!$B$36:$G$60,3,0)","v":"+33"},null,null,"+330","+330"]
[null,null,null,{"$f":"VLOOKUP($C$5,'Dropdown lists ordering'!$B$36:$G$60,3,0)","v":"+33"},null,null,"+330","+330"]
[null,null,null,{"$f":"VLOOKUP($C$5,'Dropdown lists ordering'!$B$36:$G$60,3,0)","v":"+33"},null,null,"+330","+330"]
[null,null,null,{"$f":"VLOOKUP($C$5,'Dropdown lists ordering'!$B$36:$G$60,3,0)","v":"+33"},null,null,"+330","+330"]
[null,null,null,{"$f":"VLOOKUP($C$5,'Dropdown lists ordering'!$B$36:$G$60,3,0)","v":"+33"},null,null,"+330","+330"]
[null,null,null,{"$f":"VLOOKUP($C$5,'Dropdown lists ordering'!$B$36:$G$60,3,0)","v":"+33"},null,null,"+330","+330"]
[null,null,null,{"$f":"VLOOKUP($C$5,'Dropdown lists ordering'!$B$36:$G$60,3,0)","v":"+33"},null,null,"+330","+330"]

{"sheet":"User specifications","index":11,"n_rows":48,"n_cols":27,"rows_kept":48,"cut":false,"hidden":false,"merged":[[12,2,12,3],[11,2,11,3],[10,2,10,3],[10,7,10,8],[9,2,9,3],[9,7,9,8],[11,7,11,8],[3,1,3,3],[8,9,8,11],[8,2,8,3],[4,9,4,11],[5,9,5,11],[6,9,6,11],[7,9,7,11],[5,7,5,8],[6,7,6,8],[7,7,7,8],[8,7,8,8],[12,9,12,11],[4,7,4,8],[10,9,10,11],[9,9,9,11],[11,9,11,11],[14,0,14,3],[15,0,15,3],[16,0,16,3],[17,0,17,3],[14,4,14,6],[15,4,15,6],[18,0,18,3],[19,0,19,3],[16,4,16,6],[17,4,17,6],[18,4,18,6],[19,4,19,6]]}
["Colt Cloud UC - User details"]
[]
["OCN",{"$f":"'Sales - References'!C9","v":49959},null,null,null,{"$f":"'Vocabulary translation'!A333","v":"Existing Cloud UC Customer"},null,null,"Cluster Sop Key"]
[{"$f":"'Vocabulary translation'!A3","v":"Customer Name"},{"$f":"'Sales - References'!B3:C3","v":"Grey Communications"}]
[{"$f":"'Vocabulary translation'!A83","v":"Country"},{"$f":"IF('Sales - References'!C6=\"Other (Global Voice)\",'Sales - References'!E6,'Sales - References'!C6)","v":"France"},{"$f":"VLOOKUP(B5,'Dropdown lists ordering'!A38:C58,2,0)","v":"FRA"},{"$f":"VLOOKUP(B5,'Dropdown lists ordering'!A38:C58,3,0)","v":"UTC+01:00"},null,{"$f":"'Vocabulary translation'!A244","v":"Profile type"},{"$f":"'Vocabulary translation'!A245","v":"No. of profiles"},{"$f":"'Vocabulary translation'!A246","v":"Profile options"},null,{"$f":"'Vocabulary translation'!A276","v":"Total number of users ordered"}]
[null,null,null,null,null,{"$f":"DDIs!F13","v":"Standard Telephony & UC"},{"$f":"DDIs!G13","v":50},{"$f":"DDIs!H13","v":"None"},null,{"$f":"COUNTIF($Q$24:$Q$2407,F6)-1","v":22}]
[null,null,null,null,null,{"$f":"DDIs!F14","v":{"$error":"#N/A"}},{"$f":"DDIs!G14","v":0},{"$f":"DDIs!H14","v":{"$error":"#N/A"}},null,-1]
[null,null,null,null,null,{"$f":"DDIs!F15","v":{"$error":"#N/A"}},{"$f":"DDIs!G15","v":0},{"$f":"DDIs!H15","v":{"$error":"#N/A"}},null,-1]
[{"$f":"'Vocabulary translation'!A290","v":"Used profiles (non-user)"},null,{"$f":"'Groups - Queues - IVRs'!H3","v":0},null,null,{"$f":"DDIs!F16","v":{"$error":"#N/A"}},{"$f":"DDIs!G16","v":0},{"$f":"DDIs!H16","v":{"$error":"#N/A"}},null,-1]
[{"$f":"'Vocabulary translation'!A291","v":"Used profiles (user/receptionist)"},null,{"$f":"COUNTA($H$49:$H2447)","v":0},null,null,{"$f":"DDIs!F17","v":{"$error":"#N/A"}},{"$f":"DDIs!G17","v":0},{"$f":"DDIs!H17","v":{"$error":"#N/A"}},null,-1]
[{"$f":"'Vocabulary translation'!A292","v":"Used profiles (total)"},null,{"$f":"C9+C10","v":0},null,null,{"$f":"DDIs!F18","v":{"$error":"#N/A"}},{"$f":"DDIs!G18","v":0},{"$f":"DDIs!H18","v":{"$error":"#N/A"}},null,-1]
[{"$f":"'Vocabulary translation'!A295","v":"Available User-Receptionist profiles"},null,{"$f":"IF(G13-C9>0,G13-C9,\"\")","v":50},null,null,{"$f":"DDIs!F19","v":{"$error":"#N/A"}},{"$f":"DDIs!G19","v":0},{"$f":"DDIs!H19","v":{"$error":"#N/A"}},null,-1]
[{"$f":"'Vocabulary translation'!A299","v":"No. Of Profiles exceeded !"},null,{"$f":"IF(G13-C9<0,-G13-C9,'Vocabulary translation'!A20)","v":"No"},null,null,{"$f":"'Vocabulary translation'!A293","v":"Total"},{"$f":"SUM(G6:G12)","v":50},null,null,{"$f":"SUM(J6:L11)","v":17}]
[]
["Domain name (@ f.e. customername.com)",null,null,null,"grey.fr"]
[{"$f":"\"Default Language (\"&'Vocabulary translation'!A336&\")\"","v":"Default Language (The same for all users)"},null,null,null,"Yes"]
["Set Default Language to:",null,null,null,"GB"]
[{"$f":"'Vocabulary translation'!A335&\" \"&'Vocabulary translation'!A339 &\" & PIN code \"&\" \"&'Vocabulary translation'!A338&\" * \"","v":"Password User & PIN code  Phone * "},null,null,null,"The same for all users"]
[{"$f":"IF(E18='Vocabulary translation'!A336,\"Password (Min. 8 characters, complex)\",\"\")","v":"Password (Min. 8 characters, complex)"}]
[{"$f":"IF(E18='Vocabulary translation'!A336,\"PIN code \" &'Vocabulary translation'!A338&\" (4 digits)\",\"\")","v":"PIN code Phone (4 digits)"},null,null,null,1234]
[null,null,null,null,{"$f":"IF(OR(E15=\"\",OR(E16=\"\",AND(E16='Vocabulary translation'!A19,E17=\"\")),OR(E18=\"\",AND(E18='Vocabulary translation'!A336,OR(E19=\"\",E20=\"\")))),\"NOK\",\"OK\")","v":"NOK"}]
[{"$f":"'Vocabulary translation'!A289","v":"* Mandatory fields"}]
[{"$f":"'Vocabulary translation'!A247&\" *\"","v":"User details *"}]
[{"$f":"'Vocabulary translation'!A59&\" *\"","v":"Site Name (Alias) *"},{"$f":"'Vocabulary translation'!A62","v":"Street, Number"},{"$f":"'Vocabulary translation'!A63","v":"ZIP/Postal Code, Town"},{"$f":"'Vocabulary translation'!A248&\" *\"","v":"First name *"},{"$f":"'Vocabulary translation'!A249&\" *\"","v":"Last name *"},{"$f":"'Vocabulary translation'!A173&\" *\"","v":"Department *"},{"$f":"'Vocabulary translation'!A174","v":"Office"},"Country Code (cc)",{"$f":"'Vocabulary translation'!A130","v":"Local Area Code (LAC)"},{"$f":"'Vocabulary translation'!A334","v":"Subscriber's Number"},{"$f":"'Vocabulary translation'!A178","v":"Queue (External) DDI\nFormat E164 (+ccxxxx…) (cc=country code)"},{"$f":"'Vocabulary translation'!A251","v":"(Internal) Extension \nMax. 6 digits"},{"$f":"'Vocabulary translation'!A90","v":"Language"},{"$f":"'Vocabulary translation'!A181&\" *\"","v":"E-Mail Address *"},{"$f":"'Vocabulary translation'!A252","v":"Mobile number \nFormat E164 (+ccxxxx…) (cc=country code)"},"User Name *",{"$f":"'Vocabulary translation'!A253&\" *\"","v":"Cloud UC Profile *"},{"$f":"'Vocabulary translation'!A197","v":"Profile"},"Fixed Desk / Flex Desk (PUM) *",{"$f":"'Vocabulary translation'!A254","v":"Service Group"},{"$f":"'Vocabulary translation'!A255","v":"Member Queue 1"},{"$f":"'Vocabulary translation'!A256","v":"Member Queue 2"},{"$f":"'Vocabulary translation'!A257","v":"Member Queue 3"},{"$f":"'Vocabulary translation'!A258","v":"Permanent Queue"},"ADMIN permissions *","Password *","PIN code * "]
[" Paris",{"$f":"VLOOKUP($A25,'Customer Sites with tech. data'!$A$13:$K$262,4,0)","v":"18 rue Pasquier"},{"$f":"VLOOKUP($A25,'Customer Sites with tech. data'!$A$13:$K$262,5,0)","v":"75008"},"Romain","ARRIGONI","DEFAULT","Paris",{"$f":"VLOOKUP($C$5,'Dropdown lists ordering'!$B$36:$G$60,3,0)","v":"+33"},"1",44091508,{"$f":"'Groups - Queues - IVRs'!$E$5&IF(OR($C$5=\"CHE\",$C$5=\"ITA\"),I25,VALUE(I25))&J25","v":"+33144091508"},1508,"FR","romain.arrigoni@grey.fr",null,{"$f":"LEFT(N25,FIND(\"@\",N25)-1)","v":"romain.arrigoni"},"Standard Telephony & UC",{"$f":"IF(Q25=\"\",\"\",IF(Q25='Vocabulary translation'!$A$261,\"Receptionist\",\"User\"))","v":"User"},"No PUM (default: Fixed desk)",null,null,null,null,null,"No","Cl0udUC@",{"$f":"IF($E$18=\"The same for all users\",$E$20,RANDBETWEEN(1000,9999))","v":1234}]
[" Paris",{"$f":"VLOOKUP($A26,'Customer Sites with tech. data'!$A$13:$K$262,4,0)","v":"18 rue Pasquier"},{"$f":"VLOOKUP($A26,'Customer Sites with tech. data'!$A$13:$K$262,5,0)","v":"75008"},"Charles-Antoine","BADERSPACH","DEFAULT","Paris",{"$f":"VLOOKUP($C$5,'Dropdown lists ordering'!$B$36:$G$60,3,0)","v":"+33"},"1",44091552,{"$f":"'Groups - Queues - IVRs'!$E$5&IF(OR($C$5=\"CHE\",$C$5=\"ITA\"),I26,VALUE(I26))&J26","v":"+33144091552"},1552,"FR","charlesantoine.baderspach@grey.fr",null,"charlesantoine.baderspach","Standard Telephony & UC",{"$f":"IF(Q26=\"\",\"\",IF(Q26='Vocabulary translation'!$A$261,\"Receptionist\",\"User\"))","v":"User"},"No PUM (default: Fixed desk)",null,null,null,null,null,"No","Cl0udUC@",1234]
[" Paris",{"$f":"VLOOKUP($A27,'Customer Sites with tech. data'!$A$13:$K$262,4,0)","v":"18 rue Pasquier"},{"$f":"VLOOKUP($A27,'Customer Sites with tech. data'!$A$13:$K$262,5,0)","v":"75008"},"Valérie ","BERGERON-PEIX ","DEFAULT","Paris",{"$f":"VLOOKUP($C$5,'Dropdown lists ordering'!$B$36:$G$60,3,0)","v":"+33"},"1",44091576,{"$f":"'Groups - Queues - IVRs'!$E$5&IF(OR($C$5=\"CHE\",$C$5=\"ITA\"),I27,VALUE(I27))&J27","v":"+33144091576"},1576,"FR","valerie.bergeron-peix@grey.fr",null,"valerie.bergeron-peix","Standard Telephony & UC",{"$f":"IF(Q27=\"\",\"\",IF(Q27='Vocabulary translation'!$A$261,\"Receptionist\",\"User\"))","v":"User"},"No PUM (default: Fixed desk)",null,null,null,null,null,"No","Cl0udUC@",1234]
[" Paris",{"$f":"VLOOKUP($A28,'Customer Sites with tech. data'!$A$13:$K$262,4,0)","v":"18 rue Pasquier"},{"$f":"VLOOKUP($A28,'Customer Sites with tech. data'!$A$13:$K$262,5,0)","v":"75008"},"Régis","BOULANGER","DEFAULT","Paris",{"$f":"VLOOKUP($C$5,'Dropdown lists ordering'!$B$36:$G$60,3,0)","v":"+33"},"1",44091599,{"$f":"'Groups - Queues - IVRs'!$E$5&IF(OR($C$5=\"CHE\",$C$5=\"ITA\"),I28,VALUE(I28))&J28","v":"+33144091599"},1599,"FR","regis.boulanger@grey.com",null,"regis.boulanger","Standard Telephony & UC",{"$f":"IF(Q28=\"\",\"\",IF(Q28='Vocabulary translation'!$A$261,\"Receptionist\",\"User\"))","v":"User"},"No PUM (default: Fixed desk)",null,null,null,null,null,"No","Cl0udUC@",1234]
[" Paris",{"$f":"VLOOKUP($A29,'Customer Sites with tech. data'!$A$13:$K$262,4,0)","v":"18 rue Pasquier"},{"$f":"VLOOKUP($A29,'Customer Sites with tech. data'!$A$13:$K$262,5,0)","v":"75008"},"François","BRICAGE","DEFAULT","Paris",{"$f":"VLOOKUP($C$5,'Dropdown lists ordering'!$B$36:$G$60,3,0)","v":"+33"},"1",44091509,{"$f":"'Groups - Queues - IVRs'!$E$5&IF(OR($C$5=\"CHE\",$C$5=\"ITA\"),I29,VALUE(I29))&J29","v":"+33144091509"},1509,"FR","francois.bricage@grey.fr",null,"francois.bricage","Standard Telephony & UC",{"$f":"IF(Q29=\"\",\"\",IF(Q29='Vocabulary translation'!$A$261,\"Receptionist\",\"User\"))","v":"User"},"No PUM (default: Fixed desk)",null,null,null,null,null,"No","Cl0udUC@",1234]
[" Paris",{"$f":"VLOOKUP($A30,'Customer Sites with tech. data'!$A$13:$K$262,4,0)","v":"18 rue Pasquier"},{"$f":"VLOOKUP($A30,'Customer Sites with tech. data'!$A$13:$K$262,5,0)","v":"75008"},"Géraldine","CARLIOZ","DEFAULT","Paris",{"$f":"VLOOKUP($C$5,'Dropdown lists ordering'!$B$36:$G$60,3,0)","v":"+33"},"1",44091512,{"$f":"'Groups - Queues - IVRs'!$E$5&IF(OR($C$5=\"CHE\",$C$5=\"ITA\"),I30,VALUE(I30))&J30","v":"+33144091512"},1512,"FR","geraldine.carlioz@grey.fr",null,"geraldine.carlioz","Standard Telephony & UC",{"$f":"IF(Q30=\"\",\"\",IF(Q30='Vocabulary translation'!$A$261,\"Receptionist\",\"User\"))","v":"User"},"No PUM (default: Fixed desk)",null,null,null,null,null,"No","Cl0udUC@",1234]
[" Paris",{"$f":"VLOOKUP($A31,'Customer Sites with tech. data'!$A$13:$K$262,4,0)","v":"18 rue Pasquier"},{"$f":"VLOOKUP($A31,'Customer Sites with tech. data'!$A$13:$K$262,5,0)","v":"75008"},"Michel","CAUCHY","DEFAULT","Paris",{"$f":"VLOOKUP($C$5,'Dropdown lists ordering'!$B$36:$G$60,3,0)","v":"+33"},"1",44091453,{"$f":"'Groups - Queues - IVRs'!$E$5&IF(OR($C$5=\"CHE\",$C$5=\"ITA\"),I31,VALUE(I31))&J31","v":"+33144091453"},1453,"FR","michel.cauchy@grey.fr",null,"michel.cauchy","Standard Telephony & UC",{"$f":"IF(Q31=\"\",\"\",IF(Q31='Vocabulary translation'!$A$261,\"Receptionist\",\"User\"))","v":"User"},"No PUM (default: Fixed desk)",null,null,null,null,null,"No","Cl0udUC@",1234]
[" Paris",{"$f":"VLOOKUP($A32,'Customer Sites with tech. data'!$A$13:$K$262,4,0)","v":"18 rue Pasquier"},{"$f":"VLOOKUP($A32,'Customer Sites with tech. data'!$A$13:$K$262,5,0)","v":"75008"},"Laurence","CORMIER","DEFAULT","Paris",{"$f":"VLOOKUP($C$5,'Dropdown lists ordering'!$B$36:$G$60,3,0)","v":"+33"},"1",44091543,{"$f":"'Groups - Queues - IVRs'!$E$5&IF(OR($C$5=\"CHE\",$C$5=\"ITA\"),I32,VALUE(I32))&J32","v":"+33144091543"},1543,"FR","laurence.cormier@grey.fr",null,"laurence.cormier","Standard Telephony & UC",{"$f":"IF(Q32=\"\",\"\",IF(Q32='Vocabulary translation'!$A$261,\"Receptionist\",\"User\"))","v":"User"},"No PUM (default: Fixed desk)",null,null,null,null,null,"No","Cl0udUC@",1234]
[" Paris",{"$f":"VLOOKUP($A33,'Customer Sites with tech. data'!$A$13:$K$262,4,0)","v":"18 rue Pasquier"},{"$f":"VLOOKUP($A33,'Customer Sites with tech. data'!$A$13:$K$262,5,0)","v":"75008"},"Olivier","COURADJUT","DEFAULT","Paris",{"$f":"VLOOKUP($C$5,'Dropdown lists ordering'!$B$36:$G$60,3,0)","v":"+33"},"1",44091528,{"$f":"'Groups - Queues - IVRs'!$E$5&IF(OR($C$5=\"CHE\",$C$5=\"ITA\"),I33,VALUE(I33))&J33","v":"+33144091528"},1528,"FR","olivier.couradjut@grey.fr",null,"olivier.couradjut","Standard Telephony & UC",{"$f":"IF(Q33=\"\",\"\",IF(Q33='Vocabulary translation'!$A$261,\"Receptionist\",\"User\"))","v":"User"},"No PUM (default: Fixed desk)",null,null,null,null,null,"No","Cl0udUC@",1234]
[" Paris",{"$f":"VLOOKUP($A34,'Customer Sites with tech. data'!$A$13:$K$262,4,0)","v":"18 rue Pasquier"},{"$f":"VLOOKUP($A34,'Customer Sites with tech. data'!$A$13:$K$262,5,0)","v":"75008"},"Sophie ","DILOUYA","DEFAULT","Paris",{"$f":"VLOOKUP($C$5,'Dropdown lists ordering'!$B$36:$G$60,3,0)","v":"+33"},"1",44091525,{"$f":"'Groups - Queues - IVRs'!$E$5&IF(OR($C$5=\"CHE\",$C$5=\"ITA\"),I34,VALUE(I34))&J34","v":"+33144091525"},1525,"FR","sophie.dilouya@grey.com",null,"sophie.dilouya","Standard Telephony & UC",{"$f":"IF(Q34=\"\",\"\",IF(Q34='Vocabulary translation'!$A$261,\"Receptionist\",\"User\"))","v":"User"},"No PUM (default: Fixed desk)",null,null,null,null,null,"No","Cl0udUC@",1234]
[" Paris",{"$f":"VLOOKUP($A35,'Customer Sites with tech. data'!$A$13:$K$262,4,0)","v":"18 rue Pasquier"},{"$f":"VLOOKUP($A35,'Customer Sites with tech. data'!$A$13:$K$262,5,0)","v":"75008"},"Jean","ESTAUVER","DEFAULT","Paris",{"$f":"VLOOKUP($C$5,'Dropdown lists ordering'!$B$36:$G$60,3,0)","v":"+33"},"1",44091505,{"$f":"'Groups - Queues - IVRs'!$E$5&IF(OR($C$5=\"CHE\",$C$5=\"ITA\"),I35,VALUE(I35))&J35","v":"+33144091505"},1505,"FR","jean.estauver@grey.fr",null,"jean.estauver","Standard Telephony & UC",{"$f":"IF(Q35=\"\",\"\",IF(Q35='Vocabulary translation'!$A$261,\"Receptionist\",\"User\"))","v":"User"},"No PUM (default: Fixed desk)",null,null,null,null,null,"No","Cl0udUC@",1234]
[" Paris",{"$f":"VLOOKUP($A36,'Customer Sites with tech. data'!$A$13:$K$262,4,0)","v":"18 rue Pasquier"},{"$f":"VLOOKUP($A36,'Customer Sites with tech. data'!$A$13:$K$262,5,0)","v":"75008"},"Sofia","INACIO","DEFAULT","Paris",{"$f":"VLOOKUP($C$5,'Dropdown lists ordering'!$B$36:$G$60,3,0)","v":"+33"},"1",44091566,{"$f":"'Groups - Queues - IVRs'!$E$5&IF(OR($C$5=\"CHE\",$C$5=\"ITA\"),I36,VALUE(I36))&J36","v":"+33144091566"},1566,"FR","sofia.inacio@grey.fr",null,"sofia.inacio","Standard Telephony & UC",{"$f":"IF(Q36=\"\",\"\",IF(Q36='Vocabulary translation'!$A$261,\"Receptionist\",\"User\"))","v":"User"},"No PUM (default: Fixed desk)",null,null,null,null,null,"No","Cl0udUC@",1234]
[" Paris",{"$f":"VLOOKUP($A37,'Customer Sites with tech. data'!$A$13:$K$262,4,0)","v":"18 rue Pasquier"},{"$f":"VLOOKUP($A37,'Customer Sites with tech. data'!$A$13:$K$262,5,0)","v":"75008"},"Sophie ","KANTJAS","DEFAULT","Paris",{"$f":"VLOOKUP($C$5,'Dropdown lists ordering'!$B$36:$G$60,3,0)","v":"+33"},"1",44091531,{"$f":"'Groups - Queues - IVRs'!$E$5&IF(OR($C$5=\"CHE\",$C$5=\"ITA\"),I37,VALUE(I37))&J37","v":"+33144091531"},1531,"FR","sophie.kantjas@grey.fr",null,"sophie.kantjas","Standard Telephony & UC",{"$f":"IF(Q37=\"\",\"\",IF(Q37='Vocabulary translation'!$A$261,\"Receptionist\",\"User\"))","v":"User"},"No PUM (default: Fixed desk)",null,null,null,null,null,"No","Cl0udUC@",1234]
[" Paris",{"$f":"VLOOKUP($A38,'Customer Sites with tech. data'!$A$13:$K$262,4,0)","v":"18 rue Pasquier"},{"$f":"VLOOKUP($A38,'Customer Sites with tech. data'!$A$13:$K$262,5,0)","v":"75008"},"Alexandre","MARTIN","DEFAULT","Paris",{"$f":"VLOOKUP($C$5,'Dropdown lists ordering'!$B$36:$G$60,3,0)","v":"+33"},"1",44091502,{"$f":"'Groups - Queues - IVRs'!$E$5&IF(OR($C$5=\"CHE\",$C$5=\"ITA\"),I38,VALUE(I38))&J38","v":"+33144091502"},1502,"FR","alexandre.martin@grey.fr",null,"alexandre.martin","Standard Telephony & UC",{"$f":"IF(Q38=\"\",\"\",IF(Q38='Vocabulary translation'!$A$261,\"Receptionist\",\"User\"))","v":"User"},"No PUM (default: Fixed desk)",null,null,null,null,null,"No","Cl0udUC@",1234]
[" Paris",{"$f":"VLOOKUP($A39,'Customer Sites with tech. data'!$A$13:$K$262,4,0)","v":"18 rue Pasquier"},{"$f":"VLOOKUP($A39,'Customer Sites with tech. data'!$A$13:$K$262,5,0)","v":"75008"},"Romain","REPELLIN","DEFAULT","Paris",{"$f":"VLOOKUP($C$5,'Dropdown lists ordering'!$B$36:$G$60,3,0)","v":"+33"},"1",44091598,{"$f":"'Groups - Queues - IVRs'!$E$5&IF(OR($C$5=\"CHE\",$C$5=\"ITA\"),I39,VALUE(I39))&J39","v":"+33144091598"},1598,"FR","romain.repellin@grey.com",null,"romain.repellin","Standard Telephony & UC",{"$f":"IF(Q39=\"\",\"\",IF(Q39='Vocabulary translation'!$A$261,\"Receptionist\",\"User\"))","v":"User"},"No PUM (default: Fixed desk)",null,null,null,null,null,"No","Cl0udUC@",1234]
[" Paris",{"$f":"VLOOKUP($A40,'Customer Sites with tech. data'!$A$13:$K$262,4,0)","v":"18 rue Pasquier"},{"$f":"VLOOKUP($A40,'Customer Sites with tech. data'!$A$13:$K$262,5,0)","v":"75008"},"Nicolas","RICHARD","DEFAULT","Paris",{"$f":"VLOOKUP($C$5,'Dropdown lists ordering'!$B$36:$G$60,3,0)","v":"+33"},"1",44091542,{"$f":"'Groups - Queues - IVRs'!$E$5&IF(OR($C$5=\"CHE\",$C$5=\"ITA\"),I40,VALUE(I40))&J40","v":"+33144091542"},1542,"FR","nicolas.richard@grey.fr",null,"nicolas.richard","Standard Telephony & UC",{"$f":"IF(Q40=\"\",\"\",IF(Q40='Vocabulary translation'!$A$261,\"Receptionist\",\"User\"))","v":"User"},"No PUM (default: Fixed desk)",null,null,null,null,null,"No","Cl0udUC@",1234]
[" Paris",{"$f":"VLOOKUP($A41,'Customer Sites with tech. data'!$A$13:$K$262,4,0)","v":"18 rue Pasquier"},{"$f":"VLOOKUP($A41,'Customer Sites with tech. data'!$A$13:$K$262,5,0)","v":"75008"},"Clotilde","SAURINE","DEFAULT","Paris",{"$f":"VLOOKUP($C$5,'Dropdown lists ordering'!$B$36:$G$60,3,0)","v":"+33"},"1",44091556,{"$f":"'Groups - Queues - IVRs'!$E$5&IF(OR($C$5=\"CHE\",$C$5=\"ITA\"),I41,VALUE(I41))&J41","v":"+33144091556"},1456,"FR","clotilde.saurine@grey.fr",null,"clotilde.saurine","Standard Telephony & UC",{"$f":"IF(Q41=\"\",\"\",IF(Q41='Vocabulary translation'!$A$261,\"Receptionist\",\"User\"))","v":"User"},"No PUM (default: Fixed desk)",null,null,null,null,null,"No","Cl0udUC@",1234]
[" Paris",{"$f":"VLOOKUP($A42,'Customer Sites with tech. data'!$A$13:$K$262,4,0)","v":"18 rue Pasquier"},{"$f":"VLOOKUP($A42,'Customer Sites with tech. data'!$A$13:$K$262,5,0)","v":"75008"},"Valérie","THELLIEZ","DEFAULT","Paris",{"$f":"VLOOKUP($C$5,'Dropdown lists ordering'!$B$36:$G$60,3,0)","v":"+33"},"1",44091579,{"$f":"'Groups - Queues - IVRs'!$E$5&IF(OR($C$5=\"CHE\",$C$5=\"ITA\"),I42,VALUE(I42))&J42","v":"+33144091579"},1579,"FR","valerie.thelliez@grey.fr",null,"valerie.thelliez","Standard Telephony & UC",{"$f":"IF(Q42=\"\",\"\",IF(Q42='Vocabulary translation'!$A$261,\"Receptionist\",\"User\"))","v":"User"},"No PUM (default: Fixed desk)",null,null,null,null,null,"No","Cl0udUC@",1234]
[" Paris",{"$f":"VLOOKUP($A43,'Customer Sites with tech. data'!$A$13:$K$262,4,0)","v":"18 rue Pasquier"},{"$f":"VLOOKUP($A43,'Customer Sites with tech. data'!$A$13:$K$262,5,0)","v":"75008"},"Vincent","TONNERRE","DEFAULT","Paris",{"$f":"VLOOKUP($C$5,'Dropdown lists ordering'!$B$36:$G$60,3,0)","v":"+33"},"1",44091510,{"$f":"'Groups - Queues - IVRs'!$E$5&IF(OR($C$5=\"CHE\",$C$5=\"ITA\"),I43,VALUE(I43))&J43","v":"+33144091510"},1510,"FR","vincent.tonnerre@grey.fr",null,"vincent.tonnerre","Standard Telephony & UC",{"$f":"IF(Q43=\"\",\"\",IF(Q43='Vocabulary translation'!$A$261,\"Receptionist\",\"User\"))","v":"User"},"No PUM (default: Fixed desk)",null,null,null,null,null,"No","Cl0udUC@",1234]
[" Paris",{"$f":"VLOOKUP($A44,'Customer Sites with tech. data'!$A$13:$K$262,4,0)","v":"18 rue Pasquier"},{"$f":"VLOOKUP($A44,'Customer Sites with tech. data'!$A$13:$K$262,5,0)","v":"75008"},"Rémy","TRICOT","DEFAULT","Paris",{"$f":"VLOOKUP($C$5,'Dropdown lists ordering'!$B$36:$G$60,3,0)","v":"+33"},"1",44091527,{"$f":"'Groups - Queues - IVRs'!$E$5&IF(OR($C$5=\"CHE\",$C$5=\"ITA\"),I44,VALUE(I44))&J44","v":"+33144091527"},1527,"FR","remy.tricot@grey.fr",null,"remy.tricot","Standard Telephony & UC",{"$f":"IF(Q44=\"\",\"\",IF(Q44='Vocabulary translation'!$A$261,\"Receptionist\",\"User\"))","v":"User"},"No PUM (default: Fixed desk)",null,null,null,null,null,"No","Cl0udUC@",1234]
[" Paris",{"$f":"VLOOKUP($A45,'Customer Sites with tech. data'!$A$13:$K$262,4,0)","v":"18 rue Pasquier"},{"$f":"VLOOKUP($A45,'Customer Sites with tech. data'!$A$13:$K$262,5,0)","v":"75008"},"Bertille","VERMOT","DEFAULT","Paris",{"$f":"VLOOKUP($C$5,'Dropdown lists ordering'!$B$36:$G$60,3,0)","v":"+33"},"1",44091545,{"$f":"'Groups - Queues - IVRs'!$E$5&IF(OR($C$5=\"CHE\",$C$5=\"ITA\"),I45,VALUE(I45))&J45","v":"+33144091545"},1545,"FR","bertille.vermot@grey.fr",null,"bertille.vermot","Standard Telephony & UC",{"$f":"IF(Q45=\"\",\"\",IF(Q45='Vocabulary translation'!$A$261,\"Receptionist\",\"User\"))","v":"User"},"No PUM (default: Fixed desk)",null,null,null,null,null,"No","Cl0udUC@",1234]
[" Paris",{"$f":"VLOOKUP($A46,'Customer Sites with tech. data'!$A$13:$K$262,4,0)","v":"18 rue Pasquier"},{"$f":"VLOOKUP($A46,'Customer Sites with tech. data'!$A$13:$K$262,5,0)","v":"75008"},"Alban","VIREY","DEFAULT","Paris",{"$f":"VLOOKUP($C$5,'Dropdown lists ordering'!$B$36:$G$60,3,0)","v":"+33"},"1",44091504,{"$f":"'Groups - Queues - IVRs'!$E$5&IF(OR($C$5=\"CHE\",$C$5=\"ITA\"),I46,VALUE(I46))&J46","v":"+33144091504"},1504,"FR","alban.virey@grey.fr",null,"alban.virey","Standard Telephony & UC",{"$f":"IF(Q46=\"\",\"\",IF(Q46='Vocabulary translation'!$A$261,\"Receptionist\",\"User\"))","v":"User"},"No PUM (default: Fixed desk)",null,null,null,null,null,"No","Cl0udUC@",1234]
[" Paris",{"$f":"VLOOKUP($A47,'Customer Sites with tech. data'!$A$13:$K$262,4,0)","v":"18 rue Pasquier"},{"$f":"VLOOKUP($A47,'Customer Sites with tech. data'!$A$13:$K$262,5,0)","v":"75008"},null,"SWITCHBOARD :  1515","DEFAULT","Paris",{"$f":"VLOOKUP($C$5,'Dropdown lists ordering'!$B$36:$G$60,3,0)","v":"+33"},"1",44091515,{"$f":"'Groups - Queues - IVRs'!$E$5&IF(OR($C$5=\"CHE\",$C$5=\"ITA\"),I47,VALUE(I47))&J47","v":"+33144091515"},1515,"FR","accueil@grey.fr",null,"accueil","Standard Telephony & UC",{"$f":"IF(Q47=\"\",\"\",IF(Q47='Vocabulary translation'!$A$261,\"Receptionist\",\"User\"))","v":"User"},"No PUM (default: Fixed desk)",null,null,null,null,null,"No","Cl0udUC@",1234]
[null,{"$f":"VLOOKUP($A48,'Customer Sites with tech. data'!$A$13:$K$262,4,0)","v":{"$error":"#N/A"}},{"$f":"VLOOKUP($A48,'Customer Sites with tech. data'!$A$13:$K$262,5,0)","v":{"$error":"#N/A"}},null,null,null,null,{"$f":"VLOOKUP($C$5,'Dropdown lists ordering'!$B$36:$G$60,3,0)","v":"+33"},null,null,{"$f":"'Groups - Queues - IVRs'!$E$5&IF(OR($C$5=\"CHE\",$C$5=\"ITA\"),I48,VALUE(I48))&J48","v":"+330"},null,null,null,null,{"$f":"LEFT(N48,FIND(\"@\",N48)-1)","v":{"$error":"#VALUE!"}},null,{"$f":"IF(Q48=\"\",\"\",IF(Q48='Vocabulary translation'!$A$261,\"Receptionist\",\"User\"))","v":""}]

{"sheet":"Enhanced Audio Conferencing","index":12,"n_rows":28,"n_cols":11,"rows_kept":28,"cut":false,"hidden":false,"merged":[[14,7,14,8],[12,7,12,8],[13,7,13,8],[2,1,2,3],[3,1,3,3],[8,7,8,8],[9,7,9,8],[10,7,10,8],[11,7,11,8],[7,2,7,3],[3,7,3,8],[8,2,8,3],[4,7,4,8],[9,2,9,3],[5,7,5,8],[19,0,19,1],[19,2,19,3],[19,5,19,6],[10,2,10,3],[11,2,11,3],[12,2,12,3],[16,0,16,6],[17,0,17,1],[17,2,17,3],[17,5,17,6],[18,0,18,1],[18,2,18,3],[18,5,18,6],[23,0,23,1],[23,2,23,3],[23,5,23,6],[20,0,20,1],[20,2,20,3],[20,5,20,6],[21,0,21,1],[21,2,21,3],[21,5,21,6],[22,0,22,1],[22,2,22,3],[22,5,22,6]]}
["Colt Cloud UC - User details for Audio Conferencing"]
[]
["OCN",{"$f":"'Sales - References'!C9","v":49959},null,null,null,"Colt Internal Use"]
[{"$f":"'Vocabulary translation'!A3","v":"Customer Name"},{"$f":"'Sales - References'!B3:C3","v":"Grey Communications"},null,null,null,"Primary Offering"]
[{"$f":"'Vocabulary translation'!A83","v":"Country"},{"$f":"IF('Sales - References'!C6=\"Other (Global Voice)\",'Sales - References'!E6,'Sales - References'!C6)","v":"France"},{"$f":"VLOOKUP(B5,'Dropdown lists ordering'!A38:C58,2,0)","v":"FRA"},{"$f":"VLOOKUP(B5,'Dropdown lists ordering'!A38:C58,3,0)","v":"UTC+01:00"},null,"Corporate Account"]
[null,null,null,null,null,"CAMP Prefix"]
["Audio Conferencing",null,null,null,null,"Enhanced Audio Conferencing",null,{"$f":"IF(VLOOKUP('Vocabulary translation'!A296,'Enhanced Audio Conferencing'!H9:I15,1,0)='Vocabulary translation'!A296,'Vocabulary translation'!A22,'Vocabulary translation'!A21)","v":{"$error":"#N/A"}},{"$f":"SUMIF('Enhanced Audio Conferencing'!H9:I14,'Vocabulary translation'!A296,'Enhanced Audio Conferencing'!G9:G14)","v":0}]
[{"$f":"'Vocabulary translation'!A262","v":"Subscriber Country"},null,{"$f":"'Sales - References'!C8","v":"France - English"},null,null,{"$f":"'Vocabulary translation'!A244","v":"Profile type"},{"$f":"'Vocabulary translation'!A245","v":"No. of profiles"},{"$f":"'Vocabulary translation'!A246","v":"Profile options"}]
[{"$f":"'Vocabulary translation'!A263","v":"IVR Language"},null,{"$f":"'Customer Legal - Invoicing'!B4","v":"English"},null,null,{"$f":"DDIs!F13","v":"Standard Telephony & UC"},{"$f":"DDIs!G13","v":50},{"$f":"DDIs!H13","v":"None"}]
[{"$f":"'Vocabulary translation'!A264","v":"Portal Language"},null,{"$f":"'Customer Legal - Invoicing'!B4","v":"English"},null,null,{"$f":"DDIs!F14","v":{"$error":"#N/A"}},{"$f":"DDIs!G14","v":0},{"$f":"DDIs!H14","v":{"$error":"#N/A"}}]
[{"$f":"'Vocabulary translation'!A265","v":"Timezone"},null,{"$f":"VLOOKUP(B5,'Dropdown lists ordering'!A38:C51,3,0)","v":"UTC+01:00"},null,null,{"$f":"DDIs!F15","v":{"$error":"#N/A"}},{"$f":"DDIs!G15","v":0},{"$f":"DDIs!H15","v":{"$error":"#N/A"}}]
[{"$f":"'Vocabulary translation'!A266","v":"Currency"},null,{"$f":"'Customer Legal - Invoicing'!B30","v":"EUR"},null,null,{"$f":"DDIs!F16","v":{"$error":"#N/A"}},{"$f":"DDIs!G16","v":0},{"$f":"DDIs!H16","v":{"$error":"#N/A"}}]
[{"$f":"'Vocabulary translation'!A267","v":"Reserved Extensions"},null,"See 'DDIs'-tab",null,null,{"$f":"DDIs!F17","v":{"$error":"#N/A"}},{"$f":"DDIs!G17","v":0},{"$f":"DDIs!H17","v":{"$error":"#N/A"}}]
[null,null,null,null,null,{"$f":"DDIs!F18","v":{"$error":"#N/A"}},{"$f":"DDIs!G18","v":0},{"$f":"DDIs!H18","v":{"$error":"#N/A"}}]
[null,null,null,null,null,{"$f":"DDIs!F19","v":{"$error":"#N/A"}},{"$f":"DDIs!G19","v":0},{"$f":"DDIs!H19","v":{"$error":"#N/A"}}]
[]
[{"$f":"'Vocabulary translation'!A268","v":"IT Administrator Details"}]
[{"$f":"'Vocabulary translation'!A112","v":"Name"},null,{"$f":"'Vocabulary translation'!A181","v":"E-Mail Address"},null,{"$f":"'Vocabulary translation'!A87","v":"Phone number"},"Colt Online UserID"]
[{"$f":"'Customer Contacts'!E20","v":"richard Rawlinson "},null,{"$f":"'Customer Contacts'!E21","v":0},null,{"$f":"'Customer Contacts'!E22","v":0},{"$f":"\"ADM\"&'Sales - References'!C9","v":"ADM49959"}]
[]
[]
[]
[]
[]
[{"$f":"'Vocabulary translation'!A289","v":"* Mandatory fields"}]
[{"$f":"'Vocabulary translation'!A247&\" *\"","v":"User details *"}]
[{"$f":"'Vocabulary translation'!A59","v":"Site Name (Alias)"},{"$f":"'Vocabulary translation'!A248&\" *\"","v":"First name *"},{"$f":"'Vocabulary translation'!A249&\" *\"","v":"Last name *"},{"$f":"'Vocabulary translation'!A181&\" *\"","v":"E-Mail Address *"},{"$f":"'Vocabulary translation'!A269","v":"Conferencing End User details Web login pw"},{"$f":"'Vocabulary translation'!A270","v":"(Internal) Extension"},{"$f":"'Vocabulary translation'!A271","v":"4 digit customer extensions (optional)"},{"$f":"'Vocabulary translation'!A272","v":"4 digit PIN (optional)"},{"$f":"'Vocabulary translation'!A273","v":"Cost centre (optional)"},{"$f":"'Vocabulary translation'!A274","v":"Call recording flag (optional)"},{"$f":"'Vocabulary translation'!A275","v":"OutDial Option (optional)"}]
[{"$f":"IF(VLOOKUP('Vocabulary translation'!$A$296,$H$9:$I$14,1,0)='Vocabulary translation'!$A$296,'User specifications'!#REF!,\"N/A\")","v":{"$error":"#N/A"}},{"$f":"IF(VLOOKUP('Vocabulary translation'!$A$296,$H$9:$I$14,1,0)='Vocabulary translation'!$A$296,'User specifications'!#REF!,\"N/A\")","v":{"$error":"#N/A"}},{"$f":"IF(VLOOKUP('Vocabulary translation'!$A$296,$H$9:$I$14,1,0)='Vocabulary translation'!$A$296,'User specifications'!#REF!,\"N/A\")","v":{"$error":"#N/A"}},{"$f":"IF(VLOOKUP('Vocabulary translation'!$A$296,$H$9:$I$14,1,0)='Vocabulary translation'!$A$296,'User specifications'!#REF!,\"N/A\")","v":{"$error":"#N/A"}},null,{"$f":"IF(VLOOKUP(\"Enhanced Audio Conferencing\",$H$9:$I$14,1,0)='Vocabulary translation'!$A$296,'User specifications'!#REF!,\"N/A\")","v":{"$error":"#N/A"}},null,null,"Yes","Yes","National (Default)/International"]

{"sheet":"Dropdown lists ordering","index":13,"n_rows":60,"n_cols":15,"rows_kept":60,"cut":false,"hidden":true,"merged":[[14,0,16,0],[14,1,16,1],[17,0,18,0],[17,2,18,2],[19,0,21,0],[19,2,21,2],[31,0,33,0],[31,1,33,1],[22,0,24,0],[22,2,24,2],[25,0,27,0],[25,2,27,2],[28,0,30,0],[28,2,30,2]]}
["Office per country","Austria","Belgium","Denmark","France","Germany","Ireland","Italy","Netherlands","Portugal","Spain","Sweden","Switzerland","UK","Other (Global Voice)"]
[{"$f":"HLOOKUP('Sales - References'!$C$6,'Dropdown lists ordering'!$B$1:$O$10,2,0)","v":"Lyon"},"Vienna","Brussels","Copenhagen","Lyon","Berlin","Dublin","Milan","Amsterdam","Lisboa","Barcelona","Stockholm","Basel","Birmingham","Global Voice"]
[{"$f":"HLOOKUP('Sales - References'!$C$6,'Dropdown lists ordering'!$B$1:$O$10,3,0)","v":"Marseille"}," - "," - "," - ","Marseille","Cologne"," - ","Turin"," - "," - ","Madrid"," - ","Bern","London"," - "]
[{"$f":"HLOOKUP('Sales - References'!$C$6,'Dropdown lists ordering'!$B$1:$O$10,4,0)","v":"Paris"}," - "," - "," - ","Paris","Dusseldorf"," - ","Rome"," - "," - ","Valencia"," - ","Geneva","Manchester"," - "]
[{"$f":"HLOOKUP('Sales - References'!$C$6,'Dropdown lists ordering'!$B$1:$O$10,5,0)","v":"Rest of France"}," - "," - "," - ","Rest of France","Frankfurt"," - "," - "," - "," - "," - "," - ","Zurich"," - "," - "]
[{"$f":"HLOOKUP('Sales - References'!$C$6,'Dropdown lists ordering'!$B$1:$O$10,6,0)","v":" - "}," - "," - "," - "," - ","Hamburg"," - "," - "," - "," - "," - "," - ","Zug"," - "," - "]
[{"$f":"HLOOKUP('Sales - References'!$C$6,'Dropdown lists ordering'!$B$1:$O$10,7,0)","v":" - "}," - "," - "," - "," - ","Hannover"," - "," - "," - "," - "," - "," - "," - "," - "," - "]
[{"$f":"HLOOKUP('Sales - References'!$C$6,'Dropdown lists ordering'!$B$1:$O$10,8,0)","v":" - "}," - "," - "," - "," - ","Munich"," - "," - "," - "," - "," - "," - "," - "," - "," - "]
[{"$f":"HLOOKUP('Sales - References'!$C$6,'Dropdown lists ordering'!$B$1:$O$10,9,0)","v":" - "}," - "," - "," - "," - ","Stuttgart"," - "," - "," - "," - "," - "," - "," - "," - "," - "]
[{"$f":"HLOOKUP('Sales - References'!$C$6,'Dropdown lists ordering'!$B$1:$O$10,10,0)","v":" - "}," - "," - "," - "," - "," - "," - "," - "," - "," - "," - "," - "," - "," - "," - "]
[]
[]
[]
["Existing connectivity","Voice Service","Connectivity",null,"No","New / TDM","VoIP_Access_over_IPVPN","New"]
["No","New / TDM","IPVPN",null,"IPVPN","VoIP_Access","VoIP_Access_over_Internet","Modification"]
[null,null,"Remote_Fixed_VPN",null,"Remote_Fixed_VPN","IP_Voice_Line","VoIP_Access_over_EPN"]
[null,null,"WebRTC_only",null,"IP_Access"]
["Public_Internet","VoIP_Access","Remote_Fixed_VPN",null,"Public_Internet"]
[null,"IP_Voice_Line",null,null,"EPN"]
["IPVPN","New / TDM","IPVPN",null,"Only_LAN_Link"]
[null,"VoIP_Access",null,null,"WebRTC_only"]
[null,"IP_Voice_Line"]
["Remote_Fixed_VPN","New / TDM","Remote_Fixed_VPN"]
[null,"VoIP_Access"]
[null,"IP_Voice_Line"]
["Public_Internet","New / TDM","Remote_Fixed_VPN"]
[null,"VoIP_Access"]
[null,"IP_Voice_Line"]
["EPN","New / TDM","EPN"]
[null,"VoIP_Access"]
[null,"IP_Voice_Line"]
["Only_LAN_Link","New / TDM","IPVPN"]
[null,null,0]
[null,null,"WebRTC_only"]
[]
[]
["Country","ISO country code 3 digits","ISO timezone","country calling codes","digits (w/o leading zero)","ISO country code 2 digits, used for languages","_country calling codes"]
["Austria","AUT","UTC+01:00","+43",null,null,{"$f":"\"_\"&D38","v":"_+43"}]
["Belgium","BEL","UTC+01:00","+32","8",null,{"$f":"\"_\"&D39","v":"_+32"}]
["Denmark","DNK","UTC+01:00","+45","8","DK","_+45"]
["France","FRA","UTC+01:00","+33","9","FR","_+33"]
["Germany","DEU","UTC+01:00","+49","13","DE","_+49"]
["Ireland","IRL","UTC+-00:00","+353","7",null,"_+353"]
["Italy","ITA","UTC+01:00","+39","10","IT","_+39"]
["Netherlands","NLD","UTC+01:00","+31","9","NL","_+31"]
["Portugal","PRT","UTC+-00:00","+351","9","PT","_+351"]
["Spain","ESP","UTC+01:00","+34","9","ES","_+34"]
["Sweden","SWE","UTC+01:00","+46","9","SE","_+46"]
["Switzerland","CHE","UTC+01:00","+41","10",null,"_+41"]
["UK","GBR","UTC+-00:00","+44","10","GB","_+44"]
[" - ",null,"UTC-01:00",null,null,null,"_"]
["Czech Republic","CZE","UTC+01:00","+420","9",null,{"$f":"\"_\"&D52","v":"_+420"}]
["Finland","FIN","UTC+02:00","+358","7",null,"_+358"]
["Luxembourg","LUX","UTC+01:00","+352",null,null,"_+352"]
["Norway","NOR","UTC+01:00","+47","8",null,"_+47"]
["Poland","POL","UTC+01:00","+48","9",null,"_+48"]
["Romania","ROU","UTC+02:00","+40",null,null,"_+40"]
["Slovakia","SVK","UTC+01:00","+421","9",null,"_+421"]
[]
["Not applicable"]

{"sheet":"Central IP-PBX IP Addresses","index":14,"n_rows":21,"n_cols":3,"rows_kept":21,"cut":false,"hidden":true,"merged":[]}
[null,"IP-PBX DC1 (Nossegem - UC1)","IP-PBX DC2 (Roosendaal - UC2)"]
["France","100.64.0.2","100.65.0.2"]
["Germany","100.64.1.2","100.65.1.2"]
["Netherlands","100.64.2.2","100.65.2.2"]
["UK","100.64.3.2","100.65.3.2"]
["Ireland","100.64.4.2","100.65.4.2"]
["Spain","100.64.5.2","100.65.5.2"]
["Portugal","100.64.6.2","100.65.6.2"]
["Italy","100.64.7.2","100.65.7.2"]
["Denmark","100.64.8.2","100.65.8.2"]
["Austria","100.64.9.2","100.65.9.2"]
["Sweden","100.64.10.2","100.65.10.2"]
["Belgium","100.64.11.2","100.65.11.2"]
["Switzerland","100.64.12.2","100.65.12.2"]
["Czech Republic","100.64.13.2","100.65.13.2"]
["Finland","100.64.14.2","100.65.14.2"]
["Luxembourg","100.64.15.2","100.65.15.2"]
["Norway","100.64.16.2","100.65.16.2"]
["Poland","100.64.17.2","100.65.17.2"]
["Romania","100.64.18.2","100.65.18.2"]
["Slovakia","100.64.19.2","100.65.19.2"]

{"sheet":"MPLS Router LAN Interface IPs","index":15,"n_rows":21,"n_cols":3,"rows_kept":21,"cut":false,"hidden":true,"merged":[]}
[null,"MPLS Router LAN Interface (Nossegem - UC1)","MPLS Router LAN Interface (Roosendaal - UC2)"]
["France","100.64.0.1","100.65.0.1"]
["Germany","100.64.1.1","100.65.1.1"]
["Netherlands","100.64.2.1","100.65.2.1"]
["UK","100.64.3.1","100.65.3.1"]
["Ireland","100.64.4.1","100.65.4.1"]
["Spain","100.64.5.1","100.65.5.1"]
["Portugal","100.64.6.1","100.65.6.1"]
["Italy","100.64.7.1","100.65.7.1"]
["Denmark","100.64.8.1","100.65.8.1"]
["Austria","100.64.9.1","100.65.9.1"]
["Sweden","100.64.10.1","100.65.10.1"]
["Belgium","100.64.11.1","100.65.11.1"]
["Switzerland","100.64.12.1","100.65.12.1"]
["Czech Republic","100.64.13.1","100.65.13.1"]
["Finland","100.64.14.1","100.65.14.1"]
["Luxembourg","100.64.15.1","100.65.15.1"]
["Norway","100.64.16.1","100.65.16.1"]
["Poland","100.64.17.1","100.65.17.1"]
["Romania","100.64.18.1","100.65.18.1"]
["Slovakia","100.64.19.1","100.65.19.1"]